Workbook

Sheet Resumo
A1: Acuracidade e divergências de estoque
A3: Data inicial | B3: 46235 | C3: Data final | D3: 46271 | E3: Localização | F3: Todas
B5: Medições válidas | E5: Acuracidade exata | H5: Acurácia quantitativa média | K5: Divergência absoluta (un.) | N5: Linhas com alerta
B6: =IF($F$3="Todas",COUNTIFS(Registros!$AB$2:$AB$501,"Sim",Registros!$B$2:$B$501,">="&$B$3,Registros!$B$2:$B$501,"<="&$D$3),COUNTIFS(Registros!$AB$2:$AB$501,"Sim",Registros!$B$2:$B$501,">="&$B$3,Registros!$B$2:$B$501,"<="&$D$3,Registros!$E$2:$E$501,$F$3)) | E6: =IFERROR(IF($B$6=0,"",IF($F$3="Todas",COUNTIFS(Registros!$AB$2:$AB$501,"Sim",Registros!$B$2:$B$501,">="&$B$3,Registros!$B$2:$B$501,"<="&$D$3,Registros!$T$2:$T$501,"Sim")/$B$6,COUNTIFS(Registros!$AB$2:$AB$501,"Sim",Registros!$B$2:$B$501,">="&$B$3,Registros!$B$2:$B$501,"<="&$D$3,Registros!$E$2:$E$501,$F$3,Registros!$T$2:$T$501,"Sim")/$B$6)),"") | H6: =IFERROR(IF($B$6=0,"",IF($F$3="Todas",AVERAGEIFS(Registros!$U$2:$U$501,Registros!$AB$2:$AB$501,"Sim",Registros!$B$2:$B$501,">="&$B$3,Registros!$B$2:$B$501,"<="&$D$3),AVERAGEIFS(Registros!$U$2:$U$501,Registros!$AB$2:$AB$501,"Sim",Registros!$B$2:$B$501,">="&$B$3,Registros!$B$2:$B$501,"<="&$D$3,Registros!$E$2:$E$501,$F$3))),"") | K6: =IF($F$3="Todas",SUMIFS(Registros!$Q$2:$Q$501,Registros!$AB$2:$AB$501,"Sim",Registros!$B$2:$B$501,">="&$B$3,Registros!$B$2:$B$501,"<="&$D$3),SUMIFS(Registros!$Q$2:$Q$501,Registros!$AB$2:$AB$501,"Sim",Registros!$B$2:$B$501,">="&$B$3,Registros!$B$2:$B$501,"<="&$D$3,Registros!$E$2:$E$501,$F$3)) | N6: =IF($F$3="Todas",COUNTIFS(Registros!$A$2:$A$501,"<>",Registros!$B$2:$B$501,">="&$B$3,Registros!$B$2:$B$501,"<="&$D$3,Registros!$Y$2:$Y$501,"?*"),COUNTIFS(Registros!$A$2:$A$501,"<>",Registros!$B$2:$B$501,">="&$B$3,Registros!$B$2:$B$501,"<="&$D$3,Registros!$E$2:$E$501,$F$3,Registros!$Y$2:$Y$501,"?*"))
B9: Impacto absoluto | E9: Diferença líquida | H9: Divergências em aberto | K9: SKU/local abaixo da meta | N9: Prazos vencidos
B10: =IF($F$3="Todas",SUMIFS(Registros!$S$2:$S$501,Registros!$AB$2:$AB$501,"Sim",Registros!$B$2:$B$501,">="&$B$3,Registros!$B$2:$B$501,"<="&$D$3),SUMIFS(Registros!$S$2:$S$501,Registros!$AB$2:$AB$501,"Sim",Registros!$B$2:$B$501,">="&$B$3,Registros!$B$2:$B$501,"<="&$D$3,Registros!$E$2:$E$501,$F$3)) | E10: =IF($F$3="Todas",SUMIFS(Registros!$R$2:$R$501,Registros!$AB$2:$AB$501,"Sim",Registros!$B$2:$B$501,">="&$B$3,Registros!$B$2:$B$501,"<="&$D$3),SUMIFS(Registros!$R$2:$R$501,Registros!$AB$2:$AB$501,"Sim",Registros!$B$2:$B$501,">="&$B$3,Registros!$B$2:$B$501,"<="&$D$3,Registros!$E$2:$E$501,$F$3)) | H10: =IF($F$3="Todas",COUNTIFS(Registros!$AB$2:$AB$501,"Sim",Registros!$B$2:$B$501,">="&$B$3,Registros!$B$2:$B$501,"<="&$D$3,Registros!$T$2:$T$501,"Não",Registros!$K$2:$K$501,"<>Concluída",Registros!$K$2:$K$501,"<>Dispensada"),COUNTIFS(Registros!$AB$2:$AB$501,"Sim",Registros!$B$2:$B$501,">="&$B$3,Registros!$B$2:$B$501,"<="&$D$3,Registros!$E$2:$E$501,$F$3,Registros!$T$2:$T$501,"Não",Registros!$K$2:$K$501,"<>Concluída",Registros!$K$2:$K$501,"<>Dispensada")) | K10: =COUNTIFS('Análises'!$E$6:$E$505,">0",'Análises'!$F$6:$F$505,"<"&'Configurações'!$B$7) | N10: =IF($F$3="Todas",COUNTIFS(Registros!$A$2:$A$501,"<>",Registros!$B$2:$B$501,">="&$B$3,Registros!$B$2:$B$501,"<="&$D$3,Registros!$M$2:$M$501,"<"&'Configurações'!$B$10,Registros!$K$2:$K$501,"<>Concluída",Registros!$K$2:$K$501,"<>Dispensada"),COUNTIFS(Registros!$A$2:$A$501,"<>",Registros!$B$2:$B$501,">="&$B$3,Registros!$B$2:$B$501,"<="&$D$3,Registros!$E$2:$E$501,$F$3,Registros!$M$2:$M$501,"<"&'Configurações'!$B$10,Registros!$K$2:$K$501,"<>Concluída",Registros!$K$2:$K$501,"<>Dispensada"))
A34: Mês | B34: Medições | C34: Acuracidade exata | D34: Impacto absoluto | F34: Posição | G34: Causa | H34: Impacto absoluto | J34: Posição | K34: SKU/localização | L34: Acuracidade exata | M34: Impacto absoluto
A35: =EOMONTH($D$3,-12)+1 | B35: =IF(MAX($A35,$B$3)>MIN(EOMONTH($A35,0),$D$3),0,IF($F$3="Todas",COUNTIFS(Registros!$AB$2:$AB$501,"Sim",Registros!$B$2:$B$501,">="&MAX($A35,$B$3),Registros!$B$2:$B$501,"<="&MIN(EOMONTH($A35,0),$D$3)),COUNTIFS(Registros!$AB$2:$AB$501,"Sim",Registros!$B$2:$B$501,">="&MAX($A35,$B$3),Registros!$B$2:$B$501,"<="&MIN(EOMONTH($A35,0),$D$3),Registros!$E$2:$E$501,$F$3))) | C35: =IFERROR(IF($B35=0,"",IF($F$3="Todas",COUNTIFS(Registros!$AB$2:$AB$501,"Sim",Registros!$B$2:$B$501,">="&MAX($A35,$B$3),Registros!$B$2:$B$501,"<="&MIN(EOMONTH($A35,0),$D$3),Registros!$T$2:$T$501,"Sim")/$B35,COUNTIFS(Registros!$AB$2:$AB$501,"Sim",Registros!$B$2:$B$501,">="&MAX($A35,$B$3),Registros!$B$2:$B$501,"<="&MIN(EOMONTH($A35,0),$D$3),Registros!$E$2:$E$501,$F$3,Registros!$T$2:$T$501,"Sim")/$B35)),"") | D35: =IF($B35=0,"",IF($F$3="Todas",SUMIFS(Registros!$S$2:$S$501,Registros!$AB$2:$AB$501,"Sim",Registros!$B$2:$B$501,">="&MAX($A35,$B$3),Registros!$B$2:$B$501,"<="&MIN(EOMONTH($A35,0),$D$3)),SUMIFS(Registros!$S$2:$S$501,Registros!$AB$2:$AB$501,"Sim",Registros!$B$2:$B$501,">="&MAX($A35,$B$3),Registros!$B$2:$B$501,"<="&MIN(EOMONTH($A35,0),$D$3),Registros!$E$2:$E$501,$F$3))) | F35: 1 | G35: =IFERROR(INDEX('Análises'!$N$6:$N$15,MATCH($F35,'Análises'!$R$6:$R$15,0)),"") | H35: =IFERROR(INDEX('Análises'!$P$6:$P$15,MATCH($F35,'Análises'!$R$6:$R$15,0)),"") | J35: 1 | K35: =IFERROR(INDEX('Análises'!$B$6:$B$505,MATCH($J35,'Análises'!$L$6:$L$505,0))&" / "&INDEX('Análises'!$D$6:$D$505,MATCH($J35,'Análises'!$L$6:$L$505,0)),"") | L35: =IFERROR(INDEX('Análises'!$F$6:$F$505,MATCH($J35,'Análises'!$L$6:$L$505,0)),"") | M35: =IFERROR(INDEX('Análises'!$I$6:$I$505,MATCH($J35,'Análises'!$L$6:$L$505,0)),"")
A36: =EDATE(A35,1) | B36: =IF(MAX($A36,$B$3)>MIN(EOMONTH($A36,0),$D$3),0,IF($F$3="Todas",COUNTIFS(Registros!$AB$2:$AB$501,"Sim",Registros!$B$2:$B$501,">="&MAX($A36,$B$3),Registros!$B$2:$B$501,"<="&MIN(EOMONTH($A36,0),$D$3)),COUNTIFS(Registros!$AB$2:$AB$501,"Sim",Registros!$B$2:$B$501,">="&MAX($A36,$B$3),Registros!$B$2:$B$501,"<="&MIN(EOMONTH($A36,0),$D$3),Registros!$E$2:$E$501,$F$3))) | C36: =IFERROR(IF($B36=0,"",IF($F$3="Todas",COUNTIFS(Registros!$AB$2:$AB$501,"Sim",Registros!$B$2:$B$501,">="&MAX($A36,$B$3),Registros!$B$2:$B$501,"<="&MIN(EOMONTH($A36,0),$D$3),Registros!$T$2:$T$501,"Sim")/$B36,COUNTIFS(Registros!$AB$2:$AB$501,"Sim",Registros!$B$2:$B$501,">="&MAX($A36,$B$3),Registros!$B$2:$B$501,"<="&MIN(EOMONTH($A36,0),$D$3),Registros!$E$2:$E$501,$F$3,Registros!$T$2:$T$501,"Sim")/$B36)),"") | D36: =IF($B36=0,"",IF($F$3="Todas",SUMIFS(Registros!$S$2:$S$501,Registros!$AB$2:$AB$501,"Sim",Registros!$B$2:$B$501,">="&MAX($A36,$B$3),Registros!$B$2:$B$501,"<="&MIN(EOMONTH($A36,0),$D$3)),SUMIFS(Registros!$S$2:$S$501,Registros!$AB$2:$AB$501,"Sim",Registros!$B$2:$B$501,">="&MAX($A36,$B$3),Registros!$B$2:$B$501,"<="&MIN(EOMONTH($A36,0),$D$3),Registros!$E$2:$E$501,$F$3))) | F36: 2 | G36: =IFERROR(INDEX('Análises'!$N$6:$N$15,MATCH($F36,'Análises'!$R$6:$R$15,0)),"") | H36: =IFERROR(INDEX('Análises'!$P$6:$P$15,MATCH($F36,'Análises'!$R$6:$R$15,0)),"") | J36: 2 | K36: =IFERROR(INDEX('Análises'!$B$6:$B$505,MATCH($J36,'Análises'!$L$6:$L$505,0))&" / "&INDEX('Análises'!$D$6:$D$505,MATCH($J36,'Análises'!$L$6:$L$505,0)),"") | L36: =IFERROR(INDEX('Análises'!$F$6:$F$505,MATCH($J36,'Análises'!$L$6:$L$505,0)),"") | M36: =IFERROR(INDEX('Análises'!$I$6:$I$505,MATCH($J36,'Análises'!$L$6:$L$505,0)),"")
A37: =EDATE(A36,1) | B37: =IF(MAX($A37,$B$3)>MIN(EOMONTH($A37,0),$D$3),0,IF($F$3="Todas",COUNTIFS(Registros!$AB$2:$AB$501,"Sim",Registros!$B$2:$B$501,">="&MAX($A37,$B$3),Registros!$B$2:$B$501,"<="&MIN(EOMONTH($A37,0),$D$3)),COUNTIFS(Registros!$AB$2:$AB$501,"Sim",Registros!$B$2:$B$501,">="&MAX($A37,$B$3),Registros!$B$2:$B$501,"<="&MIN(EOMONTH($A37,0),$D$3),Registros!$E$2:$E$501,$F$3))) | C37: =IFERROR(IF($B37=0,"",IF($F$3="Todas",COUNTIFS(Registros!$AB$2:$AB$501,"Sim",Registros!$B$2:$B$501,">="&MAX($A37,$B$3),Registros!$B$2:$B$501,"<="&MIN(EOMONTH($A37,0),$D$3),Registros!$T$2:$T$501,"Sim")/$B37,COUNTIFS(Registros!$AB$2:$AB$501,"Sim",Registros!$B$2:$B$501,">="&MAX($A37,$B$3),Registros!$B$2:$B$501,"<="&MIN(EOMONTH($A37,0),$D$3),Registros!$E$2:$E$501,$F$3,Registros!$T$2:$T$501,"Sim")/$B37)),"") | D37: =IF($B37=0,"",IF($F$3="Todas",SUMIFS(Registros!$S$2:$S$501,Registros!$AB$2:$AB$501,"Sim",Registros!$B$2:$B$501,">="&MAX($A37,$B$3),Registros!$B$2:$B$501,"<="&MIN(EOMONTH($A37,0),$D$3)),SUMIFS(Registros!$S$2:$S$501,Registros!$AB$2:$AB$501,"Sim",Registros!$B$2:$B$501,">="&MAX($A37,$B$3),Registros!$B$2:$B$501,"<="&MIN(EOMONTH($A37,0),$D$3),Registros!$E$2:$E$501,$F$3))) | F37: 3 | G37: =IFERROR(INDEX('Análises'!$N$6:$N$15,MATCH($F37,'Análises'!$R$6:$R$15,0)),"") | H37: =IFERROR(INDEX('Análises'!$P$6:$P$15,MATCH($F37,'Análises'!$R$6:$R$15,0)),"") | J37: 3 | K37: =IFERROR(INDEX('Análises'!$B$6:$B$505,MATCH($J37,'Análises'!$L$6:$L$505,0))&" / "&INDEX('Análises'!$D$6:$D$505,MATCH($J37,'Análises'!$L$6:$L$505,0)),"") | L37: =IFERROR(INDEX('Análises'!$F$6:$F$505,MATCH($J37,'Análises'!$L$6:$L$505,0)),"") | M37: =IFERROR(INDEX('Análises'!$I$6:$I$505,MATCH($J37,'Análises'!$L$6:$L$505,0)),"")
A38: =EDATE(A37,1) | B38: =IF(MAX($A38,$B$3)>MIN(EOMONTH($A38,0),$D$3),0,IF($F$3="Todas",COUNTIFS(Registros!$AB$2:$AB$501,"Sim",Registros!$B$2:$B$501,">="&MAX($A38,$B$3),Registros!$B$2:$B$501,"<="&MIN(EOMONTH($A38,0),$D$3)),COUNTIFS(Registros!$AB$2:$AB$501,"Sim",Registros!$B$2:$B$501,">="&MAX($A38,$B$3),Registros!$B$2:$B$501,"<="&MIN(EOMONTH($A38,0),$D$3),Registros!$E$2:$E$501,$F$3))) | C38: =IFERROR(IF($B38=0,"",IF($F$3="Todas",COUNTIFS(Registros!$AB$2:$AB$501,"Sim",Registros!$B$2:$B$501,">="&MAX($A38,$B$3),Registros!$B$2:$B$501,"<="&MIN(EOMONTH($A38,0),$D$3),Registros!$T$2:$T$501,"Sim")/$B38,COUNTIFS(Registros!$AB$2:$AB$501,"Sim",Registros!$B$2:$B$501,">="&MAX($A38,$B$3),Registros!$B$2:$B$501,"<="&MIN(EOMONTH($A38,0),$D$3),Registros!$E$2:$E$501,$F$3,Registros!$T$2:$T$501,"Sim")/$B38)),"") | D38: =IF($B38=0,"",IF($F$3="Todas",SUMIFS(Registros!$S$2:$S$501,Registros!$AB$2:$AB$501,"Sim",Registros!$B$2:$B$501,">="&MAX($A38,$B$3),Registros!$B$2:$B$501,"<="&MIN(EOMONTH($A38,0),$D$3)),SUMIFS(Registros!$S$2:$S$501,Registros!$AB$2:$AB$501,"Sim",Registros!$B$2:$B$501,">="&MAX($A38,$B$3),Registros!$B$2:$B$501,"<="&MIN(EOMONTH($A38,0),$D$3),Registros!$E$2:$E$501,$F$3))) | F38: 4 | G38: =IFERROR(INDEX('Análises'!$N$6:$N$15,MATCH($F38,'Análises'!$R$6:$R$15,0)),"") | H38: =IFERROR(INDEX('Análises'!$P$6:$P$15,MATCH($F38,'Análises'!$R$6:$R$15,0)),"") | J38: 4 | K38: =IFERROR(INDEX('Análises'!$B$6:$B$505,MATCH($J38,'Análises'!$L$6:$L$505,0))&" / "&INDEX('Análises'!$D$6:$D$505,MATCH($J38,'Análises'!$L$6:$L$505,0)),"") | L38: =IFERROR(INDEX('Análises'!$F$6:$F$505,MATCH($J38,'Análises'!$L$6:$L$505,0)),"") | M38: =IFERROR(INDEX('Análises'!$I$6:$I$505,MATCH($J38,'Análises'!$L$6:$L$505,0)),"")
A39: =EDATE(A38,1) | B39: =IF(MAX($A39,$B$3)>MIN(EOMONTH($A39,0),$D$3),0,IF($F$3="Todas",COUNTIFS(Registros!$AB$2:$AB$501,"Sim",Registros!$B$2:$B$501,">="&MAX($A39,$B$3),Registros!$B$2:$B$501,"<="&MIN(EOMONTH($A39,0),$D$3)),COUNTIFS(Registros!$AB$2:$AB$501,"Sim",Registros!$B$2:$B$501,">="&MAX($A39,$B$3),Registros!$B$2:$B$501,"<="&MIN(EOMONTH($A39,0),$D$3),Registros!$E$2:$E$501,$F$3))) | C39: =IFERROR(IF($B39=0,"",IF($F$3="Todas",COUNTIFS(Registros!$AB$2:$AB$501,"Sim",Registros!$B$2:$B$501,">="&MAX($A39,$B$3),Registros!$B$2:$B$501,"<="&MIN(EOMONTH($A39,0),$D$3),Registros!$T$2:$T$501,"Sim")/$B39,COUNTIFS(Registros!$AB$2:$AB$501,"Sim",Registros!$B$2:$B$501,">="&MAX($A39,$B$3),Registros!$B$2:$B$501,"<="&MIN(EOMONTH($A39,0),$D$3),Registros!$E$2:$E$501,$F$3,Registros!$T$2:$T$501,"Sim")/$B39)),"") | D39: =IF($B39=0,"",IF($F$3="Todas",SUMIFS(Registros!$S$2:$S$501,Registros!$AB$2:$AB$501,"Sim",Registros!$B$2:$B$501,">="&MAX($A39,$B$3),Registros!$B$2:$B$501,"<="&MIN(EOMONTH($A39,0),$D$3)),SUMIFS(Registros!$S$2:$S$501,Registros!$AB$2:$AB$501,"Sim",Registros!$B$2:$B$501,">="&MAX($A39,$B$3),Registros!$B$2:$B$501,"<="&MIN(EOMONTH($A39,0),$D$3),Registros!$E$2:$E$501,$F$3))) | F39: 5 | G39: =IFERROR(INDEX('Análises'!$N$6:$N$15,MATCH($F39,'Análises'!$R$6:$R$15,0)),"") | H39: =IFERROR(INDEX('Análises'!$P$6:$P$15,MATCH($F39,'Análises'!$R$6:$R$15,0)),"") | J39: 5 | K39: =IFERROR(INDEX('Análises'!$B$6:$B$505,MATCH($J39,'Análises'!$L$6:$L$505,0))&" / "&INDEX('Análises'!$D$6:$D$505,MATCH($J39,'Análises'!$L$6:$L$505,0)),"") | L39: =IFERROR(INDEX('Análises'!$F$6:$F$505,MATCH($J39,'Análises'!$L$6:$L$505,0)),"") | M39: =IFERROR(INDEX('Análises'!$I$6:$I$505,MATCH($J39,'Análises'!$L$6:$L$505,0)),"")
A40: =EDATE(A39,1) | B40: =IF(MAX($A40,$B$3)>MIN(EOMONTH($A40,0),$D$3),0,IF($F$3="Todas",COUNTIFS(Registros!$AB$2:$AB$501,"Sim",Registros!$B$2:$B$501,">="&MAX($A40,$B$3),Registros!$B$2:$B$501,"<="&MIN(EOMONTH($A40,0),$D$3)),COUNTIFS(Registros!$AB$2:$AB$501,"Sim",Registros!$B$2:$B$501,">="&MAX($A40,$B$3),Registros!$B$2:$B$501,"<="&MIN(EOMONTH($A40,0),$D$3),Registros!$E$2:$E$501,$F$3))) | C40: =IFERROR(IF($B40=0,"",IF($F$3="Todas",COUNTIFS(Registros!$AB$2:$AB$501,"Sim",Registros!$B$2:$B$501,">="&MAX($A40,$B$3),Registros!$B$2:$B$501,"<="&MIN(EOMONTH($A40,0),$D$3),Registros!$T$2:$T$501,"Sim")/$B40,COUNTIFS(Registros!$AB$2:$AB$501,"Sim",Registros!$B$2:$B$501,">="&MAX($A40,$B$3),Registros!$B$2:$B$501,"<="&MIN(EOMONTH($A40,0),$D$3),Registros!$E$2:$E$501,$F$3,Registros!$T$2:$T$501,"Sim")/$B40)),"") | D40: =IF($B40=0,"",IF($F$3="Todas",SUMIFS(Registros!$S$2:$S$501,Registros!$AB$2:$AB$501,"Sim",Registros!$B$2:$B$501,">="&MAX($A40,$B$3),Registros!$B$2:$B$501,"<="&MIN(EOMONTH($A40,0),$D$3)),SUMIFS(Registros!$S$2:$S$501,Registros!$AB$2:$AB$501,"Sim",Registros!$B$2:$B$501,">="&MAX($A40,$B$3),Registros!$B$2:$B$501,"<="&MIN(EOMONTH($A40,0),$D$3),Registros!$E$2:$E$501,$F$3))) | J40: 6 | K40: =IFERROR(INDEX('Análises'!$B$6:$B$505,MATCH($J40,'Análises'!$L$6:$L$505,0))&" / "&INDEX('Análises'!$D$6:$D$505,MATCH($J40,'Análises'!$L$6:$L$505,0)),"") | L40: =IFERROR(INDEX('Análises'!$F$6:$F$505,MATCH($J40,'Análises'!$L$6:$L$505,0)),"") | M40: =IFERROR(INDEX('Análises'!$I$6:$I$505,MATCH($J40,'Análises'!$L$6:$L$505,0)),"")
A41: =EDATE(A40,1) | B41: =IF(MAX($A41,$B$3)>MIN(EOMONTH($A41,0),$D$3),0,IF($F$3="Todas",COUNTIFS(Registros!$AB$2:$AB$501,"Sim",Registros!$B$2:$B$501,">="&MAX($A41,$B$3),Registros!$B$2:$B$501,"<="&MIN(EOMONTH($A41,0),$D$3)),COUNTIFS(Registros!$AB$2:$AB$501,"Sim",Registros!$B$2:$B$501,">="&MAX($A41,$B$3),Registros!$B$2:$B$501,"<="&MIN(EOMONTH($A41,0),$D$3),Registros!$E$2:$E$501,$F$3))) | C41: =IFERROR(IF($B41=0,"",IF($F$3="Todas",COUNTIFS(Registros!$AB$2:$AB$501,"Sim",Registros!$B$2:$B$501,">="&MAX($A41,$B$3),Registros!$B$2:$B$501,"<="&MIN(EOMONTH($A41,0),$D$3),Registros!$T$2:$T$501,"Sim")/$B41,COUNTIFS(Registros!$AB$2:$AB$501,"Sim",Registros!$B$2:$B$501,">="&MAX($A41,$B$3),Registros!$B$2:$B$501,"<="&MIN(EOMONTH($A41,0),$D$3),Registros!$E$2:$E$501,$F$3,Registros!$T$2:$T$501,"Sim")/$B41)),"") | D41: =IF($B41=0,"",IF($F$3="Todas",SUMIFS(Registros!$S$2:$S$501,Registros!$AB$2:$AB$501,"Sim",Registros!$B$2:$B$501,">="&MAX($A41,$B$3),Registros!$B$2:$B$501,"<="&MIN(EOMONTH($A41,0),$D$3)),SUMIFS(Registros!$S$2:$S$501,Registros!$AB$2:$AB$501,"Sim",Registros!$B$2:$B$501,">="&MAX($A41,$B$3),Registros!$B$2:$B$501,"<="&MIN(EOMONTH($A41,0),$D$3),Registros!$E$2:$E$501,$F$3))) | J41: 7 | K41: =IFERROR(INDEX('Análises'!$B$6:$B$505,MATCH($J41,'Análises'!$L$6:$L$505,0))&" / "&INDEX('Análises'!$D$6:$D$505,MATCH($J41,'Análises'!$L$6:$L$505,0)),"") | L41: =IFERROR(INDEX('Análises'!$F$6:$F$505,MATCH($J41,'Análises'!$L$6:$L$505,0)),"") | M41: =IFERROR(INDEX('Análises'!$I$6:$I$505,MATCH($J41,'Análises'!$L$6:$L$505,0)),"")
A42: =EDATE(A41,1) | B42: =IF(MAX($A42,$B$3)>MIN(EOMONTH($A42,0),$D$3),0,IF($F$3="Todas",COUNTIFS(Registros!$AB$2:$AB$501,"Sim",Registros!$B$2:$B$501,">="&MAX($A42,$B$3),Registros!$B$2:$B$501,"<="&MIN(EOMONTH($A42,0),$D$3)),COUNTIFS(Registros!$AB$2:$AB$501,"Sim",Registros!$B$2:$B$501,">="&MAX($A42,$B$3),Registros!$B$2:$B$501,"<="&MIN(EOMONTH($A42,0),$D$3),Registros!$E$2:$E$501,$F$3))) | C42: =IFERROR(IF($B42=0,"",IF($F$3="Todas",COUNTIFS(Registros!$AB$2:$AB$501,"Sim",Registros!$B$2:$B$501,">="&MAX($A42,$B$3),Registros!$B$2:$B$501,"<="&MIN(EOMONTH($A42,0),$D$3),Registros!$T$2:$T$501,"Sim")/$B42,COUNTIFS(Registros!$AB$2:$AB$501,"Sim",Registros!$B$2:$B$501,">="&MAX($A42,$B$3),Registros!$B$2:$B$501,"<="&MIN(EOMONTH($A42,0),$D$3),Registros!$E$2:$E$501,$F$3,Registros!$T$2:$T$501,"Sim")/$B42)),"") | D42: =IF($B42=0,"",IF($F$3="Todas",SUMIFS(Registros!$S$2:$S$501,Registros!$AB$2:$AB$501,"Sim",Registros!$B$2:$B$501,">="&MAX($A42,$B$3),Registros!$B$2:$B$501,"<="&MIN(EOMONTH($A42,0),$D$3)),SUMIFS(Registros!$S$2:$S$501,Registros!$AB$2:$AB$501,"Sim",Registros!$B$2:$B$501,">="&MAX($A42,$B$3),Registros!$B$2:$B$501,"<="&MIN(EOMONTH($A42,0),$D$3),Registros!$E$2:$E$501,$F$3))) | J42: 8 | K42: =IFERROR(INDEX('Análises'!$B$6:$B$505,MATCH($J42,'Análises'!$L$6:$L$505,0))&" / "&INDEX('Análises'!$D$6:$D$505,MATCH($J42,'Análises'!$L$6:$L$505,0)),"") | L42: =IFERROR(INDEX('Análises'!$F$6:$F$505,MATCH($J42,'Análises'!$L$6:$L$505,0)),"") | M42: =IFERROR(INDEX('Análises'!$I$6:$I$505,MATCH($J42,'Análises'!$L$6:$L$505,0)),"")
A43: =EDATE(A42,1) | B43: =IF(MAX($A43,$B$3)>MIN(EOMONTH($A43,0),$D$3),0,IF($F$3="Todas",COUNTIFS(Registros!$AB$2:$AB$501,"Sim",Registros!$B$2:$B$501,">="&MAX($A43,$B$3),Registros!$B$2:$B$501,"<="&MIN(EOMONTH($A43,0),$D$3)),COUNTIFS(Registros!$AB$2:$AB$501,"Sim",Registros!$B$2:$B$501,">="&MAX($A43,$B$3),Registros!$B$2:$B$501,"<="&MIN(EOMONTH($A43,0),$D$3),Registros!$E$2:$E$501,$F$3))) | C43: =IFERROR(IF($B43=0,"",IF($F$3="Todas",COUNTIFS(Registros!$AB$2:$AB$501,"Sim",Registros!$B$2:$B$501,">="&MAX($A43,$B$3),Registros!$B$2:$B$501,"<="&MIN(EOMONTH($A43,0),$D$3),Registros!$T$2:$T$501,"Sim")/$B43,COUNTIFS(Registros!$AB$2:$AB$501,"Sim",Registros!$B$2:$B$501,">="&MAX($A43,$B$3),Registros!$B$2:$B$501,"<="&MIN(EOMONTH($A43,0),$D$3),Registros!$E$2:$E$501,$F$3,Registros!$T$2:$T$501,"Sim")/$B43)),"") | D43: =IF($B43=0,"",IF($F$3="Todas",SUMIFS(Registros!$S$2:$S$501,Registros!$AB$2:$AB$501,"Sim",Registros!$B$2:$B$501,">="&MAX($A43,$B$3),Registros!$B$2:$B$501,"<="&MIN(EOMONTH($A43,0),$D$3)),SUMIFS(Registros!$S$2:$S$501,Registros!$AB$2:$AB$501,"Sim",Registros!$B$2:$B$501,">="&MAX($A43,$B$3),Registros!$B$2:$B$501,"<="&MIN(EOMONTH($A43,0),$D$3),Registros!$E$2:$E$501,$F$3))) | J43: 9 | K43: =IFERROR(INDEX('Análises'!$B$6:$B$505,MATCH($J43,'Análises'!$L$6:$L$505,0))&" / "&INDEX('Análises'!$D$6:$D$505,MATCH($J43,'Análises'!$L$6:$L$505,0)),"") | L43: =IFERROR(INDEX('Análises'!$F$6:$F$505,MATCH($J43,'Análises'!$L$6:$L$505,0)),"") | M43: =IFERROR(INDEX('Análises'!$I$6:$I$505,MATCH($J43,'Análises'!$L$6:$L$505,0)),"")
A44: =EDATE(A43,1) | B44: =IF(MAX($A44,$B$3)>MIN(EOMONTH($A44,0),$D$3),0,IF($F$3="Todas",COUNTIFS(Registros!$AB$2:$AB$501,"Sim",Registros!$B$2:$B$501,">="&MAX($A44,$B$3),Registros!$B$2:$B$501,"<="&MIN(EOMONTH($A44,0),$D$3)),COUNTIFS(Registros!$AB$2:$AB$501,"Sim",Registros!$B$2:$B$501,">="&MAX($A44,$B$3),Registros!$B$2:$B$501,"<="&MIN(EOMONTH($A44,0),$D$3),Registros!$E$2:$E$501,$F$3))) | C44: =IFERROR(IF($B44=0,"",IF($F$3="Todas",COUNTIFS(Registros!$AB$2:$AB$501,"Sim",Registros!$B$2:$B$501,">="&MAX($A44,$B$3),Registros!$B$2:$B$501,"<="&MIN(EOMONTH($A44,0),$D$3),Registros!$T$2:$T$501,"Sim")/$B44,COUNTIFS(Registros!$AB$2:$AB$501,"Sim",Registros!$B$2:$B$501,">="&MAX($A44,$B$3),Registros!$B$2:$B$501,"<="&MIN(EOMONTH($A44,0),$D$3),Registros!$E$2:$E$501,$F$3,Registros!$T$2:$T$501,"Sim")/$B44)),"") | D44: =IF($B44=0,"",IF($F$3="Todas",SUMIFS(Registros!$S$2:$S$501,Registros!$AB$2:$AB$501,"Sim",Registros!$B$2:$B$501,">="&MAX($A44,$B$3),Registros!$B$2:$B$501,"<="&MIN(EOMONTH($A44,0),$D$3)),SUMIFS(Registros!$S$2:$S$501,Registros!$AB$2:$AB$501,"Sim",Registros!$B$2:$B$501,">="&MAX($A44,$B$3),Registros!$B$2:$B$501,"<="&MIN(EOMONTH($A44,0),$D$3),Registros!$E$2:$E$501,$F$3))) | J44: 10 | K44: =IFERROR(INDEX('Análises'!$B$6:$B$505,MATCH($J44,'Análises'!$L$6:$L$505,0))&" / "&INDEX('Análises'!$D$6:$D$505,MATCH($J44,'Análises'!$L$6:$L$505,0)),"") | L44: =IFERROR(INDEX('Análises'!$F$6:$F$505,MATCH($J44,'Análises'!$L$6:$L$505,0)),"") | M44: =IFERROR(INDEX('Análises'!$I$6:$I$505,MATCH($J44,'Análises'!$L$6:$L$505,0)),"")
A45: =EDATE(A44,1) | B45: =IF(MAX($A45,$B$3)>MIN(EOMONTH($A45,0),$D$3),0,IF($F$3="Todas",COUNTIFS(Registros!$AB$2:$AB$501,"Sim",Registros!$B$2:$B$501,">="&MAX($A45,$B$3),Registros!$B$2:$B$501,"<="&MIN(EOMONTH($A45,0),$D$3)),COUNTIFS(Registros!$AB$2:$AB$501,"Sim",Registros!$B$2:$B$501,">="&MAX($A45,$B$3),Registros!$B$2:$B$501,"<="&MIN(EOMONTH($A45,0),$D$3),Registros!$E$2:$E$501,$F$3))) | C45: =IFERROR(IF($B45=0,"",IF($F$3="Todas",COUNTIFS(Registros!$AB$2:$AB$501,"Sim",Registros!$B$2:$B$501,">="&MAX($A45,$B$3),Registros!$B$2:$B$501,"<="&MIN(EOMONTH($A45,0),$D$3),Registros!$T$2:$T$501,"Sim")/$B45,COUNTIFS(Registros!$AB$2:$AB$501,"Sim",Registros!$B$2:$B$501,">="&MAX($A45,$B$3),Registros!$B$2:$B$501,"<="&MIN(EOMONTH($A45,0),$D$3),Registros!$E$2:$E$501,$F$3,Registros!$T$2:$T$501,"Sim")/$B45)),"") | D45: =IF($B45=0,"",IF($F$3="Todas",SUMIFS(Registros!$S$2:$S$501,Registros!$AB$2:$AB$501,"Sim",Registros!$B$2:$B$501,">="&MAX($A45,$B$3),Registros!$B$2:$B$501,"<="&MIN(EOMONTH($A45,0),$D$3)),SUMIFS(Registros!$S$2:$S$501,Registros!$AB$2:$AB$501,"Sim",Registros!$B$2:$B$501,">="&MAX($A45,$B$3),Registros!$B$2:$B$501,"<="&MIN(EOMONTH($A45,0),$D$3),Registros!$E$2:$E$501,$F$3)))
A46: =EDATE(A45,1) | B46: =IF(MAX($A46,$B$3)>MIN(EOMONTH($A46,0),$D$3),0,IF($F$3="Todas",COUNTIFS(Registros!$AB$2:$AB$501,"Sim",Registros!$B$2:$B$501,">="&MAX($A46,$B$3),Registros!$B$2:$B$501,"<="&MIN(EOMONTH($A46,0),$D$3)),COUNTIFS(Registros!$AB$2:$AB$501,"Sim",Registros!$B$2:$B$501,">="&MAX($A46,$B$3),Registros!$B$2:$B$501,"<="&MIN(EOMONTH($A46,0),$D$3),Registros!$E$2:$E$501,$F$3))) | C46: =IFERROR(IF($B46=0,"",IF($F$3="Todas",COUNTIFS(Registros!$AB$2:$AB$501,"Sim",Registros!$B$2:$B$501,">="&MAX($A46,$B$3),Registros!$B$2:$B$501,"<="&MIN(EOMONTH($A46,0),$D$3),Registros!$T$2:$T$501,"Sim")/$B46,COUNTIFS(Registros!$AB$2:$AB$501,"Sim",Registros!$B$2:$B$501,">="&MAX($A46,$B$3),Registros!$B$2:$B$501,"<="&MIN(EOMONTH($A46,0),$D$3),Registros!$E$2:$E$501,$F$3,Registros!$T$2:$T$501,"Sim")/$B46)),"") | D46: =IF($B46=0,"",IF($F$3="Todas",SUMIFS(Registros!$S$2:$S$501,Registros!$AB$2:$AB$501,"Sim",Registros!$B$2:$B$501,">="&MAX($A46,$B$3),Registros!$B$2:$B$501,"<="&MIN(EOMONTH($A46,0),$D$3)),SUMIFS(Registros!$S$2:$S$501,Registros!$AB$2:$AB$501,"Sim",Registros!$B$2:$B$501,">="&MAX($A46,$B$3),Registros!$B$2:$B$501,"<="&MIN(EOMONTH($A46,0),$D$3),Registros!$E$2:$E$501,$F$3)))

Sheet Registros
A1: ID da medição | B1: Data da contagem | C1: SKU | D1: Produto | E1: Localização | F1: Saldo do sistema | G1: Contagem física | H1: Custo unitário | I1: Motivo preliminar | J1: Causa confirmada | K1: Status da investigação | L1: Equipe responsável | M1: Prazo de análise | N1: Data de conclusão | O1: Observação | P1: Divergência (un.) | Q1: Divergência absoluta (un.) | R1: Divergência valorizada | S1: Impacto absoluto | T1: Registro exato? | U1: Acurácia quantitativa | V1: Causa para análise | W1: Dias em aberto | X1: Prioridade | Y1: Alerta | Z1: Chave SKU/local | AA1: Primeira linha da chave | AB1: Linha válida? | AC1: Pontuação da fila | AD1: Ordem da fila
A2: MED-FIC-0001 | B2: 46235 | C2: SKU-FIC-001 | D2: Caneca Nebulosa Azul | E2: CD Aurora - A1 | F2: 120 | G2: 118 | H2: 18.5 | I2: Saída não baixada | J2: Saída não baixada | K2: Concluída | L2: Operações | M2: 46238 | N2: 46237 | O2: Baixa ajustada após análise. | P2: =IF(OR($A2="",$B2="",$C2="",$E2="",NOT(ISNUMBER($F2)),NOT(ISNUMBER($G2))),"",$G2-$F2) | Q2: =IF($P2="","",ABS($P2)) | R2: =IF(OR($P2="",NOT(ISNUMBER($H2))),"",$P2*$H2) | S2: =IF($R2="","",ABS($R2)) | T2: =IF($P2="","",IF($P2=0,"Sim","Não")) | U2: =IFERROR(IF($P2="","",IF(MAX($F2,$G2)=0,1,MAX(0,1-$Q2/MAX($F2,$G2)))),"") | V2: =IF($P2="","",IF($P2=0,"",IF($J2<>"",$J2,$I2))) | W2: =IF($P2="","",IF(OR($P2=0,$K2="Concluída",$K2="Dispensada"),0,MAX(0,'Configurações'!$B$10-$B2))) | X2: =IF($P2="","",IF($P2=0,"Baixa",IF(OR(AND(ISNUMBER($S2),$S2>='Configurações'!$B$4),AND($K2<>"Concluída",$K2<>"Dispensada",ISNUMBER($M2),$M2<'Configurações'!$B$10)),"Crítica",IF(OR(AND(ISNUMBER($S2),$S2>='Configurações'!$B$5),$Q2>='Configurações'!$B$6),"Alta","Média")))) | Y2: =IF($A2="","",_xlfn.TEXTJOIN(" | ",TRUE,IF(COUNTIF($A$2:$A$501,$A2)>1,"ID duplicado",""),IF(OR($B2="",$C2="",$D2="",$E2="",NOT(ISNUMBER($F2)),NOT(ISNUMBER($G2)),NOT(ISNUMBER($H2)),$K2=""),"Dados obrigatórios incompletos",""),IF(AND(ISNUMBER($P2),$P2<>0,$V2=""),"Informar motivo preliminar",""),IF(AND(ISNUMBER($P2),$P2<>0,$H2=0),"Revisar custo zerado",""),IF(AND($K2="Concluída",$T2="Não",$J2=""),"Confirmar causa",""),IF(AND($K2="Concluída",$N2=""),"Informar data de conclusão",""),IF(AND($K2<>"",$K2<>"Concluída",$K2<>"Dispensada",ISNUMBER($M2),$M2<'Configurações'!$B$10),"Prazo vencido",""),IF(AND($K2<>"",$K2<>"Concluída",$K2<>"Dispensada",$M2="",ISNUMBER($B2),'Configurações'!$B$10-$B2>'Configurações'!$B$9),"Definir prazo",""),IF(AND($K2<>"Concluída",$N2<>""),"Revisar data de conclusão",""))) | Z2: =IF(OR($C2="",$E2=""),"",$C2&" | "&$E2) | AA2: =IF($Z2="","",IF(COUNTIF($Z$2:$Z2,$Z2)=1,ROW(),"")) | AB2: =IF($A2="","",IF(AND(ISNUMBER($B2),$B2<='Configurações'!$B$10,$C2<>"",$D2<>"",$E2<>"",ISNUMBER($F2),$F2>=0,ISNUMBER($G2),$G2>=0,ISNUMBER($H2),$H2>=0,$K2<>"",COUNTIF($A$2:$A$501,$A2)=1),"Sim","Não")) | AC2: =IF(OR($AB2<>"Sim",$P2=0,$K2="Concluída",$K2="Dispensada"),"",IF($X2="Crítica",4,IF($X2="Alta",3,IF($X2="Média",2,1)))*1000000000000+MIN(IF(ISNUMBER($S2),$S2,0),999999999)*1000+MIN($W2,999)) | AD2: =IF($AC2="","",COUNTIF($AC$2:$AC$501,">"&$AC2)+COUNTIF($AC$2:$AC2,$AC2))
A3: MED-FIC-0002 | B3: 46237 | C3: SKU-FIC-002 | D3: Cabo Prisma USB-C | E3: Loja Neblina - Estoque | F3: 240 | G3: 240 | H3: 22.4 | K3: Dispensada | L3: Estoque | O3: Contagem sem diferença. | P3: =IF(OR($A3="",$B3="",$C3="",$E3="",NOT(ISNUMBER($F3)),NOT(ISNUMBER($G3))),"",$G3-$F3) | Q3: =IF($P3="","",ABS($P3)) | R3: =IF(OR($P3="",NOT(ISNUMBER($H3))),"",$P3*$H3) | S3: =IF($R3="","",ABS($R3)) | T3: =IF($P3="","",IF($P3=0,"Sim","Não")) | U3: =IFERROR(IF($P3="","",IF(MAX($F3,$G3)=0,1,MAX(0,1-$Q3/MAX($F3,$G3)))),"") | V3: =IF($P3="","",IF($P3=0,"",IF($J3<>"",$J3,$I3))) | W3: =IF($P3="","",IF(OR($P3=0,$K3="Concluída",$K3="Dispensada"),0,MAX(0,'Configurações'!$B$10-$B3))) | X3: =IF($P3="","",IF($P3=0,"Baixa",IF(OR(AND(ISNUMBER($S3),$S3>='Configurações'!$B$4),AND($K3<>"Concluída",$K3<>"Dispensada",ISNUMBER($M3),$M3<'Configurações'!$B$10)),"Crítica",IF(OR(AND(ISNUMBER($S3),$S3>='Configurações'!$B$5),$Q3>='Configurações'!$B$6),"Alta","Média")))) | Y3: =IF($A3="","",_xlfn.TEXTJOIN(" | ",TRUE,IF(COUNTIF($A$2:$A$501,$A3)>1,"ID duplicado",""),IF(OR($B3="",$C3="",$D3="",$E3="",NOT(ISNUMBER($F3)),NOT(ISNUMBER($G3)),NOT(ISNUMBER($H3)),$K3=""),"Dados obrigatórios incompletos",""),IF(AND(ISNUMBER($P3),$P3<>0,$V3=""),"Informar motivo preliminar",""),IF(AND(ISNUMBER($P3),$P3<>0,$H3=0),"Revisar custo zerado",""),IF(AND($K3="Concluída",$T3="Não",$J3=""),"Confirmar causa",""),IF(AND($K3="Concluída",$N3=""),"Informar data de conclusão",""),IF(AND($K3<>"",$K3<>"Concluída",$K3<>"Dispensada",ISNUMBER($M3),$M3<'Configurações'!$B$10),"Prazo vencido",""),IF(AND($K3<>"",$K3<>"Concluída",$K3<>"Dispensada",$M3="",ISNUMBER($B3),'Configurações'!$B$10-$B3>'Configurações'!$B$9),"Definir prazo",""),IF(AND($K3<>"Concluída",$N3<>""),"Revisar data de conclusão",""))) | Z3: =IF(OR($C3="",$E3=""),"",$C3&" | "&$E3) | AA3: =IF($Z3="","",IF(COUNTIF($Z$2:$Z3,$Z3)=1,ROW(),"")) | AB3: =IF($A3="","",IF(AND(ISNUMBER($B3),$B3<='Configurações'!$B$10,$C3<>"",$D3<>"",$E3<>"",ISNUMBER($F3),$F3>=0,ISNUMBER($G3),$G3>=0,ISNUMBER($H3),$H3>=0,$K3<>"",COUNTIF($A$2:$A$501,$A3)=1),"Sim","Não")) | AC3: =IF(OR($AB3<>"Sim",$P3=0,$K3="Concluída",$K3="Dispensada"),"",IF($X3="Crítica",4,IF($X3="Alta",3,IF($X3="Média",2,1)))*1000000000000+MIN(IF(ISNUMBER($S3),$S3,0),999999999)*1000+MIN($W3,999)) | AD3: =IF($AC3="","",COUNTIF($AC$2:$AC$501,">"&$AC3)+COUNTIF($AC$2:$AC3,$AC3))
A4: MED-FIC-0003 | B4: 46241 | C4: SKU-FIC-003 | D4: Caderno Órbita Pontilhado | E4: CD Aurora - B2 | F4: 75 | G4: 81 | H4: 12.9 | I4: Recebimento não registrado | J4: Transferência pendente | K4: Concluída | L4: Estoque | M4: 46244 | N4: 46243 | O4: Transferência localizada no histórico interno. | P4: =IF(OR($A4="",$B4="",$C4="",$E4="",NOT(ISNUMBER($F4)),NOT(ISNUMBER($G4))),"",$G4-$F4) | Q4: =IF($P4="","",ABS($P4)) | R4: =IF(OR($P4="",NOT(ISNUMBER($H4))),"",$P4*$H4) | S4: =IF($R4="","",ABS($R4)) | T4: =IF($P4="","",IF($P4=0,"Sim","Não")) | U4: =IFERROR(IF($P4="","",IF(MAX($F4,$G4)=0,1,MAX(0,1-$Q4/MAX($F4,$G4)))),"") | V4: =IF($P4="","",IF($P4=0,"",IF($J4<>"",$J4,$I4))) | W4: =IF($P4="","",IF(OR($P4=0,$K4="Concluída",$K4="Dispensada"),0,MAX(0,'Configurações'!$B$10-$B4))) | X4: =IF($P4="","",IF($P4=0,"Baixa",IF(OR(AND(ISNUMBER($S4),$S4>='Configurações'!$B$4),AND($K4<>"Concluída",$K4<>"Dispensada",ISNUMBER($M4),$M4<'Configurações'!$B$10)),"Crítica",IF(OR(AND(ISNUMBER($S4),$S4>='Configurações'!$B$5),$Q4>='Configurações'!$B$6),"Alta","Média")))) | Y4: =IF($A4="","",_xlfn.TEXTJOIN(" | ",TRUE,IF(COUNTIF($A$2:$A$501,$A4)>1,"ID duplicado",""),IF(OR($B4="",$C4="",$D4="",$E4="",NOT(ISNUMBER($F4)),NOT(ISNUMBER($G4)),NOT(ISNUMBER($H4)),$K4=""),"Dados obrigatórios incompletos",""),IF(AND(ISNUMBER($P4),$P4<>0,$V4=""),"Informar motivo preliminar",""),IF(AND(ISNUMBER($P4),$P4<>0,$H4=0),"Revisar custo zerado",""),IF(AND($K4="Concluída",$T4="Não",$J4=""),"Confirmar causa",""),IF(AND($K4="Concluída",$N4=""),"Informar data de conclusão",""),IF(AND($K4<>"",$K4<>"Concluída",$K4<>"Dispensada",ISNUMBER($M4),$M4<'Configurações'!$B$10),"Prazo vencido",""),IF(AND($K4<>"",$K4<>"Concluída",$K4<>"Dispensada",$M4="",ISNUMBER($B4),'Configurações'!$B$10-$B4>'Configurações'!$B$9),"Definir prazo",""),IF(AND($K4<>"Concluída",$N4<>""),"Revisar data de conclusão",""))) | Z4: =IF(OR($C4="",$E4=""),"",$C4&" | "&$E4) | AA4: =IF($Z4="","",IF(COUNTIF($Z$2:$Z4,$Z4)=1,ROW(),"")) | AB4: =IF($A4="","",IF(AND(ISNUMBER($B4),$B4<='Configurações'!$B$10,$C4<>"",$D4<>"",$E4<>"",ISNUMBER($F4),$F4>=0,ISNUMBER($G4),$G4>=0,ISNUMBER($H4),$H4>=0,$K4<>"",COUNTIF($A$2:$A$501,$A4)=1),"Sim","Não")) | AC4: =IF(OR($AB4<>"Sim",$P4=0,$K4="Concluída",$K4="Dispensada"),"",IF($X4="Crítica",4,IF($X4="Alta",3,IF($X4="Média",2,1)))*1000000000000+MIN(IF(ISNUMBER($S4),$S4,0),999999999)*1000+MIN($W4,999)) | AD4: =IF($AC4="","",COUNTIF($AC$2:$AC$501,">"&$AC4)+COUNTIF($AC$2:$AC4,$AC4))
A5: MED-FIC-0004 | B5: 46246 | C5: SKU-FIC-004 | D5: Luminária Cometa de Mesa | E5: Hub Horizonte - Pulmão | F5: 32 | G5: 29 | H5: 64.9 | I5: Avaria não registrada | K5: Em análise | L5: Prevenção de perdas | M5: 46269 | O5: Fotos internas em revisão. | P5: =IF(OR($A5="",$B5="",$C5="",$E5="",NOT(ISNUMBER($F5)),NOT(ISNUMBER($G5))),"",$G5-$F5) | Q5: =IF($P5="","",ABS($P5)) | R5: =IF(OR($P5="",NOT(ISNUMBER($H5))),"",$P5*$H5) | S5: =IF($R5="","",ABS($R5)) | T5: =IF($P5="","",IF($P5=0,"Sim","Não")) | U5: =IFERROR(IF($P5="","",IF(MAX($F5,$G5)=0,1,MAX(0,1-$Q5/MAX($F5,$G5)))),"") | V5: =IF($P5="","",IF($P5=0,"",IF($J5<>"",$J5,$I5))) | W5: =IF($P5="","",IF(OR($P5=0,$K5="Concluída",$K5="Dispensada"),0,MAX(0,'Configurações'!$B$10-$B5))) | X5: =IF($P5="","",IF($P5=0,"Baixa",IF(OR(AND(ISNUMBER($S5),$S5>='Configurações'!$B$4),AND($K5<>"Concluída",$K5<>"Dispensada",ISNUMBER($M5),$M5<'Configurações'!$B$10)),"Crítica",IF(OR(AND(ISNUMBER($S5),$S5>='Configurações'!$B$5),$Q5>='Configurações'!$B$6),"Alta","Média")))) | Y5: =IF($A5="","",_xlfn.TEXTJOIN(" | ",TRUE,IF(COUNTIF($A$2:$A$501,$A5)>1,"ID duplicado",""),IF(OR($B5="",$C5="",$D5="",$E5="",NOT(ISNUMBER($F5)),NOT(ISNUMBER($G5)),NOT(ISNUMBER($H5)),$K5=""),"Dados obrigatórios incompletos",""),IF(AND(ISNUMBER($P5),$P5<>0,$V5=""),"Informar motivo preliminar",""),IF(AND(ISNUMBER($P5),$P5<>0,$H5=0),"Revisar custo zerado",""),IF(AND($K5="Concluída",$T5="Não",$J5=""),"Confirmar causa",""),IF(AND($K5="Concluída",$N5=""),"Informar data de conclusão",""),IF(AND($K5<>"",$K5<>"Concluída",$K5<>"Dispensada",ISNUMBER($M5),$M5<'Configurações'!$B$10),"Prazo vencido",""),IF(AND($K5<>"",$K5<>"Concluída",$K5<>"Dispensada",$M5="",ISNUMBER($B5),'Configurações'!$B$10-$B5>'Configurações'!$B$9),"Definir prazo",""),IF(AND($K5<>"Concluída",$N5<>""),"Revisar data de conclusão",""))) | Z5: =IF(OR($C5="",$E5=""),"",$C5&" | "&$E5) | AA5: =IF($Z5="","",IF(COUNTIF($Z$2:$Z5,$Z5)=1,ROW(),"")) | AB5: =IF($A5="","",IF(AND(ISNUMBER($B5),$B5<='Configurações'!$B$10,$C5<>"",$D5<>"",$E5<>"",ISNUMBER($F5),$F5>=0,ISNUMBER($G5),$G5>=0,ISNUMBER($H5),$H5>=0,$K5<>"",COUNTIF($A$2:$A$501,$A5)=1),"Sim","Não")) | AC5: =IF(OR($AB5<>"Sim",$P5=0,$K5="Concluída",$K5="Dispensada"),"",IF($X5="Crítica",4,IF($X5="Alta",3,IF($X5="Média",2,1)))*1000000000000+MIN(IF(ISNUMBER($S5),$S5,0),999999999)*1000+MIN($W5,999)) | AD5: =IF($AC5="","",COUNTIF($AC$2:$AC$501,">"&$AC5)+COUNTIF($AC$2:$AC5,$AC5))
A6: MED-FIC-0005 | B6: 46252 | C6: SKU-FIC-005 | D6: Organizador Vértice Modular | E6: CD Aurora - A1 | F6: 210 | G6: 210 | H6: 27.5 | K6: Dispensada | L6: Estoque | O6: Contagem sem diferença. | P6: =IF(OR($A6="",$B6="",$C6="",$E6="",NOT(ISNUMBER($F6)),NOT(ISNUMBER($G6))),"",$G6-$F6) | Q6: =IF($P6="","",ABS($P6)) | R6: =IF(OR($P6="",NOT(ISNUMBER($H6))),"",$P6*$H6) | S6: =IF($R6="","",ABS($R6)) | T6: =IF($P6="","",IF($P6=0,"Sim","Não")) | U6: =IFERROR(IF($P6="","",IF(MAX($F6,$G6)=0,1,MAX(0,1-$Q6/MAX($F6,$G6)))),"") | V6: =IF($P6="","",IF($P6=0,"",IF($J6<>"",$J6,$I6))) | W6: =IF($P6="","",IF(OR($P6=0,$K6="Concluída",$K6="Dispensada"),0,MAX(0,'Configurações'!$B$10-$B6))) | X6: =IF($P6="","",IF($P6=0,"Baixa",IF(OR(AND(ISNUMBER($S6),$S6>='Configurações'!$B$4),AND($K6<>"Concluída",$K6<>"Dispensada",ISNUMBER($M6),$M6<'Configurações'!$B$10)),"Crítica",IF(OR(AND(ISNUMBER($S6),$S6>='Configurações'!$B$5),$Q6>='Configurações'!$B$6),"Alta","Média")))) | Y6: =IF($A6="","",_xlfn.TEXTJOIN(" | ",TRUE,IF(COUNTIF($A$2:$A$501,$A6)>1,"ID duplicado",""),IF(OR($B6="",$C6="",$D6="",$E6="",NOT(ISNUMBER($F6)),NOT(ISNUMBER($G6)),NOT(ISNUMBER($H6)),$K6=""),"Dados obrigatórios incompletos",""),IF(AND(ISNUMBER($P6),$P6<>0,$V6=""),"Informar motivo preliminar",""),IF(AND(ISNUMBER($P6),$P6<>0,$H6=0),"Revisar custo zerado",""),IF(AND($K6="Concluída",$T6="Não",$J6=""),"Confirmar causa",""),IF(AND($K6="Concluída",$N6=""),"Informar data de conclusão",""),IF(AND($K6<>"",$K6<>"Concluída",$K6<>"Dispensada",ISNUMBER($M6),$M6<'Configurações'!$B$10),"Prazo vencido",""),IF(AND($K6<>"",$K6<>"Concluída",$K6<>"Dispensada",$M6="",ISNUMBER($B6),'Configurações'!$B$10-$B6>'Configurações'!$B$9),"Definir prazo",""),IF(AND($K6<>"Concluída",$N6<>""),"Revisar data de conclusão",""))) | Z6: =IF(OR($C6="",$E6=""),"",$C6&" | "&$E6) | AA6: =IF($Z6="","",IF(COUNTIF($Z$2:$Z6,$Z6)=1,ROW(),"")) | AB6: =IF($A6="","",IF(AND(ISNUMBER($B6),$B6<='Configurações'!$B$10,$C6<>"",$D6<>"",$E6<>"",ISNUMBER($F6),$F6>=0,ISNUMBER($G6),$G6>=0,ISNUMBER($H6),$H6>=0,$K6<>"",COUNTIF($A$2:$A$501,$A6)=1),"Sim","Não")) | AC6: =IF(OR($AB6<>"Sim",$P6=0,$K6="Concluída",$K6="Dispensada"),"",IF($X6="Crítica",4,IF($X6="Alta",3,IF($X6="Média",2,1)))*1000000000000+MIN(IF(ISNUMBER($S6),$S6,0),999999999)*1000+MIN($W6,999)) | AD6: =IF($AC6="","",COUNTIF($AC$2:$AC$501,">"&$AC6)+COUNTIF($AC$2:$AC6,$AC6))
A7: MED-FIC-0006 | B7: 46256 | C7: SKU-FIC-001 | D7: Caneca Nebulosa Azul | E7: CD Aurora - A1 | F7: 118 | G7: 117 | H7: 18.5 | I7: Erro de separação | J7: Erro de separação | K7: Concluída | L7: Operações | M7: 46259 | N7: 46258 | O7: Unidade localizada em pedido cancelado. | P7: =IF(OR($A7="",$B7="",$C7="",$E7="",NOT(ISNUMBER($F7)),NOT(ISNUMBER($G7))),"",$G7-$F7) | Q7: =IF($P7="","",ABS($P7)) | R7: =IF(OR($P7="",NOT(ISNUMBER($H7))),"",$P7*$H7) | S7: =IF($R7="","",ABS($R7)) | T7: =IF($P7="","",IF($P7=0,"Sim","Não")) | U7: =IFERROR(IF($P7="","",IF(MAX($F7,$G7)=0,1,MAX(0,1-$Q7/MAX($F7,$G7)))),"") | V7: =IF($P7="","",IF($P7=0,"",IF($J7<>"",$J7,$I7))) | W7: =IF($P7="","",IF(OR($P7=0,$K7="Concluída",$K7="Dispensada"),0,MAX(0,'Configurações'!$B$10-$B7))) | X7: =IF($P7="","",IF($P7=0,"Baixa",IF(OR(AND(ISNUMBER($S7),$S7>='Configurações'!$B$4),AND($K7<>"Concluída",$K7<>"Dispensada",ISNUMBER($M7),$M7<'Configurações'!$B$10)),"Crítica",IF(OR(AND(ISNUMBER($S7),$S7>='Configurações'!$B$5),$Q7>='Configurações'!$B$6),"Alta","Média")))) | Y7: =IF($A7="","",_xlfn.TEXTJOIN(" | ",TRUE,IF(COUNTIF($A$2:$A$501,$A7)>1,"ID duplicado",""),IF(OR($B7="",$C7="",$D7="",$E7="",NOT(ISNUMBER($F7)),NOT(ISNUMBER($G7)),NOT(ISNUMBER($H7)),$K7=""),"Dados obrigatórios incompletos",""),IF(AND(ISNUMBER($P7),$P7<>0,$V7=""),"Informar motivo preliminar",""),IF(AND(ISNUMBER($P7),$P7<>0,$H7=0),"Revisar custo zerado",""),IF(AND($K7="Concluída",$T7="Não",$J7=""),"Confirmar causa",""),IF(AND($K7="Concluída",$N7=""),"Informar data de conclusão",""),IF(AND($K7<>"",$K7<>"Concluída",$K7<>"Dispensada",ISNUMBER($M7),$M7<'Configurações'!$B$10),"Prazo vencido",""),IF(AND($K7<>"",$K7<>"Concluída",$K7<>"Dispensada",$M7="",ISNUMBER($B7),'Configurações'!$B$10-$B7>'Configurações'!$B$9),"Definir prazo",""),IF(AND($K7<>"Concluída",$N7<>""),"Revisar data de conclusão",""))) | Z7: =IF(OR($C7="",$E7=""),"",$C7&" | "&$E7) | AA7: =IF($Z7="","",IF(COUNTIF($Z$2:$Z7,$Z7)=1,ROW(),"")) | AB7: =IF($A7="","",IF(AND(ISNUMBER($B7),$B7<='Configurações'!$B$10,$C7<>"",$D7<>"",$E7<>"",ISNUMBER($F7),$F7>=0,ISNUMBER($G7),$G7>=0,ISNUMBER($H7),$H7>=0,$K7<>"",COUNTIF($A$2:$A$501,$A7)=1),"Sim","Não")) | AC7: =IF(OR($AB7<>"Sim",$P7=0,$K7="Concluída",$K7="Dispensada"),"",IF($X7="Crítica",4,IF($X7="Alta",3,IF($X7="Média",2,1)))*1000000000000+MIN(IF(ISNUMBER($S7),$S7,0),999999999)*1000+MIN($W7,999)) | AD7: =IF($AC7="","",COUNTIF($AC$2:$AC$501,">"&$AC7)+COUNTIF($AC$2:$AC7,$AC7))
A8: MED-FIC-0007 | B8: 46261 | C8: SKU-FIC-006 | D8: Garrafa Horizonte Térmica | E8: Loja Neblina - Estoque | F8: 90 | G8: 82 | H8: 39.9 | I8: Perda/extravio | K8: Em análise | L8: Prevenção de perdas | M8: 46275 | O8: Verificação interna em andamento. | P8: =IF(OR($A8="",$B8="",$C8="",$E8="",NOT(ISNUMBER($F8)),NOT(ISNUMBER($G8))),"",$G8-$F8) | Q8: =IF($P8="","",ABS($P8)) | R8: =IF(OR($P8="",NOT(ISNUMBER($H8))),"",$P8*$H8) | S8: =IF($R8="","",ABS($R8)) | T8: =IF($P8="","",IF($P8=0,"Sim","Não")) | U8: =IFERROR(IF($P8="","",IF(MAX($F8,$G8)=0,1,MAX(0,1-$Q8/MAX($F8,$G8)))),"") | V8: =IF($P8="","",IF($P8=0,"",IF($J8<>"",$J8,$I8))) | W8: =IF($P8="","",IF(OR($P8=0,$K8="Concluída",$K8="Dispensada"),0,MAX(0,'Configurações'!$B$10-$B8))) | X8: =IF($P8="","",IF($P8=0,"Baixa",IF(OR(AND(ISNUMBER($S8),$S8>='Configurações'!$B$4),AND($K8<>"Concluída",$K8<>"Dispensada",ISNUMBER($M8),$M8<'Configurações'!$B$10)),"Crítica",IF(OR(AND(ISNUMBER($S8),$S8>='Configurações'!$B$5),$Q8>='Configurações'!$B$6),"Alta","Média")))) | Y8: =IF($A8="","",_xlfn.TEXTJOIN(" | ",TRUE,IF(COUNTIF($A$2:$A$501,$A8)>1,"ID duplicado",""),IF(OR($B8="",$C8="",$D8="",$E8="",NOT(ISNUMBER($F8)),NOT(ISNUMBER($G8)),NOT(ISNUMBER($H8)),$K8=""),"Dados obrigatórios incompletos",""),IF(AND(ISNUMBER($P8),$P8<>0,$V8=""),"Informar motivo preliminar",""),IF(AND(ISNUMBER($P8),$P8<>0,$H8=0),"Revisar custo zerado",""),IF(AND($K8="Concluída",$T8="Não",$J8=""),"Confirmar causa",""),IF(AND($K8="Concluída",$N8=""),"Informar data de conclusão",""),IF(AND($K8<>"",$K8<>"Concluída",$K8<>"Dispensada",ISNUMBER($M8),$M8<'Configurações'!$B$10),"Prazo vencido",""),IF(AND($K8<>"",$K8<>"Concluída",$K8<>"Dispensada",$M8="",ISNUMBER($B8),'Configurações'!$B$10-$B8>'Configurações'!$B$9),"Definir prazo",""),IF(AND($K8<>"Concluída",$N8<>""),"Revisar data de conclusão",""))) | Z8: =IF(OR($C8="",$E8=""),"",$C8&" | "&$E8) | AA8: =IF($Z8="","",IF(COUNTIF($Z$2:$Z8,$Z8)=1,ROW(),"")) | AB8: =IF($A8="","",IF(AND(ISNUMBER($B8),$B8<='Configurações'!$B$10,$C8<>"",$D8<>"",$E8<>"",ISNUMBER($F8),$F8>=0,ISNUMBER($G8),$G8>=0,ISNUMBER($H8),$H8>=0,$K8<>"",COUNTIF($A$2:$A$501,$A8)=1),"Sim","Não")) | AC8: =IF(OR($AB8<>"Sim",$P8=0,$K8="Concluída",$K8="Dispensada"),"",IF($X8="Crítica",4,IF($X8="Alta",3,IF($X8="Média",2,1)))*1000000000000+MIN(IF(ISNUMBER($S8),$S8,0),999999999)*1000+MIN($W8,999)) | AD8: =IF($AC8="","",COUNTIF($AC$2:$AC$501,">"&$AC8)+COUNTIF($AC$2:$AC8,$AC8))
A9: MED-FIC-0008 | B9: 46265 | C9: SKU-FIC-007 | D9: Kit Adesivos Galáxia | E9: CD Aurora - B2 | F9: 500 | G9: 520 | H9: 3.2 | I9: Contagem incorreta | J9: Contagem incorreta | K9: Concluída | L9: Estoque | M9: 46267 | N9: 46266 | O9: Recontagem confirmou a quantidade física. | P9: =IF(OR($A9="",$B9="",$C9="",$E9="",NOT(ISNUMBER($F9)),NOT(ISNUMBER($G9))),"",$G9-$F9) | Q9: =IF($P9="","",ABS($P9)) | R9: =IF(OR($P9="",NOT(ISNUMBER($H9))),"",$P9*$H9) | S9: =IF($R9="","",ABS($R9)) | T9: =IF($P9="","",IF($P9=0,"Sim","Não")) | U9: =IFERROR(IF($P9="","",IF(MAX($F9,$G9)=0,1,MAX(0,1-$Q9/MAX($F9,$G9)))),"") | V9: =IF($P9="","",IF($P9=0,"",IF($J9<>"",$J9,$I9))) | W9: =IF($P9="","",IF(OR($P9=0,$K9="Concluída",$K9="Dispensada"),0,MAX(0,'Configurações'!$B$10-$B9))) | X9: =IF($P9="","",IF($P9=0,"Baixa",IF(OR(AND(ISNUMBER($S9),$S9>='Configurações'!$B$4),AND($K9<>"Concluída",$K9<>"Dispensada",ISNUMBER($M9),$M9<'Configurações'!$B$10)),"Crítica",IF(OR(AND(ISNUMBER($S9),$S9>='Configurações'!$B$5),$Q9>='Configurações'!$B$6),"Alta","Média")))) | Y9: =IF($A9="","",_xlfn.TEXTJOIN(" | ",TRUE,IF(COUNTIF($A$2:$A$501,$A9)>1,"ID duplicado",""),IF(OR($B9="",$C9="",$D9="",$E9="",NOT(ISNUMBER($F9)),NOT(ISNUMBER($G9)),NOT(ISNUMBER($H9)),$K9=""),"Dados obrigatórios incompletos",""),IF(AND(ISNUMBER($P9),$P9<>0,$V9=""),"Informar motivo preliminar",""),IF(AND(ISNUMBER($P9),$P9<>0,$H9=0),"Revisar custo zerado",""),IF(AND($K9="Concluída",$T9="Não",$J9=""),"Confirmar causa",""),IF(AND($K9="Concluída",$N9=""),"Informar data de conclusão",""),IF(AND($K9<>"",$K9<>"Concluída",$K9<>"Dispensada",ISNUMBER($M9),$M9<'Configurações'!$B$10),"Prazo vencido",""),IF(AND($K9<>"",$K9<>"Concluída",$K9<>"Dispensada",$M9="",ISNUMBER($B9),'Configurações'!$B$10-$B9>'Configurações'!$B$9),"Definir prazo",""),IF(AND($K9<>"Concluída",$N9<>""),"Revisar data de conclusão",""))) | Z9: =IF(OR($C9="",$E9=""),"",$C9&" | "&$E9) | AA9: =IF($Z9="","",IF(COUNTIF($Z$2:$Z9,$Z9)=1,ROW(),"")) | AB9: =IF($A9="","",IF(AND(ISNUMBER($B9),$B9<='Configurações'!$B$10,$C9<>"",$D9<>"",$E9<>"",ISNUMBER($F9),$F9>=0,ISNUMBER($G9),$G9>=0,ISNUMBER($H9),$H9>=0,$K9<>"",COUNTIF($A$2:$A$501,$A9)=1),"Sim","Não")) | AC9: =IF(OR($AB9<>"Sim",$P9=0,$K9="Concluída",$K9="Dispensada"),"",IF($X9="Crítica",4,IF($X9="Alta",3,IF($X9="Média",2,1)))*1000000000000+MIN(IF(ISNUMBER($S9),$S9,0),999999999)*1000+MIN($W9,999)) | AD9: =IF($AC9="","",COUNTIF($AC$2:$AC$501,">"&$AC9)+COUNTIF($AC$2:$AC9,$AC9))
A10: MED-FIC-0009 | B10: 46268 | C10: SKU-FIC-008 | D10: Suporte Lunar para Notebook | E10: Hub Horizonte - Pulmão | F10: 44 | G10: 40 | H10: 89.9 | I10: Transferência pendente | K10: Aguardando ajuste | L10: Operações | M10: 46277 | O10: Ajuste aguardando validação operacional. | P10: =IF(OR($A10="",$B10="",$C10="",$E10="",NOT(ISNUMBER($F10)),NOT(ISNUMBER($G10))),"",$G10-$F10) | Q10: =IF($P10="","",ABS($P10)) | R10: =IF(OR($P10="",NOT(ISNUMBER($H10))),"",$P10*$H10) | S10: =IF($R10="","",ABS($R10)) | T10: =IF($P10="","",IF($P10=0,"Sim","Não")) | U10: =IFERROR(IF($P10="","",IF(MAX($F10,$G10)=0,1,MAX(0,1-$Q10/MAX($F10,$G10)))),"") | V10: =IF($P10="","",IF($P10=0,"",IF($J10<>"",$J10,$I10))) | W10: =IF($P10="","",IF(OR($P10=0,$K10="Concluída",$K10="Dispensada"),0,MAX(0,'Configurações'!$B$10-$B10))) | X10: =IF($P10="","",IF($P10=0,"Baixa",IF(OR(AND(ISNUMBER($S10),$S10>='Configurações'!$B$4),AND($K10<>"Concluída",$K10<>"Dispensada",ISNUMBER($M10),$M10<'Configurações'!$B$10)),"Crítica",IF(OR(AND(ISNUMBER($S10),$S10>='Configurações'!$B$5),$Q10>='Configurações'!$B$6),"Alta","Média")))) | Y10: =IF($A10="","",_xlfn.TEXTJOIN(" | ",TRUE,IF(COUNTIF($A$2:$A$501,$A10)>1,"ID duplicado",""),IF(OR($B10="",$C10="",$D10="",$E10="",NOT(ISNUMBER($F10)),NOT(ISNUMBER($G10)),NOT(ISNUMBER($H10)),$K10=""),"Dados obrigatórios incompletos",""),IF(AND(ISNUMBER($P10),$P10<>0,$V10=""),"Informar motivo preliminar",""),IF(AND(ISNUMBER($P10),$P10<>0,$H10=0),"Revisar custo zerado",""),IF(AND($K10="Concluída",$T10="Não",$J10=""),"Confirmar causa",""),IF(AND($K10="Concluída",$N10=""),"Informar data de conclusão",""),IF(AND($K10<>"",$K10<>"Concluída",$K10<>"Dispensada",ISNUMBER($M10),$M10<'Configurações'!$B$10),"Prazo vencido",""),IF(AND($K10<>"",$K10<>"Concluída",$K10<>"Dispensada",$M10="",ISNUMBER($B10),'Configurações'!$B$10-$B10>'Configurações'!$B$9),"Definir prazo",""),IF(AND($K10<>"Concluída",$N10<>""),"Revisar data de conclusão",""))) | Z10: =IF(OR($C10="",$E10=""),"",$C10&" | "&$E10) | AA10: =IF($Z10="","",IF(COUNTIF($Z$2:$Z10,$Z10)=1,ROW(),"")) | AB10: =IF($A10="","",IF(AND(ISNUMBER($B10),$B10<='Configurações'!$B$10,$C10<>"",$D10<>"",$E10<>"",ISNUMBER($F10),$F10>=0,ISNUMBER($G10),$G10>=0,ISNUMBER($H10),$H10>=0,$K10<>"",COUNTIF($A$2:$A$501,$A10)=1),"Sim","Não")) | AC10: =IF(OR($AB10<>"Sim",$P10=0,$K10="Concluída",$K10="Dispensada"),"",IF($X10="Crítica",4,IF($X10="Alta",3,IF($X10="Média",2,1)))*1000000000000+MIN(IF(ISNUMBER($S10),$S10,0),999999999)*1000+MIN($W10,999)) | AD10: =IF($AC10="","",COUNTIF($AC$2:$AC$501,">"&$AC10)+COUNTIF($AC$2:$AC10,$AC10))
A11: MED-FIC-0010 | B11: 46270 | C11: SKU-FIC-009 | D11: Fone Estelar Mini | E11: Loja Neblina - Estoque | F11: 68 | G11: 68 | H11: 79.9 | K11: Dispensada | L11: Estoque | O11: Contagem sem diferença. | P11: =IF(OR($A11="",$B11="",$C11="",$E11="",NOT(ISNUMBER($F11)),NOT(ISNUMBER($G11))),"",$G11-$F11) | Q11: =IF($P11="","",ABS($P11)) | R11: =IF(OR($P11="",NOT(ISNUMBER($H11))),"",$P11*$H11) | S11: =IF($R11="","",ABS($R11)) | T11: =IF($P11="","",IF($P11=0,"Sim","Não")) | U11: =IFERROR(IF($P11="","",IF(MAX($F11,$G11)=0,1,MAX(0,1-$Q11/MAX($F11,$G11)))),"") | V11: =IF($P11="","",IF($P11=0,"",IF($J11<>"",$J11,$I11))) | W11: =IF($P11="","",IF(OR($P11=0,$K11="Concluída",$K11="Dispensada"),0,MAX(0,'Configurações'!$B$10-$B11))) | X11: =IF($P11="","",IF($P11=0,"Baixa",IF(OR(AND(ISNUMBER($S11),$S11>='Configurações'!$B$4),AND($K11<>"Concluída",$K11<>"Dispensada",ISNUMBER($M11),$M11<'Configurações'!$B$10)),"Crítica",IF(OR(AND(ISNUMBER($S11),$S11>='Configurações'!$B$5),$Q11>='Configurações'!$B$6),"Alta","Média")))) | Y11: =IF($A11="","",_xlfn.TEXTJOIN(" | ",TRUE,IF(COUNTIF($A$2:$A$501,$A11)>1,"ID duplicado",""),IF(OR($B11="",$C11="",$D11="",$E11="",NOT(ISNUMBER($F11)),NOT(ISNUMBER($G11)),NOT(ISNUMBER($H11)),$K11=""),"Dados obrigatórios incompletos",""),IF(AND(ISNUMBER($P11),$P11<>0,$V11=""),"Informar motivo preliminar",""),IF(AND(ISNUMBER($P11),$P11<>0,$H11=0),"Revisar custo zerado",""),IF(AND($K11="Concluída",$T11="Não",$J11=""),"Confirmar causa",""),IF(AND($K11="Concluída",$N11=""),"Informar data de conclusão",""),IF(AND($K11<>"",$K11<>"Concluída",$K11<>"Dispensada",ISNUMBER($M11),$M11<'Configurações'!$B$10),"Prazo vencido",""),IF(AND($K11<>"",$K11<>"Concluída",$K11<>"Dispensada",$M11="",ISNUMBER($B11),'Configurações'!$B$10-$B11>'Configurações'!$B$9),"Definir prazo",""),IF(AND($K11<>"Concluída",$N11<>""),"Revisar data de conclusão",""))) | Z11: =IF(OR($C11="",$E11=""),"",$C11&" | "&$E11) | AA11: =IF($Z11="","",IF(COUNTIF($Z$2:$Z11,$Z11)=1,ROW(),"")) | AB11: =IF($A11="","",IF(AND(ISNUMBER($B11),$B11<='Configurações'!$B$10,$C11<>"",$D11<>"",$E11<>"",ISNUMBER($F11),$F11>=0,ISNUMBER($G11),$G11>=0,ISNUMBER($H11),$H11>=0,$K11<>"",COUNTIF($A$2:$A$501,$A11)=1),"Sim","Não")) | AC11: =IF(OR($AB11<>"Sim",$P11=0,$K11="Concluída",$K11="Dispensada"),"",IF($X11="Crítica",4,IF($X11="Alta",3,IF($X11="Média",2,1)))*1000000000000+MIN(IF(ISNUMBER($S11),$S11,0),999999999)*1000+MIN($W11,999)) | AD11: =IF($AC11="","",COUNTIF($AC$2:$AC$501,">"&$AC11)+COUNTIF($AC$2:$AC11,$AC11))
P12: =IF(OR($A12="",$B12="",$C12="",$E12="",NOT(ISNUMBER($F12)),NOT(ISNUMBER($G12))),"",$G12-$F12) | Q12: =IF($P12="","",ABS($P12)) | R12: =IF(OR($P12="",NOT(ISNUMBER($H12))),"",$P12*$H12) | S12: =IF($R12="","",ABS($R12)) | T12: =IF($P12="","",IF($P12=0,"Sim","Não")) | U12: =IFERROR(IF($P12="","",IF(MAX($F12,$G12)=0,1,MAX(0,1-$Q12/MAX($F12,$G12)))),"") | V12: =IF($P12="","",IF($P12=0,"",IF($J12<>"",$J12,$I12))) | W12: =IF($P12="","",IF(OR($P12=0,$K12="Concluída",$K12="Dispensada"),0,MAX(0,'Configurações'!$B$10-$B12))) | X12: =IF($P12="","",IF($P12=0,"Baixa",IF(OR(AND(ISNUMBER($S12),$S12>='Configurações'!$B$4),AND($K12<>"Concluída",$K12<>"Dispensada",ISNUMBER($M12),$M12<'Configurações'!$B$10)),"Crítica",IF(OR(AND(ISNUMBER($S12),$S12>='Configurações'!$B$5),$Q12>='Configurações'!$B$6),"Alta","Média")))) | Y12: =IF($A12="","",_xlfn.TEXTJOIN(" | ",TRUE,IF(COUNTIF($A$2:$A$501,$A12)>1,"ID duplicado",""),IF(OR($B12="",$C12="",$D12="",$E12="",NOT(ISNUMBER($F12)),NOT(ISNUMBER($G12)),NOT(ISNUMBER($H12)),$K12=""),"Dados obrigatórios incompletos",""),IF(AND(ISNUMBER($P12),$P12<>0,$V12=""),"Informar motivo preliminar",""),IF(AND(ISNUMBER($P12),$P12<>0,$H12=0),"Revisar custo zerado",""),IF(AND($K12="Concluída",$T12="Não",$J12=""),"Confirmar causa",""),IF(AND($K12="Concluída",$N12=""),"Informar data de conclusão",""),IF(AND($K12<>"",$K12<>"Concluída",$K12<>"Dispensada",ISNUMBER($M12),$M12<'Configurações'!$B$10),"Prazo vencido",""),IF(AND($K12<>"",$K12<>"Concluída",$K12<>"Dispensada",$M12="",ISNUMBER($B12),'Configurações'!$B$10-$B12>'Configurações'!$B$9),"Definir prazo",""),IF(AND($K12<>"Concluída",$N12<>""),"Revisar data de conclusão",""))) | Z12: =IF(OR($C12="",$E12=""),"",$C12&" | "&$E12) | AA12: =IF($Z12="","",IF(COUNTIF($Z$2:$Z12,$Z12)=1,ROW(),"")) | AB12: =IF($A12="","",IF(AND(ISNUMBER($B12),$B12<='Configurações'!$B$10,$C12<>"",$D12<>"",$E12<>"",ISNUMBER($F12),$F12>=0,ISNUMBER($G12),$G12>=0,ISNUMBER($H12),$H12>=0,$K12<>"",COUNTIF($A$2:$A$501,$A12)=1),"Sim","Não")) | AC12: =IF(OR($AB12<>"Sim",$P12=0,$K12="Concluída",$K12="Dispensada"),"",IF($X12="Crítica",4,IF($X12="Alta",3,IF($X12="Média",2,1)))*1000000000000+MIN(IF(ISNUMBER($S12),$S12,0),999999999)*1000+MIN($W12,999)) | AD12: =IF($AC12="","",COUNTIF($AC$2:$AC$501,">"&$AC12)+COUNTIF($AC$2:$AC12,$AC12))
P13: =IF(OR($A13="",$B13="",$C13="",$E13="",NOT(ISNUMBER($F13)),NOT(ISNUMBER($G13))),"",$G13-$F13) | Q13: =IF($P13="","",ABS($P13)) | R13: =IF(OR($P13="",NOT(ISNUMBER($H13))),"",$P13*$H13) | S13: =IF($R13="","",ABS($R13)) | T13: =IF($P13="","",IF($P13=0,"Sim","Não")) | U13: =IFERROR(IF($P13="","",IF(MAX($F13,$G13)=0,1,MAX(0,1-$Q13/MAX($F13,$G13)))),"") | V13: =IF($P13="","",IF($P13=0,"",IF($J13<>"",$J13,$I13))) | W13: =IF($P13="","",IF(OR($P13=0,$K13="Concluída",$K13="Dispensada"),0,MAX(0,'Configurações'!$B$10-$B13))) | X13: =IF($P13="","",IF($P13=0,"Baixa",IF(OR(AND(ISNUMBER($S13),$S13>='Configurações'!$B$4),AND($K13<>"Concluída",$K13<>"Dispensada",ISNUMBER($M13),$M13<'Configurações'!$B$10)),"Crítica",IF(OR(AND(ISNUMBER($S13),$S13>='Configurações'!$B$5),$Q13>='Configurações'!$B$6),"Alta","Média")))) | Y13: =IF($A13="","",_xlfn.TEXTJOIN(" | ",TRUE,IF(COUNTIF($A$2:$A$501,$A13)>1,"ID duplicado",""),IF(OR($B13="",$C13="",$D13="",$E13="",NOT(ISNUMBER($F13)),NOT(ISNUMBER($G13)),NOT(ISNUMBER($H13)),$K13=""),"Dados obrigatórios incompletos",""),IF(AND(ISNUMBER($P13),$P13<>0,$V13=""),"Informar motivo preliminar",""),IF(AND(ISNUMBER($P13),$P13<>0,$H13=0),"Revisar custo zerado",""),IF(AND($K13="Concluída",$T13="Não",$J13=""),"Confirmar causa",""),IF(AND($K13="Concluída",$N13=""),"Informar data de conclusão",""),IF(AND($K13<>"",$K13<>"Concluída",$K13<>"Dispensada",ISNUMBER($M13),$M13<'Configurações'!$B$10),"Prazo vencido",""),IF(AND($K13<>"",$K13<>"Concluída",$K13<>"Dispensada",$M13="",ISNUMBER($B13),'Configurações'!$B$10-$B13>'Configurações'!$B$9),"Definir prazo",""),IF(AND($K13<>"Concluída",$N13<>""),"Revisar data de conclusão",""))) | Z13: =IF(OR($C13="",$E13=""),"",$C13&" | "&$E13) | AA13: =IF($Z13="","",IF(COUNTIF($Z$2:$Z13,$Z13)=1,ROW(),"")) | AB13: =IF($A13="","",IF(AND(ISNUMBER($B13),$B13<='Configurações'!$B$10,$C13<>"",$D13<>"",$E13<>"",ISNUMBER($F13),$F13>=0,ISNUMBER($G13),$G13>=0,ISNUMBER($H13),$H13>=0,$K13<>"",COUNTIF($A$2:$A$501,$A13)=1),"Sim","Não")) | AC13: =IF(OR($AB13<>"Sim",$P13=0,$K13="Concluída",$K13="Dispensada"),"",IF($X13="Crítica",4,IF($X13="Alta",3,IF($X13="Média",2,1)))*1000000000000+MIN(IF(ISNUMBER($S13),$S13,0),999999999)*1000+MIN($W13,999)) | AD13: =IF($AC13="","",COUNTIF($AC$2:$AC$501,">"&$AC13)+COUNTIF($AC$2:$AC13,$AC13))
P14: =IF(OR($A14="",$B14="",$C14="",$E14="",NOT(ISNUMBER($F14)),NOT(ISNUMBER($G14))),"",$G14-$F14) | Q14: =IF($P14="","",ABS($P14)) | R14: =IF(OR($P14="",NOT(ISNUMBER($H14))),"",$P14*$H14) | S14: =IF($R14="","",ABS($R14)) | T14: =IF($P14="","",IF($P14=0,"Sim","Não")) | U14: =IFERROR(IF($P14="","",IF(MAX($F14,$G14)=0,1,MAX(0,1-$Q14/MAX($F14,$G14)))),"") | V14: =IF($P14="","",IF($P14=0,"",IF($J14<>"",$J14,$I14))) | W14: =IF($P14="","",IF(OR($P14=0,$K14="Concluída",$K14="Dispensada"),0,MAX(0,'Configurações'!$B$10-$B14))) | X14: =IF($P14="","",IF($P14=0,"Baixa",IF(OR(AND(ISNUMBER($S14),$S14>='Configurações'!$B$4),AND($K14<>"Concluída",$K14<>"Dispensada",ISNUMBER($M14),$M14<'Configurações'!$B$10)),"Crítica",IF(OR(AND(ISNUMBER($S14),$S14>='Configurações'!$B$5),$Q14>='Configurações'!$B$6),"Alta","Média")))) | Y14: =IF($A14="","",_xlfn.TEXTJOIN(" | ",TRUE,IF(COUNTIF($A$2:$A$501,$A14)>1,"ID duplicado",""),IF(OR($B14="",$C14="",$D14="",$E14="",NOT(ISNUMBER($F14)),NOT(ISNUMBER($G14)),NOT(ISNUMBER($H14)),$K14=""),"Dados obrigatórios incompletos",""),IF(AND(ISNUMBER($P14),$P14<>0,$V14=""),"Informar motivo preliminar",""),IF(AND(ISNUMBER($P14),$P14<>0,$H14=0),"Revisar custo zerado",""),IF(AND($K14="Concluída",$T14="Não",$J14=""),"Confirmar causa",""),IF(AND($K14="Concluída",$N14=""),"Informar data de conclusão",""),IF(AND($K14<>"",$K14<>"Concluída",$K14<>"Dispensada",ISNUMBER($M14),$M14<'Configurações'!$B$10),"Prazo vencido",""),IF(AND($K14<>"",$K14<>"Concluída",$K14<>"Dispensada",$M14="",ISNUMBER($B14),'Configurações'!$B$10-$B14>'Configurações'!$B$9),"Definir prazo",""),IF(AND($K14<>"Concluída",$N14<>""),"Revisar data de conclusão",""))) | Z14: =IF(OR($C14="",$E14=""),"",$C14&" | "&$E14) | AA14: =IF($Z14="","",IF(COUNTIF($Z$2:$Z14,$Z14)=1,ROW(),"")) | AB14: =IF($A14="","",IF(AND(ISNUMBER($B14),$B14<='Configurações'!$B$10,$C14<>"",$D14<>"",$E14<>"",ISNUMBER($F14),$F14>=0,ISNUMBER($G14),$G14>=0,ISNUMBER($H14),$H14>=0,$K14<>"",COUNTIF($A$2:$A$501,$A14)=1),"Sim","Não")) | AC14: =IF(OR($AB14<>"Sim",$P14=0,$K14="Concluída",$K14="Dispensada"),"",IF($X14="Crítica",4,IF($X14="Alta",3,IF($X14="Média",2,1)))*1000000000000+MIN(IF(ISNUMBER($S14),$S14,0),999999999)*1000+MIN($W14,999)) | AD14: =IF($AC14="","",COUNTIF($AC$2:$AC$501,">"&$AC14)+COUNTIF($AC$2:$AC14,$AC14))
P15: =IF(OR($A15="",$B15="",$C15="",$E15="",NOT(ISNUMBER($F15)),NOT(ISNUMBER($G15))),"",$G15-$F15) | Q15: =IF($P15="","",ABS($P15)) | R15: =IF(OR($P15="",NOT(ISNUMBER($H15))),"",$P15*$H15) | S15: =IF($R15="","",ABS($R15)) | T15: =IF($P15="","",IF($P15=0,"Sim","Não")) | U15: =IFERROR(IF($P15="","",IF(MAX($F15,$G15)=0,1,MAX(0,1-$Q15/MAX($F15,$G15)))),"") | V15: =IF($P15="","",IF($P15=0,"",IF($J15<>"",$J15,$I15))) | W15: =IF($P15="","",IF(OR($P15=0,$K15="Concluída",$K15="Dispensada"),0,MAX(0,'Configurações'!$B$10-$B15))) | X15: =IF($P15="","",IF($P15=0,"Baixa",IF(OR(AND(ISNUMBER($S15),$S15>='Configurações'!$B$4),AND($K15<>"Concluída",$K15<>"Dispensada",ISNUMBER($M15),$M15<'Configurações'!$B$10)),"Crítica",IF(OR(AND(ISNUMBER($S15),$S15>='Configurações'!$B$5),$Q15>='Configurações'!$B$6),"Alta","Média")))) | Y15: =IF($A15="","",_xlfn.TEXTJOIN(" | ",TRUE,IF(COUNTIF($A$2:$A$501,$A15)>1,"ID duplicado",""),IF(OR($B15="",$C15="",$D15="",$E15="",NOT(ISNUMBER($F15)),NOT(ISNUMBER($G15)),NOT(ISNUMBER($H15)),$K15=""),"Dados obrigatórios incompletos",""),IF(AND(ISNUMBER($P15),$P15<>0,$V15=""),"Informar motivo preliminar",""),IF(AND(ISNUMBER($P15),$P15<>0,$H15=0),"Revisar custo zerado",""),IF(AND($K15="Concluída",$T15="Não",$J15=""),"Confirmar causa",""),IF(AND($K15="Concluída",$N15=""),"Informar data de conclusão",""),IF(AND($K15<>"",$K15<>"Concluída",$K15<>"Dispensada",ISNUMBER($M15),$M15<'Configurações'!$B$10),"Prazo vencido",""),IF(AND($K15<>"",$K15<>"Concluída",$K15<>"Dispensada",$M15="",ISNUMBER($B15),'Configurações'!$B$10-$B15>'Configurações'!$B$9),"Definir prazo",""),IF(AND($K15<>"Concluída",$N15<>""),"Revisar data de conclusão",""))) | Z15: =IF(OR($C15="",$E15=""),"",$C15&" | "&$E15) | AA15: =IF($Z15="","",IF(COUNTIF($Z$2:$Z15,$Z15)=1,ROW(),"")) | AB15: =IF($A15="","",IF(AND(ISNUMBER($B15),$B15<='Configurações'!$B$10,$C15<>"",$D15<>"",$E15<>"",ISNUMBER($F15),$F15>=0,ISNUMBER($G15),$G15>=0,ISNUMBER($H15),$H15>=0,$K15<>"",COUNTIF($A$2:$A$501,$A15)=1),"Sim","Não")) | AC15: =IF(OR($AB15<>"Sim",$P15=0,$K15="Concluída",$K15="Dispensada"),"",IF($X15="Crítica",4,IF($X15="Alta",3,IF($X15="Média",2,1)))*1000000000000+MIN(IF(ISNUMBER($S15),$S15,0),999999999)*1000+MIN($W15,999)) | AD15: =IF($AC15="","",COUNTIF($AC$2:$AC$501,">"&$AC15)+COUNTIF($AC$2:$AC15,$AC15))
P16: =IF(OR($A16="",$B16="",$C16="",$E16="",NOT(ISNUMBER($F16)),NOT(ISNUMBER($G16))),"",$G16-$F16) | Q16: =IF($P16="","",ABS($P16)) | R16: =IF(OR($P16="",NOT(ISNUMBER($H16))),"",$P16*$H16) | S16: =IF($R16="","",ABS($R16)) | T16: =IF($P16="","",IF($P16=0,"Sim","Não")) | U16: =IFERROR(IF($P16="","",IF(MAX($F16,$G16)=0,1,MAX(0,1-$Q16/MAX($F16,$G16)))),"") | V16: =IF($P16="","",IF($P16=0,"",IF($J16<>"",$J16,$I16))) | W16: =IF($P16="","",IF(OR($P16=0,$K16="Concluída",$K16="Dispensada"),0,MAX(0,'Configurações'!$B$10-$B16))) | X16: =IF($P16="","",IF($P16=0,"Baixa",IF(OR(AND(ISNUMBER($S16),$S16>='Configurações'!$B$4),AND($K16<>"Concluída",$K16<>"Dispensada",ISNUMBER($M16),$M16<'Configurações'!$B$10)),"Crítica",IF(OR(AND(ISNUMBER($S16),$S16>='Configurações'!$B$5),$Q16>='Configurações'!$B$6),"Alta","Média")))) | Y16: =IF($A16="","",_xlfn.TEXTJOIN(" | ",TRUE,IF(COUNTIF($A$2:$A$501,$A16)>1,"ID duplicado",""),IF(OR($B16="",$C16="",$D16="",$E16="",NOT(ISNUMBER($F16)),NOT(ISNUMBER($G16)),NOT(ISNUMBER($H16)),$K16=""),"Dados obrigatórios incompletos",""),IF(AND(ISNUMBER($P16),$P16<>0,$V16=""),"Informar motivo preliminar",""),IF(AND(ISNUMBER($P16),$P16<>0,$H16=0),"Revisar custo zerado",""),IF(AND($K16="Concluída",$T16="Não",$J16=""),"Confirmar causa",""),IF(AND($K16="Concluída",$N16=""),"Informar data de conclusão",""),IF(AND($K16<>"",$K16<>"Concluída",$K16<>"Dispensada",ISNUMBER($M16),$M16<'Configurações'!$B$10),"Prazo vencido",""),IF(AND($K16<>"",$K16<>"Concluída",$K16<>"Dispensada",$M16="",ISNUMBER($B16),'Configurações'!$B$10-$B16>'Configurações'!$B$9),"Definir prazo",""),IF(AND($K16<>"Concluída",$N16<>""),"Revisar data de conclusão",""))) | Z16: =IF(OR($C16="",$E16=""),"",$C16&" | "&$E16) | AA16: =IF($Z16="","",IF(COUNTIF($Z$2:$Z16,$Z16)=1,ROW(),"")) | AB16: =IF($A16="","",IF(AND(ISNUMBER($B16),$B16<='Configurações'!$B$10,$C16<>"",$D16<>"",$E16<>"",ISNUMBER($F16),$F16>=0,ISNUMBER($G16),$G16>=0,ISNUMBER($H16),$H16>=0,$K16<>"",COUNTIF($A$2:$A$501,$A16)=1),"Sim","Não")) | AC16: =IF(OR($AB16<>"Sim",$P16=0,$K16="Concluída",$K16="Dispensada"),"",IF($X16="Crítica",4,IF($X16="Alta",3,IF($X16="Média",2,1)))*1000000000000+MIN(IF(ISNUMBER($S16),$S16,0),999999999)*1000+MIN($W16,999)) | AD16: =IF($AC16="","",COUNTIF($AC$2:$AC$501,">"&$AC16)+COUNTIF($AC$2:$AC16,$AC16))
P17: =IF(OR($A17="",$B17="",$C17="",$E17="",NOT(ISNUMBER($F17)),NOT(ISNUMBER($G17))),"",$G17-$F17) | Q17: =IF($P17="","",ABS($P17)) | R17: =IF(OR($P17="",NOT(ISNUMBER($H17))),"",$P17*$H17) | S17: =IF($R17="","",ABS($R17)) | T17: =IF($P17="","",IF($P17=0,"Sim","Não")) | U17: =IFERROR(IF($P17="","",IF(MAX($F17,$G17)=0,1,MAX(0,1-$Q17/MAX($F17,$G17)))),"") | V17: =IF($P17="","",IF($P17=0,"",IF($J17<>"",$J17,$I17))) | W17: =IF($P17="","",IF(OR($P17=0,$K17="Concluída",$K17="Dispensada"),0,MAX(0,'Configurações'!$B$10-$B17))) | X17: =IF($P17="","",IF($P17=0,"Baixa",IF(OR(AND(ISNUMBER($S17),$S17>='Configurações'!$B$4),AND($K17<>"Concluída",$K17<>"Dispensada",ISNUMBER($M17),$M17<'Configurações'!$B$10)),"Crítica",IF(OR(AND(ISNUMBER($S17),$S17>='Configurações'!$B$5),$Q17>='Configurações'!$B$6),"Alta","Média")))) | Y17: =IF($A17="","",_xlfn.TEXTJOIN(" | ",TRUE,IF(COUNTIF($A$2:$A$501,$A17)>1,"ID duplicado",""),IF(OR($B17="",$C17="",$D17="",$E17="",NOT(ISNUMBER($F17)),NOT(ISNUMBER($G17)),NOT(ISNUMBER($H17)),$K17=""),"Dados obrigatórios incompletos",""),IF(AND(ISNUMBER($P17),$P17<>0,$V17=""),"Informar motivo preliminar",""),IF(AND(ISNUMBER($P17),$P17<>0,$H17=0),"Revisar custo zerado",""),IF(AND($K17="Concluída",$T17="Não",$J17=""),"Confirmar causa",""),IF(AND($K17="Concluída",$N17=""),"Informar data de conclusão",""),IF(AND($K17<>"",$K17<>"Concluída",$K17<>"Dispensada",ISNUMBER($M17),$M17<'Configurações'!$B$10),"Prazo vencido",""),IF(AND($K17<>"",$K17<>"Concluída",$K17<>"Dispensada",$M17="",ISNUMBER($B17),'Configurações'!$B$10-$B17>'Configurações'!$B$9),"Definir prazo",""),IF(AND($K17<>"Concluída",$N17<>""),"Revisar data de conclusão",""))) | Z17: =IF(OR($C17="",$E17=""),"",$C17&" | "&$E17) | AA17: =IF($Z17="","",IF(COUNTIF($Z$2:$Z17,$Z17)=1,ROW(),"")) | AB17: =IF($A17="","",IF(AND(ISNUMBER($B17),$B17<='Configurações'!$B$10,$C17<>"",$D17<>"",$E17<>"",ISNUMBER($F17),$F17>=0,ISNUMBER($G17),$G17>=0,ISNUMBER($H17),$H17>=0,$K17<>"",COUNTIF($A$2:$A$501,$A17)=1),"Sim","Não")) | AC17: =IF(OR($AB17<>"Sim",$P17=0,$K17="Concluída",$K17="Dispensada"),"",IF($X17="Crítica",4,IF($X17="Alta",3,IF($X17="Média",2,1)))*1000000000000+MIN(IF(ISNUMBER($S17),$S17,0),999999999)*1000+MIN($W17,999)) | AD17: =IF($AC17="","",COUNTIF($AC$2:$AC$501,">"&$AC17)+COUNTIF($AC$2:$AC17,$AC17))
P18: =IF(OR($A18="",$B18="",$C18="",$E18="",NOT(ISNUMBER($F18)),NOT(ISNUMBER($G18))),"",$G18-$F18) | Q18: =IF($P18="","",ABS($P18)) | R18: =IF(OR($P18="",NOT(ISNUMBER($H18))),"",$P18*$H18) | S18: =IF($R18="","",ABS($R18)) | T18: =IF($P18="","",IF($P18=0,"Sim","Não")) | U18: =IFERROR(IF($P18="","",IF(MAX($F18,$G18)=0,1,MAX(0,1-$Q18/MAX($F18,$G18)))),"") | V18: =IF($P18="","",IF($P18=0,"",IF($J18<>"",$J18,$I18))) | W18: =IF($P18="","",IF(OR($P18=0,$K18="Concluída",$K18="Dispensada"),0,MAX(0,'Configurações'!$B$10-$B18))) | X18: =IF($P18="","",IF($P18=0,"Baixa",IF(OR(AND(ISNUMBER($S18),$S18>='Configurações'!$B$4),AND($K18<>"Concluída",$K18<>"Dispensada",ISNUMBER($M18),$M18<'Configurações'!$B$10)),"Crítica",IF(OR(AND(ISNUMBER($S18),$S18>='Configurações'!$B$5),$Q18>='Configurações'!$B$6),"Alta","Média")))) | Y18: =IF($A18="","",_xlfn.TEXTJOIN(" | ",TRUE,IF(COUNTIF($A$2:$A$501,$A18)>1,"ID duplicado",""),IF(OR($B18="",$C18="",$D18="",$E18="",NOT(ISNUMBER($F18)),NOT(ISNUMBER($G18)),NOT(ISNUMBER($H18)),$K18=""),"Dados obrigatórios incompletos",""),IF(AND(ISNUMBER($P18),$P18<>0,$V18=""),"Informar motivo preliminar",""),IF(AND(ISNUMBER($P18),$P18<>0,$H18=0),"Revisar custo zerado",""),IF(AND($K18="Concluída",$T18="Não",$J18=""),"Confirmar causa",""),IF(AND($K18="Concluída",$N18=""),"Informar data de conclusão",""),IF(AND($K18<>"",$K18<>"Concluída",$K18<>"Dispensada",ISNUMBER($M18),$M18<'Configurações'!$B$10),"Prazo vencido",""),IF(AND($K18<>"",$K18<>"Concluída",$K18<>"Dispensada",$M18="",ISNUMBER($B18),'Configurações'!$B$10-$B18>'Configurações'!$B$9),"Definir prazo",""),IF(AND($K18<>"Concluída",$N18<>""),"Revisar data de conclusão",""))) | Z18: =IF(OR($C18="",$E18=""),"",$C18&" | "&$E18) | AA18: =IF($Z18="","",IF(COUNTIF($Z$2:$Z18,$Z18)=1,ROW(),"")) | AB18: =IF($A18="","",IF(AND(ISNUMBER($B18),$B18<='Configurações'!$B$10,$C18<>"",$D18<>"",$E18<>"",ISNUMBER($F18),$F18>=0,ISNUMBER($G18),$G18>=0,ISNUMBER($H18),$H18>=0,$K18<>"",COUNTIF($A$2:$A$501,$A18)=1),"Sim","Não")) | AC18: =IF(OR($AB18<>"Sim",$P18=0,$K18="Concluída",$K18="Dispensada"),"",IF($X18="Crítica",4,IF($X18="Alta",3,IF($X18="Média",2,1)))*1000000000000+MIN(IF(ISNUMBER($S18),$S18,0),999999999)*1000+MIN($W18,999)) | AD18: =IF($AC18="","",COUNTIF($AC$2:$AC$501,">"&$AC18)+COUNTIF($AC$2:$AC18,$AC18))
P19: =IF(OR($A19="",$B19="",$C19="",$E19="",NOT(ISNUMBER($F19)),NOT(ISNUMBER($G19))),"",$G19-$F19) | Q19: =IF($P19="","",ABS($P19)) | R19: =IF(OR($P19="",NOT(ISNUMBER($H19))),"",$P19*$H19) | S19: =IF($R19="","",ABS($R19)) | T19: =IF($P19="","",IF($P19=0,"Sim","Não")) | U19: =IFERROR(IF($P19="","",IF(MAX($F19,$G19)=0,1,MAX(0,1-$Q19/MAX($F19,$G19)))),"") | V19: =IF($P19="","",IF($P19=0,"",IF($J19<>"",$J19,$I19))) | W19: =IF($P19="","",IF(OR($P19=0,$K19="Concluída",$K19="Dispensada"),0,MAX(0,'Configurações'!$B$10-$B19))) | X19: =IF($P19="","",IF($P19=0,"Baixa",IF(OR(AND(ISNUMBER($S19),$S19>='Configurações'!$B$4),AND($K19<>"Concluída",$K19<>"Dispensada",ISNUMBER($M19),$M19<'Configurações'!$B$10)),"Crítica",IF(OR(AND(ISNUMBER($S19),$S19>='Configurações'!$B$5),$Q19>='Configurações'!$B$6),"Alta","Média")))) | Y19: =IF($A19="","",_xlfn.TEXTJOIN(" | ",TRUE,IF(COUNTIF($A$2:$A$501,$A19)>1,"ID duplicado",""),IF(OR($B19="",$C19="",$D19="",$E19="",NOT(ISNUMBER($F19)),NOT(ISNUMBER($G19)),NOT(ISNUMBER($H19)),$K19=""),"Dados obrigatórios incompletos",""),IF(AND(ISNUMBER($P19),$P19<>0,$V19=""),"Informar motivo preliminar",""),IF(AND(ISNUMBER($P19),$P19<>0,$H19=0),"Revisar custo zerado",""),IF(AND($K19="Concluída",$T19="Não",$J19=""),"Confirmar causa",""),IF(AND($K19="Concluída",$N19=""),"Informar data de conclusão",""),IF(AND($K19<>"",$K19<>"Concluída",$K19<>"Dispensada",ISNUMBER($M19),$M19<'Configurações'!$B$10),"Prazo vencido",""),IF(AND($K19<>"",$K19<>"Concluída",$K19<>"Dispensada",$M19="",ISNUMBER($B19),'Configurações'!$B$10-$B19>'Configurações'!$B$9),"Definir prazo",""),IF(AND($K19<>"Concluída",$N19<>""),"Revisar data de conclusão",""))) | Z19: =IF(OR($C19="",$E19=""),"",$C19&" | "&$E19) | AA19: =IF($Z19="","",IF(COUNTIF($Z$2:$Z19,$Z19)=1,ROW(),"")) | AB19: =IF($A19="","",IF(AND(ISNUMBER($B19),$B19<='Configurações'!$B$10,$C19<>"",$D19<>"",$E19<>"",ISNUMBER($F19),$F19>=0,ISNUMBER($G19),$G19>=0,ISNUMBER($H19),$H19>=0,$K19<>"",COUNTIF($A$2:$A$501,$A19)=1),"Sim","Não")) | AC19: =IF(OR($AB19<>"Sim",$P19=0,$K19="Concluída",$K19="Dispensada"),"",IF($X19="Crítica",4,IF($X19="Alta",3,IF($X19="Média",2,1)))*1000000000000+MIN(IF(ISNUMBER($S19),$S19,0),999999999)*1000+MIN($W19,999)) | AD19: =IF($AC19="","",COUNTIF($AC$2:$AC$501,">"&$AC19)+COUNTIF($AC$2:$AC19,$AC19))
P20: =IF(OR($A20="",$B20="",$C20="",$E20="",NOT(ISNUMBER($F20)),NOT(ISNUMBER($G20))),"",$G20-$F20) | Q20: =IF($P20="","",ABS($P20)) | R20: =IF(OR($P20="",NOT(ISNUMBER($H20))),"",$P20*$H20) | S20: =IF($R20="","",ABS($R20)) | T20: =IF($P20="","",IF($P20=0,"Sim","Não")) | U20: =IFERROR(IF($P20="","",IF(MAX($F20,$G20)=0,1,MAX(0,1-$Q20/MAX($F20,$G20)))),"") | V20: =IF($P20="","",IF($P20=0,"",IF($J20<>"",$J20,$I20))) | W20: =IF($P20="","",IF(OR($P20=0,$K20="Concluída",$K20="Dispensada"),0,MAX(0,'Configurações'!$B$10-$B20))) | X20: =IF($P20="","",IF($P20=0,"Baixa",IF(OR(AND(ISNUMBER($S20),$S20>='Configurações'!$B$4),AND($K20<>"Concluída",$K20<>"Dispensada",ISNUMBER($M20),$M20<'Configurações'!$B$10)),"Crítica",IF(OR(AND(ISNUMBER($S20),$S20>='Configurações'!$B$5),$Q20>='Configurações'!$B$6),"Alta","Média")))) | Y20: =IF($A20="","",_xlfn.TEXTJOIN(" | ",TRUE,IF(COUNTIF($A$2:$A$501,$A20)>1,"ID duplicado",""),IF(OR($B20="",$C20="",$D20="",$E20="",NOT(ISNUMBER($F20)),NOT(ISNUMBER($G20)),NOT(ISNUMBER($H20)),$K20=""),"Dados obrigatórios incompletos",""),IF(AND(ISNUMBER($P20),$P20<>0,$V20=""),"Informar motivo preliminar",""),IF(AND(ISNUMBER($P20),$P20<>0,$H20=0),"Revisar custo zerado",""),IF(AND($K20="Concluída",$T20="Não",$J20=""),"Confirmar causa",""),IF(AND($K20="Concluída",$N20=""),"Informar data de conclusão",""),IF(AND($K20<>"",$K20<>"Concluída",$K20<>"Dispensada",ISNUMBER($M20),$M20<'Configurações'!$B$10),"Prazo vencido",""),IF(AND($K20<>"",$K20<>"Concluída",$K20<>"Dispensada",$M20="",ISNUMBER($B20),'Configurações'!$B$10-$B20>'Configurações'!$B$9),"Definir prazo",""),IF(AND($K20<>"Concluída",$N20<>""),"Revisar data de conclusão",""))) | Z20: =IF(OR($C20="",$E20=""),"",$C20&" | "&$E20) | AA20: =IF($Z20="","",IF(COUNTIF($Z$2:$Z20,$Z20)=1,ROW(),"")) | AB20: =IF($A20="","",IF(AND(ISNUMBER($B20),$B20<='Configurações'!$B$10,$C20<>"",$D20<>"",$E20<>"",ISNUMBER($F20),$F20>=0,ISNUMBER($G20),$G20>=0,ISNUMBER($H20),$H20>=0,$K20<>"",COUNTIF($A$2:$A$501,$A20)=1),"Sim","Não")) | AC20: =IF(OR($AB20<>"Sim",$P20=0,$K20="Concluída",$K20="Dispensada"),"",IF($X20="Crítica",4,IF($X20="Alta",3,IF($X20="Média",2,1)))*1000000000000+MIN(IF(ISNUMBER($S20),$S20,0),999999999)*1000+MIN($W20,999)) | AD20: =IF($AC20="","",COUNTIF($AC$2:$AC$501,">"&$AC20)+COUNTIF($AC$2:$AC20,$AC20))
P21: =IF(OR($A21="",$B21="",$C21="",$E21="",NOT(ISNUMBER($F21)),NOT(ISNUMBER($G21))),"",$G21-$F21) | Q21: =IF($P21="","",ABS($P21)) | R21: =IF(OR($P21="",NOT(ISNUMBER($H21))),"",$P21*$H21) | S21: =IF($R21="","",ABS($R21)) | T21: =IF($P21="","",IF($P21=0,"Sim","Não")) | U21: =IFERROR(IF($P21="","",IF(MAX($F21,$G21)=0,1,MAX(0,1-$Q21/MAX($F21,$G21)))),"") | V21: =IF($P21="","",IF($P21=0,"",IF($J21<>"",$J21,$I21))) | W21: =IF($P21="","",IF(OR($P21=0,$K21="Concluída",$K21="Dispensada"),0,MAX(0,'Configurações'!$B$10-$B21))) | X21: =IF($P21="","",IF($P21=0,"Baixa",IF(OR(AND(ISNUMBER($S21),$S21>='Configurações'!$B$4),AND($K21<>"Concluída",$K21<>"Dispensada",ISNUMBER($M21),$M21<'Configurações'!$B$10)),"Crítica",IF(OR(AND(ISNUMBER($S21),$S21>='Configurações'!$B$5),$Q21>='Configurações'!$B$6),"Alta","Média")))) | Y21: =IF($A21="","",_xlfn.TEXTJOIN(" | ",TRUE,IF(COUNTIF($A$2:$A$501,$A21)>1,"ID duplicado",""),IF(OR($B21="",$C21="",$D21="",$E21="",NOT(ISNUMBER($F21)),NOT(ISNUMBER($G21)),NOT(ISNUMBER($H21)),$K21=""),"Dados obrigatórios incompletos",""),IF(AND(ISNUMBER($P21),$P21<>0,$V21=""),"Informar motivo preliminar",""),IF(AND(ISNUMBER($P21),$P21<>0,$H21=0),"Revisar custo zerado",""),IF(AND($K21="Concluída",$T21="Não",$J21=""),"Confirmar causa",""),IF(AND($K21="Concluída",$N21=""),"Informar data de conclusão",""),IF(AND($K21<>"",$K21<>"Concluída",$K21<>"Dispensada",ISNUMBER($M21),$M21<'Configurações'!$B$10),"Prazo vencido",""),IF(AND($K21<>"",$K21<>"Concluída",$K21<>"Dispensada",$M21="",ISNUMBER($B21),'Configurações'!$B$10-$B21>'Configurações'!$B$9),"Definir prazo",""),IF(AND($K21<>"Concluída",$N21<>""),"Revisar data de conclusão",""))) | Z21: =IF(OR($C21="",$E21=""),"",$C21&" | "&$E21) | AA21: =IF($Z21="","",IF(COUNTIF($Z$2:$Z21,$Z21)=1,ROW(),"")) | AB21: =IF($A21="","",IF(AND(ISNUMBER($B21),$B21<='Configurações'!$B$10,$C21<>"",$D21<>"",$E21<>"",ISNUMBER($F21),$F21>=0,ISNUMBER($G21),$G21>=0,ISNUMBER($H21),$H21>=0,$K21<>"",COUNTIF($A$2:$A$501,$A21)=1),"Sim","Não")) | AC21: =IF(OR($AB21<>"Sim",$P21=0,$K21="Concluída",$K21="Dispensada"),"",IF($X21="Crítica",4,IF($X21="Alta",3,IF($X21="Média",2,1)))*1000000000000+MIN(IF(ISNUMBER($S21),$S21,0),999999999)*1000+MIN($W21,999)) | AD21: =IF($AC21="","",COUNTIF($AC$2:$AC$501,">"&$AC21)+COUNTIF($AC$2:$AC21,$AC21))
P22: =IF(OR($A22="",$B22="",$C22="",$E22="",NOT(ISNUMBER($F22)),NOT(ISNUMBER($G22))),"",$G22-$F22) | Q22: =IF($P22="","",ABS($P22)) | R22: =IF(OR($P22="",NOT(ISNUMBER($H22))),"",$P22*$H22) | S22: =IF($R22="","",ABS($R22)) | T22: =IF($P22="","",IF($P22=0,"Sim","Não")) | U22: =IFERROR(IF($P22="","",IF(MAX($F22,$G22)=0,1,MAX(0,1-$Q22/MAX($F22,$G22)))),"") | V22: =IF($P22="","",IF($P22=0,"",IF($J22<>"",$J22,$I22))) | W22: =IF($P22="","",IF(OR($P22=0,$K22="Concluída",$K22="Dispensada"),0,MAX(0,'Configurações'!$B$10-$B22))) | X22: =IF($P22="","",IF($P22=0,"Baixa",IF(OR(AND(ISNUMBER($S22),$S22>='Configurações'!$B$4),AND($K22<>"Concluída",$K22<>"Dispensada",ISNUMBER($M22),$M22<'Configurações'!$B$10)),"Crítica",IF(OR(AND(ISNUMBER($S22),$S22>='Configurações'!$B$5),$Q22>='Configurações'!$B$6),"Alta","Média")))) | Y22: =IF($A22="","",_xlfn.TEXTJOIN(" | ",TRUE,IF(COUNTIF($A$2:$A$501,$A22)>1,"ID duplicado",""),IF(OR($B22="",$C22="",$D22="",$E22="",NOT(ISNUMBER($F22)),NOT(ISNUMBER($G22)),NOT(ISNUMBER($H22)),$K22=""),"Dados obrigatórios incompletos",""),IF(AND(ISNUMBER($P22),$P22<>0,$V22=""),"Informar motivo preliminar",""),IF(AND(ISNUMBER($P22),$P22<>0,$H22=0),"Revisar custo zerado",""),IF(AND($K22="Concluída",$T22="Não",$J22=""),"Confirmar causa",""),IF(AND($K22="Concluída",$N22=""),"Informar data de conclusão",""),IF(AND($K22<>"",$K22<>"Concluída",$K22<>"Dispensada",ISNUMBER($M22),$M22<'Configurações'!$B$10),"Prazo vencido",""),IF(AND($K22<>"",$K22<>"Concluída",$K22<>"Dispensada",$M22="",ISNUMBER($B22),'Configurações'!$B$10-$B22>'Configurações'!$B$9),"Definir prazo",""),IF(AND($K22<>"Concluída",$N22<>""),"Revisar data de conclusão",""))) | Z22: =IF(OR($C22="",$E22=""),"",$C22&" | "&$E22) | AA22: =IF($Z22="","",IF(COUNTIF($Z$2:$Z22,$Z22)=1,ROW(),"")) | AB22: =IF($A22="","",IF(AND(ISNUMBER($B22),$B22<='Configurações'!$B$10,$C22<>"",$D22<>"",$E22<>"",ISNUMBER($F22),$F22>=0,ISNUMBER($G22),$G22>=0,ISNUMBER($H22),$H22>=0,$K22<>"",COUNTIF($A$2:$A$501,$A22)=1),"Sim","Não")) | AC22: =IF(OR($AB22<>"Sim",$P22=0,$K22="Concluída",$K22="Dispensada"),"",IF($X22="Crítica",4,IF($X22="Alta",3,IF($X22="Média",2,1)))*1000000000000+MIN(IF(ISNUMBER($S22),$S22,0),999999999)*1000+MIN($W22,999)) | AD22: =IF($AC22="","",COUNTIF($AC$2:$AC$501,">"&$AC22)+COUNTIF($AC$2:$AC22,$AC22))
P23: =IF(OR($A23="",$B23="",$C23="",$E23="",NOT(ISNUMBER($F23)),NOT(ISNUMBER($G23))),"",$G23-$F23) | Q23: =IF($P23="","",ABS($P23)) | R23: =IF(OR($P23="",NOT(ISNUMBER($H23))),"",$P23*$H23) | S23: =IF($R23="","",ABS($R23)) | T23: =IF($P23="","",IF($P23=0,"Sim","Não")) | U23: =IFERROR(IF($P23="","",IF(MAX($F23,$G23)=0,1,MAX(0,1-$Q23/MAX($F23,$G23)))),"") | V23: =IF($P23="","",IF($P23=0,"",IF($J23<>"",$J23,$I23))) | W23: =IF($P23="","",IF(OR($P23=0,$K23="Concluída",$K23="Dispensada"),0,MAX(0,'Configurações'!$B$10-$B23))) | X23: =IF($P23="","",IF($P23=0,"Baixa",IF(OR(AND(ISNUMBER($S23),$S23>='Configurações'!$B$4),AND($K23<>"Concluída",$K23<>"Dispensada",ISNUMBER($M23),$M23<'Configurações'!$B$10)),"Crítica",IF(OR(AND(ISNUMBER($S23),$S23>='Configurações'!$B$5),$Q23>='Configurações'!$B$6),"Alta","Média")))) | Y23: =IF($A23="","",_xlfn.TEXTJOIN(" | ",TRUE,IF(COUNTIF($A$2:$A$501,$A23)>1,"ID duplicado",""),IF(OR($B23="",$C23="",$D23="",$E23="",NOT(ISNUMBER($F23)),NOT(ISNUMBER($G23)),NOT(ISNUMBER($H23)),$K23=""),"Dados obrigatórios incompletos",""),IF(AND(ISNUMBER($P23),$P23<>0,$V23=""),"Informar motivo preliminar",""),IF(AND(ISNUMBER($P23),$P23<>0,$H23=0),"Revisar custo zerado",""),IF(AND($K23="Concluída",$T23="Não",$J23=""),"Confirmar causa",""),IF(AND($K23="Concluída",$N23=""),"Informar data de conclusão",""),IF(AND($K23<>"",$K23<>"Concluída",$K23<>"Dispensada",ISNUMBER($M23),$M23<'Configurações'!$B$10),"Prazo vencido",""),IF(AND($K23<>"",$K23<>"Concluída",$K23<>"Dispensada",$M23="",ISNUMBER($B23),'Configurações'!$B$10-$B23>'Configurações'!$B$9),"Definir prazo",""),IF(AND($K23<>"Concluída",$N23<>""),"Revisar data de conclusão",""))) | Z23: =IF(OR($C23="",$E23=""),"",$C23&" | "&$E23) | AA23: =IF($Z23="","",IF(COUNTIF($Z$2:$Z23,$Z23)=1,ROW(),"")) | AB23: =IF($A23="","",IF(AND(ISNUMBER($B23),$B23<='Configurações'!$B$10,$C23<>"",$D23<>"",$E23<>"",ISNUMBER($F23),$F23>=0,ISNUMBER($G23),$G23>=0,ISNUMBER($H23),$H23>=0,$K23<>"",COUNTIF($A$2:$A$501,$A23)=1),"Sim","Não")) | AC23: =IF(OR($AB23<>"Sim",$P23=0,$K23="Concluída",$K23="Dispensada"),"",IF($X23="Crítica",4,IF($X23="Alta",3,IF($X23="Média",2,1)))*1000000000000+MIN(IF(ISNUMBER($S23),$S23,0),999999999)*1000+MIN($W23,999)) | AD23: =IF($AC23="","",COUNTIF($AC$2:$AC$501,">"&$AC23)+COUNTIF($AC$2:$AC23,$AC23))
... P501: =IF(OR($A501="",$B501="",$C501="",$E501="",NOT(ISNUMBER($F501)),NOT(ISNUMBER($G501))),"",$G501-$F501) | Q501: =IF($P501="","",ABS($P501)) | R501: =IF(OR($P501="",NOT(ISNUMBER($H501))),"",$P501*$H501) | S501: =IF($R501="","",ABS($R501)) | T501: =IF($P501="","",IF($P501=0,"Sim","Não")) | U501: =IFERROR(IF($P501="","",IF(MAX($F501,$G501)=0,1,MAX(0,1-$Q501/MAX($F501,$G501)))),"") | V501: =IF($P501="","",IF($P501=0,"",IF($J501<>"",$J501,$I501))) | W501: =IF($P501="","",IF(OR($P501=0,$K501="Concluída",$K501="Dispensada"),0,MAX(0,'Configurações'!$B$10-$B501))) | X501: =IF($P501="","",IF($P501=0,"Baixa",IF(OR(AND(ISNUMBER($S501),$S501>='Configurações'!$B$4),AND($K501<>"Concluída",$K501<>"Dispensada",ISNUMBER($M501),$M501<'Configurações'!$B$10)),"Crítica",IF(OR(AND(ISNUMBER($S501),$S501>='Configurações'!$B$5),$Q501>='Configurações'!$B$6),"Alta","Média")))) | Y501: =IF($A501="","",_xlfn.TEXTJOIN(" | ",TRUE,IF(COUNTIF($A$2:$A$501,$A501)>1,"ID duplicado",""),IF(OR($B501="",$C501="",$D501="",$E501="",NOT(ISNUMBER($F501)),NOT(ISNUMBER($G501)),NOT(ISNUMBER($H501)),$K501=""),"Dados obrigatórios incompletos",""),IF(AND(ISNUMBER($P501),$P501<>0,$V501=""),"Informar motivo preliminar",""),IF(AND(ISNUMBER($P501),$P501<>0,$H501=0),"Revisar custo zerado",""),IF(AND($K501="Concluída",$T501="Não",$J501=""),"Confirmar causa",""),IF(AND($K501="Concluída",$N501=""),"Informar data de conclusão",""),IF(AND($K501<>"",$K501<>"Concluída",$K501<>"Dispensada",ISNUMBER($M501),$M501<'Configurações'!$B$10),"Prazo vencido",""),IF(AND($K501<>"",$K501<>"Concluída",$K501<>"Dispensada",$M501="",ISNUMBER($B501),'Configurações'!$B$10-$B501>'Configurações'!$B$9),"Definir prazo",""),IF(AND($K501<>"Concluída",$N501<>""),"Revisar data de conclusão",""))) | Z501: =IF(OR($C501="",$E501=""),"",$C501&" | "&$E501) | AA501: =IF($Z501="","",IF(COUNTIF($Z$2:$Z501,$Z501)=1,ROW(),"")) | AB501: =IF($A501="","",IF(AND(ISNUMBER($B501),$B501<='Configurações'!$B$10,$C501<>"",$D501<>"",$E501<>"",ISNUMBER($F501),$F501>=0,ISNUMBER($G501),$G501>=0,ISNUMBER($H501),$H501>=0,$K501<>"",COUNTIF($A$2:$A$501,$A501)=1),"Sim","Não")) | AC501: =IF(OR($AB501<>"Sim",$P501=0,$K501="Concluída",$K501="Dispensada"),"",IF($X501="Crítica",4,IF($X501="Alta",3,IF($X501="Média",2,1)))*1000000000000+MIN(IF(ISNUMBER($S501),$S501,0),999999999)*1000+MIN($W501,999)) | AD501: =IF($AC501="","",COUNTIF($AC$2:$AC$501,">"&$AC501)+COUNTIF($AC$2:$AC501,$AC501))

Sheet Análises
A1: Análises por SKU, localização e causa
A5: Chave SKU/local | B5: SKU | C5: Produto | D5: Localização | E5: Medições | F5: Acuracidade exata | G5: Acurácia quantitativa média | H5: Divergência absoluta (un.) | I5: Impacto absoluto | J5: Divergências em aberto | K5: Última contagem | L5: Posição de menor acuracidade | N5: Causa | O5: Ocorrências | P5: Impacto absoluto | Q5: Participação no impacto | R5: Posição
A6: =IFERROR(INDEX(Registros!$Z$2:$Z$501,AGGREGATE(15,6,(ROW(Registros!$Z$2:$Z$501)-ROW(Registros!$Z$2)+1)/(Registros!$AA$2:$AA$501<>""),ROWS($A$6:A6))),"") | B6: =IFERROR(IF($A6="","",INDEX(Registros!$C$2:$C$501,MATCH($A6,Registros!$Z$2:$Z$501,0))),"") | C6: =IFERROR(IF($A6="","",INDEX(Registros!$D$2:$D$501,MATCH($A6,Registros!$Z$2:$Z$501,0))),"") | D6: =IFERROR(IF($A6="","",INDEX(Registros!$E$2:$E$501,MATCH($A6,Registros!$Z$2:$Z$501,0))),"") | E6: =IF($A6="","",IF(AND(Resumo!$F$3<>"Todas",$D6<>Resumo!$F$3),0,COUNTIFS(Registros!$AB$2:$AB$501,"Sim",Registros!$B$2:$B$501,">="&Resumo!$B$3,Registros!$B$2:$B$501,"<="&Resumo!$D$3,Registros!$C$2:$C$501,$B6,Registros!$E$2:$E$501,$D6))) | F6: =IFERROR(IF($E6=0,"",COUNTIFS(Registros!$AB$2:$AB$501,"Sim",Registros!$B$2:$B$501,">="&Resumo!$B$3,Registros!$B$2:$B$501,"<="&Resumo!$D$3,Registros!$C$2:$C$501,$B6,Registros!$E$2:$E$501,$D6,Registros!$T$2:$T$501,"Sim")/$E6),"") | G6: =IFERROR(IF($E6=0,"",AVERAGEIFS(Registros!$U$2:$U$501,Registros!$AB$2:$AB$501,"Sim",Registros!$B$2:$B$501,">="&Resumo!$B$3,Registros!$B$2:$B$501,"<="&Resumo!$D$3,Registros!$C$2:$C$501,$B6,Registros!$E$2:$E$501,$D6)),"") | H6: =IF($E6=0,"",SUMIFS(Registros!$Q$2:$Q$501,Registros!$AB$2:$AB$501,"Sim",Registros!$B$2:$B$501,">="&Resumo!$B$3,Registros!$B$2:$B$501,"<="&Resumo!$D$3,Registros!$C$2:$C$501,$B6,Registros!$E$2:$E$501,$D6)) | I6: =IF($E6=0,"",SUMIFS(Registros!$S$2:$S$501,Registros!$AB$2:$AB$501,"Sim",Registros!$B$2:$B$501,">="&Resumo!$B$3,Registros!$B$2:$B$501,"<="&Resumo!$D$3,Registros!$C$2:$C$501,$B6,Registros!$E$2:$E$501,$D6)) | J6: =IF($E6=0,"",COUNTIFS(Registros!$AB$2:$AB$501,"Sim",Registros!$B$2:$B$501,">="&Resumo!$B$3,Registros!$B$2:$B$501,"<="&Resumo!$D$3,Registros!$C$2:$C$501,$B6,Registros!$E$2:$E$501,$D6,Registros!$T$2:$T$501,"Não",Registros!$K$2:$K$501,"<>Concluída",Registros!$K$2:$K$501,"<>Dispensada")) | K6: =IFERROR(IF($E6=0,"",_xlfn.MAXIFS(Registros!$B$2:$B$501,Registros!$AB$2:$AB$501,"Sim",Registros!$B$2:$B$501,">="&Resumo!$B$3,Registros!$B$2:$B$501,"<="&Resumo!$D$3,Registros!$C$2:$C$501,$B6,Registros!$E$2:$E$501,$D6)),"") | L6: =IF($E6=0,"",COUNTIFS($E$6:$E$505,">0",$F$6:$F$505,"<"&$F6)+COUNTIFS($E$6:$E6,">0",$F$6:$F6,$F6)) | N6: =IFERROR('Configurações'!F4,"") | O6: =IF($N6="","",IF(Resumo!$F$3="Todas",COUNTIFS(Registros!$AB$2:$AB$501,"Sim",Registros!$B$2:$B$501,">="&Resumo!$B$3,Registros!$B$2:$B$501,"<="&Resumo!$D$3,Registros!$V$2:$V$501,$N6),COUNTIFS(Registros!$AB$2:$AB$501,"Sim",Registros!$B$2:$B$501,">="&Resumo!$B$3,Registros!$B$2:$B$501,"<="&Resumo!$D$3,Registros!$E$2:$E$501,Resumo!$F$3,Registros!$V$2:$V$501,$N6))) | P6: =IF($N6="","",IF(Resumo!$F$3="Todas",SUMIFS(Registros!$S$2:$S$501,Registros!$AB$2:$AB$501,"Sim",Registros!$B$2:$B$501,">="&Resumo!$B$3,Registros!$B$2:$B$501,"<="&Resumo!$D$3,Registros!$V$2:$V$501,$N6),SUMIFS(Registros!$S$2:$S$501,Registros!$AB$2:$AB$501,"Sim",Registros!$B$2:$B$501,">="&Resumo!$B$3,Registros!$B$2:$B$501,"<="&Resumo!$D$3,Registros!$E$2:$E$501,Resumo!$F$3,Registros!$V$2:$V$501,$N6))) | Q6: =IFERROR(IF(SUM($P$6:$P$15)=0,"",$P6/SUM($P$6:$P$15)),"") | R6: =IF($O6=0,"",COUNTIFS($O$6:$O$15,">0",$P$6:$P$15,">"&$P6)+COUNTIFS($O$6:$O6,">0",$P$6:$P6,$P6))
A7: =IFERROR(INDEX(Registros!$Z$2:$Z$501,AGGREGATE(15,6,(ROW(Registros!$Z$2:$Z$501)-ROW(Registros!$Z$2)+1)/(Registros!$AA$2:$AA$501<>""),ROWS($A$6:A7))),"") | B7: =IFERROR(IF($A7="","",INDEX(Registros!$C$2:$C$501,MATCH($A7,Registros!$Z$2:$Z$501,0))),"") | C7: =IFERROR(IF($A7="","",INDEX(Registros!$D$2:$D$501,MATCH($A7,Registros!$Z$2:$Z$501,0))),"") | D7: =IFERROR(IF($A7="","",INDEX(Registros!$E$2:$E$501,MATCH($A7,Registros!$Z$2:$Z$501,0))),"") | E7: =IF($A7="","",IF(AND(Resumo!$F$3<>"Todas",$D7<>Resumo!$F$3),0,COUNTIFS(Registros!$AB$2:$AB$501,"Sim",Registros!$B$2:$B$501,">="&Resumo!$B$3,Registros!$B$2:$B$501,"<="&Resumo!$D$3,Registros!$C$2:$C$501,$B7,Registros!$E$2:$E$501,$D7))) | F7: =IFERROR(IF($E7=0,"",COUNTIFS(Registros!$AB$2:$AB$501,"Sim",Registros!$B$2:$B$501,">="&Resumo!$B$3,Registros!$B$2:$B$501,"<="&Resumo!$D$3,Registros!$C$2:$C$501,$B7,Registros!$E$2:$E$501,$D7,Registros!$T$2:$T$501,"Sim")/$E7),"") | G7: =IFERROR(IF($E7=0,"",AVERAGEIFS(Registros!$U$2:$U$501,Registros!$AB$2:$AB$501,"Sim",Registros!$B$2:$B$501,">="&Resumo!$B$3,Registros!$B$2:$B$501,"<="&Resumo!$D$3,Registros!$C$2:$C$501,$B7,Registros!$E$2:$E$501,$D7)),"") | H7: =IF($E7=0,"",SUMIFS(Registros!$Q$2:$Q$501,Registros!$AB$2:$AB$501,"Sim",Registros!$B$2:$B$501,">="&Resumo!$B$3,Registros!$B$2:$B$501,"<="&Resumo!$D$3,Registros!$C$2:$C$501,$B7,Registros!$E$2:$E$501,$D7)) | I7: =IF($E7=0,"",SUMIFS(Registros!$S$2:$S$501,Registros!$AB$2:$AB$501,"Sim",Registros!$B$2:$B$501,">="&Resumo!$B$3,Registros!$B$2:$B$501,"<="&Resumo!$D$3,Registros!$C$2:$C$501,$B7,Registros!$E$2:$E$501,$D7)) | J7: =IF($E7=0,"",COUNTIFS(Registros!$AB$2:$AB$501,"Sim",Registros!$B$2:$B$501,">="&Resumo!$B$3,Registros!$B$2:$B$501,"<="&Resumo!$D$3,Registros!$C$2:$C$501,$B7,Registros!$E$2:$E$501,$D7,Registros!$T$2:$T$501,"Não",Registros!$K$2:$K$501,"<>Concluída",Registros!$K$2:$K$501,"<>Dispensada")) | K7: =IFERROR(IF($E7=0,"",_xlfn.MAXIFS(Registros!$B$2:$B$501,Registros!$AB$2:$AB$501,"Sim",Registros!$B$2:$B$501,">="&Resumo!$B$3,Registros!$B$2:$B$501,"<="&Resumo!$D$3,Registros!$C$2:$C$501,$B7,Registros!$E$2:$E$501,$D7)),"") | L7: =IF($E7=0,"",COUNTIFS($E$6:$E$505,">0",$F$6:$F$505,"<"&$F7)+COUNTIFS($E$6:$E7,">0",$F$6:$F7,$F7)) | N7: =IFERROR('Configurações'!F5,"") | O7: =IF($N7="","",IF(Resumo!$F$3="Todas",COUNTIFS(Registros!$AB$2:$AB$501,"Sim",Registros!$B$2:$B$501,">="&Resumo!$B$3,Registros!$B$2:$B$501,"<="&Resumo!$D$3,Registros!$V$2:$V$501,$N7),COUNTIFS(Registros!$AB$2:$AB$501,"Sim",Registros!$B$2:$B$501,">="&Resumo!$B$3,Registros!$B$2:$B$501,"<="&Resumo!$D$3,Registros!$E$2:$E$501,Resumo!$F$3,Registros!$V$2:$V$501,$N7))) | P7: =IF($N7="","",IF(Resumo!$F$3="Todas",SUMIFS(Registros!$S$2:$S$501,Registros!$AB$2:$AB$501,"Sim",Registros!$B$2:$B$501,">="&Resumo!$B$3,Registros!$B$2:$B$501,"<="&Resumo!$D$3,Registros!$V$2:$V$501,$N7),SUMIFS(Registros!$S$2:$S$501,Registros!$AB$2:$AB$501,"Sim",Registros!$B$2:$B$501,">="&Resumo!$B$3,Registros!$B$2:$B$501,"<="&Resumo!$D$3,Registros!$E$2:$E$501,Resumo!$F$3,Registros!$V$2:$V$501,$N7))) | Q7: =IFERROR(IF(SUM($P$6:$P$15)=0,"",$P7/SUM($P$6:$P$15)),"") | R7: =IF($O7=0,"",COUNTIFS($O$6:$O$15,">0",$P$6:$P$15,">"&$P7)+COUNTIFS($O$6:$O7,">0",$P$6:$P7,$P7))
A8: =IFERROR(INDEX(Registros!$Z$2:$Z$501,AGGREGATE(15,6,(ROW(Registros!$Z$2:$Z$501)-ROW(Registros!$Z$2)+1)/(Registros!$AA$2:$AA$501<>""),ROWS($A$6:A8))),"") | B8: =IFERROR(IF($A8="","",INDEX(Registros!$C$2:$C$501,MATCH($A8,Registros!$Z$2:$Z$501,0))),"") | C8: =IFERROR(IF($A8="","",INDEX(Registros!$D$2:$D$501,MATCH($A8,Registros!$Z$2:$Z$501,0))),"") | D8: =IFERROR(IF($A8="","",INDEX(Registros!$E$2:$E$501,MATCH($A8,Registros!$Z$2:$Z$501,0))),"") | E8: =IF($A8="","",IF(AND(Resumo!$F$3<>"Todas",$D8<>Resumo!$F$3),0,COUNTIFS(Registros!$AB$2:$AB$501,"Sim",Registros!$B$2:$B$501,">="&Resumo!$B$3,Registros!$B$2:$B$501,"<="&Resumo!$D$3,Registros!$C$2:$C$501,$B8,Registros!$E$2:$E$501,$D8))) | F8: =IFERROR(IF($E8=0,"",COUNTIFS(Registros!$AB$2:$AB$501,"Sim",Registros!$B$2:$B$501,">="&Resumo!$B$3,Registros!$B$2:$B$501,"<="&Resumo!$D$3,Registros!$C$2:$C$501,$B8,Registros!$E$2:$E$501,$D8,Registros!$T$2:$T$501,"Sim")/$E8),"") | G8: =IFERROR(IF($E8=0,"",AVERAGEIFS(Registros!$U$2:$U$501,Registros!$AB$2:$AB$501,"Sim",Registros!$B$2:$B$501,">="&Resumo!$B$3,Registros!$B$2:$B$501,"<="&Resumo!$D$3,Registros!$C$2:$C$501,$B8,Registros!$E$2:$E$501,$D8)),"") | H8: =IF($E8=0,"",SUMIFS(Registros!$Q$2:$Q$501,Registros!$AB$2:$AB$501,"Sim",Registros!$B$2:$B$501,">="&Resumo!$B$3,Registros!$B$2:$B$501,"<="&Resumo!$D$3,Registros!$C$2:$C$501,$B8,Registros!$E$2:$E$501,$D8)) | I8: =IF($E8=0,"",SUMIFS(Registros!$S$2:$S$501,Registros!$AB$2:$AB$501,"Sim",Registros!$B$2:$B$501,">="&Resumo!$B$3,Registros!$B$2:$B$501,"<="&Resumo!$D$3,Registros!$C$2:$C$501,$B8,Registros!$E$2:$E$501,$D8)) | J8: =IF($E8=0,"",COUNTIFS(Registros!$AB$2:$AB$501,"Sim",Registros!$B$2:$B$501,">="&Resumo!$B$3,Registros!$B$2:$B$501,"<="&Resumo!$D$3,Registros!$C$2:$C$501,$B8,Registros!$E$2:$E$501,$D8,Registros!$T$2:$T$501,"Não",Registros!$K$2:$K$501,"<>Concluída",Registros!$K$2:$K$501,"<>Dispensada")) | K8: =IFERROR(IF($E8=0,"",_xlfn.MAXIFS(Registros!$B$2:$B$501,Registros!$AB$2:$AB$501,"Sim",Registros!$B$2:$B$501,">="&Resumo!$B$3,Registros!$B$2:$B$501,"<="&Resumo!$D$3,Registros!$C$2:$C$501,$B8,Registros!$E$2:$E$501,$D8)),"") | L8: =IF($E8=0,"",COUNTIFS($E$6:$E$505,">0",$F$6:$F$505,"<"&$F8)+COUNTIFS($E$6:$E8,">0",$F$6:$F8,$F8)) | N8: =IFERROR('Configurações'!F6,"") | O8: =IF($N8="","",IF(Resumo!$F$3="Todas",COUNTIFS(Registros!$AB$2:$AB$501,"Sim",Registros!$B$2:$B$501,">="&Resumo!$B$3,Registros!$B$2:$B$501,"<="&Resumo!$D$3,Registros!$V$2:$V$501,$N8),COUNTIFS(Registros!$AB$2:$AB$501,"Sim",Registros!$B$2:$B$501,">="&Resumo!$B$3,Registros!$B$2:$B$501,"<="&Resumo!$D$3,Registros!$E$2:$E$501,Resumo!$F$3,Registros!$V$2:$V$501,$N8))) | P8: =IF($N8="","",IF(Resumo!$F$3="Todas",SUMIFS(Registros!$S$2:$S$501,Registros!$AB$2:$AB$501,"Sim",Registros!$B$2:$B$501,">="&Resumo!$B$3,Registros!$B$2:$B$501,"<="&Resumo!$D$3,Registros!$V$2:$V$501,$N8),SUMIFS(Registros!$S$2:$S$501,Registros!$AB$2:$AB$501,"Sim",Registros!$B$2:$B$501,">="&Resumo!$B$3,Registros!$B$2:$B$501,"<="&Resumo!$D$3,Registros!$E$2:$E$501,Resumo!$F$3,Registros!$V$2:$V$501,$N8))) | Q8: =IFERROR(IF(SUM($P$6:$P$15)=0,"",$P8/SUM($P$6:$P$15)),"") | R8: =IF($O8=0,"",COUNTIFS($O$6:$O$15,">0",$P$6:$P$15,">"&$P8)+COUNTIFS($O$6:$O8,">0",$P$6:$P8,$P8))
A9: =IFERROR(INDEX(Registros!$Z$2:$Z$501,AGGREGATE(15,6,(ROW(Registros!$Z$2:$Z$501)-ROW(Registros!$Z$2)+1)/(Registros!$AA$2:$AA$501<>""),ROWS($A$6:A9))),"") | B9: =IFERROR(IF($A9="","",INDEX(Registros!$C$2:$C$501,MATCH($A9,Registros!$Z$2:$Z$501,0))),"") | C9: =IFERROR(IF($A9="","",INDEX(Registros!$D$2:$D$501,MATCH($A9,Registros!$Z$2:$Z$501,0))),"") | D9: =IFERROR(IF($A9="","",INDEX(Registros!$E$2:$E$501,MATCH($A9,Registros!$Z$2:$Z$501,0))),"") | E9: =IF($A9="","",IF(AND(Resumo!$F$3<>"Todas",$D9<>Resumo!$F$3),0,COUNTIFS(Registros!$AB$2:$AB$501,"Sim",Registros!$B$2:$B$501,">="&Resumo!$B$3,Registros!$B$2:$B$501,"<="&Resumo!$D$3,Registros!$C$2:$C$501,$B9,Registros!$E$2:$E$501,$D9))) | F9: =IFERROR(IF($E9=0,"",COUNTIFS(Registros!$AB$2:$AB$501,"Sim",Registros!$B$2:$B$501,">="&Resumo!$B$3,Registros!$B$2:$B$501,"<="&Resumo!$D$3,Registros!$C$2:$C$501,$B9,Registros!$E$2:$E$501,$D9,Registros!$T$2:$T$501,"Sim")/$E9),"") | G9: =IFERROR(IF($E9=0,"",AVERAGEIFS(Registros!$U$2:$U$501,Registros!$AB$2:$AB$501,"Sim",Registros!$B$2:$B$501,">="&Resumo!$B$3,Registros!$B$2:$B$501,"<="&Resumo!$D$3,Registros!$C$2:$C$501,$B9,Registros!$E$2:$E$501,$D9)),"") | H9: =IF($E9=0,"",SUMIFS(Registros!$Q$2:$Q$501,Registros!$AB$2:$AB$501,"Sim",Registros!$B$2:$B$501,">="&Resumo!$B$3,Registros!$B$2:$B$501,"<="&Resumo!$D$3,Registros!$C$2:$C$501,$B9,Registros!$E$2:$E$501,$D9)) | I9: =IF($E9=0,"",SUMIFS(Registros!$S$2:$S$501,Registros!$AB$2:$AB$501,"Sim",Registros!$B$2:$B$501,">="&Resumo!$B$3,Registros!$B$2:$B$501,"<="&Resumo!$D$3,Registros!$C$2:$C$501,$B9,Registros!$E$2:$E$501,$D9)) | J9: =IF($E9=0,"",COUNTIFS(Registros!$AB$2:$AB$501,"Sim",Registros!$B$2:$B$501,">="&Resumo!$B$3,Registros!$B$2:$B$501,"<="&Resumo!$D$3,Registros!$C$2:$C$501,$B9,Registros!$E$2:$E$501,$D9,Registros!$T$2:$T$501,"Não",Registros!$K$2:$K$501,"<>Concluída",Registros!$K$2:$K$501,"<>Dispensada")) | K9: =IFERROR(IF($E9=0,"",_xlfn.MAXIFS(Registros!$B$2:$B$501,Registros!$AB$2:$AB$501,"Sim",Registros!$B$2:$B$501,">="&Resumo!$B$3,Registros!$B$2:$B$501,"<="&Resumo!$D$3,Registros!$C$2:$C$501,$B9,Registros!$E$2:$E$501,$D9)),"") | L9: =IF($E9=0,"",COUNTIFS($E$6:$E$505,">0",$F$6:$F$505,"<"&$F9)+COUNTIFS($E$6:$E9,">0",$F$6:$F9,$F9)) | N9: =IFERROR('Configurações'!F7,"") | O9: =IF($N9="","",IF(Resumo!$F$3="Todas",COUNTIFS(Registros!$AB$2:$AB$501,"Sim",Registros!$B$2:$B$501,">="&Resumo!$B$3,Registros!$B$2:$B$501,"<="&Resumo!$D$3,Registros!$V$2:$V$501,$N9),COUNTIFS(Registros!$AB$2:$AB$501,"Sim",Registros!$B$2:$B$501,">="&Resumo!$B$3,Registros!$B$2:$B$501,"<="&Resumo!$D$3,Registros!$E$2:$E$501,Resumo!$F$3,Registros!$V$2:$V$501,$N9))) | P9: =IF($N9="","",IF(Resumo!$F$3="Todas",SUMIFS(Registros!$S$2:$S$501,Registros!$AB$2:$AB$501,"Sim",Registros!$B$2:$B$501,">="&Resumo!$B$3,Registros!$B$2:$B$501,"<="&Resumo!$D$3,Registros!$V$2:$V$501,$N9),SUMIFS(Registros!$S$2:$S$501,Registros!$AB$2:$AB$501,"Sim",Registros!$B$2:$B$501,">="&Resumo!$B$3,Registros!$B$2:$B$501,"<="&Resumo!$D$3,Registros!$E$2:$E$501,Resumo!$F$3,Registros!$V$2:$V$501,$N9))) | Q9: =IFERROR(IF(SUM($P$6:$P$15)=0,"",$P9/SUM($P$6:$P$15)),"") | R9: =IF($O9=0,"",COUNTIFS($O$6:$O$15,">0",$P$6:$P$15,">"&$P9)+COUNTIFS($O$6:$O9,">0",$P$6:$P9,$P9))
A10: =IFERROR(INDEX(Registros!$Z$2:$Z$501,AGGREGATE(15,6,(ROW(Registros!$Z$2:$Z$501)-ROW(Registros!$Z$2)+1)/(Registros!$AA$2:$AA$501<>""),ROWS($A$6:A10))),"") | B10: =IFERROR(IF($A10="","",INDEX(Registros!$C$2:$C$501,MATCH($A10,Registros!$Z$2:$Z$501,0))),"") | C10: =IFERROR(IF($A10="","",INDEX(Registros!$D$2:$D$501,MATCH($A10,Registros!$Z$2:$Z$501,0))),"") | D10: =IFERROR(IF($A10="","",INDEX(Registros!$E$2:$E$501,MATCH($A10,Registros!$Z$2:$Z$501,0))),"") | E10: =IF($A10="","",IF(AND(Resumo!$F$3<>"Todas",$D10<>Resumo!$F$3),0,COUNTIFS(Registros!$AB$2:$AB$501,"Sim",Registros!$B$2:$B$501,">="&Resumo!$B$3,Registros!$B$2:$B$501,"<="&Resumo!$D$3,Registros!$C$2:$C$501,$B10,Registros!$E$2:$E$501,$D10))) | F10: =IFERROR(IF($E10=0,"",COUNTIFS(Registros!$AB$2:$AB$501,"Sim",Registros!$B$2:$B$501,">="&Resumo!$B$3,Registros!$B$2:$B$501,"<="&Resumo!$D$3,Registros!$C$2:$C$501,$B10,Registros!$E$2:$E$501,$D10,Registros!$T$2:$T$501,"Sim")/$E10),"") | G10: =IFERROR(IF($E10=0,"",AVERAGEIFS(Registros!$U$2:$U$501,Registros!$AB$2:$AB$501,"Sim",Registros!$B$2:$B$501,">="&Resumo!$B$3,Registros!$B$2:$B$501,"<="&Resumo!$D$3,Registros!$C$2:$C$501,$B10,Registros!$E$2:$E$501,$D10)),"") | H10: =IF($E10=0,"",SUMIFS(Registros!$Q$2:$Q$501,Registros!$AB$2:$AB$501,"Sim",Registros!$B$2:$B$501,">="&Resumo!$B$3,Registros!$B$2:$B$501,"<="&Resumo!$D$3,Registros!$C$2:$C$501,$B10,Registros!$E$2:$E$501,$D10)) | I10: =IF($E10=0,"",SUMIFS(Registros!$S$2:$S$501,Registros!$AB$2:$AB$501,"Sim",Registros!$B$2:$B$501,">="&Resumo!$B$3,Registros!$B$2:$B$501,"<="&Resumo!$D$3,Registros!$C$2:$C$501,$B10,Registros!$E$2:$E$501,$D10)) | J10: =IF($E10=0,"",COUNTIFS(Registros!$AB$2:$AB$501,"Sim",Registros!$B$2:$B$501,">="&Resumo!$B$3,Registros!$B$2:$B$501,"<="&Resumo!$D$3,Registros!$C$2:$C$501,$B10,Registros!$E$2:$E$501,$D10,Registros!$T$2:$T$501,"Não",Registros!$K$2:$K$501,"<>Concluída",Registros!$K$2:$K$501,"<>Dispensada")) | K10: =IFERROR(IF($E10=0,"",_xlfn.MAXIFS(Registros!$B$2:$B$501,Registros!$AB$2:$AB$501,"Sim",Registros!$B$2:$B$501,">="&Resumo!$B$3,Registros!$B$2:$B$501,"<="&Resumo!$D$3,Registros!$C$2:$C$501,$B10,Registros!$E$2:$E$501,$D10)),"") | L10: =IF($E10=0,"",COUNTIFS($E$6:$E$505,">0",$F$6:$F$505,"<"&$F10)+COUNTIFS($E$6:$E10,">0",$F$6:$F10,$F10)) | N10: =IFERROR('Configurações'!F8,"") | O10: =IF($N10="","",IF(Resumo!$F$3="Todas",COUNTIFS(Registros!$AB$2:$AB$501,"Sim",Registros!$B$2:$B$501,">="&Resumo!$B$3,Registros!$B$2:$B$501,"<="&Resumo!$D$3,Registros!$V$2:$V$501,$N10),COUNTIFS(Registros!$AB$2:$AB$501,"Sim",Registros!$B$2:$B$501,">="&Resumo!$B$3,Registros!$B$2:$B$501,"<="&Resumo!$D$3,Registros!$E$2:$E$501,Resumo!$F$3,Registros!$V$2:$V$501,$N10))) | P10: =IF($N10="","",IF(Resumo!$F$3="Todas",SUMIFS(Registros!$S$2:$S$501,Registros!$AB$2:$AB$501,"Sim",Registros!$B$2:$B$501,">="&Resumo!$B$3,Registros!$B$2:$B$501,"<="&Resumo!$D$3,Registros!$V$2:$V$501,$N10),SUMIFS(Registros!$S$2:$S$501,Registros!$AB$2:$AB$501,"Sim",Registros!$B$2:$B$501,">="&Resumo!$B$3,Registros!$B$2:$B$501,"<="&Resumo!$D$3,Registros!$E$2:$E$501,Resumo!$F$3,Registros!$V$2:$V$501,$N10))) | Q10: =IFERROR(IF(SUM($P$6:$P$15)=0,"",$P10/SUM($P$6:$P$15)),"") | R10: =IF($O10=0,"",COUNTIFS($O$6:$O$15,">0",$P$6:$P$15,">"&$P10)+COUNTIFS($O$6:$O10,">0",$P$6:$P10,$P10))
A11: =IFERROR(INDEX(Registros!$Z$2:$Z$501,AGGREGATE(15,6,(ROW(Registros!$Z$2:$Z$501)-ROW(Registros!$Z$2)+1)/(Registros!$AA$2:$AA$501<>""),ROWS($A$6:A11))),"") | B11: =IFERROR(IF($A11="","",INDEX(Registros!$C$2:$C$501,MATCH($A11,Registros!$Z$2:$Z$501,0))),"") | C11: =IFERROR(IF($A11="","",INDEX(Registros!$D$2:$D$501,MATCH($A11,Registros!$Z$2:$Z$501,0))),"") | D11: =IFERROR(IF($A11="","",INDEX(Registros!$E$2:$E$501,MATCH($A11,Registros!$Z$2:$Z$501,0))),"") | E11: =IF($A11="","",IF(AND(Resumo!$F$3<>"Todas",$D11<>Resumo!$F$3),0,COUNTIFS(Registros!$AB$2:$AB$501,"Sim",Registros!$B$2:$B$501,">="&Resumo!$B$3,Registros!$B$2:$B$501,"<="&Resumo!$D$3,Registros!$C$2:$C$501,$B11,Registros!$E$2:$E$501,$D11))) | F11: =IFERROR(IF($E11=0,"",COUNTIFS(Registros!$AB$2:$AB$501,"Sim",Registros!$B$2:$B$501,">="&Resumo!$B$3,Registros!$B$2:$B$501,"<="&Resumo!$D$3,Registros!$C$2:$C$501,$B11,Registros!$E$2:$E$501,$D11,Registros!$T$2:$T$501,"Sim")/$E11),"") | G11: =IFERROR(IF($E11=0,"",AVERAGEIFS(Registros!$U$2:$U$501,Registros!$AB$2:$AB$501,"Sim",Registros!$B$2:$B$501,">="&Resumo!$B$3,Registros!$B$2:$B$501,"<="&Resumo!$D$3,Registros!$C$2:$C$501,$B11,Registros!$E$2:$E$501,$D11)),"") | H11: =IF($E11=0,"",SUMIFS(Registros!$Q$2:$Q$501,Registros!$AB$2:$AB$501,"Sim",Registros!$B$2:$B$501,">="&Resumo!$B$3,Registros!$B$2:$B$501,"<="&Resumo!$D$3,Registros!$C$2:$C$501,$B11,Registros!$E$2:$E$501,$D11)) | I11: =IF($E11=0,"",SUMIFS(Registros!$S$2:$S$501,Registros!$AB$2:$AB$501,"Sim",Registros!$B$2:$B$501,">="&Resumo!$B$3,Registros!$B$2:$B$501,"<="&Resumo!$D$3,Registros!$C$2:$C$501,$B11,Registros!$E$2:$E$501,$D11)) | J11: =IF($E11=0,"",COUNTIFS(Registros!$AB$2:$AB$501,"Sim",Registros!$B$2:$B$501,">="&Resumo!$B$3,Registros!$B$2:$B$501,"<="&Resumo!$D$3,Registros!$C$2:$C$501,$B11,Registros!$E$2:$E$501,$D11,Registros!$T$2:$T$501,"Não",Registros!$K$2:$K$501,"<>Concluída",Registros!$K$2:$K$501,"<>Dispensada")) | K11: =IFERROR(IF($E11=0,"",_xlfn.MAXIFS(Registros!$B$2:$B$501,Registros!$AB$2:$AB$501,"Sim",Registros!$B$2:$B$501,">="&Resumo!$B$3,Registros!$B$2:$B$501,"<="&Resumo!$D$3,Registros!$C$2:$C$501,$B11,Registros!$E$2:$E$501,$D11)),"") | L11: =IF($E11=0,"",COUNTIFS($E$6:$E$505,">0",$F$6:$F$505,"<"&$F11)+COUNTIFS($E$6:$E11,">0",$F$6:$F11,$F11)) | N11: =IFERROR('Configurações'!F9,"") | O11: =IF($N11="","",IF(Resumo!$F$3="Todas",COUNTIFS(Registros!$AB$2:$AB$501,"Sim",Registros!$B$2:$B$501,">="&Resumo!$B$3,Registros!$B$2:$B$501,"<="&Resumo!$D$3,Registros!$V$2:$V$501,$N11),COUNTIFS(Registros!$AB$2:$AB$501,"Sim",Registros!$B$2:$B$501,">="&Resumo!$B$3,Registros!$B$2:$B$501,"<="&Resumo!$D$3,Registros!$E$2:$E$501,Resumo!$F$3,Registros!$V$2:$V$501,$N11))) | P11: =IF($N11="","",IF(Resumo!$F$3="Todas",SUMIFS(Registros!$S$2:$S$501,Registros!$AB$2:$AB$501,"Sim",Registros!$B$2:$B$501,">="&Resumo!$B$3,Registros!$B$2:$B$501,"<="&Resumo!$D$3,Registros!$V$2:$V$501,$N11),SUMIFS(Registros!$S$2:$S$501,Registros!$AB$2:$AB$501,"Sim",Registros!$B$2:$B$501,">="&Resumo!$B$3,Registros!$B$2:$B$501,"<="&Resumo!$D$3,Registros!$E$2:$E$501,Resumo!$F$3,Registros!$V$2:$V$501,$N11))) | Q11: =IFERROR(IF(SUM($P$6:$P$15)=0,"",$P11/SUM($P$6:$P$15)),"") | R11: =IF($O11=0,"",COUNTIFS($O$6:$O$15,">0",$P$6:$P$15,">"&$P11)+COUNTIFS($O$6:$O11,">0",$P$6:$P11,$P11))
A12: =IFERROR(INDEX(Registros!$Z$2:$Z$501,AGGREGATE(15,6,(ROW(Registros!$Z$2:$Z$501)-ROW(Registros!$Z$2)+1)/(Registros!$AA$2:$AA$501<>""),ROWS($A$6:A12))),"") | B12: =IFERROR(IF($A12="","",INDEX(Registros!$C$2:$C$501,MATCH($A12,Registros!$Z$2:$Z$501,0))),"") | C12: =IFERROR(IF($A12="","",INDEX(Registros!$D$2:$D$501,MATCH($A12,Registros!$Z$2:$Z$501,0))),"") | D12: =IFERROR(IF($A12="","",INDEX(Registros!$E$2:$E$501,MATCH($A12,Registros!$Z$2:$Z$501,0))),"") | E12: =IF($A12="","",IF(AND(Resumo!$F$3<>"Todas",$D12<>Resumo!$F$3),0,COUNTIFS(Registros!$AB$2:$AB$501,"Sim",Registros!$B$2:$B$501,">="&Resumo!$B$3,Registros!$B$2:$B$501,"<="&Resumo!$D$3,Registros!$C$2:$C$501,$B12,Registros!$E$2:$E$501,$D12))) | F12: =IFERROR(IF($E12=0,"",COUNTIFS(Registros!$AB$2:$AB$501,"Sim",Registros!$B$2:$B$501,">="&Resumo!$B$3,Registros!$B$2:$B$501,"<="&Resumo!$D$3,Registros!$C$2:$C$501,$B12,Registros!$E$2:$E$501,$D12,Registros!$T$2:$T$501,"Sim")/$E12),"") | G12: =IFERROR(IF($E12=0,"",AVERAGEIFS(Registros!$U$2:$U$501,Registros!$AB$2:$AB$501,"Sim",Registros!$B$2:$B$501,">="&Resumo!$B$3,Registros!$B$2:$B$501,"<="&Resumo!$D$3,Registros!$C$2:$C$501,$B12,Registros!$E$2:$E$501,$D12)),"") | H12: =IF($E12=0,"",SUMIFS(Registros!$Q$2:$Q$501,Registros!$AB$2:$AB$501,"Sim",Registros!$B$2:$B$501,">="&Resumo!$B$3,Registros!$B$2:$B$501,"<="&Resumo!$D$3,Registros!$C$2:$C$501,$B12,Registros!$E$2:$E$501,$D12)) | I12: =IF($E12=0,"",SUMIFS(Registros!$S$2:$S$501,Registros!$AB$2:$AB$501,"Sim",Registros!$B$2:$B$501,">="&Resumo!$B$3,Registros!$B$2:$B$501,"<="&Resumo!$D$3,Registros!$C$2:$C$501,$B12,Registros!$E$2:$E$501,$D12)) | J12: =IF($E12=0,"",COUNTIFS(Registros!$AB$2:$AB$501,"Sim",Registros!$B$2:$B$501,">="&Resumo!$B$3,Registros!$B$2:$B$501,"<="&Resumo!$D$3,Registros!$C$2:$C$501,$B12,Registros!$E$2:$E$501,$D12,Registros!$T$2:$T$501,"Não",Registros!$K$2:$K$501,"<>Concluída",Registros!$K$2:$K$501,"<>Dispensada")) | K12: =IFERROR(IF($E12=0,"",_xlfn.MAXIFS(Registros!$B$2:$B$501,Registros!$AB$2:$AB$501,"Sim",Registros!$B$2:$B$501,">="&Resumo!$B$3,Registros!$B$2:$B$501,"<="&Resumo!$D$3,Registros!$C$2:$C$501,$B12,Registros!$E$2:$E$501,$D12)),"") | L12: =IF($E12=0,"",COUNTIFS($E$6:$E$505,">0",$F$6:$F$505,"<"&$F12)+COUNTIFS($E$6:$E12,">0",$F$6:$F12,$F12)) | N12: =IFERROR('Configurações'!F10,"") | O12: =IF($N12="","",IF(Resumo!$F$3="Todas",COUNTIFS(Registros!$AB$2:$AB$501,"Sim",Registros!$B$2:$B$501,">="&Resumo!$B$3,Registros!$B$2:$B$501,"<="&Resumo!$D$3,Registros!$V$2:$V$501,$N12),COUNTIFS(Registros!$AB$2:$AB$501,"Sim",Registros!$B$2:$B$501,">="&Resumo!$B$3,Registros!$B$2:$B$501,"<="&Resumo!$D$3,Registros!$E$2:$E$501,Resumo!$F$3,Registros!$V$2:$V$501,$N12))) | P12: =IF($N12="","",IF(Resumo!$F$3="Todas",SUMIFS(Registros!$S$2:$S$501,Registros!$AB$2:$AB$501,"Sim",Registros!$B$2:$B$501,">="&Resumo!$B$3,Registros!$B$2:$B$501,"<="&Resumo!$D$3,Registros!$V$2:$V$501,$N12),SUMIFS(Registros!$S$2:$S$501,Registros!$AB$2:$AB$501,"Sim",Registros!$B$2:$B$501,">="&Resumo!$B$3,Registros!$B$2:$B$501,"<="&Resumo!$D$3,Registros!$E$2:$E$501,Resumo!$F$3,Registros!$V$2:$V$501,$N12))) | Q12: =IFERROR(IF(SUM($P$6:$P$15)=0,"",$P12/SUM($P$6:$P$15)),"") | R12: =IF($O12=0,"",COUNTIFS($O$6:$O$15,">0",$P$6:$P$15,">"&$P12)+COUNTIFS($O$6:$O12,">0",$P$6:$P12,$P12))
A13: =IFERROR(INDEX(Registros!$Z$2:$Z$501,AGGREGATE(15,6,(ROW(Registros!$Z$2:$Z$501)-ROW(Registros!$Z$2)+1)/(Registros!$AA$2:$AA$501<>""),ROWS($A$6:A13))),"") | B13: =IFERROR(IF($A13="","",INDEX(Registros!$C$2:$C$501,MATCH($A13,Registros!$Z$2:$Z$501,0))),"") | C13: =IFERROR(IF($A13="","",INDEX(Registros!$D$2:$D$501,MATCH($A13,Registros!$Z$2:$Z$501,0))),"") | D13: =IFERROR(IF($A13="","",INDEX(Registros!$E$2:$E$501,MATCH($A13,Registros!$Z$2:$Z$501,0))),"") | E13: =IF($A13="","",IF(AND(Resumo!$F$3<>"Todas",$D13<>Resumo!$F$3),0,COUNTIFS(Registros!$AB$2:$AB$501,"Sim",Registros!$B$2:$B$501,">="&Resumo!$B$3,Registros!$B$2:$B$501,"<="&Resumo!$D$3,Registros!$C$2:$C$501,$B13,Registros!$E$2:$E$501,$D13))) | F13: =IFERROR(IF($E13=0,"",COUNTIFS(Registros!$AB$2:$AB$501,"Sim",Registros!$B$2:$B$501,">="&Resumo!$B$3,Registros!$B$2:$B$501,"<="&Resumo!$D$3,Registros!$C$2:$C$501,$B13,Registros!$E$2:$E$501,$D13,Registros!$T$2:$T$501,"Sim")/$E13),"") | G13: =IFERROR(IF($E13=0,"",AVERAGEIFS(Registros!$U$2:$U$501,Registros!$AB$2:$AB$501,"Sim",Registros!$B$2:$B$501,">="&Resumo!$B$3,Registros!$B$2:$B$501,"<="&Resumo!$D$3,Registros!$C$2:$C$501,$B13,Registros!$E$2:$E$501,$D13)),"") | H13: =IF($E13=0,"",SUMIFS(Registros!$Q$2:$Q$501,Registros!$AB$2:$AB$501,"Sim",Registros!$B$2:$B$501,">="&Resumo!$B$3,Registros!$B$2:$B$501,"<="&Resumo!$D$3,Registros!$C$2:$C$501,$B13,Registros!$E$2:$E$501,$D13)) | I13: =IF($E13=0,"",SUMIFS(Registros!$S$2:$S$501,Registros!$AB$2:$AB$501,"Sim",Registros!$B$2:$B$501,">="&Resumo!$B$3,Registros!$B$2:$B$501,"<="&Resumo!$D$3,Registros!$C$2:$C$501,$B13,Registros!$E$2:$E$501,$D13)) | J13: =IF($E13=0,"",COUNTIFS(Registros!$AB$2:$AB$501,"Sim",Registros!$B$2:$B$501,">="&Resumo!$B$3,Registros!$B$2:$B$501,"<="&Resumo!$D$3,Registros!$C$2:$C$501,$B13,Registros!$E$2:$E$501,$D13,Registros!$T$2:$T$501,"Não",Registros!$K$2:$K$501,"<>Concluída",Registros!$K$2:$K$501,"<>Dispensada")) | K13: =IFERROR(IF($E13=0,"",_xlfn.MAXIFS(Registros!$B$2:$B$501,Registros!$AB$2:$AB$501,"Sim",Registros!$B$2:$B$501,">="&Resumo!$B$3,Registros!$B$2:$B$501,"<="&Resumo!$D$3,Registros!$C$2:$C$501,$B13,Registros!$E$2:$E$501,$D13)),"") | L13: =IF($E13=0,"",COUNTIFS($E$6:$E$505,">0",$F$6:$F$505,"<"&$F13)+COUNTIFS($E$6:$E13,">0",$F$6:$F13,$F13)) | N13: =IFERROR('Configurações'!F11,"") | O13: =IF($N13="","",IF(Resumo!$F$3="Todas",COUNTIFS(Registros!$AB$2:$AB$501,"Sim",Registros!$B$2:$B$501,">="&Resumo!$B$3,Registros!$B$2:$B$501,"<="&Resumo!$D$3,Registros!$V$2:$V$501,$N13),COUNTIFS(Registros!$AB$2:$AB$501,"Sim",Registros!$B$2:$B$501,">="&Resumo!$B$3,Registros!$B$2:$B$501,"<="&Resumo!$D$3,Registros!$E$2:$E$501,Resumo!$F$3,Registros!$V$2:$V$501,$N13))) | P13: =IF($N13="","",IF(Resumo!$F$3="Todas",SUMIFS(Registros!$S$2:$S$501,Registros!$AB$2:$AB$501,"Sim",Registros!$B$2:$B$501,">="&Resumo!$B$3,Registros!$B$2:$B$501,"<="&Resumo!$D$3,Registros!$V$2:$V$501,$N13),SUMIFS(Registros!$S$2:$S$501,Registros!$AB$2:$AB$501,"Sim",Registros!$B$2:$B$501,">="&Resumo!$B$3,Registros!$B$2:$B$501,"<="&Resumo!$D$3,Registros!$E$2:$E$501,Resumo!$F$3,Registros!$V$2:$V$501,$N13))) | Q13: =IFERROR(IF(SUM($P$6:$P$15)=0,"",$P13/SUM($P$6:$P$15)),"") | R13: =IF($O13=0,"",COUNTIFS($O$6:$O$15,">0",$P$6:$P$15,">"&$P13)+COUNTIFS($O$6:$O13,">0",$P$6:$P13,$P13))
A14: =IFERROR(INDEX(Registros!$Z$2:$Z$501,AGGREGATE(15,6,(ROW(Registros!$Z$2:$Z$501)-ROW(Registros!$Z$2)+1)/(Registros!$AA$2:$AA$501<>""),ROWS($A$6:A14))),"") | B14: =IFERROR(IF($A14="","",INDEX(Registros!$C$2:$C$501,MATCH($A14,Registros!$Z$2:$Z$501,0))),"") | C14: =IFERROR(IF($A14="","",INDEX(Registros!$D$2:$D$501,MATCH($A14,Registros!$Z$2:$Z$501,0))),"") | D14: =IFERROR(IF($A14="","",INDEX(Registros!$E$2:$E$501,MATCH($A14,Registros!$Z$2:$Z$501,0))),"") | E14: =IF($A14="","",IF(AND(Resumo!$F$3<>"Todas",$D14<>Resumo!$F$3),0,COUNTIFS(Registros!$AB$2:$AB$501,"Sim",Registros!$B$2:$B$501,">="&Resumo!$B$3,Registros!$B$2:$B$501,"<="&Resumo!$D$3,Registros!$C$2:$C$501,$B14,Registros!$E$2:$E$501,$D14))) | F14: =IFERROR(IF($E14=0,"",COUNTIFS(Registros!$AB$2:$AB$501,"Sim",Registros!$B$2:$B$501,">="&Resumo!$B$3,Registros!$B$2:$B$501,"<="&Resumo!$D$3,Registros!$C$2:$C$501,$B14,Registros!$E$2:$E$501,$D14,Registros!$T$2:$T$501,"Sim")/$E14),"") | G14: =IFERROR(IF($E14=0,"",AVERAGEIFS(Registros!$U$2:$U$501,Registros!$AB$2:$AB$501,"Sim",Registros!$B$2:$B$501,">="&Resumo!$B$3,Registros!$B$2:$B$501,"<="&Resumo!$D$3,Registros!$C$2:$C$501,$B14,Registros!$E$2:$E$501,$D14)),"") | H14: =IF($E14=0,"",SUMIFS(Registros!$Q$2:$Q$501,Registros!$AB$2:$AB$501,"Sim",Registros!$B$2:$B$501,">="&Resumo!$B$3,Registros!$B$2:$B$501,"<="&Resumo!$D$3,Registros!$C$2:$C$501,$B14,Registros!$E$2:$E$501,$D14)) | I14: =IF($E14=0,"",SUMIFS(Registros!$S$2:$S$501,Registros!$AB$2:$AB$501,"Sim",Registros!$B$2:$B$501,">="&Resumo!$B$3,Registros!$B$2:$B$501,"<="&Resumo!$D$3,Registros!$C$2:$C$501,$B14,Registros!$E$2:$E$501,$D14)) | J14: =IF($E14=0,"",COUNTIFS(Registros!$AB$2:$AB$501,"Sim",Registros!$B$2:$B$501,">="&Resumo!$B$3,Registros!$B$2:$B$501,"<="&Resumo!$D$3,Registros!$C$2:$C$501,$B14,Registros!$E$2:$E$501,$D14,Registros!$T$2:$T$501,"Não",Registros!$K$2:$K$501,"<>Concluída",Registros!$K$2:$K$501,"<>Dispensada")) | K14: =IFERROR(IF($E14=0,"",_xlfn.MAXIFS(Registros!$B$2:$B$501,Registros!$AB$2:$AB$501,"Sim",Registros!$B$2:$B$501,">="&Resumo!$B$3,Registros!$B$2:$B$501,"<="&Resumo!$D$3,Registros!$C$2:$C$501,$B14,Registros!$E$2:$E$501,$D14)),"") | L14: =IF($E14=0,"",COUNTIFS($E$6:$E$505,">0",$F$6:$F$505,"<"&$F14)+COUNTIFS($E$6:$E14,">0",$F$6:$F14,$F14)) | N14: =IFERROR('Configurações'!F12,"") | O14: =IF($N14="","",IF(Resumo!$F$3="Todas",COUNTIFS(Registros!$AB$2:$AB$501,"Sim",Registros!$B$2:$B$501,">="&Resumo!$B$3,Registros!$B$2:$B$501,"<="&Resumo!$D$3,Registros!$V$2:$V$501,$N14),COUNTIFS(Registros!$AB$2:$AB$501,"Sim",Registros!$B$2:$B$501,">="&Resumo!$B$3,Registros!$B$2:$B$501,"<="&Resumo!$D$3,Registros!$E$2:$E$501,Resumo!$F$3,Registros!$V$2:$V$501,$N14))) | P14: =IF($N14="","",IF(Resumo!$F$3="Todas",SUMIFS(Registros!$S$2:$S$501,Registros!$AB$2:$AB$501,"Sim",Registros!$B$2:$B$501,">="&Resumo!$B$3,Registros!$B$2:$B$501,"<="&Resumo!$D$3,Registros!$V$2:$V$501,$N14),SUMIFS(Registros!$S$2:$S$501,Registros!$AB$2:$AB$501,"Sim",Registros!$B$2:$B$501,">="&Resumo!$B$3,Registros!$B$2:$B$501,"<="&Resumo!$D$3,Registros!$E$2:$E$501,Resumo!$F$3,Registros!$V$2:$V$501,$N14))) | Q14: =IFERROR(IF(SUM($P$6:$P$15)=0,"",$P14/SUM($P$6:$P$15)),"") | R14: =IF($O14=0,"",COUNTIFS($O$6:$O$15,">0",$P$6:$P$15,">"&$P14)+COUNTIFS($O$6:$O14,">0",$P$6:$P14,$P14))
A15: =IFERROR(INDEX(Registros!$Z$2:$Z$501,AGGREGATE(15,6,(ROW(Registros!$Z$2:$Z$501)-ROW(Registros!$Z$2)+1)/(Registros!$AA$2:$AA$501<>""),ROWS($A$6:A15))),"") | B15: =IFERROR(IF($A15="","",INDEX(Registros!$C$2:$C$501,MATCH($A15,Registros!$Z$2:$Z$501,0))),"") | C15: =IFERROR(IF($A15="","",INDEX(Registros!$D$2:$D$501,MATCH($A15,Registros!$Z$2:$Z$501,0))),"") | D15: =IFERROR(IF($A15="","",INDEX(Registros!$E$2:$E$501,MATCH($A15,Registros!$Z$2:$Z$501,0))),"") | E15: =IF($A15="","",IF(AND(Resumo!$F$3<>"Todas",$D15<>Resumo!$F$3),0,COUNTIFS(Registros!$AB$2:$AB$501,"Sim",Registros!$B$2:$B$501,">="&Resumo!$B$3,Registros!$B$2:$B$501,"<="&Resumo!$D$3,Registros!$C$2:$C$501,$B15,Registros!$E$2:$E$501,$D15))) | F15: =IFERROR(IF($E15=0,"",COUNTIFS(Registros!$AB$2:$AB$501,"Sim",Registros!$B$2:$B$501,">="&Resumo!$B$3,Registros!$B$2:$B$501,"<="&Resumo!$D$3,Registros!$C$2:$C$501,$B15,Registros!$E$2:$E$501,$D15,Registros!$T$2:$T$501,"Sim")/$E15),"") | G15: =IFERROR(IF($E15=0,"",AVERAGEIFS(Registros!$U$2:$U$501,Registros!$AB$2:$AB$501,"Sim",Registros!$B$2:$B$501,">="&Resumo!$B$3,Registros!$B$2:$B$501,"<="&Resumo!$D$3,Registros!$C$2:$C$501,$B15,Registros!$E$2:$E$501,$D15)),"") | H15: =IF($E15=0,"",SUMIFS(Registros!$Q$2:$Q$501,Registros!$AB$2:$AB$501,"Sim",Registros!$B$2:$B$501,">="&Resumo!$B$3,Registros!$B$2:$B$501,"<="&Resumo!$D$3,Registros!$C$2:$C$501,$B15,Registros!$E$2:$E$501,$D15)) | I15: =IF($E15=0,"",SUMIFS(Registros!$S$2:$S$501,Registros!$AB$2:$AB$501,"Sim",Registros!$B$2:$B$501,">="&Resumo!$B$3,Registros!$B$2:$B$501,"<="&Resumo!$D$3,Registros!$C$2:$C$501,$B15,Registros!$E$2:$E$501,$D15)) | J15: =IF($E15=0,"",COUNTIFS(Registros!$AB$2:$AB$501,"Sim",Registros!$B$2:$B$501,">="&Resumo!$B$3,Registros!$B$2:$B$501,"<="&Resumo!$D$3,Registros!$C$2:$C$501,$B15,Registros!$E$2:$E$501,$D15,Registros!$T$2:$T$501,"Não",Registros!$K$2:$K$501,"<>Concluída",Registros!$K$2:$K$501,"<>Dispensada")) | K15: =IFERROR(IF($E15=0,"",_xlfn.MAXIFS(Registros!$B$2:$B$501,Registros!$AB$2:$AB$501,"Sim",Registros!$B$2:$B$501,">="&Resumo!$B$3,Registros!$B$2:$B$501,"<="&Resumo!$D$3,Registros!$C$2:$C$501,$B15,Registros!$E$2:$E$501,$D15)),"") | L15: =IF($E15=0,"",COUNTIFS($E$6:$E$505,">0",$F$6:$F$505,"<"&$F15)+COUNTIFS($E$6:$E15,">0",$F$6:$F15,$F15)) | N15: =IFERROR('Configurações'!F13,"") | O15: =IF($N15="","",IF(Resumo!$F$3="Todas",COUNTIFS(Registros!$AB$2:$AB$501,"Sim",Registros!$B$2:$B$501,">="&Resumo!$B$3,Registros!$B$2:$B$501,"<="&Resumo!$D$3,Registros!$V$2:$V$501,$N15),COUNTIFS(Registros!$AB$2:$AB$501,"Sim",Registros!$B$2:$B$501,">="&Resumo!$B$3,Registros!$B$2:$B$501,"<="&Resumo!$D$3,Registros!$E$2:$E$501,Resumo!$F$3,Registros!$V$2:$V$501,$N15))) | P15: =IF($N15="","",IF(Resumo!$F$3="Todas",SUMIFS(Registros!$S$2:$S$501,Registros!$AB$2:$AB$501,"Sim",Registros!$B$2:$B$501,">="&Resumo!$B$3,Registros!$B$2:$B$501,"<="&Resumo!$D$3,Registros!$V$2:$V$501,$N15),SUMIFS(Registros!$S$2:$S$501,Registros!$AB$2:$AB$501,"Sim",Registros!$B$2:$B$501,">="&Resumo!$B$3,Registros!$B$2:$B$501,"<="&Resumo!$D$3,Registros!$E$2:$E$501,Resumo!$F$3,Registros!$V$2:$V$501,$N15))) | Q15: =IFERROR(IF(SUM($P$6:$P$15)=0,"",$P15/SUM($P$6:$P$15)),"") | R15: =IF($O15=0,"",COUNTIFS($O$6:$O$15,">0",$P$6:$P$15,">"&$P15)+COUNTIFS($O$6:$O15,">0",$P$6:$P15,$P15))
A16: =IFERROR(INDEX(Registros!$Z$2:$Z$501,AGGREGATE(15,6,(ROW(Registros!$Z$2:$Z$501)-ROW(Registros!$Z$2)+1)/(Registros!$AA$2:$AA$501<>""),ROWS($A$6:A16))),"") | B16: =IFERROR(IF($A16="","",INDEX(Registros!$C$2:$C$501,MATCH($A16,Registros!$Z$2:$Z$501,0))),"") | C16: =IFERROR(IF($A16="","",INDEX(Registros!$D$2:$D$501,MATCH($A16,Registros!$Z$2:$Z$501,0))),"") | D16: =IFERROR(IF($A16="","",INDEX(Registros!$E$2:$E$501,MATCH($A16,Registros!$Z$2:$Z$501,0))),"") | E16: =IF($A16="","",IF(AND(Resumo!$F$3<>"Todas",$D16<>Resumo!$F$3),0,COUNTIFS(Registros!$AB$2:$AB$501,"Sim",Registros!$B$2:$B$501,">="&Resumo!$B$3,Registros!$B$2:$B$501,"<="&Resumo!$D$3,Registros!$C$2:$C$501,$B16,Registros!$E$2:$E$501,$D16))) | F16: =IFERROR(IF($E16=0,"",COUNTIFS(Registros!$AB$2:$AB$501,"Sim",Registros!$B$2:$B$501,">="&Resumo!$B$3,Registros!$B$2:$B$501,"<="&Resumo!$D$3,Registros!$C$2:$C$501,$B16,Registros!$E$2:$E$501,$D16,Registros!$T$2:$T$501,"Sim")/$E16),"") | G16: =IFERROR(IF($E16=0,"",AVERAGEIFS(Registros!$U$2:$U$501,Registros!$AB$2:$AB$501,"Sim",Registros!$B$2:$B$501,">="&Resumo!$B$3,Registros!$B$2:$B$501,"<="&Resumo!$D$3,Registros!$C$2:$C$501,$B16,Registros!$E$2:$E$501,$D16)),"") | H16: =IF($E16=0,"",SUMIFS(Registros!$Q$2:$Q$501,Registros!$AB$2:$AB$501,"Sim",Registros!$B$2:$B$501,">="&Resumo!$B$3,Registros!$B$2:$B$501,"<="&Resumo!$D$3,Registros!$C$2:$C$501,$B16,Registros!$E$2:$E$501,$D16)) | I16: =IF($E16=0,"",SUMIFS(Registros!$S$2:$S$501,Registros!$AB$2:$AB$501,"Sim",Registros!$B$2:$B$501,">="&Resumo!$B$3,Registros!$B$2:$B$501,"<="&Resumo!$D$3,Registros!$C$2:$C$501,$B16,Registros!$E$2:$E$501,$D16)) | J16: =IF($E16=0,"",COUNTIFS(Registros!$AB$2:$AB$501,"Sim",Registros!$B$2:$B$501,">="&Resumo!$B$3,Registros!$B$2:$B$501,"<="&Resumo!$D$3,Registros!$C$2:$C$501,$B16,Registros!$E$2:$E$501,$D16,Registros!$T$2:$T$501,"Não",Registros!$K$2:$K$501,"<>Concluída",Registros!$K$2:$K$501,"<>Dispensada")) | K16: =IFERROR(IF($E16=0,"",_xlfn.MAXIFS(Registros!$B$2:$B$501,Registros!$AB$2:$AB$501,"Sim",Registros!$B$2:$B$501,">="&Resumo!$B$3,Registros!$B$2:$B$501,"<="&Resumo!$D$3,Registros!$C$2:$C$501,$B16,Registros!$E$2:$E$501,$D16)),"") | L16: =IF($E16=0,"",COUNTIFS($E$6:$E$505,">0",$F$6:$F$505,"<"&$F16)+COUNTIFS($E$6:$E16,">0",$F$6:$F16,$F16)) | N16: =IFERROR('Configurações'!F14,"") | O16: =IF($N16="","",IF(Resumo!$F$3="Todas",COUNTIFS(Registros!$AB$2:$AB$501,"Sim",Registros!$B$2:$B$501,">="&Resumo!$B$3,Registros!$B$2:$B$501,"<="&Resumo!$D$3,Registros!$V$2:$V$501,$N16),COUNTIFS(Registros!$AB$2:$AB$501,"Sim",Registros!$B$2:$B$501,">="&Resumo!$B$3,Registros!$B$2:$B$501,"<="&Resumo!$D$3,Registros!$E$2:$E$501,Resumo!$F$3,Registros!$V$2:$V$501,$N16))) | P16: =IF($N16="","",IF(Resumo!$F$3="Todas",SUMIFS(Registros!$S$2:$S$501,Registros!$AB$2:$AB$501,"Sim",Registros!$B$2:$B$501,">="&Resumo!$B$3,Registros!$B$2:$B$501,"<="&Resumo!$D$3,Registros!$V$2:$V$501,$N16),SUMIFS(Registros!$S$2:$S$501,Registros!$AB$2:$AB$501,"Sim",Registros!$B$2:$B$501,">="&Resumo!$B$3,Registros!$B$2:$B$501,"<="&Resumo!$D$3,Registros!$E$2:$E$501,Resumo!$F$3,Registros!$V$2:$V$501,$N16))) | Q16: =IFERROR(IF(SUM($P$6:$P$15)=0,"",$P16/SUM($P$6:$P$15)),"") | R16: =IF($O16=0,"",COUNTIFS($O$6:$O$15,">0",$P$6:$P$15,">"&$P16)+COUNTIFS($O$6:$O16,">0",$P$6:$P16,$P16))
A17: =IFERROR(INDEX(Registros!$Z$2:$Z$501,AGGREGATE(15,6,(ROW(Registros!$Z$2:$Z$501)-ROW(Registros!$Z$2)+1)/(Registros!$AA$2:$AA$501<>""),ROWS($A$6:A17))),"") | B17: =IFERROR(IF($A17="","",INDEX(Registros!$C$2:$C$501,MATCH($A17,Registros!$Z$2:$Z$501,0))),"") | C17: =IFERROR(IF($A17="","",INDEX(Registros!$D$2:$D$501,MATCH($A17,Registros!$Z$2:$Z$501,0))),"") | D17: =IFERROR(IF($A17="","",INDEX(Registros!$E$2:$E$501,MATCH($A17,Registros!$Z$2:$Z$501,0))),"") | E17: =IF($A17="","",IF(AND(Resumo!$F$3<>"Todas",$D17<>Resumo!$F$3),0,COUNTIFS(Registros!$AB$2:$AB$501,"Sim",Registros!$B$2:$B$501,">="&Resumo!$B$3,Registros!$B$2:$B$501,"<="&Resumo!$D$3,Registros!$C$2:$C$501,$B17,Registros!$E$2:$E$501,$D17))) | F17: =IFERROR(IF($E17=0,"",COUNTIFS(Registros!$AB$2:$AB$501,"Sim",Registros!$B$2:$B$501,">="&Resumo!$B$3,Registros!$B$2:$B$501,"<="&Resumo!$D$3,Registros!$C$2:$C$501,$B17,Registros!$E$2:$E$501,$D17,Registros!$T$2:$T$501,"Sim")/$E17),"") | G17: =IFERROR(IF($E17=0,"",AVERAGEIFS(Registros!$U$2:$U$501,Registros!$AB$2:$AB$501,"Sim",Registros!$B$2:$B$501,">="&Resumo!$B$3,Registros!$B$2:$B$501,"<="&Resumo!$D$3,Registros!$C$2:$C$501,$B17,Registros!$E$2:$E$501,$D17)),"") | H17: =IF($E17=0,"",SUMIFS(Registros!$Q$2:$Q$501,Registros!$AB$2:$AB$501,"Sim",Registros!$B$2:$B$501,">="&Resumo!$B$3,Registros!$B$2:$B$501,"<="&Resumo!$D$3,Registros!$C$2:$C$501,$B17,Registros!$E$2:$E$501,$D17)) | I17: =IF($E17=0,"",SUMIFS(Registros!$S$2:$S$501,Registros!$AB$2:$AB$501,"Sim",Registros!$B$2:$B$501,">="&Resumo!$B$3,Registros!$B$2:$B$501,"<="&Resumo!$D$3,Registros!$C$2:$C$501,$B17,Registros!$E$2:$E$501,$D17)) | J17: =IF($E17=0,"",COUNTIFS(Registros!$AB$2:$AB$501,"Sim",Registros!$B$2:$B$501,">="&Resumo!$B$3,Registros!$B$2:$B$501,"<="&Resumo!$D$3,Registros!$C$2:$C$501,$B17,Registros!$E$2:$E$501,$D17,Registros!$T$2:$T$501,"Não",Registros!$K$2:$K$501,"<>Concluída",Registros!$K$2:$K$501,"<>Dispensada")) | K17: =IFERROR(IF($E17=0,"",_xlfn.MAXIFS(Registros!$B$2:$B$501,Registros!$AB$2:$AB$501,"Sim",Registros!$B$2:$B$501,">="&Resumo!$B$3,Registros!$B$2:$B$501,"<="&Resumo!$D$3,Registros!$C$2:$C$501,$B17,Registros!$E$2:$E$501,$D17)),"") | L17: =IF($E17=0,"",COUNTIFS($E$6:$E$505,">0",$F$6:$F$505,"<"&$F17)+COUNTIFS($E$6:$E17,">0",$F$6:$F17,$F17)) | N17: =IFERROR('Configurações'!F15,"") | O17: =IF($N17="","",IF(Resumo!$F$3="Todas",COUNTIFS(Registros!$AB$2:$AB$501,"Sim",Registros!$B$2:$B$501,">="&Resumo!$B$3,Registros!$B$2:$B$501,"<="&Resumo!$D$3,Registros!$V$2:$V$501,$N17),COUNTIFS(Registros!$AB$2:$AB$501,"Sim",Registros!$B$2:$B$501,">="&Resumo!$B$3,Registros!$B$2:$B$501,"<="&Resumo!$D$3,Registros!$E$2:$E$501,Resumo!$F$3,Registros!$V$2:$V$501,$N17))) | P17: =IF($N17="","",IF(Resumo!$F$3="Todas",SUMIFS(Registros!$S$2:$S$501,Registros!$AB$2:$AB$501,"Sim",Registros!$B$2:$B$501,">="&Resumo!$B$3,Registros!$B$2:$B$501,"<="&Resumo!$D$3,Registros!$V$2:$V$501,$N17),SUMIFS(Registros!$S$2:$S$501,Registros!$AB$2:$AB$501,"Sim",Registros!$B$2:$B$501,">="&Resumo!$B$3,Registros!$B$2:$B$501,"<="&Resumo!$D$3,Registros!$E$2:$E$501,Resumo!$F$3,Registros!$V$2:$V$501,$N17))) | Q17: =IFERROR(IF(SUM($P$6:$P$15)=0,"",$P17/SUM($P$6:$P$15)),"") | R17: =IF($O17=0,"",COUNTIFS($O$6:$O$15,">0",$P$6:$P$15,">"&$P17)+COUNTIFS($O$6:$O17,">0",$P$6:$P17,$P17))
... A505: =IFERROR(INDEX(Registros!$Z$2:$Z$501,AGGREGATE(15,6,(ROW(Registros!$Z$2:$Z$501)-ROW(Registros!$Z$2)+1)/(Registros!$AA$2:$AA$501<>""),ROWS($A$6:A505))),"") | B505: =IFERROR(IF($A505="","",INDEX(Registros!$C$2:$C$501,MATCH($A505,Registros!$Z$2:$Z$501,0))),"") | C505: =IFERROR(IF($A505="","",INDEX(Registros!$D$2:$D$501,MATCH($A505,Registros!$Z$2:$Z$501,0))),"") | D505: =IFERROR(IF($A505="","",INDEX(Registros!$E$2:$E$501,MATCH($A505,Registros!$Z$2:$Z$501,0))),"") | E505: =IF($A505="","",IF(AND(Resumo!$F$3<>"Todas",$D505<>Resumo!$F$3),0,COUNTIFS(Registros!$AB$2:$AB$501,"Sim",Registros!$B$2:$B$501,">="&Resumo!$B$3,Registros!$B$2:$B$501,"<="&Resumo!$D$3,Registros!$C$2:$C$501,$B505,Registros!$E$2:$E$501,$D505))) | F505: =IFERROR(IF($E505=0,"",COUNTIFS(Registros!$AB$2:$AB$501,"Sim",Registros!$B$2:$B$501,">="&Resumo!$B$3,Registros!$B$2:$B$501,"<="&Resumo!$D$3,Registros!$C$2:$C$501,$B505,Registros!$E$2:$E$501,$D505,Registros!$T$2:$T$501,"Sim")/$E505),"") | G505: =IFERROR(IF($E505=0,"",AVERAGEIFS(Registros!$U$2:$U$501,Registros!$AB$2:$AB$501,"Sim",Registros!$B$2:$B$501,">="&Resumo!$B$3,Registros!$B$2:$B$501,"<="&Resumo!$D$3,Registros!$C$2:$C$501,$B505,Registros!$E$2:$E$501,$D505)),"") | H505: =IF($E505=0,"",SUMIFS(Registros!$Q$2:$Q$501,Registros!$AB$2:$AB$501,"Sim",Registros!$B$2:$B$501,">="&Resumo!$B$3,Registros!$B$2:$B$501,"<="&Resumo!$D$3,Registros!$C$2:$C$501,$B505,Registros!$E$2:$E$501,$D505)) | I505: =IF($E505=0,"",SUMIFS(Registros!$S$2:$S$501,Registros!$AB$2:$AB$501,"Sim",Registros!$B$2:$B$501,">="&Resumo!$B$3,Registros!$B$2:$B$501,"<="&Resumo!$D$3,Registros!$C$2:$C$501,$B505,Registros!$E$2:$E$501,$D505)) | J505: =IF($E505=0,"",COUNTIFS(Registros!$AB$2:$AB$501,"Sim",Registros!$B$2:$B$501,">="&Resumo!$B$3,Registros!$B$2:$B$501,"<="&Resumo!$D$3,Registros!$C$2:$C$501,$B505,Registros!$E$2:$E$501,$D505,Registros!$T$2:$T$501,"Não",Registros!$K$2:$K$501,"<>Concluída",Registros!$K$2:$K$501,"<>Dispensada")) | K505: =IFERROR(IF($E505=0,"",_xlfn.MAXIFS(Registros!$B$2:$B$501,Registros!$AB$2:$AB$501,"Sim",Registros!$B$2:$B$501,">="&Resumo!$B$3,Registros!$B$2:$B$501,"<="&Resumo!$D$3,Registros!$C$2:$C$501,$B505,Registros!$E$2:$E$501,$D505)),"") | L505: =IF($E505=0,"",COUNTIFS($E$6:$E$505,">0",$F$6:$F$505,"<"&$F505)+COUNTIFS($E$6:$E505,">0",$F$6:$F505,$F505)) | N505: =IFERROR('Configurações'!F503,"") | O505: =IF($N505="","",IF(Resumo!$F$3="Todas",COUNTIFS(Registros!$AB$2:$AB$501,"Sim",Registros!$B$2:$B$501,">="&Resumo!$B$3,Registros!$B$2:$B$501,"<="&Resumo!$D$3,Registros!$V$2:$V$501,$N505),COUNTIFS(Registros!$AB$2:$AB$501,"Sim",Registros!$B$2:$B$501,">="&Resumo!$B$3,Registros!$B$2:$B$501,"<="&Resumo!$D$3,Registros!$E$2:$E$501,Resumo!$F$3,Registros!$V$2:$V$501,$N505))) | P505: =IF($N505="","",IF(Resumo!$F$3="Todas",SUMIFS(Registros!$S$2:$S$501,Registros!$AB$2:$AB$501,"Sim",Registros!$B$2:$B$501,">="&Resumo!$B$3,Registros!$B$2:$B$501,"<="&Resumo!$D$3,Registros!$V$2:$V$501,$N505),SUMIFS(Registros!$S$2:$S$501,Registros!$AB$2:$AB$501,"Sim",Registros!$B$2:$B$501,">="&Resumo!$B$3,Registros!$B$2:$B$501,"<="&Resumo!$D$3,Registros!$E$2:$E$501,Resumo!$F$3,Registros!$V$2:$V$501,$N505))) | Q505: =IFERROR(IF(SUM($P$6:$P$15)=0,"",$P505/SUM($P$6:$P$15)),"") | R505: =IF($O505=0,"",COUNTIFS($O$6:$O$15,">0",$P$6:$P$15,">"&$P505)+COUNTIFS($O$6:$O505,">0",$P$6:$P505,$P505))

Sheet Fila de investigação
A1: Fila de investigação de divergências
A2: A fila é automática. Atualize causas, responsáveis, prazos e status somente na aba Registros.
A4: Posição | B4: ID da medição | C4: Data da contagem | D4: SKU | E4: Produto | F4: Localização | G4: Divergência (un.) | H4: Impacto absoluto | I4: Causa atual | J4: Status | K4: Equipe | L4: Prazo | M4: Dias em aberto | N4: Prioridade | O4: Alerta
A5: =IF($B5="","",ROWS($A$5:A5)) | B5: =IFERROR(INDEX(Registros!$A$2:$A$501,MATCH(ROWS($B$5:B5),Registros!$AD$2:$AD$501,0)),"") | C5: =IFERROR(INDEX(Registros!$B$2:$B$501,MATCH(ROWS($B$5:B5),Registros!$AD$2:$AD$501,0)),"") | D5: =IFERROR(INDEX(Registros!$C$2:$C$501,MATCH(ROWS($B$5:B5),Registros!$AD$2:$AD$501,0)),"") | E5: =IFERROR(INDEX(Registros!$D$2:$D$501,MATCH(ROWS($B$5:B5),Registros!$AD$2:$AD$501,0)),"") | F5: =IFERROR(INDEX(Registros!$E$2:$E$501,MATCH(ROWS($B$5:B5),Registros!$AD$2:$AD$501,0)),"") | G5: =IFERROR(INDEX(Registros!$P$2:$P$501,MATCH(ROWS($B$5:B5),Registros!$AD$2:$AD$501,0)),"") | H5: =IFERROR(INDEX(Registros!$S$2:$S$501,MATCH(ROWS($B$5:B5),Registros!$AD$2:$AD$501,0)),"") | I5: =IFERROR(INDEX(Registros!$V$2:$V$501,MATCH(ROWS($B$5:B5),Registros!$AD$2:$AD$501,0)),"") | J5: =IFERROR(INDEX(Registros!$K$2:$K$501,MATCH(ROWS($B$5:B5),Registros!$AD$2:$AD$501,0)),"") | K5: =IFERROR(INDEX(Registros!$L$2:$L$501,MATCH(ROWS($B$5:B5),Registros!$AD$2:$AD$501,0)),"") | L5: =IFERROR(INDEX(Registros!$M$2:$M$501,MATCH(ROWS($B$5:B5),Registros!$AD$2:$AD$501,0)),"") | M5: =IFERROR(INDEX(Registros!$W$2:$W$501,MATCH(ROWS($B$5:B5),Registros!$AD$2:$AD$501,0)),"") | N5: =IFERROR(INDEX(Registros!$X$2:$X$501,MATCH(ROWS($B$5:B5),Registros!$AD$2:$AD$501,0)),"") | O5: =IFERROR(INDEX(Registros!$Y$2:$Y$501,MATCH(ROWS($B$5:B5),Registros!$AD$2:$AD$501,0)),"")
A6: =IF($B6="","",ROWS($A$5:A6)) | B6: =IFERROR(INDEX(Registros!$A$2:$A$501,MATCH(ROWS($B$5:B6),Registros!$AD$2:$AD$501,0)),"") | C6: =IFERROR(INDEX(Registros!$B$2:$B$501,MATCH(ROWS($B$5:B6),Registros!$AD$2:$AD$501,0)),"") | D6: =IFERROR(INDEX(Registros!$C$2:$C$501,MATCH(ROWS($B$5:B6),Registros!$AD$2:$AD$501,0)),"") | E6: =IFERROR(INDEX(Registros!$D$2:$D$501,MATCH(ROWS($B$5:B6),Registros!$AD$2:$AD$501,0)),"") | F6: =IFERROR(INDEX(Registros!$E$2:$E$501,MATCH(ROWS($B$5:B6),Registros!$AD$2:$AD$501,0)),"") | G6: =IFERROR(INDEX(Registros!$P$2:$P$501,MATCH(ROWS($B$5:B6),Registros!$AD$2:$AD$501,0)),"") | H6: =IFERROR(INDEX(Registros!$S$2:$S$501,MATCH(ROWS($B$5:B6),Registros!$AD$2:$AD$501,0)),"") | I6: =IFERROR(INDEX(Registros!$V$2:$V$501,MATCH(ROWS($B$5:B6),Registros!$AD$2:$AD$501,0)),"") | J6: =IFERROR(INDEX(Registros!$K$2:$K$501,MATCH(ROWS($B$5:B6),Registros!$AD$2:$AD$501,0)),"") | K6: =IFERROR(INDEX(Registros!$L$2:$L$501,MATCH(ROWS($B$5:B6),Registros!$AD$2:$AD$501,0)),"") | L6: =IFERROR(INDEX(Registros!$M$2:$M$501,MATCH(ROWS($B$5:B6),Registros!$AD$2:$AD$501,0)),"") | M6: =IFERROR(INDEX(Registros!$W$2:$W$501,MATCH(ROWS($B$5:B6),Registros!$AD$2:$AD$501,0)),"") | N6: =IFERROR(INDEX(Registros!$X$2:$X$501,MATCH(ROWS($B$5:B6),Registros!$AD$2:$AD$501,0)),"") | O6: =IFERROR(INDEX(Registros!$Y$2:$Y$501,MATCH(ROWS($B$5:B6),Registros!$AD$2:$AD$501,0)),"")
A7: =IF($B7="","",ROWS($A$5:A7)) | B7: =IFERROR(INDEX(Registros!$A$2:$A$501,MATCH(ROWS($B$5:B7),Registros!$AD$2:$AD$501,0)),"") | C7: =IFERROR(INDEX(Registros!$B$2:$B$501,MATCH(ROWS($B$5:B7),Registros!$AD$2:$AD$501,0)),"") | D7: =IFERROR(INDEX(Registros!$C$2:$C$501,MATCH(ROWS($B$5:B7),Registros!$AD$2:$AD$501,0)),"") | E7: =IFERROR(INDEX(Registros!$D$2:$D$501,MATCH(ROWS($B$5:B7),Registros!$AD$2:$AD$501,0)),"") | F7: =IFERROR(INDEX(Registros!$E$2:$E$501,MATCH(ROWS($B$5:B7),Registros!$AD$2:$AD$501,0)),"") | G7: =IFERROR(INDEX(Registros!$P$2:$P$501,MATCH(ROWS($B$5:B7),Registros!$AD$2:$AD$501,0)),"") | H7: =IFERROR(INDEX(Registros!$S$2:$S$501,MATCH(ROWS($B$5:B7),Registros!$AD$2:$AD$501,0)),"") | I7: =IFERROR(INDEX(Registros!$V$2:$V$501,MATCH(ROWS($B$5:B7),Registros!$AD$2:$AD$501,0)),"") | J7: =IFERROR(INDEX(Registros!$K$2:$K$501,MATCH(ROWS($B$5:B7),Registros!$AD$2:$AD$501,0)),"") | K7: =IFERROR(INDEX(Registros!$L$2:$L$501,MATCH(ROWS($B$5:B7),Registros!$AD$2:$AD$501,0)),"") | L7: =IFERROR(INDEX(Registros!$M$2:$M$501,MATCH(ROWS($B$5:B7),Registros!$AD$2:$AD$501,0)),"") | M7: =IFERROR(INDEX(Registros!$W$2:$W$501,MATCH(ROWS($B$5:B7),Registros!$AD$2:$AD$501,0)),"") | N7: =IFERROR(INDEX(Registros!$X$2:$X$501,MATCH(ROWS($B$5:B7),Registros!$AD$2:$AD$501,0)),"") | O7: =IFERROR(INDEX(Registros!$Y$2:$Y$501,MATCH(ROWS($B$5:B7),Registros!$AD$2:$AD$501,0)),"")
A8: =IF($B8="","",ROWS($A$5:A8)) | B8: =IFERROR(INDEX(Registros!$A$2:$A$501,MATCH(ROWS($B$5:B8),Registros!$AD$2:$AD$501,0)),"") | C8: =IFERROR(INDEX(Registros!$B$2:$B$501,MATCH(ROWS($B$5:B8),Registros!$AD$2:$AD$501,0)),"") | D8: =IFERROR(INDEX(Registros!$C$2:$C$501,MATCH(ROWS($B$5:B8),Registros!$AD$2:$AD$501,0)),"") | E8: =IFERROR(INDEX(Registros!$D$2:$D$501,MATCH(ROWS($B$5:B8),Registros!$AD$2:$AD$501,0)),"") | F8: =IFERROR(INDEX(Registros!$E$2:$E$501,MATCH(ROWS($B$5:B8),Registros!$AD$2:$AD$501,0)),"") | G8: =IFERROR(INDEX(Registros!$P$2:$P$501,MATCH(ROWS($B$5:B8),Registros!$AD$2:$AD$501,0)),"") | H8: =IFERROR(INDEX(Registros!$S$2:$S$501,MATCH(ROWS($B$5:B8),Registros!$AD$2:$AD$501,0)),"") | I8: =IFERROR(INDEX(Registros!$V$2:$V$501,MATCH(ROWS($B$5:B8),Registros!$AD$2:$AD$501,0)),"") | J8: =IFERROR(INDEX(Registros!$K$2:$K$501,MATCH(ROWS($B$5:B8),Registros!$AD$2:$AD$501,0)),"") | K8: =IFERROR(INDEX(Registros!$L$2:$L$501,MATCH(ROWS($B$5:B8),Registros!$AD$2:$AD$501,0)),"") | L8: =IFERROR(INDEX(Registros!$M$2:$M$501,MATCH(ROWS($B$5:B8),Registros!$AD$2:$AD$501,0)),"") | M8: =IFERROR(INDEX(Registros!$W$2:$W$501,MATCH(ROWS($B$5:B8),Registros!$AD$2:$AD$501,0)),"") | N8: =IFERROR(INDEX(Registros!$X$2:$X$501,MATCH(ROWS($B$5:B8),Registros!$AD$2:$AD$501,0)),"") | O8: =IFERROR(INDEX(Registros!$Y$2:$Y$501,MATCH(ROWS($B$5:B8),Registros!$AD$2:$AD$501,0)),"")
A9: =IF($B9="","",ROWS($A$5:A9)) | B9: =IFERROR(INDEX(Registros!$A$2:$A$501,MATCH(ROWS($B$5:B9),Registros!$AD$2:$AD$501,0)),"") | C9: =IFERROR(INDEX(Registros!$B$2:$B$501,MATCH(ROWS($B$5:B9),Registros!$AD$2:$AD$501,0)),"") | D9: =IFERROR(INDEX(Registros!$C$2:$C$501,MATCH(ROWS($B$5:B9),Registros!$AD$2:$AD$501,0)),"") | E9: =IFERROR(INDEX(Registros!$D$2:$D$501,MATCH(ROWS($B$5:B9),Registros!$AD$2:$AD$501,0)),"") | F9: =IFERROR(INDEX(Registros!$E$2:$E$501,MATCH(ROWS($B$5:B9),Registros!$AD$2:$AD$501,0)),"") | G9: =IFERROR(INDEX(Registros!$P$2:$P$501,MATCH(ROWS($B$5:B9),Registros!$AD$2:$AD$501,0)),"") | H9: =IFERROR(INDEX(Registros!$S$2:$S$501,MATCH(ROWS($B$5:B9),Registros!$AD$2:$AD$501,0)),"") | I9: =IFERROR(INDEX(Registros!$V$2:$V$501,MATCH(ROWS($B$5:B9),Registros!$AD$2:$AD$501,0)),"") | J9: =IFERROR(INDEX(Registros!$K$2:$K$501,MATCH(ROWS($B$5:B9),Registros!$AD$2:$AD$501,0)),"") | K9: =IFERROR(INDEX(Registros!$L$2:$L$501,MATCH(ROWS($B$5:B9),Registros!$AD$2:$AD$501,0)),"") | L9: =IFERROR(INDEX(Registros!$M$2:$M$501,MATCH(ROWS($B$5:B9),Registros!$AD$2:$AD$501,0)),"") | M9: =IFERROR(INDEX(Registros!$W$2:$W$501,MATCH(ROWS($B$5:B9),Registros!$AD$2:$AD$501,0)),"") | N9: =IFERROR(INDEX(Registros!$X$2:$X$501,MATCH(ROWS($B$5:B9),Registros!$AD$2:$AD$501,0)),"") | O9: =IFERROR(INDEX(Registros!$Y$2:$Y$501,MATCH(ROWS($B$5:B9),Registros!$AD$2:$AD$501,0)),"")
A10: =IF($B10="","",ROWS($A$5:A10)) | B10: =IFERROR(INDEX(Registros!$A$2:$A$501,MATCH(ROWS($B$5:B10),Registros!$AD$2:$AD$501,0)),"") | C10: =IFERROR(INDEX(Registros!$B$2:$B$501,MATCH(ROWS($B$5:B10),Registros!$AD$2:$AD$501,0)),"") | D10: =IFERROR(INDEX(Registros!$C$2:$C$501,MATCH(ROWS($B$5:B10),Registros!$AD$2:$AD$501,0)),"") | E10: =IFERROR(INDEX(Registros!$D$2:$D$501,MATCH(ROWS($B$5:B10),Registros!$AD$2:$AD$501,0)),"") | F10: =IFERROR(INDEX(Registros!$E$2:$E$501,MATCH(ROWS($B$5:B10),Registros!$AD$2:$AD$501,0)),"") | G10: =IFERROR(INDEX(Registros!$P$2:$P$501,MATCH(ROWS($B$5:B10),Registros!$AD$2:$AD$501,0)),"") | H10: =IFERROR(INDEX(Registros!$S$2:$S$501,MATCH(ROWS($B$5:B10),Registros!$AD$2:$AD$501,0)),"") | I10: =IFERROR(INDEX(Registros!$V$2:$V$501,MATCH(ROWS($B$5:B10),Registros!$AD$2:$AD$501,0)),"") | J10: =IFERROR(INDEX(Registros!$K$2:$K$501,MATCH(ROWS($B$5:B10),Registros!$AD$2:$AD$501,0)),"") | K10: =IFERROR(INDEX(Registros!$L$2:$L$501,MATCH(ROWS($B$5:B10),Registros!$AD$2:$AD$501,0)),"") | L10: =IFERROR(INDEX(Registros!$M$2:$M$501,MATCH(ROWS($B$5:B10),Registros!$AD$2:$AD$501,0)),"") | M10: =IFERROR(INDEX(Registros!$W$2:$W$501,MATCH(ROWS($B$5:B10),Registros!$AD$2:$AD$501,0)),"") | N10: =IFERROR(INDEX(Registros!$X$2:$X$501,MATCH(ROWS($B$5:B10),Registros!$AD$2:$AD$501,0)),"") | O10: =IFERROR(INDEX(Registros!$Y$2:$Y$501,MATCH(ROWS($B$5:B10),Registros!$AD$2:$AD$501,0)),"")
A11: =IF($B11="","",ROWS($A$5:A11)) | B11: =IFERROR(INDEX(Registros!$A$2:$A$501,MATCH(ROWS($B$5:B11),Registros!$AD$2:$AD$501,0)),"") | C11: =IFERROR(INDEX(Registros!$B$2:$B$501,MATCH(ROWS($B$5:B11),Registros!$AD$2:$AD$501,0)),"") | D11: =IFERROR(INDEX(Registros!$C$2:$C$501,MATCH(ROWS($B$5:B11),Registros!$AD$2:$AD$501,0)),"") | E11: =IFERROR(INDEX(Registros!$D$2:$D$501,MATCH(ROWS($B$5:B11),Registros!$AD$2:$AD$501,0)),"") | F11: =IFERROR(INDEX(Registros!$E$2:$E$501,MATCH(ROWS($B$5:B11),Registros!$AD$2:$AD$501,0)),"") | G11: =IFERROR(INDEX(Registros!$P$2:$P$501,MATCH(ROWS($B$5:B11),Registros!$AD$2:$AD$501,0)),"") | H11: =IFERROR(INDEX(Registros!$S$2:$S$501,MATCH(ROWS($B$5:B11),Registros!$AD$2:$AD$501,0)),"") | I11: =IFERROR(INDEX(Registros!$V$2:$V$501,MATCH(ROWS($B$5:B11),Registros!$AD$2:$AD$501,0)),"") | J11: =IFERROR(INDEX(Registros!$K$2:$K$501,MATCH(ROWS($B$5:B11),Registros!$AD$2:$AD$501,0)),"") | K11: =IFERROR(INDEX(Registros!$L$2:$L$501,MATCH(ROWS($B$5:B11),Registros!$AD$2:$AD$501,0)),"") | L11: =IFERROR(INDEX(Registros!$M$2:$M$501,MATCH(ROWS($B$5:B11),Registros!$AD$2:$AD$501,0)),"") | M11: =IFERROR(INDEX(Registros!$W$2:$W$501,MATCH(ROWS($B$5:B11),Registros!$AD$2:$AD$501,0)),"") | N11: =IFERROR(INDEX(Registros!$X$2:$X$501,MATCH(ROWS($B$5:B11),Registros!$AD$2:$AD$501,0)),"") | O11: =IFERROR(INDEX(Registros!$Y$2:$Y$501,MATCH(ROWS($B$5:B11),Registros!$AD$2:$AD$501,0)),"")
A12: =IF($B12="","",ROWS($A$5:A12)) | B12: =IFERROR(INDEX(Registros!$A$2:$A$501,MATCH(ROWS($B$5:B12),Registros!$AD$2:$AD$501,0)),"") | C12: =IFERROR(INDEX(Registros!$B$2:$B$501,MATCH(ROWS($B$5:B12),Registros!$AD$2:$AD$501,0)),"") | D12: =IFERROR(INDEX(Registros!$C$2:$C$501,MATCH(ROWS($B$5:B12),Registros!$AD$2:$AD$501,0)),"") | E12: =IFERROR(INDEX(Registros!$D$2:$D$501,MATCH(ROWS($B$5:B12),Registros!$AD$2:$AD$501,0)),"") | F12: =IFERROR(INDEX(Registros!$E$2:$E$501,MATCH(ROWS($B$5:B12),Registros!$AD$2:$AD$501,0)),"") | G12: =IFERROR(INDEX(Registros!$P$2:$P$501,MATCH(ROWS($B$5:B12),Registros!$AD$2:$AD$501,0)),"") | H12: =IFERROR(INDEX(Registros!$S$2:$S$501,MATCH(ROWS($B$5:B12),Registros!$AD$2:$AD$501,0)),"") | I12: =IFERROR(INDEX(Registros!$V$2:$V$501,MATCH(ROWS($B$5:B12),Registros!$AD$2:$AD$501,0)),"") | J12: =IFERROR(INDEX(Registros!$K$2:$K$501,MATCH(ROWS($B$5:B12),Registros!$AD$2:$AD$501,0)),"") | K12: =IFERROR(INDEX(Registros!$L$2:$L$501,MATCH(ROWS($B$5:B12),Registros!$AD$2:$AD$501,0)),"") | L12: =IFERROR(INDEX(Registros!$M$2:$M$501,MATCH(ROWS($B$5:B12),Registros!$AD$2:$AD$501,0)),"") | M12: =IFERROR(INDEX(Registros!$W$2:$W$501,MATCH(ROWS($B$5:B12),Registros!$AD$2:$AD$501,0)),"") | N12: =IFERROR(INDEX(Registros!$X$2:$X$501,MATCH(ROWS($B$5:B12),Registros!$AD$2:$AD$501,0)),"") | O12: =IFERROR(INDEX(Registros!$Y$2:$Y$501,MATCH(ROWS($B$5:B12),Registros!$AD$2:$AD$501,0)),"")
A13: =IF($B13="","",ROWS($A$5:A13)) | B13: =IFERROR(INDEX(Registros!$A$2:$A$501,MATCH(ROWS($B$5:B13),Registros!$AD$2:$AD$501,0)),"") | C13: =IFERROR(INDEX(Registros!$B$2:$B$501,MATCH(ROWS($B$5:B13),Registros!$AD$2:$AD$501,0)),"") | D13: =IFERROR(INDEX(Registros!$C$2:$C$501,MATCH(ROWS($B$5:B13),Registros!$AD$2:$AD$501,0)),"") | E13: =IFERROR(INDEX(Registros!$D$2:$D$501,MATCH(ROWS($B$5:B13),Registros!$AD$2:$AD$501,0)),"") | F13: =IFERROR(INDEX(Registros!$E$2:$E$501,MATCH(ROWS($B$5:B13),Registros!$AD$2:$AD$501,0)),"") | G13: =IFERROR(INDEX(Registros!$P$2:$P$501,MATCH(ROWS($B$5:B13),Registros!$AD$2:$AD$501,0)),"") | H13: =IFERROR(INDEX(Registros!$S$2:$S$501,MATCH(ROWS($B$5:B13),Registros!$AD$2:$AD$501,0)),"") | I13: =IFERROR(INDEX(Registros!$V$2:$V$501,MATCH(ROWS($B$5:B13),Registros!$AD$2:$AD$501,0)),"") | J13: =IFERROR(INDEX(Registros!$K$2:$K$501,MATCH(ROWS($B$5:B13),Registros!$AD$2:$AD$501,0)),"") | K13: =IFERROR(INDEX(Registros!$L$2:$L$501,MATCH(ROWS($B$5:B13),Registros!$AD$2:$AD$501,0)),"") | L13: =IFERROR(INDEX(Registros!$M$2:$M$501,MATCH(ROWS($B$5:B13),Registros!$AD$2:$AD$501,0)),"") | M13: =IFERROR(INDEX(Registros!$W$2:$W$501,MATCH(ROWS($B$5:B13),Registros!$AD$2:$AD$501,0)),"") | N13: =IFERROR(INDEX(Registros!$X$2:$X$501,MATCH(ROWS($B$5:B13),Registros!$AD$2:$AD$501,0)),"") | O13: =IFERROR(INDEX(Registros!$Y$2:$Y$501,MATCH(ROWS($B$5:B13),Registros!$AD$2:$AD$501,0)),"")
A14: =IF($B14="","",ROWS($A$5:A14)) | B14: =IFERROR(INDEX(Registros!$A$2:$A$501,MATCH(ROWS($B$5:B14),Registros!$AD$2:$AD$501,0)),"") | C14: =IFERROR(INDEX(Registros!$B$2:$B$501,MATCH(ROWS($B$5:B14),Registros!$AD$2:$AD$501,0)),"") | D14: =IFERROR(INDEX(Registros!$C$2:$C$501,MATCH(ROWS($B$5:B14),Registros!$AD$2:$AD$501,0)),"") | E14: =IFERROR(INDEX(Registros!$D$2:$D$501,MATCH(ROWS($B$5:B14),Registros!$AD$2:$AD$501,0)),"") | F14: =IFERROR(INDEX(Registros!$E$2:$E$501,MATCH(ROWS($B$5:B14),Registros!$AD$2:$AD$501,0)),"") | G14: =IFERROR(INDEX(Registros!$P$2:$P$501,MATCH(ROWS($B$5:B14),Registros!$AD$2:$AD$501,0)),"") | H14: =IFERROR(INDEX(Registros!$S$2:$S$501,MATCH(ROWS($B$5:B14),Registros!$AD$2:$AD$501,0)),"") | I14: =IFERROR(INDEX(Registros!$V$2:$V$501,MATCH(ROWS($B$5:B14),Registros!$AD$2:$AD$501,0)),"") | J14: =IFERROR(INDEX(Registros!$K$2:$K$501,MATCH(ROWS($B$5:B14),Registros!$AD$2:$AD$501,0)),"") | K14: =IFERROR(INDEX(Registros!$L$2:$L$501,MATCH(ROWS($B$5:B14),Registros!$AD$2:$AD$501,0)),"") | L14: =IFERROR(INDEX(Registros!$M$2:$M$501,MATCH(ROWS($B$5:B14),Registros!$AD$2:$AD$501,0)),"") | M14: =IFERROR(INDEX(Registros!$W$2:$W$501,MATCH(ROWS($B$5:B14),Registros!$AD$2:$AD$501,0)),"") | N14: =IFERROR(INDEX(Registros!$X$2:$X$501,MATCH(ROWS($B$5:B14),Registros!$AD$2:$AD$501,0)),"") | O14: =IFERROR(INDEX(Registros!$Y$2:$Y$501,MATCH(ROWS($B$5:B14),Registros!$AD$2:$AD$501,0)),"")
A15: =IF($B15="","",ROWS($A$5:A15)) | B15: =IFERROR(INDEX(Registros!$A$2:$A$501,MATCH(ROWS($B$5:B15),Registros!$AD$2:$AD$501,0)),"") | C15: =IFERROR(INDEX(Registros!$B$2:$B$501,MATCH(ROWS($B$5:B15),Registros!$AD$2:$AD$501,0)),"") | D15: =IFERROR(INDEX(Registros!$C$2:$C$501,MATCH(ROWS($B$5:B15),Registros!$AD$2:$AD$501,0)),"") | E15: =IFERROR(INDEX(Registros!$D$2:$D$501,MATCH(ROWS($B$5:B15),Registros!$AD$2:$AD$501,0)),"") | F15: =IFERROR(INDEX(Registros!$E$2:$E$501,MATCH(ROWS($B$5:B15),Registros!$AD$2:$AD$501,0)),"") | G15: =IFERROR(INDEX(Registros!$P$2:$P$501,MATCH(ROWS($B$5:B15),Registros!$AD$2:$AD$501,0)),"") | H15: =IFERROR(INDEX(Registros!$S$2:$S$501,MATCH(ROWS($B$5:B15),Registros!$AD$2:$AD$501,0)),"") | I15: =IFERROR(INDEX(Registros!$V$2:$V$501,MATCH(ROWS($B$5:B15),Registros!$AD$2:$AD$501,0)),"") | J15: =IFERROR(INDEX(Registros!$K$2:$K$501,MATCH(ROWS($B$5:B15),Registros!$AD$2:$AD$501,0)),"") | K15: =IFERROR(INDEX(Registros!$L$2:$L$501,MATCH(ROWS($B$5:B15),Registros!$AD$2:$AD$501,0)),"") | L15: =IFERROR(INDEX(Registros!$M$2:$M$501,MATCH(ROWS($B$5:B15),Registros!$AD$2:$AD$501,0)),"") | M15: =IFERROR(INDEX(Registros!$W$2:$W$501,MATCH(ROWS($B$5:B15),Registros!$AD$2:$AD$501,0)),"") | N15: =IFERROR(INDEX(Registros!$X$2:$X$501,MATCH(ROWS($B$5:B15),Registros!$AD$2:$AD$501,0)),"") | O15: =IFERROR(INDEX(Registros!$Y$2:$Y$501,MATCH(ROWS($B$5:B15),Registros!$AD$2:$AD$501,0)),"")
A16: =IF($B16="","",ROWS($A$5:A16)) | B16: =IFERROR(INDEX(Registros!$A$2:$A$501,MATCH(ROWS($B$5:B16),Registros!$AD$2:$AD$501,0)),"") | C16: =IFERROR(INDEX(Registros!$B$2:$B$501,MATCH(ROWS($B$5:B16),Registros!$AD$2:$AD$501,0)),"") | D16: =IFERROR(INDEX(Registros!$C$2:$C$501,MATCH(ROWS($B$5:B16),Registros!$AD$2:$AD$501,0)),"") | E16: =IFERROR(INDEX(Registros!$D$2:$D$501,MATCH(ROWS($B$5:B16),Registros!$AD$2:$AD$501,0)),"") | F16: =IFERROR(INDEX(Registros!$E$2:$E$501,MATCH(ROWS($B$5:B16),Registros!$AD$2:$AD$501,0)),"") | G16: =IFERROR(INDEX(Registros!$P$2:$P$501,MATCH(ROWS($B$5:B16),Registros!$AD$2:$AD$501,0)),"") | H16: =IFERROR(INDEX(Registros!$S$2:$S$501,MATCH(ROWS($B$5:B16),Registros!$AD$2:$AD$501,0)),"") | I16: =IFERROR(INDEX(Registros!$V$2:$V$501,MATCH(ROWS($B$5:B16),Registros!$AD$2:$AD$501,0)),"") | J16: =IFERROR(INDEX(Registros!$K$2:$K$501,MATCH(ROWS($B$5:B16),Registros!$AD$2:$AD$501,0)),"") | K16: =IFERROR(INDEX(Registros!$L$2:$L$501,MATCH(ROWS($B$5:B16),Registros!$AD$2:$AD$501,0)),"") | L16: =IFERROR(INDEX(Registros!$M$2:$M$501,MATCH(ROWS($B$5:B16),Registros!$AD$2:$AD$501,0)),"") | M16: =IFERROR(INDEX(Registros!$W$2:$W$501,MATCH(ROWS($B$5:B16),Registros!$AD$2:$AD$501,0)),"") | N16: =IFERROR(INDEX(Registros!$X$2:$X$501,MATCH(ROWS($B$5:B16),Registros!$AD$2:$AD$501,0)),"") | O16: =IFERROR(INDEX(Registros!$Y$2:$Y$501,MATCH(ROWS($B$5:B16),Registros!$AD$2:$AD$501,0)),"")
... A504: =IF($B504="","",ROWS($A$5:A504)) | B504: =IFERROR(INDEX(Registros!$A$2:$A$501,MATCH(ROWS($B$5:B504),Registros!$AD$2:$AD$501,0)),"") | C504: =IFERROR(INDEX(Registros!$B$2:$B$501,MATCH(ROWS($B$5:B504),Registros!$AD$2:$AD$501,0)),"") | D504: =IFERROR(INDEX(Registros!$C$2:$C$501,MATCH(ROWS($B$5:B504),Registros!$AD$2:$AD$501,0)),"") | E504: =IFERROR(INDEX(Registros!$D$2:$D$501,MATCH(ROWS($B$5:B504),Registros!$AD$2:$AD$501,0)),"") | F504: =IFERROR(INDEX(Registros!$E$2:$E$501,MATCH(ROWS($B$5:B504),Registros!$AD$2:$AD$501,0)),"") | G504: =IFERROR(INDEX(Registros!$P$2:$P$501,MATCH(ROWS($B$5:B504),Registros!$AD$2:$AD$501,0)),"") | H504: =IFERROR(INDEX(Registros!$S$2:$S$501,MATCH(ROWS($B$5:B504),Registros!$AD$2:$AD$501,0)),"") | I504: =IFERROR(INDEX(Registros!$V$2:$V$501,MATCH(ROWS($B$5:B504),Registros!$AD$2:$AD$501,0)),"") | J504: =IFERROR(INDEX(Registros!$K$2:$K$501,MATCH(ROWS($B$5:B504),Registros!$AD$2:$AD$501,0)),"") | K504: =IFERROR(INDEX(Registros!$L$2:$L$501,MATCH(ROWS($B$5:B504),Registros!$AD$2:$AD$501,0)),"") | L504: =IFERROR(INDEX(Registros!$M$2:$M$501,MATCH(ROWS($B$5:B504),Registros!$AD$2:$AD$501,0)),"") | M504: =IFERROR(INDEX(Registros!$W$2:$W$501,MATCH(ROWS($B$5:B504),Registros!$AD$2:$AD$501,0)),"") | N504: =IFERROR(INDEX(Registros!$X$2:$X$501,MATCH(ROWS($B$5:B504),Registros!$AD$2:$AD$501,0)),"") | O504: =IFERROR(INDEX(Registros!$Y$2:$Y$501,MATCH(ROWS($B$5:B504),Registros!$AD$2:$AD$501,0)),"")

Sheet Configurações
A1: Configurações da acuracidade de estoque
A3: Parâmetro | B3: Valor | C3: Uso | D3: Localizações | F3: Causas | H3: Status | J3: Equipes | L3: Filtro de localização
A4: Limite de impacto crítico | B4: 1000 | C4: Classificar prioridade crítica | D4: CD Aurora - A1 | F4: Recebimento não registrado | H4: Não iniciada | J4: Estoque | L4: Todas
A5: Limite de impacto alto | B5: 300 | C5: Classificar prioridade alta | D5: CD Aurora - B2 | F5: Saída não baixada | H5: Em análise | J5: Operações | L5: CD Aurora - A1
A6: Limite de divergência alta | B6: 10 | C6: Quantidade absoluta | D6: Loja Neblina - Estoque | F6: Transferência pendente | H6: Aguardando ajuste | J6: Cadastro | L6: CD Aurora - B2
A7: Meta de acuracidade exata | B7: 0.95 | C7: Resumo e análises | D7: Hub Horizonte - Pulmão | F7: Erro de separação | H7: Concluída | J7: Tecnologia | L7: Loja Neblina - Estoque
A8: Meta de acuracidade quantitativa | B8: 0.98 | C8: Alertas e análises | D8: Área de quarentena | F8: Avaria não registrada | H8: Dispensada | J8: Prevenção de perdas | L8: Hub Horizonte - Pulmão
A9: Dias sem prazo para alerta | B9: 3 | C9: Cobrar definição de prazo | F9: Perda/extravio | J9: Sem atribuição | L9: Área de quarentena
A10: Data de referência | B10: 46271 | C10: Idade e vencimentos | F10: Erro de cadastro
F11: Devolução pendente
F12: Contagem incorreta
F13: Outro
A17: Verificação | B17: Quantidade | C17: Situação
A18: Linhas preenchidas com alerta | B18: =COUNTIF(Registros!$Y$2:$Y$501,"?*") | C18: =IF(B18=0,"OK","REVISAR")
A19: Linhas com ID duplicado | B19: =SUMPRODUCT(--(Registros!$A$2:$A$501<>""),--(COUNTIF(Registros!$A$2:$A$501,Registros!$A$2:$A$501)>1)) | C19: =IF(B19=0,"OK","REVISAR")
A20: Linhas preenchidas inválidas | B20: =COUNTIF(Registros!$AB$2:$AB$501,"Não") | C20: =IF(B20=0,"OK","REVISAR")
A21: Divergências sem causa | B21: =SUMPRODUCT(--(Registros!$A$2:$A$501<>""),--(Registros!$T$2:$T$501="Não"),--(Registros!$V$2:$V$501="")) | C21: =IF(B21=0,"OK","REVISAR")
A22: Concluídas sem causa confirmada | B22: =COUNTIFS(Registros!$A$2:$A$501,"<>",Registros!$K$2:$K$501,"Concluída",Registros!$T$2:$T$501,"Não",Registros!$J$2:$J$501,"") | C22: =IF(B22=0,"OK","REVISAR")
A23: Concluídas sem data de conclusão | B23: =COUNTIFS(Registros!$A$2:$A$501,"<>",Registros!$K$2:$K$501,"Concluída",Registros!$N$2:$N$501,"") | C23: =IF(B23=0,"OK","REVISAR")
A24: Pendências na origem | B24: =COUNT(Registros!$AD$2:$AD$501) | C24: INFORMATIVO
A25: Linhas exibidas na fila | B25: =COUNTIF('Fila de investigação'!$B$5:$B$504,"<>") | C25: INFORMATIVO
A26: Diferença entre origem e fila | B26: =B24-B25 | C26: =IF(B26=0,"OK","REVISAR")
A29: Orientações de uso
A30: Registre o saldo do sistema e a contagem física na mesma data de corte.
A31: Atualize causa confirmada, status e data de conclusão durante a investigação.
A32: A fila é automática; faça alterações somente na aba Registros.
A33: Atualize a data de referência antes de revisar prazos e dias em aberto.
A34: Células amarelas são entradas editáveis; áreas alternadas contêm resultados calculados.
A35: Esta pasta analisa acuracidade e divergências; não substitui uma folha de coleta de inventário.
