Workbook

Sheet Resumo
A1: Capacidade e Ocupação do Armazém
A3: Data de referência | B3: 46271 | D3: Limite de atenção | E3: 0.8 | G3: Limite crítico | H3: 0.9
D4: Meta máxima no cenário | E4: 0.85 | G4: Status da configuração | H4: =IF(AND(ISNUMBER($E$3),ISNUMBER($H$3),ISNUMBER($E$4),$E$3>0,$E$3<$H$3,$H$3<=1,$E$4>0,$E$4<=$H$3),"OK","REVISAR")
A6: Áreas cadastradas | B6: =COUNTIF('Áreas_Capacidade'!$A$7:$A$106,"<>") | D6: Capacidade operacional — posições | E6: =SUM('Áreas_Capacidade'!$H$7:$H$106) | G6: Posições ocupadas | H6: =SUM('Áreas_Capacidade'!$J$7:$J$106) | J6: Posições livres | K6: =SUM('Áreas_Capacidade'!$O$7:$O$106)
A9: Capacidade operacional — volume | B9: =SUM('Áreas_Capacidade'!$I$7:$I$106) | D9: Volume ocupado | E9: =SUM('Áreas_Capacidade'!$K$7:$K$106) | G9: Volume livre | H9: =SUM('Áreas_Capacidade'!$P$7:$P$106) | J9: Ocupação consolidada por posições | K9: =IFERROR($H$6/$E$6,"")
A12: Ocupação consolidada por volume | B12: =IFERROR($E$9/$B$9,"") | D12: Áreas em atenção | E12: =COUNTIF('Áreas_Capacidade'!$Q$7:$Q$106,"Atenção") | G12: Áreas críticas ou saturadas | H12: =COUNTIF('Áreas_Capacidade'!$Q$7:$Q$106,"Crítico")+COUNTIF('Áreas_Capacidade'!$Q$7:$Q$106,"Saturado") | J12: Pendências de revisão | K12: =COUNTIFS('Áreas_Capacidade'!$R$7:$R$106,"<>OK",'Áreas_Capacidade'!$A$7:$A$106,"<>")+COUNTIFS('Ocupação_SKU'!$J$7:$J$206,"<>OK",'Ocupação_SKU'!$B$7:$B$206,"<>")+COUNTIFS('Cenários'!$T$7:$T$106,"<>OK",'Cenários'!$A$7:$A$106,"<>")
A15: =IF($B$3="","ALERTA: selecione uma data de referência.",IF(COUNTIF('Ocupação_SKU'!$A$7:$A$206,$B$3)=0,"ALERTA: não há registros de ocupação para a data selecionada.",""))
A18: Status atual | B18: Quantidade | D18: Posição | E18: Área | F18: Ocupação limitante | H18: Verificação | I18: Resultado | M18: Área auxiliar | N18: Taxa auxiliar
A19: Adequado | B19: =COUNTIF('Áreas_Capacidade'!$Q$7:$Q$106,$A19) | D19: 1 | E19: =IFERROR(INDEX('Áreas_Capacidade'!$B$7:$B$106,MATCH(LARGE('Áreas_Capacidade'!$T$7:$T$106,$D19),'Áreas_Capacidade'!$T$7:$T$106,0)),"") | F19: =IFERROR(INDEX('Áreas_Capacidade'!$N$7:$N$106,MATCH(LARGE('Áreas_Capacidade'!$T$7:$T$106,$D19),'Áreas_Capacidade'!$T$7:$T$106,0)),"") | H19: Parâmetros do Resumo | I19: =H4 | M19: =IF($E19="","",$E19) | N19: =IF($M19="",0,$F19)
A20: Atenção | B20: =COUNTIF('Áreas_Capacidade'!$Q$7:$Q$106,$A20) | D20: 2 | E20: =IFERROR(INDEX('Áreas_Capacidade'!$B$7:$B$106,MATCH(LARGE('Áreas_Capacidade'!$T$7:$T$106,$D20),'Áreas_Capacidade'!$T$7:$T$106,0)),"") | F20: =IFERROR(INDEX('Áreas_Capacidade'!$N$7:$N$106,MATCH(LARGE('Áreas_Capacidade'!$T$7:$T$106,$D20),'Áreas_Capacidade'!$T$7:$T$106,0)),"") | H20: IDs de área duplicados | I20: =COUNTIF('Áreas_Capacidade'!$R$7:$R$106,"ID duplicado") | M20: =IF($E20="","",$E20) | N20: =IF($M20="",0,$F20)
A21: Crítico | B21: =COUNTIF('Áreas_Capacidade'!$Q$7:$Q$106,$A21) | D21: 3 | E21: =IFERROR(INDEX('Áreas_Capacidade'!$B$7:$B$106,MATCH(LARGE('Áreas_Capacidade'!$T$7:$T$106,$D21),'Áreas_Capacidade'!$T$7:$T$106,0)),"") | F21: =IFERROR(INDEX('Áreas_Capacidade'!$N$7:$N$106,MATCH(LARGE('Áreas_Capacidade'!$T$7:$T$106,$D21),'Áreas_Capacidade'!$T$7:$T$106,0)),"") | H21: Cadastros de área com pendência | I21: =COUNTIFS('Áreas_Capacidade'!$R$7:$R$106,"<>OK",'Áreas_Capacidade'!$A$7:$A$106,"<>") | M21: =IF($E21="","",$E21) | N21: =IF($M21="",0,$F21)
A22: Saturado | B22: =COUNTIF('Áreas_Capacidade'!$Q$7:$Q$106,$A22) | D22: 4 | E22: =IFERROR(INDEX('Áreas_Capacidade'!$B$7:$B$106,MATCH(LARGE('Áreas_Capacidade'!$T$7:$T$106,$D22),'Áreas_Capacidade'!$T$7:$T$106,0)),"") | F22: =IFERROR(INDEX('Áreas_Capacidade'!$N$7:$N$106,MATCH(LARGE('Áreas_Capacidade'!$T$7:$T$106,$D22),'Áreas_Capacidade'!$T$7:$T$106,0)),"") | H22: Linhas de ocupação com pendência | I22: =COUNTIFS('Ocupação_SKU'!$J$7:$J$206,"<>OK",'Ocupação_SKU'!$B$7:$B$206,"<>") | M22: =IF($E22="","",$E22) | N22: =IF($M22="",0,$F22)
A23: Sem base | B23: =COUNTIF('Áreas_Capacidade'!$Q$7:$Q$106,$A23) | D23: 5 | E23: =IFERROR(INDEX('Áreas_Capacidade'!$B$7:$B$106,MATCH(LARGE('Áreas_Capacidade'!$T$7:$T$106,$D23),'Áreas_Capacidade'!$T$7:$T$106,0)),"") | F23: =IFERROR(INDEX('Áreas_Capacidade'!$N$7:$N$106,MATCH(LARGE('Áreas_Capacidade'!$T$7:$T$106,$D23),'Áreas_Capacidade'!$T$7:$T$106,0)),"") | H23: Registros na data selecionada | I23: =COUNTIF('Ocupação_SKU'!$A$7:$A$206,$B$3) | M23: =IF($E23="","",$E23) | N23: =IF($M23="",0,$F23)
D24: 6 | E24: =IFERROR(INDEX('Áreas_Capacidade'!$B$7:$B$106,MATCH(LARGE('Áreas_Capacidade'!$T$7:$T$106,$D24),'Áreas_Capacidade'!$T$7:$T$106,0)),"") | F24: =IFERROR(INDEX('Áreas_Capacidade'!$N$7:$N$106,MATCH(LARGE('Áreas_Capacidade'!$T$7:$T$106,$D24),'Áreas_Capacidade'!$T$7:$T$106,0)),"") | H24: Áreas saturadas | I24: =COUNTIF('Áreas_Capacidade'!$Q$7:$Q$106,"Saturado") | M24: =IF($E24="","",$E24) | N24: =IF($M24="",0,$F24)
D25: 7 | E25: =IFERROR(INDEX('Áreas_Capacidade'!$B$7:$B$106,MATCH(LARGE('Áreas_Capacidade'!$T$7:$T$106,$D25),'Áreas_Capacidade'!$T$7:$T$106,0)),"") | F25: =IFERROR(INDEX('Áreas_Capacidade'!$N$7:$N$106,MATCH(LARGE('Áreas_Capacidade'!$T$7:$T$106,$D25),'Áreas_Capacidade'!$T$7:$T$106,0)),"") | H25: Áreas que ainda exigem expansão | I25: =SUMPRODUCT(--((Cenários!$Q$7:$Q$106>0)+(Cenários!$R$7:$R$106>0)>0)) | M25: =IF($E25="","",$E25) | N25: =IF($M25="",0,$F25)
D26: 8 | E26: =IFERROR(INDEX('Áreas_Capacidade'!$B$7:$B$106,MATCH(LARGE('Áreas_Capacidade'!$T$7:$T$106,$D26),'Áreas_Capacidade'!$T$7:$T$106,0)),"") | F26: =IFERROR(INDEX('Áreas_Capacidade'!$N$7:$N$106,MATCH(LARGE('Áreas_Capacidade'!$T$7:$T$106,$D26),'Áreas_Capacidade'!$T$7:$T$106,0)),"") | M26: =IF($E26="","",$E26) | N26: =IF($M26="",0,$F26)
D27: 9 | E27: =IFERROR(INDEX('Áreas_Capacidade'!$B$7:$B$106,MATCH(LARGE('Áreas_Capacidade'!$T$7:$T$106,$D27),'Áreas_Capacidade'!$T$7:$T$106,0)),"") | F27: =IFERROR(INDEX('Áreas_Capacidade'!$N$7:$N$106,MATCH(LARGE('Áreas_Capacidade'!$T$7:$T$106,$D27),'Áreas_Capacidade'!$T$7:$T$106,0)),"") | M27: =IF($E27="","",$E27) | N27: =IF($M27="",0,$F27)
D28: 10 | E28: =IFERROR(INDEX('Áreas_Capacidade'!$B$7:$B$106,MATCH(LARGE('Áreas_Capacidade'!$T$7:$T$106,$D28),'Áreas_Capacidade'!$T$7:$T$106,0)),"") | F28: =IFERROR(INDEX('Áreas_Capacidade'!$N$7:$N$106,MATCH(LARGE('Áreas_Capacidade'!$T$7:$T$106,$D28),'Áreas_Capacidade'!$T$7:$T$106,0)),"") | M28: =IF($E28="","",$E28) | N28: =IF($M28="",0,$F28)

Sheet Áreas_Capacidade
A1: Cadastro de Áreas e Capacidade
A3: Cadastre uma linha por área ou zona agregada. Não informe endereço físico de SKU.
A6: ID da área | B6: Área ou zona | C6: Modo de controle | D6: Capacidade total — posições | E6: Posições indisponíveis | F6: Volume útil total (m³) | G6: Reserva técnica (%) | H6: Capacidade operacional — posições | I6: Capacidade operacional — volume (m³) | J6: Posições ocupadas | K6: Volume ocupado (m³) | L6: Ocupação por posições | M6: Ocupação por volume | N6: Ocupação limitante | O6: Posições livres | P6: Volume livre (m³) | Q6: Status | R6: Alerta de cadastro | S6: Observações | T6: Chave de ranking
A7: ARM-001 | B7: Porta-paletes Aurora | C7: Ambos | D7: 120 | E7: 8 | F7: 210 | G7: 0.1 | H7: =IF($A7="","",IF(OR($C7="Posições",$C7="Ambos"),IF(AND(ISNUMBER($D7),ISNUMBER($E7),ISNUMBER($G7)),MAX(0,ROUNDDOWN(($D7-$E7)*(1-$G7),0)),""),"")) | I7: =IF($A7="","",IF(OR($C7="Volume",$C7="Ambos"),IF(AND(ISNUMBER($F7),ISNUMBER($G7)),MAX(0,$F7*(1-$G7)),""),"")) | J7: =IF($A7="","",IF(OR($C7="Posições",$C7="Ambos"),SUMIFS('Ocupação_SKU'!$I$7:$I$206,'Ocupação_SKU'!$D$7:$D$206,$A7,'Ocupação_SKU'!$A$7:$A$206,Resumo!$B$3),"")) | K7: =IF($A7="","",IF(OR($C7="Volume",$C7="Ambos"),SUMIFS('Ocupação_SKU'!$H$7:$H$206,'Ocupação_SKU'!$D$7:$D$206,$A7,'Ocupação_SKU'!$A$7:$A$206,Resumo!$B$3),"")) | L7: =IF(AND(ISNUMBER($H7),$H7>0,ISNUMBER($J7)),IFERROR($J7/$H7,""),"") | M7: =IF(AND(ISNUMBER($I7),$I7>0,ISNUMBER($K7)),IFERROR($K7/$I7,""),"") | N7: =IF($A7="","",IF($C7="Ambos",IF(COUNT($L7:$M7)=2,MAX($L7:$M7),""),IF($C7="Posições",$L7,IF($C7="Volume",$M7,"")))) | O7: =IF(AND(ISNUMBER($H7),ISNUMBER($J7)),$H7-$J7,"") | P7: =IF(AND(ISNUMBER($I7),ISNUMBER($K7)),$I7-$K7,"") | Q7: =IF($A7="","",IF(NOT(ISNUMBER($N7)),"Sem base",IF($N7>=1,"Saturado",IF($N7>=Resumo!$H$3,"Crítico",IF($N7>=Resumo!$E$3,"Atenção","Adequado"))))) | R7: =IF($A7="","",IF(COUNTIF($A$7:$A$106,$A7)>1,"ID duplicado",IF(OR($B7="",$C7="",$G7=""),"Completar cadastro",IF(OR($G7<0,$G7>=1),"Reserva fora do intervalo",IF(AND(OR($C7="Posições",$C7="Ambos"),OR($D7="",$E7="",$D7<=0,$E7<0,$E7>$D7)),"Revisar capacidade de posições",IF(AND(OR($C7="Volume",$C7="Ambos"),OR($F7="",$F7<=0)),"Revisar capacidade de volume","OK")))))) | S7: Estrutura fictícia principal | T7: =IF(ISNUMBER($N7),$N7+ROW()/1000000,"")
A8: ARM-002 | B8: Prateleiras Ipê | C8: Ambos | D8: 80 | E8: 4 | F8: 72 | G8: 0.12 | H8: =IF($A8="","",IF(OR($C8="Posições",$C8="Ambos"),IF(AND(ISNUMBER($D8),ISNUMBER($E8),ISNUMBER($G8)),MAX(0,ROUNDDOWN(($D8-$E8)*(1-$G8),0)),""),"")) | I8: =IF($A8="","",IF(OR($C8="Volume",$C8="Ambos"),IF(AND(ISNUMBER($F8),ISNUMBER($G8)),MAX(0,$F8*(1-$G8)),""),"")) | J8: =IF($A8="","",IF(OR($C8="Posições",$C8="Ambos"),SUMIFS('Ocupação_SKU'!$I$7:$I$206,'Ocupação_SKU'!$D$7:$D$206,$A8,'Ocupação_SKU'!$A$7:$A$206,Resumo!$B$3),"")) | K8: =IF($A8="","",IF(OR($C8="Volume",$C8="Ambos"),SUMIFS('Ocupação_SKU'!$H$7:$H$206,'Ocupação_SKU'!$D$7:$D$206,$A8,'Ocupação_SKU'!$A$7:$A$206,Resumo!$B$3),"")) | L8: =IF(AND(ISNUMBER($H8),$H8>0,ISNUMBER($J8)),IFERROR($J8/$H8,""),"") | M8: =IF(AND(ISNUMBER($I8),$I8>0,ISNUMBER($K8)),IFERROR($K8/$I8,""),"") | N8: =IF($A8="","",IF($C8="Ambos",IF(COUNT($L8:$M8)=2,MAX($L8:$M8),""),IF($C8="Posições",$L8,IF($C8="Volume",$M8,"")))) | O8: =IF(AND(ISNUMBER($H8),ISNUMBER($J8)),$H8-$J8,"") | P8: =IF(AND(ISNUMBER($I8),ISNUMBER($K8)),$I8-$K8,"") | Q8: =IF($A8="","",IF(NOT(ISNUMBER($N8)),"Sem base",IF($N8>=1,"Saturado",IF($N8>=Resumo!$H$3,"Crítico",IF($N8>=Resumo!$E$3,"Atenção","Adequado"))))) | R8: =IF($A8="","",IF(COUNTIF($A$7:$A$106,$A8)>1,"ID duplicado",IF(OR($B8="",$C8="",$G8=""),"Completar cadastro",IF(OR($G8<0,$G8>=1),"Reserva fora do intervalo",IF(AND(OR($C8="Posições",$C8="Ambos"),OR($D8="",$E8="",$D8<=0,$E8<0,$E8>$D8)),"Revisar capacidade de posições",IF(AND(OR($C8="Volume",$C8="Ambos"),OR($F8="",$F8<=0)),"Revisar capacidade de volume","OK")))))) | S8: Pequenos e médios itens fictícios | T8: =IF(ISNUMBER($N8),$N8+ROW()/1000000,"")
A9: ARM-003 | B9: Piso Horizonte | C9: Volume | F9: 320 | G9: 0.15 | H9: =IF($A9="","",IF(OR($C9="Posições",$C9="Ambos"),IF(AND(ISNUMBER($D9),ISNUMBER($E9),ISNUMBER($G9)),MAX(0,ROUNDDOWN(($D9-$E9)*(1-$G9),0)),""),"")) | I9: =IF($A9="","",IF(OR($C9="Volume",$C9="Ambos"),IF(AND(ISNUMBER($F9),ISNUMBER($G9)),MAX(0,$F9*(1-$G9)),""),"")) | J9: =IF($A9="","",IF(OR($C9="Posições",$C9="Ambos"),SUMIFS('Ocupação_SKU'!$I$7:$I$206,'Ocupação_SKU'!$D$7:$D$206,$A9,'Ocupação_SKU'!$A$7:$A$206,Resumo!$B$3),"")) | K9: =IF($A9="","",IF(OR($C9="Volume",$C9="Ambos"),SUMIFS('Ocupação_SKU'!$H$7:$H$206,'Ocupação_SKU'!$D$7:$D$206,$A9,'Ocupação_SKU'!$A$7:$A$206,Resumo!$B$3),"")) | L9: =IF(AND(ISNUMBER($H9),$H9>0,ISNUMBER($J9)),IFERROR($J9/$H9,""),"") | M9: =IF(AND(ISNUMBER($I9),$I9>0,ISNUMBER($K9)),IFERROR($K9/$I9,""),"") | N9: =IF($A9="","",IF($C9="Ambos",IF(COUNT($L9:$M9)=2,MAX($L9:$M9),""),IF($C9="Posições",$L9,IF($C9="Volume",$M9,"")))) | O9: =IF(AND(ISNUMBER($H9),ISNUMBER($J9)),$H9-$J9,"") | P9: =IF(AND(ISNUMBER($I9),ISNUMBER($K9)),$I9-$K9,"") | Q9: =IF($A9="","",IF(NOT(ISNUMBER($N9)),"Sem base",IF($N9>=1,"Saturado",IF($N9>=Resumo!$H$3,"Crítico",IF($N9>=Resumo!$E$3,"Atenção","Adequado"))))) | R9: =IF($A9="","",IF(COUNTIF($A$7:$A$106,$A9)>1,"ID duplicado",IF(OR($B9="",$C9="",$G9=""),"Completar cadastro",IF(OR($G9<0,$G9>=1),"Reserva fora do intervalo",IF(AND(OR($C9="Posições",$C9="Ambos"),OR($D9="",$E9="",$D9<=0,$E9<0,$E9>$D9)),"Revisar capacidade de posições",IF(AND(OR($C9="Volume",$C9="Ambos"),OR($F9="",$F9<=0)),"Revisar capacidade de volume","OK")))))) | S9: Itens volumosos fictícios | T9: =IF(ISNUMBER($N9),$N9+ROW()/1000000,"")
A10: ARM-004 | B10: Flow rack Brisa | C10: Posições | D10: 60 | E10: 3 | G10: 0.1 | H10: =IF($A10="","",IF(OR($C10="Posições",$C10="Ambos"),IF(AND(ISNUMBER($D10),ISNUMBER($E10),ISNUMBER($G10)),MAX(0,ROUNDDOWN(($D10-$E10)*(1-$G10),0)),""),"")) | I10: =IF($A10="","",IF(OR($C10="Volume",$C10="Ambos"),IF(AND(ISNUMBER($F10),ISNUMBER($G10)),MAX(0,$F10*(1-$G10)),""),"")) | J10: =IF($A10="","",IF(OR($C10="Posições",$C10="Ambos"),SUMIFS('Ocupação_SKU'!$I$7:$I$206,'Ocupação_SKU'!$D$7:$D$206,$A10,'Ocupação_SKU'!$A$7:$A$206,Resumo!$B$3),"")) | K10: =IF($A10="","",IF(OR($C10="Volume",$C10="Ambos"),SUMIFS('Ocupação_SKU'!$H$7:$H$206,'Ocupação_SKU'!$D$7:$D$206,$A10,'Ocupação_SKU'!$A$7:$A$206,Resumo!$B$3),"")) | L10: =IF(AND(ISNUMBER($H10),$H10>0,ISNUMBER($J10)),IFERROR($J10/$H10,""),"") | M10: =IF(AND(ISNUMBER($I10),$I10>0,ISNUMBER($K10)),IFERROR($K10/$I10,""),"") | N10: =IF($A10="","",IF($C10="Ambos",IF(COUNT($L10:$M10)=2,MAX($L10:$M10),""),IF($C10="Posições",$L10,IF($C10="Volume",$M10,"")))) | O10: =IF(AND(ISNUMBER($H10),ISNUMBER($J10)),$H10-$J10,"") | P10: =IF(AND(ISNUMBER($I10),ISNUMBER($K10)),$I10-$K10,"") | Q10: =IF($A10="","",IF(NOT(ISNUMBER($N10)),"Sem base",IF($N10>=1,"Saturado",IF($N10>=Resumo!$H$3,"Crítico",IF($N10>=Resumo!$E$3,"Atenção","Adequado"))))) | R10: =IF($A10="","",IF(COUNTIF($A$7:$A$106,$A10)>1,"ID duplicado",IF(OR($B10="",$C10="",$G10=""),"Completar cadastro",IF(OR($G10<0,$G10>=1),"Reserva fora do intervalo",IF(AND(OR($C10="Posições",$C10="Ambos"),OR($D10="",$E10="",$D10<=0,$E10<0,$E10>$D10)),"Revisar capacidade de posições",IF(AND(OR($C10="Volume",$C10="Ambos"),OR($F10="",$F10<=0)),"Revisar capacidade de volume","OK")))))) | S10: Giro rápido fictício | T10: =IF(ISNUMBER($N10),$N10+ROW()/1000000,"")
H11: =IF($A11="","",IF(OR($C11="Posições",$C11="Ambos"),IF(AND(ISNUMBER($D11),ISNUMBER($E11),ISNUMBER($G11)),MAX(0,ROUNDDOWN(($D11-$E11)*(1-$G11),0)),""),"")) | I11: =IF($A11="","",IF(OR($C11="Volume",$C11="Ambos"),IF(AND(ISNUMBER($F11),ISNUMBER($G11)),MAX(0,$F11*(1-$G11)),""),"")) | J11: =IF($A11="","",IF(OR($C11="Posições",$C11="Ambos"),SUMIFS('Ocupação_SKU'!$I$7:$I$206,'Ocupação_SKU'!$D$7:$D$206,$A11,'Ocupação_SKU'!$A$7:$A$206,Resumo!$B$3),"")) | K11: =IF($A11="","",IF(OR($C11="Volume",$C11="Ambos"),SUMIFS('Ocupação_SKU'!$H$7:$H$206,'Ocupação_SKU'!$D$7:$D$206,$A11,'Ocupação_SKU'!$A$7:$A$206,Resumo!$B$3),"")) | L11: =IF(AND(ISNUMBER($H11),$H11>0,ISNUMBER($J11)),IFERROR($J11/$H11,""),"") | M11: =IF(AND(ISNUMBER($I11),$I11>0,ISNUMBER($K11)),IFERROR($K11/$I11,""),"") | N11: =IF($A11="","",IF($C11="Ambos",IF(COUNT($L11:$M11)=2,MAX($L11:$M11),""),IF($C11="Posições",$L11,IF($C11="Volume",$M11,"")))) | O11: =IF(AND(ISNUMBER($H11),ISNUMBER($J11)),$H11-$J11,"") | P11: =IF(AND(ISNUMBER($I11),ISNUMBER($K11)),$I11-$K11,"") | Q11: =IF($A11="","",IF(NOT(ISNUMBER($N11)),"Sem base",IF($N11>=1,"Saturado",IF($N11>=Resumo!$H$3,"Crítico",IF($N11>=Resumo!$E$3,"Atenção","Adequado"))))) | R11: =IF($A11="","",IF(COUNTIF($A$7:$A$106,$A11)>1,"ID duplicado",IF(OR($B11="",$C11="",$G11=""),"Completar cadastro",IF(OR($G11<0,$G11>=1),"Reserva fora do intervalo",IF(AND(OR($C11="Posições",$C11="Ambos"),OR($D11="",$E11="",$D11<=0,$E11<0,$E11>$D11)),"Revisar capacidade de posições",IF(AND(OR($C11="Volume",$C11="Ambos"),OR($F11="",$F11<=0)),"Revisar capacidade de volume","OK")))))) | T11: =IF(ISNUMBER($N11),$N11+ROW()/1000000,"")
H12: =IF($A12="","",IF(OR($C12="Posições",$C12="Ambos"),IF(AND(ISNUMBER($D12),ISNUMBER($E12),ISNUMBER($G12)),MAX(0,ROUNDDOWN(($D12-$E12)*(1-$G12),0)),""),"")) | I12: =IF($A12="","",IF(OR($C12="Volume",$C12="Ambos"),IF(AND(ISNUMBER($F12),ISNUMBER($G12)),MAX(0,$F12*(1-$G12)),""),"")) | J12: =IF($A12="","",IF(OR($C12="Posições",$C12="Ambos"),SUMIFS('Ocupação_SKU'!$I$7:$I$206,'Ocupação_SKU'!$D$7:$D$206,$A12,'Ocupação_SKU'!$A$7:$A$206,Resumo!$B$3),"")) | K12: =IF($A12="","",IF(OR($C12="Volume",$C12="Ambos"),SUMIFS('Ocupação_SKU'!$H$7:$H$206,'Ocupação_SKU'!$D$7:$D$206,$A12,'Ocupação_SKU'!$A$7:$A$206,Resumo!$B$3),"")) | L12: =IF(AND(ISNUMBER($H12),$H12>0,ISNUMBER($J12)),IFERROR($J12/$H12,""),"") | M12: =IF(AND(ISNUMBER($I12),$I12>0,ISNUMBER($K12)),IFERROR($K12/$I12,""),"") | N12: =IF($A12="","",IF($C12="Ambos",IF(COUNT($L12:$M12)=2,MAX($L12:$M12),""),IF($C12="Posições",$L12,IF($C12="Volume",$M12,"")))) | O12: =IF(AND(ISNUMBER($H12),ISNUMBER($J12)),$H12-$J12,"") | P12: =IF(AND(ISNUMBER($I12),ISNUMBER($K12)),$I12-$K12,"") | Q12: =IF($A12="","",IF(NOT(ISNUMBER($N12)),"Sem base",IF($N12>=1,"Saturado",IF($N12>=Resumo!$H$3,"Crítico",IF($N12>=Resumo!$E$3,"Atenção","Adequado"))))) | R12: =IF($A12="","",IF(COUNTIF($A$7:$A$106,$A12)>1,"ID duplicado",IF(OR($B12="",$C12="",$G12=""),"Completar cadastro",IF(OR($G12<0,$G12>=1),"Reserva fora do intervalo",IF(AND(OR($C12="Posições",$C12="Ambos"),OR($D12="",$E12="",$D12<=0,$E12<0,$E12>$D12)),"Revisar capacidade de posições",IF(AND(OR($C12="Volume",$C12="Ambos"),OR($F12="",$F12<=0)),"Revisar capacidade de volume","OK")))))) | T12: =IF(ISNUMBER($N12),$N12+ROW()/1000000,"")
H13: =IF($A13="","",IF(OR($C13="Posições",$C13="Ambos"),IF(AND(ISNUMBER($D13),ISNUMBER($E13),ISNUMBER($G13)),MAX(0,ROUNDDOWN(($D13-$E13)*(1-$G13),0)),""),"")) | I13: =IF($A13="","",IF(OR($C13="Volume",$C13="Ambos"),IF(AND(ISNUMBER($F13),ISNUMBER($G13)),MAX(0,$F13*(1-$G13)),""),"")) | J13: =IF($A13="","",IF(OR($C13="Posições",$C13="Ambos"),SUMIFS('Ocupação_SKU'!$I$7:$I$206,'Ocupação_SKU'!$D$7:$D$206,$A13,'Ocupação_SKU'!$A$7:$A$206,Resumo!$B$3),"")) | K13: =IF($A13="","",IF(OR($C13="Volume",$C13="Ambos"),SUMIFS('Ocupação_SKU'!$H$7:$H$206,'Ocupação_SKU'!$D$7:$D$206,$A13,'Ocupação_SKU'!$A$7:$A$206,Resumo!$B$3),"")) | L13: =IF(AND(ISNUMBER($H13),$H13>0,ISNUMBER($J13)),IFERROR($J13/$H13,""),"") | M13: =IF(AND(ISNUMBER($I13),$I13>0,ISNUMBER($K13)),IFERROR($K13/$I13,""),"") | N13: =IF($A13="","",IF($C13="Ambos",IF(COUNT($L13:$M13)=2,MAX($L13:$M13),""),IF($C13="Posições",$L13,IF($C13="Volume",$M13,"")))) | O13: =IF(AND(ISNUMBER($H13),ISNUMBER($J13)),$H13-$J13,"") | P13: =IF(AND(ISNUMBER($I13),ISNUMBER($K13)),$I13-$K13,"") | Q13: =IF($A13="","",IF(NOT(ISNUMBER($N13)),"Sem base",IF($N13>=1,"Saturado",IF($N13>=Resumo!$H$3,"Crítico",IF($N13>=Resumo!$E$3,"Atenção","Adequado"))))) | R13: =IF($A13="","",IF(COUNTIF($A$7:$A$106,$A13)>1,"ID duplicado",IF(OR($B13="",$C13="",$G13=""),"Completar cadastro",IF(OR($G13<0,$G13>=1),"Reserva fora do intervalo",IF(AND(OR($C13="Posições",$C13="Ambos"),OR($D13="",$E13="",$D13<=0,$E13<0,$E13>$D13)),"Revisar capacidade de posições",IF(AND(OR($C13="Volume",$C13="Ambos"),OR($F13="",$F13<=0)),"Revisar capacidade de volume","OK")))))) | T13: =IF(ISNUMBER($N13),$N13+ROW()/1000000,"")
H14: =IF($A14="","",IF(OR($C14="Posições",$C14="Ambos"),IF(AND(ISNUMBER($D14),ISNUMBER($E14),ISNUMBER($G14)),MAX(0,ROUNDDOWN(($D14-$E14)*(1-$G14),0)),""),"")) | I14: =IF($A14="","",IF(OR($C14="Volume",$C14="Ambos"),IF(AND(ISNUMBER($F14),ISNUMBER($G14)),MAX(0,$F14*(1-$G14)),""),"")) | J14: =IF($A14="","",IF(OR($C14="Posições",$C14="Ambos"),SUMIFS('Ocupação_SKU'!$I$7:$I$206,'Ocupação_SKU'!$D$7:$D$206,$A14,'Ocupação_SKU'!$A$7:$A$206,Resumo!$B$3),"")) | K14: =IF($A14="","",IF(OR($C14="Volume",$C14="Ambos"),SUMIFS('Ocupação_SKU'!$H$7:$H$206,'Ocupação_SKU'!$D$7:$D$206,$A14,'Ocupação_SKU'!$A$7:$A$206,Resumo!$B$3),"")) | L14: =IF(AND(ISNUMBER($H14),$H14>0,ISNUMBER($J14)),IFERROR($J14/$H14,""),"") | M14: =IF(AND(ISNUMBER($I14),$I14>0,ISNUMBER($K14)),IFERROR($K14/$I14,""),"") | N14: =IF($A14="","",IF($C14="Ambos",IF(COUNT($L14:$M14)=2,MAX($L14:$M14),""),IF($C14="Posições",$L14,IF($C14="Volume",$M14,"")))) | O14: =IF(AND(ISNUMBER($H14),ISNUMBER($J14)),$H14-$J14,"") | P14: =IF(AND(ISNUMBER($I14),ISNUMBER($K14)),$I14-$K14,"") | Q14: =IF($A14="","",IF(NOT(ISNUMBER($N14)),"Sem base",IF($N14>=1,"Saturado",IF($N14>=Resumo!$H$3,"Crítico",IF($N14>=Resumo!$E$3,"Atenção","Adequado"))))) | R14: =IF($A14="","",IF(COUNTIF($A$7:$A$106,$A14)>1,"ID duplicado",IF(OR($B14="",$C14="",$G14=""),"Completar cadastro",IF(OR($G14<0,$G14>=1),"Reserva fora do intervalo",IF(AND(OR($C14="Posições",$C14="Ambos"),OR($D14="",$E14="",$D14<=0,$E14<0,$E14>$D14)),"Revisar capacidade de posições",IF(AND(OR($C14="Volume",$C14="Ambos"),OR($F14="",$F14<=0)),"Revisar capacidade de volume","OK")))))) | T14: =IF(ISNUMBER($N14),$N14+ROW()/1000000,"")
H15: =IF($A15="","",IF(OR($C15="Posições",$C15="Ambos"),IF(AND(ISNUMBER($D15),ISNUMBER($E15),ISNUMBER($G15)),MAX(0,ROUNDDOWN(($D15-$E15)*(1-$G15),0)),""),"")) | I15: =IF($A15="","",IF(OR($C15="Volume",$C15="Ambos"),IF(AND(ISNUMBER($F15),ISNUMBER($G15)),MAX(0,$F15*(1-$G15)),""),"")) | J15: =IF($A15="","",IF(OR($C15="Posições",$C15="Ambos"),SUMIFS('Ocupação_SKU'!$I$7:$I$206,'Ocupação_SKU'!$D$7:$D$206,$A15,'Ocupação_SKU'!$A$7:$A$206,Resumo!$B$3),"")) | K15: =IF($A15="","",IF(OR($C15="Volume",$C15="Ambos"),SUMIFS('Ocupação_SKU'!$H$7:$H$206,'Ocupação_SKU'!$D$7:$D$206,$A15,'Ocupação_SKU'!$A$7:$A$206,Resumo!$B$3),"")) | L15: =IF(AND(ISNUMBER($H15),$H15>0,ISNUMBER($J15)),IFERROR($J15/$H15,""),"") | M15: =IF(AND(ISNUMBER($I15),$I15>0,ISNUMBER($K15)),IFERROR($K15/$I15,""),"") | N15: =IF($A15="","",IF($C15="Ambos",IF(COUNT($L15:$M15)=2,MAX($L15:$M15),""),IF($C15="Posições",$L15,IF($C15="Volume",$M15,"")))) | O15: =IF(AND(ISNUMBER($H15),ISNUMBER($J15)),$H15-$J15,"") | P15: =IF(AND(ISNUMBER($I15),ISNUMBER($K15)),$I15-$K15,"") | Q15: =IF($A15="","",IF(NOT(ISNUMBER($N15)),"Sem base",IF($N15>=1,"Saturado",IF($N15>=Resumo!$H$3,"Crítico",IF($N15>=Resumo!$E$3,"Atenção","Adequado"))))) | R15: =IF($A15="","",IF(COUNTIF($A$7:$A$106,$A15)>1,"ID duplicado",IF(OR($B15="",$C15="",$G15=""),"Completar cadastro",IF(OR($G15<0,$G15>=1),"Reserva fora do intervalo",IF(AND(OR($C15="Posições",$C15="Ambos"),OR($D15="",$E15="",$D15<=0,$E15<0,$E15>$D15)),"Revisar capacidade de posições",IF(AND(OR($C15="Volume",$C15="Ambos"),OR($F15="",$F15<=0)),"Revisar capacidade de volume","OK")))))) | T15: =IF(ISNUMBER($N15),$N15+ROW()/1000000,"")
H16: =IF($A16="","",IF(OR($C16="Posições",$C16="Ambos"),IF(AND(ISNUMBER($D16),ISNUMBER($E16),ISNUMBER($G16)),MAX(0,ROUNDDOWN(($D16-$E16)*(1-$G16),0)),""),"")) | I16: =IF($A16="","",IF(OR($C16="Volume",$C16="Ambos"),IF(AND(ISNUMBER($F16),ISNUMBER($G16)),MAX(0,$F16*(1-$G16)),""),"")) | J16: =IF($A16="","",IF(OR($C16="Posições",$C16="Ambos"),SUMIFS('Ocupação_SKU'!$I$7:$I$206,'Ocupação_SKU'!$D$7:$D$206,$A16,'Ocupação_SKU'!$A$7:$A$206,Resumo!$B$3),"")) | K16: =IF($A16="","",IF(OR($C16="Volume",$C16="Ambos"),SUMIFS('Ocupação_SKU'!$H$7:$H$206,'Ocupação_SKU'!$D$7:$D$206,$A16,'Ocupação_SKU'!$A$7:$A$206,Resumo!$B$3),"")) | L16: =IF(AND(ISNUMBER($H16),$H16>0,ISNUMBER($J16)),IFERROR($J16/$H16,""),"") | M16: =IF(AND(ISNUMBER($I16),$I16>0,ISNUMBER($K16)),IFERROR($K16/$I16,""),"") | N16: =IF($A16="","",IF($C16="Ambos",IF(COUNT($L16:$M16)=2,MAX($L16:$M16),""),IF($C16="Posições",$L16,IF($C16="Volume",$M16,"")))) | O16: =IF(AND(ISNUMBER($H16),ISNUMBER($J16)),$H16-$J16,"") | P16: =IF(AND(ISNUMBER($I16),ISNUMBER($K16)),$I16-$K16,"") | Q16: =IF($A16="","",IF(NOT(ISNUMBER($N16)),"Sem base",IF($N16>=1,"Saturado",IF($N16>=Resumo!$H$3,"Crítico",IF($N16>=Resumo!$E$3,"Atenção","Adequado"))))) | R16: =IF($A16="","",IF(COUNTIF($A$7:$A$106,$A16)>1,"ID duplicado",IF(OR($B16="",$C16="",$G16=""),"Completar cadastro",IF(OR($G16<0,$G16>=1),"Reserva fora do intervalo",IF(AND(OR($C16="Posições",$C16="Ambos"),OR($D16="",$E16="",$D16<=0,$E16<0,$E16>$D16)),"Revisar capacidade de posições",IF(AND(OR($C16="Volume",$C16="Ambos"),OR($F16="",$F16<=0)),"Revisar capacidade de volume","OK")))))) | T16: =IF(ISNUMBER($N16),$N16+ROW()/1000000,"")
H17: =IF($A17="","",IF(OR($C17="Posições",$C17="Ambos"),IF(AND(ISNUMBER($D17),ISNUMBER($E17),ISNUMBER($G17)),MAX(0,ROUNDDOWN(($D17-$E17)*(1-$G17),0)),""),"")) | I17: =IF($A17="","",IF(OR($C17="Volume",$C17="Ambos"),IF(AND(ISNUMBER($F17),ISNUMBER($G17)),MAX(0,$F17*(1-$G17)),""),"")) | J17: =IF($A17="","",IF(OR($C17="Posições",$C17="Ambos"),SUMIFS('Ocupação_SKU'!$I$7:$I$206,'Ocupação_SKU'!$D$7:$D$206,$A17,'Ocupação_SKU'!$A$7:$A$206,Resumo!$B$3),"")) | K17: =IF($A17="","",IF(OR($C17="Volume",$C17="Ambos"),SUMIFS('Ocupação_SKU'!$H$7:$H$206,'Ocupação_SKU'!$D$7:$D$206,$A17,'Ocupação_SKU'!$A$7:$A$206,Resumo!$B$3),"")) | L17: =IF(AND(ISNUMBER($H17),$H17>0,ISNUMBER($J17)),IFERROR($J17/$H17,""),"") | M17: =IF(AND(ISNUMBER($I17),$I17>0,ISNUMBER($K17)),IFERROR($K17/$I17,""),"") | N17: =IF($A17="","",IF($C17="Ambos",IF(COUNT($L17:$M17)=2,MAX($L17:$M17),""),IF($C17="Posições",$L17,IF($C17="Volume",$M17,"")))) | O17: =IF(AND(ISNUMBER($H17),ISNUMBER($J17)),$H17-$J17,"") | P17: =IF(AND(ISNUMBER($I17),ISNUMBER($K17)),$I17-$K17,"") | Q17: =IF($A17="","",IF(NOT(ISNUMBER($N17)),"Sem base",IF($N17>=1,"Saturado",IF($N17>=Resumo!$H$3,"Crítico",IF($N17>=Resumo!$E$3,"Atenção","Adequado"))))) | R17: =IF($A17="","",IF(COUNTIF($A$7:$A$106,$A17)>1,"ID duplicado",IF(OR($B17="",$C17="",$G17=""),"Completar cadastro",IF(OR($G17<0,$G17>=1),"Reserva fora do intervalo",IF(AND(OR($C17="Posições",$C17="Ambos"),OR($D17="",$E17="",$D17<=0,$E17<0,$E17>$D17)),"Revisar capacidade de posições",IF(AND(OR($C17="Volume",$C17="Ambos"),OR($F17="",$F17<=0)),"Revisar capacidade de volume","OK")))))) | T17: =IF(ISNUMBER($N17),$N17+ROW()/1000000,"")
H18: =IF($A18="","",IF(OR($C18="Posições",$C18="Ambos"),IF(AND(ISNUMBER($D18),ISNUMBER($E18),ISNUMBER($G18)),MAX(0,ROUNDDOWN(($D18-$E18)*(1-$G18),0)),""),"")) | I18: =IF($A18="","",IF(OR($C18="Volume",$C18="Ambos"),IF(AND(ISNUMBER($F18),ISNUMBER($G18)),MAX(0,$F18*(1-$G18)),""),"")) | J18: =IF($A18="","",IF(OR($C18="Posições",$C18="Ambos"),SUMIFS('Ocupação_SKU'!$I$7:$I$206,'Ocupação_SKU'!$D$7:$D$206,$A18,'Ocupação_SKU'!$A$7:$A$206,Resumo!$B$3),"")) | K18: =IF($A18="","",IF(OR($C18="Volume",$C18="Ambos"),SUMIFS('Ocupação_SKU'!$H$7:$H$206,'Ocupação_SKU'!$D$7:$D$206,$A18,'Ocupação_SKU'!$A$7:$A$206,Resumo!$B$3),"")) | L18: =IF(AND(ISNUMBER($H18),$H18>0,ISNUMBER($J18)),IFERROR($J18/$H18,""),"") | M18: =IF(AND(ISNUMBER($I18),$I18>0,ISNUMBER($K18)),IFERROR($K18/$I18,""),"") | N18: =IF($A18="","",IF($C18="Ambos",IF(COUNT($L18:$M18)=2,MAX($L18:$M18),""),IF($C18="Posições",$L18,IF($C18="Volume",$M18,"")))) | O18: =IF(AND(ISNUMBER($H18),ISNUMBER($J18)),$H18-$J18,"") | P18: =IF(AND(ISNUMBER($I18),ISNUMBER($K18)),$I18-$K18,"") | Q18: =IF($A18="","",IF(NOT(ISNUMBER($N18)),"Sem base",IF($N18>=1,"Saturado",IF($N18>=Resumo!$H$3,"Crítico",IF($N18>=Resumo!$E$3,"Atenção","Adequado"))))) | R18: =IF($A18="","",IF(COUNTIF($A$7:$A$106,$A18)>1,"ID duplicado",IF(OR($B18="",$C18="",$G18=""),"Completar cadastro",IF(OR($G18<0,$G18>=1),"Reserva fora do intervalo",IF(AND(OR($C18="Posições",$C18="Ambos"),OR($D18="",$E18="",$D18<=0,$E18<0,$E18>$D18)),"Revisar capacidade de posições",IF(AND(OR($C18="Volume",$C18="Ambos"),OR($F18="",$F18<=0)),"Revisar capacidade de volume","OK")))))) | T18: =IF(ISNUMBER($N18),$N18+ROW()/1000000,"")
H19: =IF($A19="","",IF(OR($C19="Posições",$C19="Ambos"),IF(AND(ISNUMBER($D19),ISNUMBER($E19),ISNUMBER($G19)),MAX(0,ROUNDDOWN(($D19-$E19)*(1-$G19),0)),""),"")) | I19: =IF($A19="","",IF(OR($C19="Volume",$C19="Ambos"),IF(AND(ISNUMBER($F19),ISNUMBER($G19)),MAX(0,$F19*(1-$G19)),""),"")) | J19: =IF($A19="","",IF(OR($C19="Posições",$C19="Ambos"),SUMIFS('Ocupação_SKU'!$I$7:$I$206,'Ocupação_SKU'!$D$7:$D$206,$A19,'Ocupação_SKU'!$A$7:$A$206,Resumo!$B$3),"")) | K19: =IF($A19="","",IF(OR($C19="Volume",$C19="Ambos"),SUMIFS('Ocupação_SKU'!$H$7:$H$206,'Ocupação_SKU'!$D$7:$D$206,$A19,'Ocupação_SKU'!$A$7:$A$206,Resumo!$B$3),"")) | L19: =IF(AND(ISNUMBER($H19),$H19>0,ISNUMBER($J19)),IFERROR($J19/$H19,""),"") | M19: =IF(AND(ISNUMBER($I19),$I19>0,ISNUMBER($K19)),IFERROR($K19/$I19,""),"") | N19: =IF($A19="","",IF($C19="Ambos",IF(COUNT($L19:$M19)=2,MAX($L19:$M19),""),IF($C19="Posições",$L19,IF($C19="Volume",$M19,"")))) | O19: =IF(AND(ISNUMBER($H19),ISNUMBER($J19)),$H19-$J19,"") | P19: =IF(AND(ISNUMBER($I19),ISNUMBER($K19)),$I19-$K19,"") | Q19: =IF($A19="","",IF(NOT(ISNUMBER($N19)),"Sem base",IF($N19>=1,"Saturado",IF($N19>=Resumo!$H$3,"Crítico",IF($N19>=Resumo!$E$3,"Atenção","Adequado"))))) | R19: =IF($A19="","",IF(COUNTIF($A$7:$A$106,$A19)>1,"ID duplicado",IF(OR($B19="",$C19="",$G19=""),"Completar cadastro",IF(OR($G19<0,$G19>=1),"Reserva fora do intervalo",IF(AND(OR($C19="Posições",$C19="Ambos"),OR($D19="",$E19="",$D19<=0,$E19<0,$E19>$D19)),"Revisar capacidade de posições",IF(AND(OR($C19="Volume",$C19="Ambos"),OR($F19="",$F19<=0)),"Revisar capacidade de volume","OK")))))) | T19: =IF(ISNUMBER($N19),$N19+ROW()/1000000,"")
H20: =IF($A20="","",IF(OR($C20="Posições",$C20="Ambos"),IF(AND(ISNUMBER($D20),ISNUMBER($E20),ISNUMBER($G20)),MAX(0,ROUNDDOWN(($D20-$E20)*(1-$G20),0)),""),"")) | I20: =IF($A20="","",IF(OR($C20="Volume",$C20="Ambos"),IF(AND(ISNUMBER($F20),ISNUMBER($G20)),MAX(0,$F20*(1-$G20)),""),"")) | J20: =IF($A20="","",IF(OR($C20="Posições",$C20="Ambos"),SUMIFS('Ocupação_SKU'!$I$7:$I$206,'Ocupação_SKU'!$D$7:$D$206,$A20,'Ocupação_SKU'!$A$7:$A$206,Resumo!$B$3),"")) | K20: =IF($A20="","",IF(OR($C20="Volume",$C20="Ambos"),SUMIFS('Ocupação_SKU'!$H$7:$H$206,'Ocupação_SKU'!$D$7:$D$206,$A20,'Ocupação_SKU'!$A$7:$A$206,Resumo!$B$3),"")) | L20: =IF(AND(ISNUMBER($H20),$H20>0,ISNUMBER($J20)),IFERROR($J20/$H20,""),"") | M20: =IF(AND(ISNUMBER($I20),$I20>0,ISNUMBER($K20)),IFERROR($K20/$I20,""),"") | N20: =IF($A20="","",IF($C20="Ambos",IF(COUNT($L20:$M20)=2,MAX($L20:$M20),""),IF($C20="Posições",$L20,IF($C20="Volume",$M20,"")))) | O20: =IF(AND(ISNUMBER($H20),ISNUMBER($J20)),$H20-$J20,"") | P20: =IF(AND(ISNUMBER($I20),ISNUMBER($K20)),$I20-$K20,"") | Q20: =IF($A20="","",IF(NOT(ISNUMBER($N20)),"Sem base",IF($N20>=1,"Saturado",IF($N20>=Resumo!$H$3,"Crítico",IF($N20>=Resumo!$E$3,"Atenção","Adequado"))))) | R20: =IF($A20="","",IF(COUNTIF($A$7:$A$106,$A20)>1,"ID duplicado",IF(OR($B20="",$C20="",$G20=""),"Completar cadastro",IF(OR($G20<0,$G20>=1),"Reserva fora do intervalo",IF(AND(OR($C20="Posições",$C20="Ambos"),OR($D20="",$E20="",$D20<=0,$E20<0,$E20>$D20)),"Revisar capacidade de posições",IF(AND(OR($C20="Volume",$C20="Ambos"),OR($F20="",$F20<=0)),"Revisar capacidade de volume","OK")))))) | T20: =IF(ISNUMBER($N20),$N20+ROW()/1000000,"")
H21: =IF($A21="","",IF(OR($C21="Posições",$C21="Ambos"),IF(AND(ISNUMBER($D21),ISNUMBER($E21),ISNUMBER($G21)),MAX(0,ROUNDDOWN(($D21-$E21)*(1-$G21),0)),""),"")) | I21: =IF($A21="","",IF(OR($C21="Volume",$C21="Ambos"),IF(AND(ISNUMBER($F21),ISNUMBER($G21)),MAX(0,$F21*(1-$G21)),""),"")) | J21: =IF($A21="","",IF(OR($C21="Posições",$C21="Ambos"),SUMIFS('Ocupação_SKU'!$I$7:$I$206,'Ocupação_SKU'!$D$7:$D$206,$A21,'Ocupação_SKU'!$A$7:$A$206,Resumo!$B$3),"")) | K21: =IF($A21="","",IF(OR($C21="Volume",$C21="Ambos"),SUMIFS('Ocupação_SKU'!$H$7:$H$206,'Ocupação_SKU'!$D$7:$D$206,$A21,'Ocupação_SKU'!$A$7:$A$206,Resumo!$B$3),"")) | L21: =IF(AND(ISNUMBER($H21),$H21>0,ISNUMBER($J21)),IFERROR($J21/$H21,""),"") | M21: =IF(AND(ISNUMBER($I21),$I21>0,ISNUMBER($K21)),IFERROR($K21/$I21,""),"") | N21: =IF($A21="","",IF($C21="Ambos",IF(COUNT($L21:$M21)=2,MAX($L21:$M21),""),IF($C21="Posições",$L21,IF($C21="Volume",$M21,"")))) | O21: =IF(AND(ISNUMBER($H21),ISNUMBER($J21)),$H21-$J21,"") | P21: =IF(AND(ISNUMBER($I21),ISNUMBER($K21)),$I21-$K21,"") | Q21: =IF($A21="","",IF(NOT(ISNUMBER($N21)),"Sem base",IF($N21>=1,"Saturado",IF($N21>=Resumo!$H$3,"Crítico",IF($N21>=Resumo!$E$3,"Atenção","Adequado"))))) | R21: =IF($A21="","",IF(COUNTIF($A$7:$A$106,$A21)>1,"ID duplicado",IF(OR($B21="",$C21="",$G21=""),"Completar cadastro",IF(OR($G21<0,$G21>=1),"Reserva fora do intervalo",IF(AND(OR($C21="Posições",$C21="Ambos"),OR($D21="",$E21="",$D21<=0,$E21<0,$E21>$D21)),"Revisar capacidade de posições",IF(AND(OR($C21="Volume",$C21="Ambos"),OR($F21="",$F21<=0)),"Revisar capacidade de volume","OK")))))) | T21: =IF(ISNUMBER($N21),$N21+ROW()/1000000,"")
H22: =IF($A22="","",IF(OR($C22="Posições",$C22="Ambos"),IF(AND(ISNUMBER($D22),ISNUMBER($E22),ISNUMBER($G22)),MAX(0,ROUNDDOWN(($D22-$E22)*(1-$G22),0)),""),"")) | I22: =IF($A22="","",IF(OR($C22="Volume",$C22="Ambos"),IF(AND(ISNUMBER($F22),ISNUMBER($G22)),MAX(0,$F22*(1-$G22)),""),"")) | J22: =IF($A22="","",IF(OR($C22="Posições",$C22="Ambos"),SUMIFS('Ocupação_SKU'!$I$7:$I$206,'Ocupação_SKU'!$D$7:$D$206,$A22,'Ocupação_SKU'!$A$7:$A$206,Resumo!$B$3),"")) | K22: =IF($A22="","",IF(OR($C22="Volume",$C22="Ambos"),SUMIFS('Ocupação_SKU'!$H$7:$H$206,'Ocupação_SKU'!$D$7:$D$206,$A22,'Ocupação_SKU'!$A$7:$A$206,Resumo!$B$3),"")) | L22: =IF(AND(ISNUMBER($H22),$H22>0,ISNUMBER($J22)),IFERROR($J22/$H22,""),"") | M22: =IF(AND(ISNUMBER($I22),$I22>0,ISNUMBER($K22)),IFERROR($K22/$I22,""),"") | N22: =IF($A22="","",IF($C22="Ambos",IF(COUNT($L22:$M22)=2,MAX($L22:$M22),""),IF($C22="Posições",$L22,IF($C22="Volume",$M22,"")))) | O22: =IF(AND(ISNUMBER($H22),ISNUMBER($J22)),$H22-$J22,"") | P22: =IF(AND(ISNUMBER($I22),ISNUMBER($K22)),$I22-$K22,"") | Q22: =IF($A22="","",IF(NOT(ISNUMBER($N22)),"Sem base",IF($N22>=1,"Saturado",IF($N22>=Resumo!$H$3,"Crítico",IF($N22>=Resumo!$E$3,"Atenção","Adequado"))))) | R22: =IF($A22="","",IF(COUNTIF($A$7:$A$106,$A22)>1,"ID duplicado",IF(OR($B22="",$C22="",$G22=""),"Completar cadastro",IF(OR($G22<0,$G22>=1),"Reserva fora do intervalo",IF(AND(OR($C22="Posições",$C22="Ambos"),OR($D22="",$E22="",$D22<=0,$E22<0,$E22>$D22)),"Revisar capacidade de posições",IF(AND(OR($C22="Volume",$C22="Ambos"),OR($F22="",$F22<=0)),"Revisar capacidade de volume","OK")))))) | T22: =IF(ISNUMBER($N22),$N22+ROW()/1000000,"")
... H106: =IF($A106="","",IF(OR($C106="Posições",$C106="Ambos"),IF(AND(ISNUMBER($D106),ISNUMBER($E106),ISNUMBER($G106)),MAX(0,ROUNDDOWN(($D106-$E106)*(1-$G106),0)),""),"")) | I106: =IF($A106="","",IF(OR($C106="Volume",$C106="Ambos"),IF(AND(ISNUMBER($F106),ISNUMBER($G106)),MAX(0,$F106*(1-$G106)),""),"")) | J106: =IF($A106="","",IF(OR($C106="Posições",$C106="Ambos"),SUMIFS('Ocupação_SKU'!$I$7:$I$206,'Ocupação_SKU'!$D$7:$D$206,$A106,'Ocupação_SKU'!$A$7:$A$206,Resumo!$B$3),"")) | K106: =IF($A106="","",IF(OR($C106="Volume",$C106="Ambos"),SUMIFS('Ocupação_SKU'!$H$7:$H$206,'Ocupação_SKU'!$D$7:$D$206,$A106,'Ocupação_SKU'!$A$7:$A$206,Resumo!$B$3),"")) | L106: =IF(AND(ISNUMBER($H106),$H106>0,ISNUMBER($J106)),IFERROR($J106/$H106,""),"") | M106: =IF(AND(ISNUMBER($I106),$I106>0,ISNUMBER($K106)),IFERROR($K106/$I106,""),"") | N106: =IF($A106="","",IF($C106="Ambos",IF(COUNT($L106:$M106)=2,MAX($L106:$M106),""),IF($C106="Posições",$L106,IF($C106="Volume",$M106,"")))) | O106: =IF(AND(ISNUMBER($H106),ISNUMBER($J106)),$H106-$J106,"") | P106: =IF(AND(ISNUMBER($I106),ISNUMBER($K106)),$I106-$K106,"") | Q106: =IF($A106="","",IF(NOT(ISNUMBER($N106)),"Sem base",IF($N106>=1,"Saturado",IF($N106>=Resumo!$H$3,"Crítico",IF($N106>=Resumo!$E$3,"Atenção","Adequado"))))) | R106: =IF($A106="","",IF(COUNTIF($A$7:$A$106,$A106)>1,"ID duplicado",IF(OR($B106="",$C106="",$G106=""),"Completar cadastro",IF(OR($G106<0,$G106>=1),"Reserva fora do intervalo",IF(AND(OR($C106="Posições",$C106="Ambos"),OR($D106="",$E106="",$D106<=0,$E106<0,$E106>$D106)),"Revisar capacidade de posições",IF(AND(OR($C106="Volume",$C106="Ambos"),OR($F106="",$F106<=0)),"Revisar capacidade de volume","OK")))))) | T106: =IF(ISNUMBER($N106),$N106+ROW()/1000000,"")

Sheet Ocupação_SKU
A1: Ocupação por SKU e Área
A3: Informe uma linha por data, SKU e área. O cálculo é agregado por área, sem endereçamento físico.
A6: Data de referência | B6: SKU | C6: Produto | D6: ID da área | E6: Quantidade armazenada | F6: Volume unitário (m³) | G6: Unidades por posição | H6: Volume ocupado (m³) | I6: Posições necessárias | J6: Alerta da linha | K6: Observações | L6: Modo da área
A7: 46271 | B7: SKU-FIC-001 | C7: Cafeteira Nuvem | D7: ARM-001 | E7: 600 | F7: 0.045 | G7: 12 | H7: =IF(OR($A7="",$B7="",$D7="",$E7="",$F7=""),"",IF(AND(ISNUMBER($E7),ISNUMBER($F7)),$E7*$F7,"")) | I7: =IF(OR($A7="",$B7="",$D7="",$E7="",$G7=""),"",IF(AND(ISNUMBER($E7),ISNUMBER($G7),$G7>0),IFERROR(ROUNDUP($E7/$G7,0),""),"")) | J7: =IF(COUNTA($A7:$G7)=0,"",IF(OR($A7="",$B7="",$C7="",$D7="",$E7=""),"Completar campos obrigatórios",IF($E7<0,"Quantidade inválida",IF($L7="","Área não cadastrada",IF(COUNTIFS($A$7:$A$206,$A7,$B$7:$B$206,$B7,$D$7:$D$206,$D7)>1,"Registro duplicado",IF(AND(OR($L7="Volume",$L7="Ambos"),OR($F7="",$F7<=0)),"Informar volume unitário",IF(AND(OR($L7="Posições",$L7="Ambos"),OR($G7="",$G7<=0)),"Informar unidades por posição","OK"))))))) | K7: Produto fictício | L7: =IF($D7="","",IFERROR(INDEX('Áreas_Capacidade'!$C$7:$C$106,MATCH($D7,'Áreas_Capacidade'!$A$7:$A$106,0)),""))
A8: 46271 | B8: SKU-FIC-002 | C8: Ventilador Brisa Mini | D8: ARM-001 | E8: 320 | F8: 0.062 | G8: 8 | H8: =IF(OR($A8="",$B8="",$D8="",$E8="",$F8=""),"",IF(AND(ISNUMBER($E8),ISNUMBER($F8)),$E8*$F8,"")) | I8: =IF(OR($A8="",$B8="",$D8="",$E8="",$G8=""),"",IF(AND(ISNUMBER($E8),ISNUMBER($G8),$G8>0),IFERROR(ROUNDUP($E8/$G8,0),""),"")) | J8: =IF(COUNTA($A8:$G8)=0,"",IF(OR($A8="",$B8="",$C8="",$D8="",$E8=""),"Completar campos obrigatórios",IF($E8<0,"Quantidade inválida",IF($L8="","Área não cadastrada",IF(COUNTIFS($A$7:$A$206,$A8,$B$7:$B$206,$B8,$D$7:$D$206,$D8)>1,"Registro duplicado",IF(AND(OR($L8="Volume",$L8="Ambos"),OR($F8="",$F8<=0)),"Informar volume unitário",IF(AND(OR($L8="Posições",$L8="Ambos"),OR($G8="",$G8<=0)),"Informar unidades por posição","OK"))))))) | K8: Produto fictício | L8: =IF($D8="","",IFERROR(INDEX('Áreas_Capacidade'!$C$7:$C$106,MATCH($D8,'Áreas_Capacidade'!$A$7:$A$106,0)),""))
A9: 46271 | B9: SKU-FIC-003 | C9: Kit Caderno Órbita | D9: ARM-002 | E9: 720 | F9: 0.0035 | G9: 30 | H9: =IF(OR($A9="",$B9="",$D9="",$E9="",$F9=""),"",IF(AND(ISNUMBER($E9),ISNUMBER($F9)),$E9*$F9,"")) | I9: =IF(OR($A9="",$B9="",$D9="",$E9="",$G9=""),"",IF(AND(ISNUMBER($E9),ISNUMBER($G9),$G9>0),IFERROR(ROUNDUP($E9/$G9,0),""),"")) | J9: =IF(COUNTA($A9:$G9)=0,"",IF(OR($A9="",$B9="",$C9="",$D9="",$E9=""),"Completar campos obrigatórios",IF($E9<0,"Quantidade inválida",IF($L9="","Área não cadastrada",IF(COUNTIFS($A$7:$A$206,$A9,$B$7:$B$206,$B9,$D$7:$D$206,$D9)>1,"Registro duplicado",IF(AND(OR($L9="Volume",$L9="Ambos"),OR($F9="",$F9<=0)),"Informar volume unitário",IF(AND(OR($L9="Posições",$L9="Ambos"),OR($G9="",$G9<=0)),"Informar unidades por posição","OK"))))))) | K9: Produto fictício | L9: =IF($D9="","",IFERROR(INDEX('Áreas_Capacidade'!$C$7:$C$106,MATCH($D9,'Áreas_Capacidade'!$A$7:$A$106,0)),""))
A10: 46271 | B10: SKU-FIC-004 | C10: Garrafa Térmica Luar | D10: ARM-002 | E10: 300 | F10: 0.008 | G10: 10 | H10: =IF(OR($A10="",$B10="",$D10="",$E10="",$F10=""),"",IF(AND(ISNUMBER($E10),ISNUMBER($F10)),$E10*$F10,"")) | I10: =IF(OR($A10="",$B10="",$D10="",$E10="",$G10=""),"",IF(AND(ISNUMBER($E10),ISNUMBER($G10),$G10>0),IFERROR(ROUNDUP($E10/$G10,0),""),"")) | J10: =IF(COUNTA($A10:$G10)=0,"",IF(OR($A10="",$B10="",$C10="",$D10="",$E10=""),"Completar campos obrigatórios",IF($E10<0,"Quantidade inválida",IF($L10="","Área não cadastrada",IF(COUNTIFS($A$7:$A$206,$A10,$B$7:$B$206,$B10,$D$7:$D$206,$D10)>1,"Registro duplicado",IF(AND(OR($L10="Volume",$L10="Ambos"),OR($F10="",$F10<=0)),"Informar volume unitário",IF(AND(OR($L10="Posições",$L10="Ambos"),OR($G10="",$G10<=0)),"Informar unidades por posição","OK"))))))) | K10: Produto fictício | L10: =IF($D10="","",IFERROR(INDEX('Áreas_Capacidade'!$C$7:$C$106,MATCH($D10,'Áreas_Capacidade'!$A$7:$A$106,0)),""))
A11: 46271 | B11: SKU-FIC-005 | C11: Puff Dobrável Horizonte | D11: ARM-003 | E11: 200 | F11: 0.85 | H11: =IF(OR($A11="",$B11="",$D11="",$E11="",$F11=""),"",IF(AND(ISNUMBER($E11),ISNUMBER($F11)),$E11*$F11,"")) | I11: =IF(OR($A11="",$B11="",$D11="",$E11="",$G11=""),"",IF(AND(ISNUMBER($E11),ISNUMBER($G11),$G11>0),IFERROR(ROUNDUP($E11/$G11,0),""),"")) | J11: =IF(COUNTA($A11:$G11)=0,"",IF(OR($A11="",$B11="",$C11="",$D11="",$E11=""),"Completar campos obrigatórios",IF($E11<0,"Quantidade inválida",IF($L11="","Área não cadastrada",IF(COUNTIFS($A$7:$A$206,$A11,$B$7:$B$206,$B11,$D$7:$D$206,$D11)>1,"Registro duplicado",IF(AND(OR($L11="Volume",$L11="Ambos"),OR($F11="",$F11<=0)),"Informar volume unitário",IF(AND(OR($L11="Posições",$L11="Ambos"),OR($G11="",$G11<=0)),"Informar unidades por posição","OK"))))))) | K11: Produto fictício | L11: =IF($D11="","",IFERROR(INDEX('Áreas_Capacidade'!$C$7:$C$106,MATCH($D11,'Áreas_Capacidade'!$A$7:$A$106,0)),""))
A12: 46271 | B12: SKU-FIC-006 | C12: Caixa Organizadora Prisma | D12: ARM-003 | E12: 330 | F12: 0.32 | H12: =IF(OR($A12="",$B12="",$D12="",$E12="",$F12=""),"",IF(AND(ISNUMBER($E12),ISNUMBER($F12)),$E12*$F12,"")) | I12: =IF(OR($A12="",$B12="",$D12="",$E12="",$G12=""),"",IF(AND(ISNUMBER($E12),ISNUMBER($G12),$G12>0),IFERROR(ROUNDUP($E12/$G12,0),""),"")) | J12: =IF(COUNTA($A12:$G12)=0,"",IF(OR($A12="",$B12="",$C12="",$D12="",$E12=""),"Completar campos obrigatórios",IF($E12<0,"Quantidade inválida",IF($L12="","Área não cadastrada",IF(COUNTIFS($A$7:$A$206,$A12,$B$7:$B$206,$B12,$D$7:$D$206,$D12)>1,"Registro duplicado",IF(AND(OR($L12="Volume",$L12="Ambos"),OR($F12="",$F12<=0)),"Informar volume unitário",IF(AND(OR($L12="Posições",$L12="Ambos"),OR($G12="",$G12<=0)),"Informar unidades por posição","OK"))))))) | K12: Produto fictício | L12: =IF($D12="","",IFERROR(INDEX('Áreas_Capacidade'!$C$7:$C$106,MATCH($D12,'Áreas_Capacidade'!$A$7:$A$106,0)),""))
A13: 46271 | B13: SKU-FIC-007 | C13: Fone Onda Azul | D13: ARM-004 | E13: 650 | F13: 0.0012 | G13: 25 | H13: =IF(OR($A13="",$B13="",$D13="",$E13="",$F13=""),"",IF(AND(ISNUMBER($E13),ISNUMBER($F13)),$E13*$F13,"")) | I13: =IF(OR($A13="",$B13="",$D13="",$E13="",$G13=""),"",IF(AND(ISNUMBER($E13),ISNUMBER($G13),$G13>0),IFERROR(ROUNDUP($E13/$G13,0),""),"")) | J13: =IF(COUNTA($A13:$G13)=0,"",IF(OR($A13="",$B13="",$C13="",$D13="",$E13=""),"Completar campos obrigatórios",IF($E13<0,"Quantidade inválida",IF($L13="","Área não cadastrada",IF(COUNTIFS($A$7:$A$206,$A13,$B$7:$B$206,$B13,$D$7:$D$206,$D13)>1,"Registro duplicado",IF(AND(OR($L13="Volume",$L13="Ambos"),OR($F13="",$F13<=0)),"Informar volume unitário",IF(AND(OR($L13="Posições",$L13="Ambos"),OR($G13="",$G13<=0)),"Informar unidades por posição","OK"))))))) | K13: Produto fictício | L13: =IF($D13="","",IFERROR(INDEX('Áreas_Capacidade'!$C$7:$C$106,MATCH($D13,'Áreas_Capacidade'!$A$7:$A$106,0)),""))
A14: 46271 | B14: SKU-FIC-008 | C14: Cabo Solar 2 m | D14: ARM-004 | E14: 450 | F14: 0.0008 | G14: 30 | H14: =IF(OR($A14="",$B14="",$D14="",$E14="",$F14=""),"",IF(AND(ISNUMBER($E14),ISNUMBER($F14)),$E14*$F14,"")) | I14: =IF(OR($A14="",$B14="",$D14="",$E14="",$G14=""),"",IF(AND(ISNUMBER($E14),ISNUMBER($G14),$G14>0),IFERROR(ROUNDUP($E14/$G14,0),""),"")) | J14: =IF(COUNTA($A14:$G14)=0,"",IF(OR($A14="",$B14="",$C14="",$D14="",$E14=""),"Completar campos obrigatórios",IF($E14<0,"Quantidade inválida",IF($L14="","Área não cadastrada",IF(COUNTIFS($A$7:$A$206,$A14,$B$7:$B$206,$B14,$D$7:$D$206,$D14)>1,"Registro duplicado",IF(AND(OR($L14="Volume",$L14="Ambos"),OR($F14="",$F14<=0)),"Informar volume unitário",IF(AND(OR($L14="Posições",$L14="Ambos"),OR($G14="",$G14<=0)),"Informar unidades por posição","OK"))))))) | K14: Produto fictício | L14: =IF($D14="","",IFERROR(INDEX('Áreas_Capacidade'!$C$7:$C$106,MATCH($D14,'Áreas_Capacidade'!$A$7:$A$106,0)),""))
H15: =IF(OR($A15="",$B15="",$D15="",$E15="",$F15=""),"",IF(AND(ISNUMBER($E15),ISNUMBER($F15)),$E15*$F15,"")) | I15: =IF(OR($A15="",$B15="",$D15="",$E15="",$G15=""),"",IF(AND(ISNUMBER($E15),ISNUMBER($G15),$G15>0),IFERROR(ROUNDUP($E15/$G15,0),""),"")) | J15: =IF(COUNTA($A15:$G15)=0,"",IF(OR($A15="",$B15="",$C15="",$D15="",$E15=""),"Completar campos obrigatórios",IF($E15<0,"Quantidade inválida",IF($L15="","Área não cadastrada",IF(COUNTIFS($A$7:$A$206,$A15,$B$7:$B$206,$B15,$D$7:$D$206,$D15)>1,"Registro duplicado",IF(AND(OR($L15="Volume",$L15="Ambos"),OR($F15="",$F15<=0)),"Informar volume unitário",IF(AND(OR($L15="Posições",$L15="Ambos"),OR($G15="",$G15<=0)),"Informar unidades por posição","OK"))))))) | L15: =IF($D15="","",IFERROR(INDEX('Áreas_Capacidade'!$C$7:$C$106,MATCH($D15,'Áreas_Capacidade'!$A$7:$A$106,0)),""))
H16: =IF(OR($A16="",$B16="",$D16="",$E16="",$F16=""),"",IF(AND(ISNUMBER($E16),ISNUMBER($F16)),$E16*$F16,"")) | I16: =IF(OR($A16="",$B16="",$D16="",$E16="",$G16=""),"",IF(AND(ISNUMBER($E16),ISNUMBER($G16),$G16>0),IFERROR(ROUNDUP($E16/$G16,0),""),"")) | J16: =IF(COUNTA($A16:$G16)=0,"",IF(OR($A16="",$B16="",$C16="",$D16="",$E16=""),"Completar campos obrigatórios",IF($E16<0,"Quantidade inválida",IF($L16="","Área não cadastrada",IF(COUNTIFS($A$7:$A$206,$A16,$B$7:$B$206,$B16,$D$7:$D$206,$D16)>1,"Registro duplicado",IF(AND(OR($L16="Volume",$L16="Ambos"),OR($F16="",$F16<=0)),"Informar volume unitário",IF(AND(OR($L16="Posições",$L16="Ambos"),OR($G16="",$G16<=0)),"Informar unidades por posição","OK"))))))) | L16: =IF($D16="","",IFERROR(INDEX('Áreas_Capacidade'!$C$7:$C$106,MATCH($D16,'Áreas_Capacidade'!$A$7:$A$106,0)),""))
H17: =IF(OR($A17="",$B17="",$D17="",$E17="",$F17=""),"",IF(AND(ISNUMBER($E17),ISNUMBER($F17)),$E17*$F17,"")) | I17: =IF(OR($A17="",$B17="",$D17="",$E17="",$G17=""),"",IF(AND(ISNUMBER($E17),ISNUMBER($G17),$G17>0),IFERROR(ROUNDUP($E17/$G17,0),""),"")) | J17: =IF(COUNTA($A17:$G17)=0,"",IF(OR($A17="",$B17="",$C17="",$D17="",$E17=""),"Completar campos obrigatórios",IF($E17<0,"Quantidade inválida",IF($L17="","Área não cadastrada",IF(COUNTIFS($A$7:$A$206,$A17,$B$7:$B$206,$B17,$D$7:$D$206,$D17)>1,"Registro duplicado",IF(AND(OR($L17="Volume",$L17="Ambos"),OR($F17="",$F17<=0)),"Informar volume unitário",IF(AND(OR($L17="Posições",$L17="Ambos"),OR($G17="",$G17<=0)),"Informar unidades por posição","OK"))))))) | L17: =IF($D17="","",IFERROR(INDEX('Áreas_Capacidade'!$C$7:$C$106,MATCH($D17,'Áreas_Capacidade'!$A$7:$A$106,0)),""))
H18: =IF(OR($A18="",$B18="",$D18="",$E18="",$F18=""),"",IF(AND(ISNUMBER($E18),ISNUMBER($F18)),$E18*$F18,"")) | I18: =IF(OR($A18="",$B18="",$D18="",$E18="",$G18=""),"",IF(AND(ISNUMBER($E18),ISNUMBER($G18),$G18>0),IFERROR(ROUNDUP($E18/$G18,0),""),"")) | J18: =IF(COUNTA($A18:$G18)=0,"",IF(OR($A18="",$B18="",$C18="",$D18="",$E18=""),"Completar campos obrigatórios",IF($E18<0,"Quantidade inválida",IF($L18="","Área não cadastrada",IF(COUNTIFS($A$7:$A$206,$A18,$B$7:$B$206,$B18,$D$7:$D$206,$D18)>1,"Registro duplicado",IF(AND(OR($L18="Volume",$L18="Ambos"),OR($F18="",$F18<=0)),"Informar volume unitário",IF(AND(OR($L18="Posições",$L18="Ambos"),OR($G18="",$G18<=0)),"Informar unidades por posição","OK"))))))) | L18: =IF($D18="","",IFERROR(INDEX('Áreas_Capacidade'!$C$7:$C$106,MATCH($D18,'Áreas_Capacidade'!$A$7:$A$106,0)),""))
H19: =IF(OR($A19="",$B19="",$D19="",$E19="",$F19=""),"",IF(AND(ISNUMBER($E19),ISNUMBER($F19)),$E19*$F19,"")) | I19: =IF(OR($A19="",$B19="",$D19="",$E19="",$G19=""),"",IF(AND(ISNUMBER($E19),ISNUMBER($G19),$G19>0),IFERROR(ROUNDUP($E19/$G19,0),""),"")) | J19: =IF(COUNTA($A19:$G19)=0,"",IF(OR($A19="",$B19="",$C19="",$D19="",$E19=""),"Completar campos obrigatórios",IF($E19<0,"Quantidade inválida",IF($L19="","Área não cadastrada",IF(COUNTIFS($A$7:$A$206,$A19,$B$7:$B$206,$B19,$D$7:$D$206,$D19)>1,"Registro duplicado",IF(AND(OR($L19="Volume",$L19="Ambos"),OR($F19="",$F19<=0)),"Informar volume unitário",IF(AND(OR($L19="Posições",$L19="Ambos"),OR($G19="",$G19<=0)),"Informar unidades por posição","OK"))))))) | L19: =IF($D19="","",IFERROR(INDEX('Áreas_Capacidade'!$C$7:$C$106,MATCH($D19,'Áreas_Capacidade'!$A$7:$A$106,0)),""))
H20: =IF(OR($A20="",$B20="",$D20="",$E20="",$F20=""),"",IF(AND(ISNUMBER($E20),ISNUMBER($F20)),$E20*$F20,"")) | I20: =IF(OR($A20="",$B20="",$D20="",$E20="",$G20=""),"",IF(AND(ISNUMBER($E20),ISNUMBER($G20),$G20>0),IFERROR(ROUNDUP($E20/$G20,0),""),"")) | J20: =IF(COUNTA($A20:$G20)=0,"",IF(OR($A20="",$B20="",$C20="",$D20="",$E20=""),"Completar campos obrigatórios",IF($E20<0,"Quantidade inválida",IF($L20="","Área não cadastrada",IF(COUNTIFS($A$7:$A$206,$A20,$B$7:$B$206,$B20,$D$7:$D$206,$D20)>1,"Registro duplicado",IF(AND(OR($L20="Volume",$L20="Ambos"),OR($F20="",$F20<=0)),"Informar volume unitário",IF(AND(OR($L20="Posições",$L20="Ambos"),OR($G20="",$G20<=0)),"Informar unidades por posição","OK"))))))) | L20: =IF($D20="","",IFERROR(INDEX('Áreas_Capacidade'!$C$7:$C$106,MATCH($D20,'Áreas_Capacidade'!$A$7:$A$106,0)),""))
H21: =IF(OR($A21="",$B21="",$D21="",$E21="",$F21=""),"",IF(AND(ISNUMBER($E21),ISNUMBER($F21)),$E21*$F21,"")) | I21: =IF(OR($A21="",$B21="",$D21="",$E21="",$G21=""),"",IF(AND(ISNUMBER($E21),ISNUMBER($G21),$G21>0),IFERROR(ROUNDUP($E21/$G21,0),""),"")) | J21: =IF(COUNTA($A21:$G21)=0,"",IF(OR($A21="",$B21="",$C21="",$D21="",$E21=""),"Completar campos obrigatórios",IF($E21<0,"Quantidade inválida",IF($L21="","Área não cadastrada",IF(COUNTIFS($A$7:$A$206,$A21,$B$7:$B$206,$B21,$D$7:$D$206,$D21)>1,"Registro duplicado",IF(AND(OR($L21="Volume",$L21="Ambos"),OR($F21="",$F21<=0)),"Informar volume unitário",IF(AND(OR($L21="Posições",$L21="Ambos"),OR($G21="",$G21<=0)),"Informar unidades por posição","OK"))))))) | L21: =IF($D21="","",IFERROR(INDEX('Áreas_Capacidade'!$C$7:$C$106,MATCH($D21,'Áreas_Capacidade'!$A$7:$A$106,0)),""))
H22: =IF(OR($A22="",$B22="",$D22="",$E22="",$F22=""),"",IF(AND(ISNUMBER($E22),ISNUMBER($F22)),$E22*$F22,"")) | I22: =IF(OR($A22="",$B22="",$D22="",$E22="",$G22=""),"",IF(AND(ISNUMBER($E22),ISNUMBER($G22),$G22>0),IFERROR(ROUNDUP($E22/$G22,0),""),"")) | J22: =IF(COUNTA($A22:$G22)=0,"",IF(OR($A22="",$B22="",$C22="",$D22="",$E22=""),"Completar campos obrigatórios",IF($E22<0,"Quantidade inválida",IF($L22="","Área não cadastrada",IF(COUNTIFS($A$7:$A$206,$A22,$B$7:$B$206,$B22,$D$7:$D$206,$D22)>1,"Registro duplicado",IF(AND(OR($L22="Volume",$L22="Ambos"),OR($F22="",$F22<=0)),"Informar volume unitário",IF(AND(OR($L22="Posições",$L22="Ambos"),OR($G22="",$G22<=0)),"Informar unidades por posição","OK"))))))) | L22: =IF($D22="","",IFERROR(INDEX('Áreas_Capacidade'!$C$7:$C$106,MATCH($D22,'Áreas_Capacidade'!$A$7:$A$106,0)),""))
H23: =IF(OR($A23="",$B23="",$D23="",$E23="",$F23=""),"",IF(AND(ISNUMBER($E23),ISNUMBER($F23)),$E23*$F23,"")) | I23: =IF(OR($A23="",$B23="",$D23="",$E23="",$G23=""),"",IF(AND(ISNUMBER($E23),ISNUMBER($G23),$G23>0),IFERROR(ROUNDUP($E23/$G23,0),""),"")) | J23: =IF(COUNTA($A23:$G23)=0,"",IF(OR($A23="",$B23="",$C23="",$D23="",$E23=""),"Completar campos obrigatórios",IF($E23<0,"Quantidade inválida",IF($L23="","Área não cadastrada",IF(COUNTIFS($A$7:$A$206,$A23,$B$7:$B$206,$B23,$D$7:$D$206,$D23)>1,"Registro duplicado",IF(AND(OR($L23="Volume",$L23="Ambos"),OR($F23="",$F23<=0)),"Informar volume unitário",IF(AND(OR($L23="Posições",$L23="Ambos"),OR($G23="",$G23<=0)),"Informar unidades por posição","OK"))))))) | L23: =IF($D23="","",IFERROR(INDEX('Áreas_Capacidade'!$C$7:$C$106,MATCH($D23,'Áreas_Capacidade'!$A$7:$A$106,0)),""))
H24: =IF(OR($A24="",$B24="",$D24="",$E24="",$F24=""),"",IF(AND(ISNUMBER($E24),ISNUMBER($F24)),$E24*$F24,"")) | I24: =IF(OR($A24="",$B24="",$D24="",$E24="",$G24=""),"",IF(AND(ISNUMBER($E24),ISNUMBER($G24),$G24>0),IFERROR(ROUNDUP($E24/$G24,0),""),"")) | J24: =IF(COUNTA($A24:$G24)=0,"",IF(OR($A24="",$B24="",$C24="",$D24="",$E24=""),"Completar campos obrigatórios",IF($E24<0,"Quantidade inválida",IF($L24="","Área não cadastrada",IF(COUNTIFS($A$7:$A$206,$A24,$B$7:$B$206,$B24,$D$7:$D$206,$D24)>1,"Registro duplicado",IF(AND(OR($L24="Volume",$L24="Ambos"),OR($F24="",$F24<=0)),"Informar volume unitário",IF(AND(OR($L24="Posições",$L24="Ambos"),OR($G24="",$G24<=0)),"Informar unidades por posição","OK"))))))) | L24: =IF($D24="","",IFERROR(INDEX('Áreas_Capacidade'!$C$7:$C$106,MATCH($D24,'Áreas_Capacidade'!$A$7:$A$106,0)),""))
H25: =IF(OR($A25="",$B25="",$D25="",$E25="",$F25=""),"",IF(AND(ISNUMBER($E25),ISNUMBER($F25)),$E25*$F25,"")) | I25: =IF(OR($A25="",$B25="",$D25="",$E25="",$G25=""),"",IF(AND(ISNUMBER($E25),ISNUMBER($G25),$G25>0),IFERROR(ROUNDUP($E25/$G25,0),""),"")) | J25: =IF(COUNTA($A25:$G25)=0,"",IF(OR($A25="",$B25="",$C25="",$D25="",$E25=""),"Completar campos obrigatórios",IF($E25<0,"Quantidade inválida",IF($L25="","Área não cadastrada",IF(COUNTIFS($A$7:$A$206,$A25,$B$7:$B$206,$B25,$D$7:$D$206,$D25)>1,"Registro duplicado",IF(AND(OR($L25="Volume",$L25="Ambos"),OR($F25="",$F25<=0)),"Informar volume unitário",IF(AND(OR($L25="Posições",$L25="Ambos"),OR($G25="",$G25<=0)),"Informar unidades por posição","OK"))))))) | L25: =IF($D25="","",IFERROR(INDEX('Áreas_Capacidade'!$C$7:$C$106,MATCH($D25,'Áreas_Capacidade'!$A$7:$A$106,0)),""))
H26: =IF(OR($A26="",$B26="",$D26="",$E26="",$F26=""),"",IF(AND(ISNUMBER($E26),ISNUMBER($F26)),$E26*$F26,"")) | I26: =IF(OR($A26="",$B26="",$D26="",$E26="",$G26=""),"",IF(AND(ISNUMBER($E26),ISNUMBER($G26),$G26>0),IFERROR(ROUNDUP($E26/$G26,0),""),"")) | J26: =IF(COUNTA($A26:$G26)=0,"",IF(OR($A26="",$B26="",$C26="",$D26="",$E26=""),"Completar campos obrigatórios",IF($E26<0,"Quantidade inválida",IF($L26="","Área não cadastrada",IF(COUNTIFS($A$7:$A$206,$A26,$B$7:$B$206,$B26,$D$7:$D$206,$D26)>1,"Registro duplicado",IF(AND(OR($L26="Volume",$L26="Ambos"),OR($F26="",$F26<=0)),"Informar volume unitário",IF(AND(OR($L26="Posições",$L26="Ambos"),OR($G26="",$G26<=0)),"Informar unidades por posição","OK"))))))) | L26: =IF($D26="","",IFERROR(INDEX('Áreas_Capacidade'!$C$7:$C$106,MATCH($D26,'Áreas_Capacidade'!$A$7:$A$106,0)),""))
... H206: =IF(OR($A206="",$B206="",$D206="",$E206="",$F206=""),"",IF(AND(ISNUMBER($E206),ISNUMBER($F206)),$E206*$F206,"")) | I206: =IF(OR($A206="",$B206="",$D206="",$E206="",$G206=""),"",IF(AND(ISNUMBER($E206),ISNUMBER($G206),$G206>0),IFERROR(ROUNDUP($E206/$G206,0),""),"")) | J206: =IF(COUNTA($A206:$G206)=0,"",IF(OR($A206="",$B206="",$C206="",$D206="",$E206=""),"Completar campos obrigatórios",IF($E206<0,"Quantidade inválida",IF($L206="","Área não cadastrada",IF(COUNTIFS($A$7:$A$206,$A206,$B$7:$B$206,$B206,$D$7:$D$206,$D206)>1,"Registro duplicado",IF(AND(OR($L206="Volume",$L206="Ambos"),OR($F206="",$F206<=0)),"Informar volume unitário",IF(AND(OR($L206="Posições",$L206="Ambos"),OR($G206="",$G206<=0)),"Informar unidades por posição","OK"))))))) | L206: =IF($D206="","",IFERROR(INDEX('Áreas_Capacidade'!$C$7:$C$106,MATCH($D206,'Áreas_Capacidade'!$A$7:$A$106,0)),""))

Sheet Cenários
A1: Cenário de Expansão
A2: Nome do cenário | B2: Pico de fim de ano fictício | D2: Crescimento padrão | E2: 0.2 | G2: Meta máxima | H2: =Resumo!$E$4
A3: Data projetada | B3: 46356 | D3: Data-base | E3: =Resumo!$B$3 | G3: Configuração | H3: =Resumo!$H$4
A6: ID da área | B6: Área ou zona | C6: Modo de controle | D6: Crescimento específico (%) | E6: Posições adicionais planejadas | F6: Volume adicional planejado (m³) | G6: Crescimento aplicado | H6: Demanda projetada — posições | I6: Capacidade projetada — posições | J6: Ocupação projetada — posições | K6: Demanda projetada — volume (m³) | L6: Capacidade projetada — volume (m³) | M6: Ocupação projetada — volume | N6: Ocupação limitante projetada | O6: Posições livres projetadas | P6: Volume livre projetado (m³) | Q6: Expansão adicional necessária — posições | R6: Expansão adicional necessária — volume (m³) | S6: Status projetado | T6: Alerta do cenário
A7: =IF('Áreas_Capacidade'!A7="","",'Áreas_Capacidade'!A7) | B7: =IF('Áreas_Capacidade'!B7="","",'Áreas_Capacidade'!B7) | C7: =IF('Áreas_Capacidade'!C7="","",'Áreas_Capacidade'!C7) | D7: 0.25 | E7: 20 | F7: 25 | G7: =IF($A7="","",IF($D7="",$E$2,$D7)) | H7: =IF($A7="","",IF(OR($C7="Posições",$C7="Ambos"),ROUNDUP('Áreas_Capacidade'!$J7*(1+$G7),0),"")) | I7: =IF($A7="","",IF(OR($C7="Posições",$C7="Ambos"),MAX(0,ROUNDDOWN(('Áreas_Capacidade'!$D7+N($E7)-'Áreas_Capacidade'!$E7)*(1-'Áreas_Capacidade'!$G7),0)),"")) | J7: =IF(AND(ISNUMBER($I7),$I7>0,ISNUMBER($H7)),IFERROR($H7/$I7,""),"") | K7: =IF($A7="","",IF(OR($C7="Volume",$C7="Ambos"),'Áreas_Capacidade'!$K7*(1+$G7),"")) | L7: =IF($A7="","",IF(OR($C7="Volume",$C7="Ambos"),MAX(0,('Áreas_Capacidade'!$F7+N($F7))*(1-'Áreas_Capacidade'!$G7)),"")) | M7: =IF(AND(ISNUMBER($L7),$L7>0,ISNUMBER($K7)),IFERROR($K7/$L7,""),"") | N7: =IF($A7="","",IF($C7="Ambos",IF(COUNT($J7,$M7)=2,MAX($J7,$M7),""),IF($C7="Posições",$J7,IF($C7="Volume",$M7,"")))) | O7: =IF(AND(ISNUMBER($I7),ISNUMBER($H7)),$I7-$H7,"") | P7: =IF(AND(ISNUMBER($L7),ISNUMBER($K7)),$L7-$K7,"") | Q7: =IF($A7="","",IF(OR($C7="Posições",$C7="Ambos"),IF(AND(Resumo!$E$4>0,1-'Áreas_Capacidade'!$G7>0),IFERROR(MAX(0,ROUNDUP($H7/(Resumo!$E$4*(1-'Áreas_Capacidade'!$G7))-MAX(0,'Áreas_Capacidade'!$D7-'Áreas_Capacidade'!$E7+N($E7)),0)),""),""),"")) | R7: =IF($A7="","",IF(OR($C7="Volume",$C7="Ambos"),IF(AND(Resumo!$E$4>0,1-'Áreas_Capacidade'!$G7>0),IFERROR(MAX(0,ROUNDUP($K7/(Resumo!$E$4*(1-'Áreas_Capacidade'!$G7))-('Áreas_Capacidade'!$F7+N($F7)),3)),""),""),"")) | S7: =IF($A7="","",IF(NOT(ISNUMBER($N7)),"Sem base",IF($N7>=1,"Saturado",IF($N7>=Resumo!$H$3,"Crítico",IF($N7>=Resumo!$E$3,"Atenção","Adequado"))))) | T7: =IF($A7="","",IF(Resumo!$H$4<>"OK","Revisar parâmetros do Resumo",IF('Áreas_Capacidade'!$R7<>"OK","Revisar cadastro da área",IF(OR($G7<-1,N($E7)<0,N($F7)<0),"Revisar premissas","OK"))))
A8: =IF('Áreas_Capacidade'!A8="","",'Áreas_Capacidade'!A8) | B8: =IF('Áreas_Capacidade'!B8="","",'Áreas_Capacidade'!B8) | C8: =IF('Áreas_Capacidade'!C8="","",'Áreas_Capacidade'!C8) | E8: 15 | F8: 10 | G8: =IF($A8="","",IF($D8="",$E$2,$D8)) | H8: =IF($A8="","",IF(OR($C8="Posições",$C8="Ambos"),ROUNDUP('Áreas_Capacidade'!$J8*(1+$G8),0),"")) | I8: =IF($A8="","",IF(OR($C8="Posições",$C8="Ambos"),MAX(0,ROUNDDOWN(('Áreas_Capacidade'!$D8+N($E8)-'Áreas_Capacidade'!$E8)*(1-'Áreas_Capacidade'!$G8),0)),"")) | J8: =IF(AND(ISNUMBER($I8),$I8>0,ISNUMBER($H8)),IFERROR($H8/$I8,""),"") | K8: =IF($A8="","",IF(OR($C8="Volume",$C8="Ambos"),'Áreas_Capacidade'!$K8*(1+$G8),"")) | L8: =IF($A8="","",IF(OR($C8="Volume",$C8="Ambos"),MAX(0,('Áreas_Capacidade'!$F8+N($F8))*(1-'Áreas_Capacidade'!$G8)),"")) | M8: =IF(AND(ISNUMBER($L8),$L8>0,ISNUMBER($K8)),IFERROR($K8/$L8,""),"") | N8: =IF($A8="","",IF($C8="Ambos",IF(COUNT($J8,$M8)=2,MAX($J8,$M8),""),IF($C8="Posições",$J8,IF($C8="Volume",$M8,"")))) | O8: =IF(AND(ISNUMBER($I8),ISNUMBER($H8)),$I8-$H8,"") | P8: =IF(AND(ISNUMBER($L8),ISNUMBER($K8)),$L8-$K8,"") | Q8: =IF($A8="","",IF(OR($C8="Posições",$C8="Ambos"),IF(AND(Resumo!$E$4>0,1-'Áreas_Capacidade'!$G8>0),IFERROR(MAX(0,ROUNDUP($H8/(Resumo!$E$4*(1-'Áreas_Capacidade'!$G8))-MAX(0,'Áreas_Capacidade'!$D8-'Áreas_Capacidade'!$E8+N($E8)),0)),""),""),"")) | R8: =IF($A8="","",IF(OR($C8="Volume",$C8="Ambos"),IF(AND(Resumo!$E$4>0,1-'Áreas_Capacidade'!$G8>0),IFERROR(MAX(0,ROUNDUP($K8/(Resumo!$E$4*(1-'Áreas_Capacidade'!$G8))-('Áreas_Capacidade'!$F8+N($F8)),3)),""),""),"")) | S8: =IF($A8="","",IF(NOT(ISNUMBER($N8)),"Sem base",IF($N8>=1,"Saturado",IF($N8>=Resumo!$H$3,"Crítico",IF($N8>=Resumo!$E$3,"Atenção","Adequado"))))) | T8: =IF($A8="","",IF(Resumo!$H$4<>"OK","Revisar parâmetros do Resumo",IF('Áreas_Capacidade'!$R8<>"OK","Revisar cadastro da área",IF(OR($G8<-1,N($E8)<0,N($F8)<0),"Revisar premissas","OK"))))
A9: =IF('Áreas_Capacidade'!A9="","",'Áreas_Capacidade'!A9) | B9: =IF('Áreas_Capacidade'!B9="","",'Áreas_Capacidade'!B9) | C9: =IF('Áreas_Capacidade'!C9="","",'Áreas_Capacidade'!C9) | D9: 0.2 | E9: 0 | F9: 80 | G9: =IF($A9="","",IF($D9="",$E$2,$D9)) | H9: =IF($A9="","",IF(OR($C9="Posições",$C9="Ambos"),ROUNDUP('Áreas_Capacidade'!$J9*(1+$G9),0),"")) | I9: =IF($A9="","",IF(OR($C9="Posições",$C9="Ambos"),MAX(0,ROUNDDOWN(('Áreas_Capacidade'!$D9+N($E9)-'Áreas_Capacidade'!$E9)*(1-'Áreas_Capacidade'!$G9),0)),"")) | J9: =IF(AND(ISNUMBER($I9),$I9>0,ISNUMBER($H9)),IFERROR($H9/$I9,""),"") | K9: =IF($A9="","",IF(OR($C9="Volume",$C9="Ambos"),'Áreas_Capacidade'!$K9*(1+$G9),"")) | L9: =IF($A9="","",IF(OR($C9="Volume",$C9="Ambos"),MAX(0,('Áreas_Capacidade'!$F9+N($F9))*(1-'Áreas_Capacidade'!$G9)),"")) | M9: =IF(AND(ISNUMBER($L9),$L9>0,ISNUMBER($K9)),IFERROR($K9/$L9,""),"") | N9: =IF($A9="","",IF($C9="Ambos",IF(COUNT($J9,$M9)=2,MAX($J9,$M9),""),IF($C9="Posições",$J9,IF($C9="Volume",$M9,"")))) | O9: =IF(AND(ISNUMBER($I9),ISNUMBER($H9)),$I9-$H9,"") | P9: =IF(AND(ISNUMBER($L9),ISNUMBER($K9)),$L9-$K9,"") | Q9: =IF($A9="","",IF(OR($C9="Posições",$C9="Ambos"),IF(AND(Resumo!$E$4>0,1-'Áreas_Capacidade'!$G9>0),IFERROR(MAX(0,ROUNDUP($H9/(Resumo!$E$4*(1-'Áreas_Capacidade'!$G9))-MAX(0,'Áreas_Capacidade'!$D9-'Áreas_Capacidade'!$E9+N($E9)),0)),""),""),"")) | R9: =IF($A9="","",IF(OR($C9="Volume",$C9="Ambos"),IF(AND(Resumo!$E$4>0,1-'Áreas_Capacidade'!$G9>0),IFERROR(MAX(0,ROUNDUP($K9/(Resumo!$E$4*(1-'Áreas_Capacidade'!$G9))-('Áreas_Capacidade'!$F9+N($F9)),3)),""),""),"")) | S9: =IF($A9="","",IF(NOT(ISNUMBER($N9)),"Sem base",IF($N9>=1,"Saturado",IF($N9>=Resumo!$H$3,"Crítico",IF($N9>=Resumo!$E$3,"Atenção","Adequado"))))) | T9: =IF($A9="","",IF(Resumo!$H$4<>"OK","Revisar parâmetros do Resumo",IF('Áreas_Capacidade'!$R9<>"OK","Revisar cadastro da área",IF(OR($G9<-1,N($E9)<0,N($F9)<0),"Revisar premissas","OK"))))
A10: =IF('Áreas_Capacidade'!A10="","",'Áreas_Capacidade'!A10) | B10: =IF('Áreas_Capacidade'!B10="","",'Áreas_Capacidade'!B10) | C10: =IF('Áreas_Capacidade'!C10="","",'Áreas_Capacidade'!C10) | D10: 0.15 | E10: 15 | F10: 0 | G10: =IF($A10="","",IF($D10="",$E$2,$D10)) | H10: =IF($A10="","",IF(OR($C10="Posições",$C10="Ambos"),ROUNDUP('Áreas_Capacidade'!$J10*(1+$G10),0),"")) | I10: =IF($A10="","",IF(OR($C10="Posições",$C10="Ambos"),MAX(0,ROUNDDOWN(('Áreas_Capacidade'!$D10+N($E10)-'Áreas_Capacidade'!$E10)*(1-'Áreas_Capacidade'!$G10),0)),"")) | J10: =IF(AND(ISNUMBER($I10),$I10>0,ISNUMBER($H10)),IFERROR($H10/$I10,""),"") | K10: =IF($A10="","",IF(OR($C10="Volume",$C10="Ambos"),'Áreas_Capacidade'!$K10*(1+$G10),"")) | L10: =IF($A10="","",IF(OR($C10="Volume",$C10="Ambos"),MAX(0,('Áreas_Capacidade'!$F10+N($F10))*(1-'Áreas_Capacidade'!$G10)),"")) | M10: =IF(AND(ISNUMBER($L10),$L10>0,ISNUMBER($K10)),IFERROR($K10/$L10,""),"") | N10: =IF($A10="","",IF($C10="Ambos",IF(COUNT($J10,$M10)=2,MAX($J10,$M10),""),IF($C10="Posições",$J10,IF($C10="Volume",$M10,"")))) | O10: =IF(AND(ISNUMBER($I10),ISNUMBER($H10)),$I10-$H10,"") | P10: =IF(AND(ISNUMBER($L10),ISNUMBER($K10)),$L10-$K10,"") | Q10: =IF($A10="","",IF(OR($C10="Posições",$C10="Ambos"),IF(AND(Resumo!$E$4>0,1-'Áreas_Capacidade'!$G10>0),IFERROR(MAX(0,ROUNDUP($H10/(Resumo!$E$4*(1-'Áreas_Capacidade'!$G10))-MAX(0,'Áreas_Capacidade'!$D10-'Áreas_Capacidade'!$E10+N($E10)),0)),""),""),"")) | R10: =IF($A10="","",IF(OR($C10="Volume",$C10="Ambos"),IF(AND(Resumo!$E$4>0,1-'Áreas_Capacidade'!$G10>0),IFERROR(MAX(0,ROUNDUP($K10/(Resumo!$E$4*(1-'Áreas_Capacidade'!$G10))-('Áreas_Capacidade'!$F10+N($F10)),3)),""),""),"")) | S10: =IF($A10="","",IF(NOT(ISNUMBER($N10)),"Sem base",IF($N10>=1,"Saturado",IF($N10>=Resumo!$H$3,"Crítico",IF($N10>=Resumo!$E$3,"Atenção","Adequado"))))) | T10: =IF($A10="","",IF(Resumo!$H$4<>"OK","Revisar parâmetros do Resumo",IF('Áreas_Capacidade'!$R10<>"OK","Revisar cadastro da área",IF(OR($G10<-1,N($E10)<0,N($F10)<0),"Revisar premissas","OK"))))
A11: =IF('Áreas_Capacidade'!A11="","",'Áreas_Capacidade'!A11) | B11: =IF('Áreas_Capacidade'!B11="","",'Áreas_Capacidade'!B11) | C11: =IF('Áreas_Capacidade'!C11="","",'Áreas_Capacidade'!C11) | G11: =IF($A11="","",IF($D11="",$E$2,$D11)) | H11: =IF($A11="","",IF(OR($C11="Posições",$C11="Ambos"),ROUNDUP('Áreas_Capacidade'!$J11*(1+$G11),0),"")) | I11: =IF($A11="","",IF(OR($C11="Posições",$C11="Ambos"),MAX(0,ROUNDDOWN(('Áreas_Capacidade'!$D11+N($E11)-'Áreas_Capacidade'!$E11)*(1-'Áreas_Capacidade'!$G11),0)),"")) | J11: =IF(AND(ISNUMBER($I11),$I11>0,ISNUMBER($H11)),IFERROR($H11/$I11,""),"") | K11: =IF($A11="","",IF(OR($C11="Volume",$C11="Ambos"),'Áreas_Capacidade'!$K11*(1+$G11),"")) | L11: =IF($A11="","",IF(OR($C11="Volume",$C11="Ambos"),MAX(0,('Áreas_Capacidade'!$F11+N($F11))*(1-'Áreas_Capacidade'!$G11)),"")) | M11: =IF(AND(ISNUMBER($L11),$L11>0,ISNUMBER($K11)),IFERROR($K11/$L11,""),"") | N11: =IF($A11="","",IF($C11="Ambos",IF(COUNT($J11,$M11)=2,MAX($J11,$M11),""),IF($C11="Posições",$J11,IF($C11="Volume",$M11,"")))) | O11: =IF(AND(ISNUMBER($I11),ISNUMBER($H11)),$I11-$H11,"") | P11: =IF(AND(ISNUMBER($L11),ISNUMBER($K11)),$L11-$K11,"") | Q11: =IF($A11="","",IF(OR($C11="Posições",$C11="Ambos"),IF(AND(Resumo!$E$4>0,1-'Áreas_Capacidade'!$G11>0),IFERROR(MAX(0,ROUNDUP($H11/(Resumo!$E$4*(1-'Áreas_Capacidade'!$G11))-MAX(0,'Áreas_Capacidade'!$D11-'Áreas_Capacidade'!$E11+N($E11)),0)),""),""),"")) | R11: =IF($A11="","",IF(OR($C11="Volume",$C11="Ambos"),IF(AND(Resumo!$E$4>0,1-'Áreas_Capacidade'!$G11>0),IFERROR(MAX(0,ROUNDUP($K11/(Resumo!$E$4*(1-'Áreas_Capacidade'!$G11))-('Áreas_Capacidade'!$F11+N($F11)),3)),""),""),"")) | S11: =IF($A11="","",IF(NOT(ISNUMBER($N11)),"Sem base",IF($N11>=1,"Saturado",IF($N11>=Resumo!$H$3,"Crítico",IF($N11>=Resumo!$E$3,"Atenção","Adequado"))))) | T11: =IF($A11="","",IF(Resumo!$H$4<>"OK","Revisar parâmetros do Resumo",IF('Áreas_Capacidade'!$R11<>"OK","Revisar cadastro da área",IF(OR($G11<-1,N($E11)<0,N($F11)<0),"Revisar premissas","OK"))))
A12: =IF('Áreas_Capacidade'!A12="","",'Áreas_Capacidade'!A12) | B12: =IF('Áreas_Capacidade'!B12="","",'Áreas_Capacidade'!B12) | C12: =IF('Áreas_Capacidade'!C12="","",'Áreas_Capacidade'!C12) | G12: =IF($A12="","",IF($D12="",$E$2,$D12)) | H12: =IF($A12="","",IF(OR($C12="Posições",$C12="Ambos"),ROUNDUP('Áreas_Capacidade'!$J12*(1+$G12),0),"")) | I12: =IF($A12="","",IF(OR($C12="Posições",$C12="Ambos"),MAX(0,ROUNDDOWN(('Áreas_Capacidade'!$D12+N($E12)-'Áreas_Capacidade'!$E12)*(1-'Áreas_Capacidade'!$G12),0)),"")) | J12: =IF(AND(ISNUMBER($I12),$I12>0,ISNUMBER($H12)),IFERROR($H12/$I12,""),"") | K12: =IF($A12="","",IF(OR($C12="Volume",$C12="Ambos"),'Áreas_Capacidade'!$K12*(1+$G12),"")) | L12: =IF($A12="","",IF(OR($C12="Volume",$C12="Ambos"),MAX(0,('Áreas_Capacidade'!$F12+N($F12))*(1-'Áreas_Capacidade'!$G12)),"")) | M12: =IF(AND(ISNUMBER($L12),$L12>0,ISNUMBER($K12)),IFERROR($K12/$L12,""),"") | N12: =IF($A12="","",IF($C12="Ambos",IF(COUNT($J12,$M12)=2,MAX($J12,$M12),""),IF($C12="Posições",$J12,IF($C12="Volume",$M12,"")))) | O12: =IF(AND(ISNUMBER($I12),ISNUMBER($H12)),$I12-$H12,"") | P12: =IF(AND(ISNUMBER($L12),ISNUMBER($K12)),$L12-$K12,"") | Q12: =IF($A12="","",IF(OR($C12="Posições",$C12="Ambos"),IF(AND(Resumo!$E$4>0,1-'Áreas_Capacidade'!$G12>0),IFERROR(MAX(0,ROUNDUP($H12/(Resumo!$E$4*(1-'Áreas_Capacidade'!$G12))-MAX(0,'Áreas_Capacidade'!$D12-'Áreas_Capacidade'!$E12+N($E12)),0)),""),""),"")) | R12: =IF($A12="","",IF(OR($C12="Volume",$C12="Ambos"),IF(AND(Resumo!$E$4>0,1-'Áreas_Capacidade'!$G12>0),IFERROR(MAX(0,ROUNDUP($K12/(Resumo!$E$4*(1-'Áreas_Capacidade'!$G12))-('Áreas_Capacidade'!$F12+N($F12)),3)),""),""),"")) | S12: =IF($A12="","",IF(NOT(ISNUMBER($N12)),"Sem base",IF($N12>=1,"Saturado",IF($N12>=Resumo!$H$3,"Crítico",IF($N12>=Resumo!$E$3,"Atenção","Adequado"))))) | T12: =IF($A12="","",IF(Resumo!$H$4<>"OK","Revisar parâmetros do Resumo",IF('Áreas_Capacidade'!$R12<>"OK","Revisar cadastro da área",IF(OR($G12<-1,N($E12)<0,N($F12)<0),"Revisar premissas","OK"))))
A13: =IF('Áreas_Capacidade'!A13="","",'Áreas_Capacidade'!A13) | B13: =IF('Áreas_Capacidade'!B13="","",'Áreas_Capacidade'!B13) | C13: =IF('Áreas_Capacidade'!C13="","",'Áreas_Capacidade'!C13) | G13: =IF($A13="","",IF($D13="",$E$2,$D13)) | H13: =IF($A13="","",IF(OR($C13="Posições",$C13="Ambos"),ROUNDUP('Áreas_Capacidade'!$J13*(1+$G13),0),"")) | I13: =IF($A13="","",IF(OR($C13="Posições",$C13="Ambos"),MAX(0,ROUNDDOWN(('Áreas_Capacidade'!$D13+N($E13)-'Áreas_Capacidade'!$E13)*(1-'Áreas_Capacidade'!$G13),0)),"")) | J13: =IF(AND(ISNUMBER($I13),$I13>0,ISNUMBER($H13)),IFERROR($H13/$I13,""),"") | K13: =IF($A13="","",IF(OR($C13="Volume",$C13="Ambos"),'Áreas_Capacidade'!$K13*(1+$G13),"")) | L13: =IF($A13="","",IF(OR($C13="Volume",$C13="Ambos"),MAX(0,('Áreas_Capacidade'!$F13+N($F13))*(1-'Áreas_Capacidade'!$G13)),"")) | M13: =IF(AND(ISNUMBER($L13),$L13>0,ISNUMBER($K13)),IFERROR($K13/$L13,""),"") | N13: =IF($A13="","",IF($C13="Ambos",IF(COUNT($J13,$M13)=2,MAX($J13,$M13),""),IF($C13="Posições",$J13,IF($C13="Volume",$M13,"")))) | O13: =IF(AND(ISNUMBER($I13),ISNUMBER($H13)),$I13-$H13,"") | P13: =IF(AND(ISNUMBER($L13),ISNUMBER($K13)),$L13-$K13,"") | Q13: =IF($A13="","",IF(OR($C13="Posições",$C13="Ambos"),IF(AND(Resumo!$E$4>0,1-'Áreas_Capacidade'!$G13>0),IFERROR(MAX(0,ROUNDUP($H13/(Resumo!$E$4*(1-'Áreas_Capacidade'!$G13))-MAX(0,'Áreas_Capacidade'!$D13-'Áreas_Capacidade'!$E13+N($E13)),0)),""),""),"")) | R13: =IF($A13="","",IF(OR($C13="Volume",$C13="Ambos"),IF(AND(Resumo!$E$4>0,1-'Áreas_Capacidade'!$G13>0),IFERROR(MAX(0,ROUNDUP($K13/(Resumo!$E$4*(1-'Áreas_Capacidade'!$G13))-('Áreas_Capacidade'!$F13+N($F13)),3)),""),""),"")) | S13: =IF($A13="","",IF(NOT(ISNUMBER($N13)),"Sem base",IF($N13>=1,"Saturado",IF($N13>=Resumo!$H$3,"Crítico",IF($N13>=Resumo!$E$3,"Atenção","Adequado"))))) | T13: =IF($A13="","",IF(Resumo!$H$4<>"OK","Revisar parâmetros do Resumo",IF('Áreas_Capacidade'!$R13<>"OK","Revisar cadastro da área",IF(OR($G13<-1,N($E13)<0,N($F13)<0),"Revisar premissas","OK"))))
A14: =IF('Áreas_Capacidade'!A14="","",'Áreas_Capacidade'!A14) | B14: =IF('Áreas_Capacidade'!B14="","",'Áreas_Capacidade'!B14) | C14: =IF('Áreas_Capacidade'!C14="","",'Áreas_Capacidade'!C14) | G14: =IF($A14="","",IF($D14="",$E$2,$D14)) | H14: =IF($A14="","",IF(OR($C14="Posições",$C14="Ambos"),ROUNDUP('Áreas_Capacidade'!$J14*(1+$G14),0),"")) | I14: =IF($A14="","",IF(OR($C14="Posições",$C14="Ambos"),MAX(0,ROUNDDOWN(('Áreas_Capacidade'!$D14+N($E14)-'Áreas_Capacidade'!$E14)*(1-'Áreas_Capacidade'!$G14),0)),"")) | J14: =IF(AND(ISNUMBER($I14),$I14>0,ISNUMBER($H14)),IFERROR($H14/$I14,""),"") | K14: =IF($A14="","",IF(OR($C14="Volume",$C14="Ambos"),'Áreas_Capacidade'!$K14*(1+$G14),"")) | L14: =IF($A14="","",IF(OR($C14="Volume",$C14="Ambos"),MAX(0,('Áreas_Capacidade'!$F14+N($F14))*(1-'Áreas_Capacidade'!$G14)),"")) | M14: =IF(AND(ISNUMBER($L14),$L14>0,ISNUMBER($K14)),IFERROR($K14/$L14,""),"") | N14: =IF($A14="","",IF($C14="Ambos",IF(COUNT($J14,$M14)=2,MAX($J14,$M14),""),IF($C14="Posições",$J14,IF($C14="Volume",$M14,"")))) | O14: =IF(AND(ISNUMBER($I14),ISNUMBER($H14)),$I14-$H14,"") | P14: =IF(AND(ISNUMBER($L14),ISNUMBER($K14)),$L14-$K14,"") | Q14: =IF($A14="","",IF(OR($C14="Posições",$C14="Ambos"),IF(AND(Resumo!$E$4>0,1-'Áreas_Capacidade'!$G14>0),IFERROR(MAX(0,ROUNDUP($H14/(Resumo!$E$4*(1-'Áreas_Capacidade'!$G14))-MAX(0,'Áreas_Capacidade'!$D14-'Áreas_Capacidade'!$E14+N($E14)),0)),""),""),"")) | R14: =IF($A14="","",IF(OR($C14="Volume",$C14="Ambos"),IF(AND(Resumo!$E$4>0,1-'Áreas_Capacidade'!$G14>0),IFERROR(MAX(0,ROUNDUP($K14/(Resumo!$E$4*(1-'Áreas_Capacidade'!$G14))-('Áreas_Capacidade'!$F14+N($F14)),3)),""),""),"")) | S14: =IF($A14="","",IF(NOT(ISNUMBER($N14)),"Sem base",IF($N14>=1,"Saturado",IF($N14>=Resumo!$H$3,"Crítico",IF($N14>=Resumo!$E$3,"Atenção","Adequado"))))) | T14: =IF($A14="","",IF(Resumo!$H$4<>"OK","Revisar parâmetros do Resumo",IF('Áreas_Capacidade'!$R14<>"OK","Revisar cadastro da área",IF(OR($G14<-1,N($E14)<0,N($F14)<0),"Revisar premissas","OK"))))
A15: =IF('Áreas_Capacidade'!A15="","",'Áreas_Capacidade'!A15) | B15: =IF('Áreas_Capacidade'!B15="","",'Áreas_Capacidade'!B15) | C15: =IF('Áreas_Capacidade'!C15="","",'Áreas_Capacidade'!C15) | G15: =IF($A15="","",IF($D15="",$E$2,$D15)) | H15: =IF($A15="","",IF(OR($C15="Posições",$C15="Ambos"),ROUNDUP('Áreas_Capacidade'!$J15*(1+$G15),0),"")) | I15: =IF($A15="","",IF(OR($C15="Posições",$C15="Ambos"),MAX(0,ROUNDDOWN(('Áreas_Capacidade'!$D15+N($E15)-'Áreas_Capacidade'!$E15)*(1-'Áreas_Capacidade'!$G15),0)),"")) | J15: =IF(AND(ISNUMBER($I15),$I15>0,ISNUMBER($H15)),IFERROR($H15/$I15,""),"") | K15: =IF($A15="","",IF(OR($C15="Volume",$C15="Ambos"),'Áreas_Capacidade'!$K15*(1+$G15),"")) | L15: =IF($A15="","",IF(OR($C15="Volume",$C15="Ambos"),MAX(0,('Áreas_Capacidade'!$F15+N($F15))*(1-'Áreas_Capacidade'!$G15)),"")) | M15: =IF(AND(ISNUMBER($L15),$L15>0,ISNUMBER($K15)),IFERROR($K15/$L15,""),"") | N15: =IF($A15="","",IF($C15="Ambos",IF(COUNT($J15,$M15)=2,MAX($J15,$M15),""),IF($C15="Posições",$J15,IF($C15="Volume",$M15,"")))) | O15: =IF(AND(ISNUMBER($I15),ISNUMBER($H15)),$I15-$H15,"") | P15: =IF(AND(ISNUMBER($L15),ISNUMBER($K15)),$L15-$K15,"") | Q15: =IF($A15="","",IF(OR($C15="Posições",$C15="Ambos"),IF(AND(Resumo!$E$4>0,1-'Áreas_Capacidade'!$G15>0),IFERROR(MAX(0,ROUNDUP($H15/(Resumo!$E$4*(1-'Áreas_Capacidade'!$G15))-MAX(0,'Áreas_Capacidade'!$D15-'Áreas_Capacidade'!$E15+N($E15)),0)),""),""),"")) | R15: =IF($A15="","",IF(OR($C15="Volume",$C15="Ambos"),IF(AND(Resumo!$E$4>0,1-'Áreas_Capacidade'!$G15>0),IFERROR(MAX(0,ROUNDUP($K15/(Resumo!$E$4*(1-'Áreas_Capacidade'!$G15))-('Áreas_Capacidade'!$F15+N($F15)),3)),""),""),"")) | S15: =IF($A15="","",IF(NOT(ISNUMBER($N15)),"Sem base",IF($N15>=1,"Saturado",IF($N15>=Resumo!$H$3,"Crítico",IF($N15>=Resumo!$E$3,"Atenção","Adequado"))))) | T15: =IF($A15="","",IF(Resumo!$H$4<>"OK","Revisar parâmetros do Resumo",IF('Áreas_Capacidade'!$R15<>"OK","Revisar cadastro da área",IF(OR($G15<-1,N($E15)<0,N($F15)<0),"Revisar premissas","OK"))))
A16: =IF('Áreas_Capacidade'!A16="","",'Áreas_Capacidade'!A16) | B16: =IF('Áreas_Capacidade'!B16="","",'Áreas_Capacidade'!B16) | C16: =IF('Áreas_Capacidade'!C16="","",'Áreas_Capacidade'!C16) | G16: =IF($A16="","",IF($D16="",$E$2,$D16)) | H16: =IF($A16="","",IF(OR($C16="Posições",$C16="Ambos"),ROUNDUP('Áreas_Capacidade'!$J16*(1+$G16),0),"")) | I16: =IF($A16="","",IF(OR($C16="Posições",$C16="Ambos"),MAX(0,ROUNDDOWN(('Áreas_Capacidade'!$D16+N($E16)-'Áreas_Capacidade'!$E16)*(1-'Áreas_Capacidade'!$G16),0)),"")) | J16: =IF(AND(ISNUMBER($I16),$I16>0,ISNUMBER($H16)),IFERROR($H16/$I16,""),"") | K16: =IF($A16="","",IF(OR($C16="Volume",$C16="Ambos"),'Áreas_Capacidade'!$K16*(1+$G16),"")) | L16: =IF($A16="","",IF(OR($C16="Volume",$C16="Ambos"),MAX(0,('Áreas_Capacidade'!$F16+N($F16))*(1-'Áreas_Capacidade'!$G16)),"")) | M16: =IF(AND(ISNUMBER($L16),$L16>0,ISNUMBER($K16)),IFERROR($K16/$L16,""),"") | N16: =IF($A16="","",IF($C16="Ambos",IF(COUNT($J16,$M16)=2,MAX($J16,$M16),""),IF($C16="Posições",$J16,IF($C16="Volume",$M16,"")))) | O16: =IF(AND(ISNUMBER($I16),ISNUMBER($H16)),$I16-$H16,"") | P16: =IF(AND(ISNUMBER($L16),ISNUMBER($K16)),$L16-$K16,"") | Q16: =IF($A16="","",IF(OR($C16="Posições",$C16="Ambos"),IF(AND(Resumo!$E$4>0,1-'Áreas_Capacidade'!$G16>0),IFERROR(MAX(0,ROUNDUP($H16/(Resumo!$E$4*(1-'Áreas_Capacidade'!$G16))-MAX(0,'Áreas_Capacidade'!$D16-'Áreas_Capacidade'!$E16+N($E16)),0)),""),""),"")) | R16: =IF($A16="","",IF(OR($C16="Volume",$C16="Ambos"),IF(AND(Resumo!$E$4>0,1-'Áreas_Capacidade'!$G16>0),IFERROR(MAX(0,ROUNDUP($K16/(Resumo!$E$4*(1-'Áreas_Capacidade'!$G16))-('Áreas_Capacidade'!$F16+N($F16)),3)),""),""),"")) | S16: =IF($A16="","",IF(NOT(ISNUMBER($N16)),"Sem base",IF($N16>=1,"Saturado",IF($N16>=Resumo!$H$3,"Crítico",IF($N16>=Resumo!$E$3,"Atenção","Adequado"))))) | T16: =IF($A16="","",IF(Resumo!$H$4<>"OK","Revisar parâmetros do Resumo",IF('Áreas_Capacidade'!$R16<>"OK","Revisar cadastro da área",IF(OR($G16<-1,N($E16)<0,N($F16)<0),"Revisar premissas","OK"))))
A17: =IF('Áreas_Capacidade'!A17="","",'Áreas_Capacidade'!A17) | B17: =IF('Áreas_Capacidade'!B17="","",'Áreas_Capacidade'!B17) | C17: =IF('Áreas_Capacidade'!C17="","",'Áreas_Capacidade'!C17) | G17: =IF($A17="","",IF($D17="",$E$2,$D17)) | H17: =IF($A17="","",IF(OR($C17="Posições",$C17="Ambos"),ROUNDUP('Áreas_Capacidade'!$J17*(1+$G17),0),"")) | I17: =IF($A17="","",IF(OR($C17="Posições",$C17="Ambos"),MAX(0,ROUNDDOWN(('Áreas_Capacidade'!$D17+N($E17)-'Áreas_Capacidade'!$E17)*(1-'Áreas_Capacidade'!$G17),0)),"")) | J17: =IF(AND(ISNUMBER($I17),$I17>0,ISNUMBER($H17)),IFERROR($H17/$I17,""),"") | K17: =IF($A17="","",IF(OR($C17="Volume",$C17="Ambos"),'Áreas_Capacidade'!$K17*(1+$G17),"")) | L17: =IF($A17="","",IF(OR($C17="Volume",$C17="Ambos"),MAX(0,('Áreas_Capacidade'!$F17+N($F17))*(1-'Áreas_Capacidade'!$G17)),"")) | M17: =IF(AND(ISNUMBER($L17),$L17>0,ISNUMBER($K17)),IFERROR($K17/$L17,""),"") | N17: =IF($A17="","",IF($C17="Ambos",IF(COUNT($J17,$M17)=2,MAX($J17,$M17),""),IF($C17="Posições",$J17,IF($C17="Volume",$M17,"")))) | O17: =IF(AND(ISNUMBER($I17),ISNUMBER($H17)),$I17-$H17,"") | P17: =IF(AND(ISNUMBER($L17),ISNUMBER($K17)),$L17-$K17,"") | Q17: =IF($A17="","",IF(OR($C17="Posições",$C17="Ambos"),IF(AND(Resumo!$E$4>0,1-'Áreas_Capacidade'!$G17>0),IFERROR(MAX(0,ROUNDUP($H17/(Resumo!$E$4*(1-'Áreas_Capacidade'!$G17))-MAX(0,'Áreas_Capacidade'!$D17-'Áreas_Capacidade'!$E17+N($E17)),0)),""),""),"")) | R17: =IF($A17="","",IF(OR($C17="Volume",$C17="Ambos"),IF(AND(Resumo!$E$4>0,1-'Áreas_Capacidade'!$G17>0),IFERROR(MAX(0,ROUNDUP($K17/(Resumo!$E$4*(1-'Áreas_Capacidade'!$G17))-('Áreas_Capacidade'!$F17+N($F17)),3)),""),""),"")) | S17: =IF($A17="","",IF(NOT(ISNUMBER($N17)),"Sem base",IF($N17>=1,"Saturado",IF($N17>=Resumo!$H$3,"Crítico",IF($N17>=Resumo!$E$3,"Atenção","Adequado"))))) | T17: =IF($A17="","",IF(Resumo!$H$4<>"OK","Revisar parâmetros do Resumo",IF('Áreas_Capacidade'!$R17<>"OK","Revisar cadastro da área",IF(OR($G17<-1,N($E17)<0,N($F17)<0),"Revisar premissas","OK"))))
A18: =IF('Áreas_Capacidade'!A18="","",'Áreas_Capacidade'!A18) | B18: =IF('Áreas_Capacidade'!B18="","",'Áreas_Capacidade'!B18) | C18: =IF('Áreas_Capacidade'!C18="","",'Áreas_Capacidade'!C18) | G18: =IF($A18="","",IF($D18="",$E$2,$D18)) | H18: =IF($A18="","",IF(OR($C18="Posições",$C18="Ambos"),ROUNDUP('Áreas_Capacidade'!$J18*(1+$G18),0),"")) | I18: =IF($A18="","",IF(OR($C18="Posições",$C18="Ambos"),MAX(0,ROUNDDOWN(('Áreas_Capacidade'!$D18+N($E18)-'Áreas_Capacidade'!$E18)*(1-'Áreas_Capacidade'!$G18),0)),"")) | J18: =IF(AND(ISNUMBER($I18),$I18>0,ISNUMBER($H18)),IFERROR($H18/$I18,""),"") | K18: =IF($A18="","",IF(OR($C18="Volume",$C18="Ambos"),'Áreas_Capacidade'!$K18*(1+$G18),"")) | L18: =IF($A18="","",IF(OR($C18="Volume",$C18="Ambos"),MAX(0,('Áreas_Capacidade'!$F18+N($F18))*(1-'Áreas_Capacidade'!$G18)),"")) | M18: =IF(AND(ISNUMBER($L18),$L18>0,ISNUMBER($K18)),IFERROR($K18/$L18,""),"") | N18: =IF($A18="","",IF($C18="Ambos",IF(COUNT($J18,$M18)=2,MAX($J18,$M18),""),IF($C18="Posições",$J18,IF($C18="Volume",$M18,"")))) | O18: =IF(AND(ISNUMBER($I18),ISNUMBER($H18)),$I18-$H18,"") | P18: =IF(AND(ISNUMBER($L18),ISNUMBER($K18)),$L18-$K18,"") | Q18: =IF($A18="","",IF(OR($C18="Posições",$C18="Ambos"),IF(AND(Resumo!$E$4>0,1-'Áreas_Capacidade'!$G18>0),IFERROR(MAX(0,ROUNDUP($H18/(Resumo!$E$4*(1-'Áreas_Capacidade'!$G18))-MAX(0,'Áreas_Capacidade'!$D18-'Áreas_Capacidade'!$E18+N($E18)),0)),""),""),"")) | R18: =IF($A18="","",IF(OR($C18="Volume",$C18="Ambos"),IF(AND(Resumo!$E$4>0,1-'Áreas_Capacidade'!$G18>0),IFERROR(MAX(0,ROUNDUP($K18/(Resumo!$E$4*(1-'Áreas_Capacidade'!$G18))-('Áreas_Capacidade'!$F18+N($F18)),3)),""),""),"")) | S18: =IF($A18="","",IF(NOT(ISNUMBER($N18)),"Sem base",IF($N18>=1,"Saturado",IF($N18>=Resumo!$H$3,"Crítico",IF($N18>=Resumo!$E$3,"Atenção","Adequado"))))) | T18: =IF($A18="","",IF(Resumo!$H$4<>"OK","Revisar parâmetros do Resumo",IF('Áreas_Capacidade'!$R18<>"OK","Revisar cadastro da área",IF(OR($G18<-1,N($E18)<0,N($F18)<0),"Revisar premissas","OK"))))
A19: =IF('Áreas_Capacidade'!A19="","",'Áreas_Capacidade'!A19) | B19: =IF('Áreas_Capacidade'!B19="","",'Áreas_Capacidade'!B19) | C19: =IF('Áreas_Capacidade'!C19="","",'Áreas_Capacidade'!C19) | G19: =IF($A19="","",IF($D19="",$E$2,$D19)) | H19: =IF($A19="","",IF(OR($C19="Posições",$C19="Ambos"),ROUNDUP('Áreas_Capacidade'!$J19*(1+$G19),0),"")) | I19: =IF($A19="","",IF(OR($C19="Posições",$C19="Ambos"),MAX(0,ROUNDDOWN(('Áreas_Capacidade'!$D19+N($E19)-'Áreas_Capacidade'!$E19)*(1-'Áreas_Capacidade'!$G19),0)),"")) | J19: =IF(AND(ISNUMBER($I19),$I19>0,ISNUMBER($H19)),IFERROR($H19/$I19,""),"") | K19: =IF($A19="","",IF(OR($C19="Volume",$C19="Ambos"),'Áreas_Capacidade'!$K19*(1+$G19),"")) | L19: =IF($A19="","",IF(OR($C19="Volume",$C19="Ambos"),MAX(0,('Áreas_Capacidade'!$F19+N($F19))*(1-'Áreas_Capacidade'!$G19)),"")) | M19: =IF(AND(ISNUMBER($L19),$L19>0,ISNUMBER($K19)),IFERROR($K19/$L19,""),"") | N19: =IF($A19="","",IF($C19="Ambos",IF(COUNT($J19,$M19)=2,MAX($J19,$M19),""),IF($C19="Posições",$J19,IF($C19="Volume",$M19,"")))) | O19: =IF(AND(ISNUMBER($I19),ISNUMBER($H19)),$I19-$H19,"") | P19: =IF(AND(ISNUMBER($L19),ISNUMBER($K19)),$L19-$K19,"") | Q19: =IF($A19="","",IF(OR($C19="Posições",$C19="Ambos"),IF(AND(Resumo!$E$4>0,1-'Áreas_Capacidade'!$G19>0),IFERROR(MAX(0,ROUNDUP($H19/(Resumo!$E$4*(1-'Áreas_Capacidade'!$G19))-MAX(0,'Áreas_Capacidade'!$D19-'Áreas_Capacidade'!$E19+N($E19)),0)),""),""),"")) | R19: =IF($A19="","",IF(OR($C19="Volume",$C19="Ambos"),IF(AND(Resumo!$E$4>0,1-'Áreas_Capacidade'!$G19>0),IFERROR(MAX(0,ROUNDUP($K19/(Resumo!$E$4*(1-'Áreas_Capacidade'!$G19))-('Áreas_Capacidade'!$F19+N($F19)),3)),""),""),"")) | S19: =IF($A19="","",IF(NOT(ISNUMBER($N19)),"Sem base",IF($N19>=1,"Saturado",IF($N19>=Resumo!$H$3,"Crítico",IF($N19>=Resumo!$E$3,"Atenção","Adequado"))))) | T19: =IF($A19="","",IF(Resumo!$H$4<>"OK","Revisar parâmetros do Resumo",IF('Áreas_Capacidade'!$R19<>"OK","Revisar cadastro da área",IF(OR($G19<-1,N($E19)<0,N($F19)<0),"Revisar premissas","OK"))))
A20: =IF('Áreas_Capacidade'!A20="","",'Áreas_Capacidade'!A20) | B20: =IF('Áreas_Capacidade'!B20="","",'Áreas_Capacidade'!B20) | C20: =IF('Áreas_Capacidade'!C20="","",'Áreas_Capacidade'!C20) | G20: =IF($A20="","",IF($D20="",$E$2,$D20)) | H20: =IF($A20="","",IF(OR($C20="Posições",$C20="Ambos"),ROUNDUP('Áreas_Capacidade'!$J20*(1+$G20),0),"")) | I20: =IF($A20="","",IF(OR($C20="Posições",$C20="Ambos"),MAX(0,ROUNDDOWN(('Áreas_Capacidade'!$D20+N($E20)-'Áreas_Capacidade'!$E20)*(1-'Áreas_Capacidade'!$G20),0)),"")) | J20: =IF(AND(ISNUMBER($I20),$I20>0,ISNUMBER($H20)),IFERROR($H20/$I20,""),"") | K20: =IF($A20="","",IF(OR($C20="Volume",$C20="Ambos"),'Áreas_Capacidade'!$K20*(1+$G20),"")) | L20: =IF($A20="","",IF(OR($C20="Volume",$C20="Ambos"),MAX(0,('Áreas_Capacidade'!$F20+N($F20))*(1-'Áreas_Capacidade'!$G20)),"")) | M20: =IF(AND(ISNUMBER($L20),$L20>0,ISNUMBER($K20)),IFERROR($K20/$L20,""),"") | N20: =IF($A20="","",IF($C20="Ambos",IF(COUNT($J20,$M20)=2,MAX($J20,$M20),""),IF($C20="Posições",$J20,IF($C20="Volume",$M20,"")))) | O20: =IF(AND(ISNUMBER($I20),ISNUMBER($H20)),$I20-$H20,"") | P20: =IF(AND(ISNUMBER($L20),ISNUMBER($K20)),$L20-$K20,"") | Q20: =IF($A20="","",IF(OR($C20="Posições",$C20="Ambos"),IF(AND(Resumo!$E$4>0,1-'Áreas_Capacidade'!$G20>0),IFERROR(MAX(0,ROUNDUP($H20/(Resumo!$E$4*(1-'Áreas_Capacidade'!$G20))-MAX(0,'Áreas_Capacidade'!$D20-'Áreas_Capacidade'!$E20+N($E20)),0)),""),""),"")) | R20: =IF($A20="","",IF(OR($C20="Volume",$C20="Ambos"),IF(AND(Resumo!$E$4>0,1-'Áreas_Capacidade'!$G20>0),IFERROR(MAX(0,ROUNDUP($K20/(Resumo!$E$4*(1-'Áreas_Capacidade'!$G20))-('Áreas_Capacidade'!$F20+N($F20)),3)),""),""),"")) | S20: =IF($A20="","",IF(NOT(ISNUMBER($N20)),"Sem base",IF($N20>=1,"Saturado",IF($N20>=Resumo!$H$3,"Crítico",IF($N20>=Resumo!$E$3,"Atenção","Adequado"))))) | T20: =IF($A20="","",IF(Resumo!$H$4<>"OK","Revisar parâmetros do Resumo",IF('Áreas_Capacidade'!$R20<>"OK","Revisar cadastro da área",IF(OR($G20<-1,N($E20)<0,N($F20)<0),"Revisar premissas","OK"))))
A21: =IF('Áreas_Capacidade'!A21="","",'Áreas_Capacidade'!A21) | B21: =IF('Áreas_Capacidade'!B21="","",'Áreas_Capacidade'!B21) | C21: =IF('Áreas_Capacidade'!C21="","",'Áreas_Capacidade'!C21) | G21: =IF($A21="","",IF($D21="",$E$2,$D21)) | H21: =IF($A21="","",IF(OR($C21="Posições",$C21="Ambos"),ROUNDUP('Áreas_Capacidade'!$J21*(1+$G21),0),"")) | I21: =IF($A21="","",IF(OR($C21="Posições",$C21="Ambos"),MAX(0,ROUNDDOWN(('Áreas_Capacidade'!$D21+N($E21)-'Áreas_Capacidade'!$E21)*(1-'Áreas_Capacidade'!$G21),0)),"")) | J21: =IF(AND(ISNUMBER($I21),$I21>0,ISNUMBER($H21)),IFERROR($H21/$I21,""),"") | K21: =IF($A21="","",IF(OR($C21="Volume",$C21="Ambos"),'Áreas_Capacidade'!$K21*(1+$G21),"")) | L21: =IF($A21="","",IF(OR($C21="Volume",$C21="Ambos"),MAX(0,('Áreas_Capacidade'!$F21+N($F21))*(1-'Áreas_Capacidade'!$G21)),"")) | M21: =IF(AND(ISNUMBER($L21),$L21>0,ISNUMBER($K21)),IFERROR($K21/$L21,""),"") | N21: =IF($A21="","",IF($C21="Ambos",IF(COUNT($J21,$M21)=2,MAX($J21,$M21),""),IF($C21="Posições",$J21,IF($C21="Volume",$M21,"")))) | O21: =IF(AND(ISNUMBER($I21),ISNUMBER($H21)),$I21-$H21,"") | P21: =IF(AND(ISNUMBER($L21),ISNUMBER($K21)),$L21-$K21,"") | Q21: =IF($A21="","",IF(OR($C21="Posições",$C21="Ambos"),IF(AND(Resumo!$E$4>0,1-'Áreas_Capacidade'!$G21>0),IFERROR(MAX(0,ROUNDUP($H21/(Resumo!$E$4*(1-'Áreas_Capacidade'!$G21))-MAX(0,'Áreas_Capacidade'!$D21-'Áreas_Capacidade'!$E21+N($E21)),0)),""),""),"")) | R21: =IF($A21="","",IF(OR($C21="Volume",$C21="Ambos"),IF(AND(Resumo!$E$4>0,1-'Áreas_Capacidade'!$G21>0),IFERROR(MAX(0,ROUNDUP($K21/(Resumo!$E$4*(1-'Áreas_Capacidade'!$G21))-('Áreas_Capacidade'!$F21+N($F21)),3)),""),""),"")) | S21: =IF($A21="","",IF(NOT(ISNUMBER($N21)),"Sem base",IF($N21>=1,"Saturado",IF($N21>=Resumo!$H$3,"Crítico",IF($N21>=Resumo!$E$3,"Atenção","Adequado"))))) | T21: =IF($A21="","",IF(Resumo!$H$4<>"OK","Revisar parâmetros do Resumo",IF('Áreas_Capacidade'!$R21<>"OK","Revisar cadastro da área",IF(OR($G21<-1,N($E21)<0,N($F21)<0),"Revisar premissas","OK"))))
A22: =IF('Áreas_Capacidade'!A22="","",'Áreas_Capacidade'!A22) | B22: =IF('Áreas_Capacidade'!B22="","",'Áreas_Capacidade'!B22) | C22: =IF('Áreas_Capacidade'!C22="","",'Áreas_Capacidade'!C22) | G22: =IF($A22="","",IF($D22="",$E$2,$D22)) | H22: =IF($A22="","",IF(OR($C22="Posições",$C22="Ambos"),ROUNDUP('Áreas_Capacidade'!$J22*(1+$G22),0),"")) | I22: =IF($A22="","",IF(OR($C22="Posições",$C22="Ambos"),MAX(0,ROUNDDOWN(('Áreas_Capacidade'!$D22+N($E22)-'Áreas_Capacidade'!$E22)*(1-'Áreas_Capacidade'!$G22),0)),"")) | J22: =IF(AND(ISNUMBER($I22),$I22>0,ISNUMBER($H22)),IFERROR($H22/$I22,""),"") | K22: =IF($A22="","",IF(OR($C22="Volume",$C22="Ambos"),'Áreas_Capacidade'!$K22*(1+$G22),"")) | L22: =IF($A22="","",IF(OR($C22="Volume",$C22="Ambos"),MAX(0,('Áreas_Capacidade'!$F22+N($F22))*(1-'Áreas_Capacidade'!$G22)),"")) | M22: =IF(AND(ISNUMBER($L22),$L22>0,ISNUMBER($K22)),IFERROR($K22/$L22,""),"") | N22: =IF($A22="","",IF($C22="Ambos",IF(COUNT($J22,$M22)=2,MAX($J22,$M22),""),IF($C22="Posições",$J22,IF($C22="Volume",$M22,"")))) | O22: =IF(AND(ISNUMBER($I22),ISNUMBER($H22)),$I22-$H22,"") | P22: =IF(AND(ISNUMBER($L22),ISNUMBER($K22)),$L22-$K22,"") | Q22: =IF($A22="","",IF(OR($C22="Posições",$C22="Ambos"),IF(AND(Resumo!$E$4>0,1-'Áreas_Capacidade'!$G22>0),IFERROR(MAX(0,ROUNDUP($H22/(Resumo!$E$4*(1-'Áreas_Capacidade'!$G22))-MAX(0,'Áreas_Capacidade'!$D22-'Áreas_Capacidade'!$E22+N($E22)),0)),""),""),"")) | R22: =IF($A22="","",IF(OR($C22="Volume",$C22="Ambos"),IF(AND(Resumo!$E$4>0,1-'Áreas_Capacidade'!$G22>0),IFERROR(MAX(0,ROUNDUP($K22/(Resumo!$E$4*(1-'Áreas_Capacidade'!$G22))-('Áreas_Capacidade'!$F22+N($F22)),3)),""),""),"")) | S22: =IF($A22="","",IF(NOT(ISNUMBER($N22)),"Sem base",IF($N22>=1,"Saturado",IF($N22>=Resumo!$H$3,"Crítico",IF($N22>=Resumo!$E$3,"Atenção","Adequado"))))) | T22: =IF($A22="","",IF(Resumo!$H$4<>"OK","Revisar parâmetros do Resumo",IF('Áreas_Capacidade'!$R22<>"OK","Revisar cadastro da área",IF(OR($G22<-1,N($E22)<0,N($F22)<0),"Revisar premissas","OK"))))
... A106: =IF('Áreas_Capacidade'!A106="","",'Áreas_Capacidade'!A106) | B106: =IF('Áreas_Capacidade'!B106="","",'Áreas_Capacidade'!B106) | C106: =IF('Áreas_Capacidade'!C106="","",'Áreas_Capacidade'!C106) | G106: =IF($A106="","",IF($D106="",$E$2,$D106)) | H106: =IF($A106="","",IF(OR($C106="Posições",$C106="Ambos"),ROUNDUP('Áreas_Capacidade'!$J106*(1+$G106),0),"")) | I106: =IF($A106="","",IF(OR($C106="Posições",$C106="Ambos"),MAX(0,ROUNDDOWN(('Áreas_Capacidade'!$D106+N($E106)-'Áreas_Capacidade'!$E106)*(1-'Áreas_Capacidade'!$G106),0)),"")) | J106: =IF(AND(ISNUMBER($I106),$I106>0,ISNUMBER($H106)),IFERROR($H106/$I106,""),"") | K106: =IF($A106="","",IF(OR($C106="Volume",$C106="Ambos"),'Áreas_Capacidade'!$K106*(1+$G106),"")) | L106: =IF($A106="","",IF(OR($C106="Volume",$C106="Ambos"),MAX(0,('Áreas_Capacidade'!$F106+N($F106))*(1-'Áreas_Capacidade'!$G106)),"")) | M106: =IF(AND(ISNUMBER($L106),$L106>0,ISNUMBER($K106)),IFERROR($K106/$L106,""),"") | N106: =IF($A106="","",IF($C106="Ambos",IF(COUNT($J106,$M106)=2,MAX($J106,$M106),""),IF($C106="Posições",$J106,IF($C106="Volume",$M106,"")))) | O106: =IF(AND(ISNUMBER($I106),ISNUMBER($H106)),$I106-$H106,"") | P106: =IF(AND(ISNUMBER($L106),ISNUMBER($K106)),$L106-$K106,"") | Q106: =IF($A106="","",IF(OR($C106="Posições",$C106="Ambos"),IF(AND(Resumo!$E$4>0,1-'Áreas_Capacidade'!$G106>0),IFERROR(MAX(0,ROUNDUP($H106/(Resumo!$E$4*(1-'Áreas_Capacidade'!$G106))-MAX(0,'Áreas_Capacidade'!$D106-'Áreas_Capacidade'!$E106+N($E106)),0)),""),""),"")) | R106: =IF($A106="","",IF(OR($C106="Volume",$C106="Ambos"),IF(AND(Resumo!$E$4>0,1-'Áreas_Capacidade'!$G106>0),IFERROR(MAX(0,ROUNDUP($K106/(Resumo!$E$4*(1-'Áreas_Capacidade'!$G106))-('Áreas_Capacidade'!$F106+N($F106)),3)),""),""),"")) | S106: =IF($A106="","",IF(NOT(ISNUMBER($N106)),"Sem base",IF($N106>=1,"Saturado",IF($N106>=Resumo!$H$3,"Crítico",IF($N106>=Resumo!$E$3,"Atenção","Adequado"))))) | T106: =IF($A106="","",IF(Resumo!$H$4<>"OK","Revisar parâmetros do Resumo",IF('Áreas_Capacidade'!$R106<>"OK","Revisar cadastro da área",IF(OR($G106<-1,N($E106)<0,N($F106)<0),"Revisar premissas","OK"))))

Sheet Instruções
A1: Instruções de Uso
A3: Finalidade
A4: Esta planilha compara a capacidade agregada das áreas do armazém com a ocupação por SKU. Ela apoia decisões de capacidade, saturação e expansão. Não registra o endereço físico exato de cada produto.
A6: Fluxo de uso
A7: 1. Cadastre as áreas na aba Áreas_Capacidade.
A8: 2. Escolha se cada área é controlada por posições, volume ou ambos.
A9: 3. Informe a reserva técnica que não deverá ser usada na operação normal.
A10: 4. Registre os SKUs e suas quantidades na aba Ocupação_SKU.
A11: 5. Selecione a data de referência no Resumo.
A12: 6. Revise os alertas e as áreas com maior taxa de ocupação.
A13: 7. Informe o crescimento e as expansões planejadas na aba Cenários.
A14: 8. Avalie a expansão adicional necessária para atingir a meta máxima.
... A43: Cinza: informação sem base suficiente.
