Workbook

Sheet Resumo
A1: Painel — Catálogo multicanal
A2: Prontidão, bloqueios e liberações por produto e canal | I2: Data de referência | J2: 46271
A4: Produtos cadastrados | C4: Pares selecionados | E4: Prontos para publicar | G4: Bloqueados
A5: =COUNTIF('Catálogo fonte'!$A$5:$A$104,"<>") | C5: =COUNTIFS('Feed e prontidão'!$A$5:$A$504,"<>",'Feed e prontidão'!$B$5:$B$504,"<>",'Feed e prontidão'!$C$5:$C$504,"Sim") | E5: =COUNTIF('Feed e prontidão'!$X$5:$X$504,"Pronto para publicar") | G5: =COUNTIF('Feed e prontidão'!$X$5:$X$504,"Bloqueado")
A7: Liberados para feed | C7: Aguardando decisão | E7: Prontidão geral | G7: Itens de revisão
A8: =COUNTIF('Feed e prontidão'!$Z$5:$Z$504,"Liberado para feed") | C8: =COUNTIF('Feed e prontidão'!$Z$5:$Z$504,"Aguardando decisão") | E8: =IFERROR($E$5/$C$5,0) | G8: =SUM($E$21:$E$25)
A11: Canal | B11: Selecionados | C11: Prontos | D11: Bloqueados | E11: Liberados | F11: % de prontidão
A12: =IF('Regras por canal'!A5="","",'Regras por canal'!A5) | B12: =IF($A12="","",COUNTIFS('Feed e prontidão'!$B$5:$B$504,$A12,'Feed e prontidão'!$C$5:$C$504,"Sim")) | C12: =IF($A12="","",COUNTIFS('Feed e prontidão'!$B$5:$B$504,$A12,'Feed e prontidão'!$X$5:$X$504,"Pronto para publicar")) | D12: =IF($A12="","",COUNTIFS('Feed e prontidão'!$B$5:$B$504,$A12,'Feed e prontidão'!$X$5:$X$504,"Bloqueado")) | E12: =IF($A12="","",COUNTIFS('Feed e prontidão'!$B$5:$B$504,$A12,'Feed e prontidão'!$Z$5:$Z$504,"Liberado para feed")) | F12: =IF($A12="","",IFERROR($C12/$B12,0))
A13: =IF('Regras por canal'!A6="","",'Regras por canal'!A6) | B13: =IF($A13="","",COUNTIFS('Feed e prontidão'!$B$5:$B$504,$A13,'Feed e prontidão'!$C$5:$C$504,"Sim")) | C13: =IF($A13="","",COUNTIFS('Feed e prontidão'!$B$5:$B$504,$A13,'Feed e prontidão'!$X$5:$X$504,"Pronto para publicar")) | D13: =IF($A13="","",COUNTIFS('Feed e prontidão'!$B$5:$B$504,$A13,'Feed e prontidão'!$X$5:$X$504,"Bloqueado")) | E13: =IF($A13="","",COUNTIFS('Feed e prontidão'!$B$5:$B$504,$A13,'Feed e prontidão'!$Z$5:$Z$504,"Liberado para feed")) | F13: =IF($A13="","",IFERROR($C13/$B13,0))
A14: =IF('Regras por canal'!A7="","",'Regras por canal'!A7) | B14: =IF($A14="","",COUNTIFS('Feed e prontidão'!$B$5:$B$504,$A14,'Feed e prontidão'!$C$5:$C$504,"Sim")) | C14: =IF($A14="","",COUNTIFS('Feed e prontidão'!$B$5:$B$504,$A14,'Feed e prontidão'!$X$5:$X$504,"Pronto para publicar")) | D14: =IF($A14="","",COUNTIFS('Feed e prontidão'!$B$5:$B$504,$A14,'Feed e prontidão'!$X$5:$X$504,"Bloqueado")) | E14: =IF($A14="","",COUNTIFS('Feed e prontidão'!$B$5:$B$504,$A14,'Feed e prontidão'!$Z$5:$Z$504,"Liberado para feed")) | F14: =IF($A14="","",IFERROR($C14/$B14,0))
A15: =IF('Regras por canal'!A8="","",'Regras por canal'!A8) | B15: =IF($A15="","",COUNTIFS('Feed e prontidão'!$B$5:$B$504,$A15,'Feed e prontidão'!$C$5:$C$504,"Sim")) | C15: =IF($A15="","",COUNTIFS('Feed e prontidão'!$B$5:$B$504,$A15,'Feed e prontidão'!$X$5:$X$504,"Pronto para publicar")) | D15: =IF($A15="","",COUNTIFS('Feed e prontidão'!$B$5:$B$504,$A15,'Feed e prontidão'!$X$5:$X$504,"Bloqueado")) | E15: =IF($A15="","",COUNTIFS('Feed e prontidão'!$B$5:$B$504,$A15,'Feed e prontidão'!$Z$5:$Z$504,"Liberado para feed")) | F15: =IF($A15="","",IFERROR($C15/$B15,0))
A16: =IF('Regras por canal'!A9="","",'Regras por canal'!A9) | B16: =IF($A16="","",COUNTIFS('Feed e prontidão'!$B$5:$B$504,$A16,'Feed e prontidão'!$C$5:$C$504,"Sim")) | C16: =IF($A16="","",COUNTIFS('Feed e prontidão'!$B$5:$B$504,$A16,'Feed e prontidão'!$X$5:$X$504,"Pronto para publicar")) | D16: =IF($A16="","",COUNTIFS('Feed e prontidão'!$B$5:$B$504,$A16,'Feed e prontidão'!$X$5:$X$504,"Bloqueado")) | E16: =IF($A16="","",COUNTIFS('Feed e prontidão'!$B$5:$B$504,$A16,'Feed e prontidão'!$Z$5:$Z$504,"Liberado para feed")) | F16: =IF($A16="","",IFERROR($C16/$B16,0))
D20: Verificação | E20: Ocorrências
D21: Linhas da fonte para revisar | E21: =COUNTIF('Catálogo fonte'!$S$5:$S$104,"Revisar base")
D22: Regras para revisar | E22: =COUNTIF('Regras por canal'!$Q$5:$Q$9,"Revisar regra")
D23: Entradas órfãs no feed | E23: =SUMPRODUCT(--((('Feed e prontidão'!$A$5:$A$504="")+('Feed e prontidão'!$B$5:$B$504=""))>0),--((('Feed e prontidão'!$C$5:$C$504<>"")+('Feed e prontidão'!$D$5:$D$504<>"")+('Feed e prontidão'!$E$5:$E$504<>"")+('Feed e prontidão'!$F$5:$F$504<>"")+('Feed e prontidão'!$Y$5:$Y$504<>""))>0))
D24: Decisão informada sem seleção | E24: =COUNTIFS('Feed e prontidão'!$A$5:$A$504,"<>",'Feed e prontidão'!$B$5:$B$504,"<>",'Feed e prontidão'!$C$5:$C$504,"<>Sim",'Feed e prontidão'!$Y$5:$Y$504,"<>")
D25: Tentativas de publicar item bloqueado | E25: =COUNTIFS('Feed e prontidão'!$Y$5:$Y$504,"Publicar",'Feed e prontidão'!$X$5:$X$504,"Bloqueado")
A27: Motivo de bloqueio | B27: Ocorrências
A28: Mídias abaixo do mínimo | B28: =COUNTIF('Feed e prontidão'!$W$5:$W$504,"*"&$A28&"*")
A29: Descrição abaixo do mínimo | B29: =COUNTIF('Feed e prontidão'!$W$5:$W$504,"*"&$A29&"*")
A30: Marca ausente | B30: =COUNTIF('Feed e prontidão'!$W$5:$W$504,"*"&$A30&"*")
A31: Preço abaixo do mínimo | B31: =COUNTIF('Feed e prontidão'!$W$5:$W$504,"*"&$A31&"*")
A32: GTIN ausente | B32: =COUNTIF('Feed e prontidão'!$W$5:$W$504,"*"&$A32&"*")
A33: Peso ausente ou inválido | B33: =COUNTIF('Feed e prontidão'!$W$5:$W$504,"*"&$A33&"*")
A34: Dimensões ausentes ou inválidas | B34: =COUNTIF('Feed e prontidão'!$W$5:$W$504,"*"&$A34&"*")
A35: SKU duplicado | B35: =COUNTIF('Feed e prontidão'!$W$5:$W$504,"*"&$A35&"*")

Sheet Catálogo fonte
A1: Catálogo fonte para publicação
A2: Edite apenas os campos de entrada. Os ajustes exclusivos de cada canal devem ser feitos em “Feed e prontidão”.
A4: SKU | B4: Nome do produto | C4: Categoria padrão | D4: Marca | E4: Descrição completa | F4: Preço padrão | G4: GTIN — 13 dígitos | H4: Cor | I4: Tamanho/modelo | J4: Peso (kg) | K4: Largura (cm) | L4: Altura (cm) | M4: Comprimento (cm) | N4: Mídia principal | O4: Mídia adicional 1 | P4: Mídia adicional 2 | Q4: Produto ativo? | R4: Pendências da fonte | S4: Situação da fonte
A5: FIC-CAS-001 | B5: Organizador Modular Aurora | C5: Casa e organização | D5: Lume Fictícia | E5: Organizador modular com seis nichos, peças empilháveis e acabamento fosco para armários, estantes e bancadas. | F5: 79.9 | G5: 7900000000001 | H5: Areia | I5: Médio | J5: 1.2 | K5: 32 | L5: 18 | M5: 42 | N5: fic_cas_001_01.jpg | O5: fic_cas_001_02.jpg | P5: fic_cas_001_03.jpg | Q5: Sim | R5: =IF(COUNTA($A5:$Q5)=0,"",_xlfn.TEXTJOIN(" | ",TRUE,IF($A5="","SKU ausente",""),IF(AND($A5<>"",COUNTIF($A$5:$A$104,$A5)>1),"SKU duplicado",""),IF($B5="","Nome ausente",""),IF($F5="","Preço ausente",IF(OR(NOT(ISNUMBER($F5)),$F5<=0),"Preço inválido","")),IF(AND($G5<>"",NOT(IFERROR(AND(LEN($G5)=13,ISNUMBER(VALUE($G5))),FALSE))),"GTIN inválido",""),IF($Q5="","Definir produto ativo",""))) | S5: =IF(COUNTA($A5:$Q5)=0,"",IF($R5="","Base utilizável","Revisar base"))
A6: FIC-ESC-002 | B6: Suporte de Mesa Nimbo | C6: Escritório | D6: Nimbo Fictícia | E6: Suporte ajustável para notebook, com base ventilada, seis níveis de inclinação e apoios antiderrapantes. | F6: 129.9 | G6: 7900000000002 | H6: Grafite | I6: Único | J6: 0.85 | K6: 26 | L6: 4 | M6: 24 | N6: fic_esc_002_01.jpg | O6: fic_esc_002_02.jpg | Q6: Sim | R6: =IF(COUNTA($A6:$Q6)=0,"",_xlfn.TEXTJOIN(" | ",TRUE,IF($A6="","SKU ausente",""),IF(AND($A6<>"",COUNTIF($A$5:$A$104,$A6)>1),"SKU duplicado",""),IF($B6="","Nome ausente",""),IF($F6="","Preço ausente",IF(OR(NOT(ISNUMBER($F6)),$F6<=0),"Preço inválido","")),IF(AND($G6<>"",NOT(IFERROR(AND(LEN($G6)=13,ISNUMBER(VALUE($G6))),FALSE))),"GTIN inválido",""),IF($Q6="","Definir produto ativo",""))) | S6: =IF(COUNTA($A6:$Q6)=0,"",IF($R6="","Base utilizável","Revisar base"))
A7: FIC-BEM-003 | B7: Garrafa Térmica Brisa 750 ml | C7: Bem-estar | D7: Brisa Fictícia | E7: Garrafa térmica de 750 ml com parede dupla, tampa rosqueável e acabamento resistente para uso diário. | F7: 89.5 | G7: 7900000000003 | H7: Azul | I7: 750 ml | J7: 0.42 | K7: 8 | L7: 28 | M7: 8 | N7: fic_bem_003_01.jpg | O7: fic_bem_003_02.jpg | Q7: Sim | R7: =IF(COUNTA($A7:$Q7)=0,"",_xlfn.TEXTJOIN(" | ",TRUE,IF($A7="","SKU ausente",""),IF(AND($A7<>"",COUNTIF($A$5:$A$104,$A7)>1),"SKU duplicado",""),IF($B7="","Nome ausente",""),IF($F7="","Preço ausente",IF(OR(NOT(ISNUMBER($F7)),$F7<=0),"Preço inválido","")),IF(AND($G7<>"",NOT(IFERROR(AND(LEN($G7)=13,ISNUMBER(VALUE($G7))),FALSE))),"GTIN inválido",""),IF($Q7="","Definir produto ativo",""))) | S7: =IF(COUNTA($A7:$Q7)=0,"",IF($R7="","Base utilizável","Revisar base"))
A8: FIC-PET-004 | B8: Tapete Pet Trilha P | C8: Pet | D8: Pata Lunar Fictícia | E8: Tapete lavável para pets pequenos, com base antiderrapante. | F8: 49.9 | H8: Cinza | I8: P | J8: 0.55 | K8: 45 | L8: 2 | M8: 60 | N8: fic_pet_004_01.jpg | Q8: Sim | R8: =IF(COUNTA($A8:$Q8)=0,"",_xlfn.TEXTJOIN(" | ",TRUE,IF($A8="","SKU ausente",""),IF(AND($A8<>"",COUNTIF($A$5:$A$104,$A8)>1),"SKU duplicado",""),IF($B8="","Nome ausente",""),IF($F8="","Preço ausente",IF(OR(NOT(ISNUMBER($F8)),$F8<=0),"Preço inválido","")),IF(AND($G8<>"",NOT(IFERROR(AND(LEN($G8)=13,ISNUMBER(VALUE($G8))),FALSE))),"GTIN inválido",""),IF($Q8="","Definir produto ativo",""))) | S8: =IF(COUNTA($A8:$Q8)=0,"",IF($R8="","Base utilizável","Revisar base"))
A9: FIC-VIA-005 | B9: Nécessaire Dobra | C9: Viagem | E9: Nécessaire dobrável com três compartimentos, gancho interno e fechamento por zíper para organizar itens de viagem. | F9: 39.9 | G9: 7900000000005 | H9: Terracota | I9: Médio | N9: fic_via_005_01.jpg | O9: fic_via_005_02.jpg | Q9: Sim | R9: =IF(COUNTA($A9:$Q9)=0,"",_xlfn.TEXTJOIN(" | ",TRUE,IF($A9="","SKU ausente",""),IF(AND($A9<>"",COUNTIF($A$5:$A$104,$A9)>1),"SKU duplicado",""),IF($B9="","Nome ausente",""),IF($F9="","Preço ausente",IF(OR(NOT(ISNUMBER($F9)),$F9<=0),"Preço inválido","")),IF(AND($G9<>"",NOT(IFERROR(AND(LEN($G9)=13,ISNUMBER(VALUE($G9))),FALSE))),"GTIN inválido",""),IF($Q9="","Definir produto ativo",""))) | S9: =IF(COUNTA($A9:$Q9)=0,"",IF($R9="","Base utilizável","Revisar base"))
A10: FIC-CAS-006 | B10: Luminária de Leitura Orbe | C10: Casa e organização | D10: Orbe Fictícia | E10: Luminária de leitura com haste articulada, três intensidades de luz e base compacta para mesas e cabeceiras. | F10: 159.9 | G10: 7900000000006 | H10: Branco | I10: Bivolt | J10: 0.68 | K10: 16 | L10: 38 | M10: 16 | N10: fic_cas_006_01.jpg | Q10: Sim | R10: =IF(COUNTA($A10:$Q10)=0,"",_xlfn.TEXTJOIN(" | ",TRUE,IF($A10="","SKU ausente",""),IF(AND($A10<>"",COUNTIF($A$5:$A$104,$A10)>1),"SKU duplicado",""),IF($B10="","Nome ausente",""),IF($F10="","Preço ausente",IF(OR(NOT(ISNUMBER($F10)),$F10<=0),"Preço inválido","")),IF(AND($G10<>"",NOT(IFERROR(AND(LEN($G10)=13,ISNUMBER(VALUE($G10))),FALSE))),"GTIN inválido",""),IF($Q10="","Definir produto ativo",""))) | S10: =IF(COUNTA($A10:$Q10)=0,"",IF($R10="","Base utilizável","Revisar base"))
A11: FIC-ESC-007 | B11: Caderno Reutilizável Ciclo A5 | C11: Escritório | D11: Ciclo Fictícia | E11: Caderno reutilizável em formato A5, com folhas apagáveis, divisórias coloridas e espaço para anotações diárias. | F11: 69.9 | G11: 7900000000007 | H11: Verde | I11: A5 | J11: 0.35 | K11: 16 | L11: 2 | M11: 22 | N11: fic_esc_007_01.jpg | O11: fic_esc_007_02.jpg | P11: fic_esc_007_03.jpg | Q11: Sim | R11: =IF(COUNTA($A11:$Q11)=0,"",_xlfn.TEXTJOIN(" | ",TRUE,IF($A11="","SKU ausente",""),IF(AND($A11<>"",COUNTIF($A$5:$A$104,$A11)>1),"SKU duplicado",""),IF($B11="","Nome ausente",""),IF($F11="","Preço ausente",IF(OR(NOT(ISNUMBER($F11)),$F11<=0),"Preço inválido","")),IF(AND($G11<>"",NOT(IFERROR(AND(LEN($G11)=13,ISNUMBER(VALUE($G11))),FALSE))),"GTIN inválido",""),IF($Q11="","Definir produto ativo",""))) | S11: =IF(COUNTA($A11:$Q11)=0,"",IF($R11="","Base utilizável","Revisar base"))
A12: FIC-BEM-008 | B12: Faixa Elástica Movimento Leve | C12: Bem-estar | D12: Movimento Fictícia | E12: Faixa elástica de resistência leve, com textura antideslizante e estojo compacto para exercícios e alongamentos. | F12: 24.9 | H12: Lilás | I12: Leve | J12: 0.12 | K12: 8 | L12: 3 | M12: 15 | N12: fic_bem_008_01.jpg | O12: fic_bem_008_02.jpg | Q12: Sim | R12: =IF(COUNTA($A12:$Q12)=0,"",_xlfn.TEXTJOIN(" | ",TRUE,IF($A12="","SKU ausente",""),IF(AND($A12<>"",COUNTIF($A$5:$A$104,$A12)>1),"SKU duplicado",""),IF($B12="","Nome ausente",""),IF($F12="","Preço ausente",IF(OR(NOT(ISNUMBER($F12)),$F12<=0),"Preço inválido","")),IF(AND($G12<>"",NOT(IFERROR(AND(LEN($G12)=13,ISNUMBER(VALUE($G12))),FALSE))),"GTIN inválido",""),IF($Q12="","Definir produto ativo",""))) | S12: =IF(COUNTA($A12:$Q12)=0,"",IF($R12="","Base utilizável","Revisar base"))
A13: FIC-PET-009 | B13: Comedouro Elevado Lótus | C13: Pet | D13: Lótus Pet Fictícia | E13: Comedouro elevado com duas tigelas removíveis e base estável, desenvolvido para facilitar a rotina de alimentação. | F13: 139.9 | G13: 7900000000009 | H13: Natural | I13: M | J13: 1.1 | K13: 24 | L13: 14 | M13: 24 | N13: fic_pet_009_01.jpg | O13: fic_pet_009_02.jpg | Q13: Sim | R13: =IF(COUNTA($A13:$Q13)=0,"",_xlfn.TEXTJOIN(" | ",TRUE,IF($A13="","SKU ausente",""),IF(AND($A13<>"",COUNTIF($A$5:$A$104,$A13)>1),"SKU duplicado",""),IF($B13="","Nome ausente",""),IF($F13="","Preço ausente",IF(OR(NOT(ISNUMBER($F13)),$F13<=0),"Preço inválido","")),IF(AND($G13<>"",NOT(IFERROR(AND(LEN($G13)=13,ISNUMBER(VALUE($G13))),FALSE))),"GTIN inválido",""),IF($Q13="","Definir produto ativo",""))) | S13: =IF(COUNTA($A13:$Q13)=0,"",IF($R13="","Base utilizável","Revisar base"))
A14: FIC-VIA-010 | B14: Etiqueta de Bagagem Rota | C14: Viagem | D14: Rota Fictícia | E14: Etiqueta leve para identificar malas, com visor protegido e alça flexível. | F14: 8.9 | G14: 7900000000010 | H14: Laranja | I14: Único | J14: 0.04 | K14: 7 | L14: 0.5 | M14: 11 | N14: fic_via_010_01.jpg | Q14: Sim | R14: =IF(COUNTA($A14:$Q14)=0,"",_xlfn.TEXTJOIN(" | ",TRUE,IF($A14="","SKU ausente",""),IF(AND($A14<>"",COUNTIF($A$5:$A$104,$A14)>1),"SKU duplicado",""),IF($B14="","Nome ausente",""),IF($F14="","Preço ausente",IF(OR(NOT(ISNUMBER($F14)),$F14<=0),"Preço inválido","")),IF(AND($G14<>"",NOT(IFERROR(AND(LEN($G14)=13,ISNUMBER(VALUE($G14))),FALSE))),"GTIN inválido",""),IF($Q14="","Definir produto ativo",""))) | S14: =IF(COUNTA($A14:$Q14)=0,"",IF($R14="","Base utilizável","Revisar base"))
R15: =IF(COUNTA($A15:$Q15)=0,"",_xlfn.TEXTJOIN(" | ",TRUE,IF($A15="","SKU ausente",""),IF(AND($A15<>"",COUNTIF($A$5:$A$104,$A15)>1),"SKU duplicado",""),IF($B15="","Nome ausente",""),IF($F15="","Preço ausente",IF(OR(NOT(ISNUMBER($F15)),$F15<=0),"Preço inválido","")),IF(AND($G15<>"",NOT(IFERROR(AND(LEN($G15)=13,ISNUMBER(VALUE($G15))),FALSE))),"GTIN inválido",""),IF($Q15="","Definir produto ativo",""))) | S15: =IF(COUNTA($A15:$Q15)=0,"",IF($R15="","Base utilizável","Revisar base"))
R16: =IF(COUNTA($A16:$Q16)=0,"",_xlfn.TEXTJOIN(" | ",TRUE,IF($A16="","SKU ausente",""),IF(AND($A16<>"",COUNTIF($A$5:$A$104,$A16)>1),"SKU duplicado",""),IF($B16="","Nome ausente",""),IF($F16="","Preço ausente",IF(OR(NOT(ISNUMBER($F16)),$F16<=0),"Preço inválido","")),IF(AND($G16<>"",NOT(IFERROR(AND(LEN($G16)=13,ISNUMBER(VALUE($G16))),FALSE))),"GTIN inválido",""),IF($Q16="","Definir produto ativo",""))) | S16: =IF(COUNTA($A16:$Q16)=0,"",IF($R16="","Base utilizável","Revisar base"))
R17: =IF(COUNTA($A17:$Q17)=0,"",_xlfn.TEXTJOIN(" | ",TRUE,IF($A17="","SKU ausente",""),IF(AND($A17<>"",COUNTIF($A$5:$A$104,$A17)>1),"SKU duplicado",""),IF($B17="","Nome ausente",""),IF($F17="","Preço ausente",IF(OR(NOT(ISNUMBER($F17)),$F17<=0),"Preço inválido","")),IF(AND($G17<>"",NOT(IFERROR(AND(LEN($G17)=13,ISNUMBER(VALUE($G17))),FALSE))),"GTIN inválido",""),IF($Q17="","Definir produto ativo",""))) | S17: =IF(COUNTA($A17:$Q17)=0,"",IF($R17="","Base utilizável","Revisar base"))
R18: =IF(COUNTA($A18:$Q18)=0,"",_xlfn.TEXTJOIN(" | ",TRUE,IF($A18="","SKU ausente",""),IF(AND($A18<>"",COUNTIF($A$5:$A$104,$A18)>1),"SKU duplicado",""),IF($B18="","Nome ausente",""),IF($F18="","Preço ausente",IF(OR(NOT(ISNUMBER($F18)),$F18<=0),"Preço inválido","")),IF(AND($G18<>"",NOT(IFERROR(AND(LEN($G18)=13,ISNUMBER(VALUE($G18))),FALSE))),"GTIN inválido",""),IF($Q18="","Definir produto ativo",""))) | S18: =IF(COUNTA($A18:$Q18)=0,"",IF($R18="","Base utilizável","Revisar base"))
R19: =IF(COUNTA($A19:$Q19)=0,"",_xlfn.TEXTJOIN(" | ",TRUE,IF($A19="","SKU ausente",""),IF(AND($A19<>"",COUNTIF($A$5:$A$104,$A19)>1),"SKU duplicado",""),IF($B19="","Nome ausente",""),IF($F19="","Preço ausente",IF(OR(NOT(ISNUMBER($F19)),$F19<=0),"Preço inválido","")),IF(AND($G19<>"",NOT(IFERROR(AND(LEN($G19)=13,ISNUMBER(VALUE($G19))),FALSE))),"GTIN inválido",""),IF($Q19="","Definir produto ativo",""))) | S19: =IF(COUNTA($A19:$Q19)=0,"",IF($R19="","Base utilizável","Revisar base"))
R20: =IF(COUNTA($A20:$Q20)=0,"",_xlfn.TEXTJOIN(" | ",TRUE,IF($A20="","SKU ausente",""),IF(AND($A20<>"",COUNTIF($A$5:$A$104,$A20)>1),"SKU duplicado",""),IF($B20="","Nome ausente",""),IF($F20="","Preço ausente",IF(OR(NOT(ISNUMBER($F20)),$F20<=0),"Preço inválido","")),IF(AND($G20<>"",NOT(IFERROR(AND(LEN($G20)=13,ISNUMBER(VALUE($G20))),FALSE))),"GTIN inválido",""),IF($Q20="","Definir produto ativo",""))) | S20: =IF(COUNTA($A20:$Q20)=0,"",IF($R20="","Base utilizável","Revisar base"))
R21: =IF(COUNTA($A21:$Q21)=0,"",_xlfn.TEXTJOIN(" | ",TRUE,IF($A21="","SKU ausente",""),IF(AND($A21<>"",COUNTIF($A$5:$A$104,$A21)>1),"SKU duplicado",""),IF($B21="","Nome ausente",""),IF($F21="","Preço ausente",IF(OR(NOT(ISNUMBER($F21)),$F21<=0),"Preço inválido","")),IF(AND($G21<>"",NOT(IFERROR(AND(LEN($G21)=13,ISNUMBER(VALUE($G21))),FALSE))),"GTIN inválido",""),IF($Q21="","Definir produto ativo",""))) | S21: =IF(COUNTA($A21:$Q21)=0,"",IF($R21="","Base utilizável","Revisar base"))
R22: =IF(COUNTA($A22:$Q22)=0,"",_xlfn.TEXTJOIN(" | ",TRUE,IF($A22="","SKU ausente",""),IF(AND($A22<>"",COUNTIF($A$5:$A$104,$A22)>1),"SKU duplicado",""),IF($B22="","Nome ausente",""),IF($F22="","Preço ausente",IF(OR(NOT(ISNUMBER($F22)),$F22<=0),"Preço inválido","")),IF(AND($G22<>"",NOT(IFERROR(AND(LEN($G22)=13,ISNUMBER(VALUE($G22))),FALSE))),"GTIN inválido",""),IF($Q22="","Definir produto ativo",""))) | S22: =IF(COUNTA($A22:$Q22)=0,"",IF($R22="","Base utilizável","Revisar base"))
R23: =IF(COUNTA($A23:$Q23)=0,"",_xlfn.TEXTJOIN(" | ",TRUE,IF($A23="","SKU ausente",""),IF(AND($A23<>"",COUNTIF($A$5:$A$104,$A23)>1),"SKU duplicado",""),IF($B23="","Nome ausente",""),IF($F23="","Preço ausente",IF(OR(NOT(ISNUMBER($F23)),$F23<=0),"Preço inválido","")),IF(AND($G23<>"",NOT(IFERROR(AND(LEN($G23)=13,ISNUMBER(VALUE($G23))),FALSE))),"GTIN inválido",""),IF($Q23="","Definir produto ativo",""))) | S23: =IF(COUNTA($A23:$Q23)=0,"",IF($R23="","Base utilizável","Revisar base"))
R24: =IF(COUNTA($A24:$Q24)=0,"",_xlfn.TEXTJOIN(" | ",TRUE,IF($A24="","SKU ausente",""),IF(AND($A24<>"",COUNTIF($A$5:$A$104,$A24)>1),"SKU duplicado",""),IF($B24="","Nome ausente",""),IF($F24="","Preço ausente",IF(OR(NOT(ISNUMBER($F24)),$F24<=0),"Preço inválido","")),IF(AND($G24<>"",NOT(IFERROR(AND(LEN($G24)=13,ISNUMBER(VALUE($G24))),FALSE))),"GTIN inválido",""),IF($Q24="","Definir produto ativo",""))) | S24: =IF(COUNTA($A24:$Q24)=0,"",IF($R24="","Base utilizável","Revisar base"))
R25: =IF(COUNTA($A25:$Q25)=0,"",_xlfn.TEXTJOIN(" | ",TRUE,IF($A25="","SKU ausente",""),IF(AND($A25<>"",COUNTIF($A$5:$A$104,$A25)>1),"SKU duplicado",""),IF($B25="","Nome ausente",""),IF($F25="","Preço ausente",IF(OR(NOT(ISNUMBER($F25)),$F25<=0),"Preço inválido","")),IF(AND($G25<>"",NOT(IFERROR(AND(LEN($G25)=13,ISNUMBER(VALUE($G25))),FALSE))),"GTIN inválido",""),IF($Q25="","Definir produto ativo",""))) | S25: =IF(COUNTA($A25:$Q25)=0,"",IF($R25="","Base utilizável","Revisar base"))
R26: =IF(COUNTA($A26:$Q26)=0,"",_xlfn.TEXTJOIN(" | ",TRUE,IF($A26="","SKU ausente",""),IF(AND($A26<>"",COUNTIF($A$5:$A$104,$A26)>1),"SKU duplicado",""),IF($B26="","Nome ausente",""),IF($F26="","Preço ausente",IF(OR(NOT(ISNUMBER($F26)),$F26<=0),"Preço inválido","")),IF(AND($G26<>"",NOT(IFERROR(AND(LEN($G26)=13,ISNUMBER(VALUE($G26))),FALSE))),"GTIN inválido",""),IF($Q26="","Definir produto ativo",""))) | S26: =IF(COUNTA($A26:$Q26)=0,"",IF($R26="","Base utilizável","Revisar base"))
... R104: =IF(COUNTA($A104:$Q104)=0,"",_xlfn.TEXTJOIN(" | ",TRUE,IF($A104="","SKU ausente",""),IF(AND($A104<>"",COUNTIF($A$5:$A$104,$A104)>1),"SKU duplicado",""),IF($B104="","Nome ausente",""),IF($F104="","Preço ausente",IF(OR(NOT(ISNUMBER($F104)),$F104<=0),"Preço inválido","")),IF(AND($G104<>"",NOT(IFERROR(AND(LEN($G104)=13,ISNUMBER(VALUE($G104))),FALSE))),"GTIN inválido",""),IF($Q104="","Definir produto ativo",""))) | S104: =IF(COUNTA($A104:$Q104)=0,"",IF($R104="","Base utilizável","Revisar base"))

Sheet Regras por canal
A1: Regras de publicação por canal
A2: Os canais e limites deste modelo são fictícios e devem ser ajustados à operação.
A4: Canal | B4: Canal ativo? | C4: Exige categoria? | D4: Exige GTIN? | E4: Exige marca? | F4: Exige cor? | G4: Exige tamanho/modelo? | H4: Exige peso? | I4: Exige dimensões? | J4: Mínimo de mídias | K4: Mínimo de caracteres da descrição | L4: Máximo de caracteres do título | M4: Preço mínimo | N4: Preço máximo | O4: Observações | P4: Pendências da regra | Q4: Situação da regra
A5: Loja Horizonte — canal fictício | B5: Sim | C5: Sim | D5: Não | E5: Sim | F5: Não | G5: Não | H5: Sim | I5: Sim | J5: 1 | K5: 40 | L5: 90 | M5: 10 | N5: 5000 | P5: =IF(COUNTA($A5:$N5)=0,"",_xlfn.TEXTJOIN(" | ",TRUE,IF($A5="","Nome do canal ausente",""),IF(AND($A5<>"",COUNTIF($A$5:$A$9,$A5)>1),"Canal duplicado",""),IF(COUNTIF($B5:$I5,"Sim")+COUNTIF($B5:$I5,"Não")<>8,"Campos Sim/Não incompletos ou inválidos",""),IF(OR(NOT(ISNUMBER($J5)),$J5<0,$J5>3),"Mínimo de mídias inválido",""),IF(OR(NOT(ISNUMBER($K5)),$K5<0),"Mínimo de descrição inválido",""),IF(OR(NOT(ISNUMBER($L5)),$L5<1,$L5>200),"Limite de título inválido",""),IF(OR(NOT(ISNUMBER($M5)),$M5<0),"Preço mínimo inválido",""),IF(AND($N5<>"",OR(NOT(ISNUMBER($N5)),$N5<$M5)),"Preço máximo inválido",""))) | Q5: =IF(COUNTA($A5:$N5)=0,"",IF($P5="","Regra válida","Revisar regra"))
A6: Marketplace Aurora — canal fictício | B6: Sim | C6: Sim | D6: Sim | E6: Sim | F6: Sim | G6: Sim | H6: Sim | I6: Sim | J6: 2 | K6: 80 | L6: 60 | M6: 20 | N6: 3000 | P6: =IF(COUNTA($A6:$N6)=0,"",_xlfn.TEXTJOIN(" | ",TRUE,IF($A6="","Nome do canal ausente",""),IF(AND($A6<>"",COUNTIF($A$5:$A$9,$A6)>1),"Canal duplicado",""),IF(COUNTIF($B6:$I6,"Sim")+COUNTIF($B6:$I6,"Não")<>8,"Campos Sim/Não incompletos ou inválidos",""),IF(OR(NOT(ISNUMBER($J6)),$J6<0,$J6>3),"Mínimo de mídias inválido",""),IF(OR(NOT(ISNUMBER($K6)),$K6<0),"Mínimo de descrição inválido",""),IF(OR(NOT(ISNUMBER($L6)),$L6<1,$L6>200),"Limite de título inválido",""),IF(OR(NOT(ISNUMBER($M6)),$M6<0),"Preço mínimo inválido",""),IF(AND($N6<>"",OR(NOT(ISNUMBER($N6)),$N6<$M6)),"Preço máximo inválido",""))) | Q6: =IF(COUNTA($A6:$N6)=0,"",IF($P6="","Regra válida","Revisar regra"))
A7: Vitrine Ponto Azul — canal fictício | B7: Sim | C7: Sim | D7: Não | E7: Não | F7: Não | G7: Sim | H7: Não | I7: Não | J7: 1 | K7: 30 | L7: 70 | M7: 5 | P7: =IF(COUNTA($A7:$N7)=0,"",_xlfn.TEXTJOIN(" | ",TRUE,IF($A7="","Nome do canal ausente",""),IF(AND($A7<>"",COUNTIF($A$5:$A$9,$A7)>1),"Canal duplicado",""),IF(COUNTIF($B7:$I7,"Sim")+COUNTIF($B7:$I7,"Não")<>8,"Campos Sim/Não incompletos ou inválidos",""),IF(OR(NOT(ISNUMBER($J7)),$J7<0,$J7>3),"Mínimo de mídias inválido",""),IF(OR(NOT(ISNUMBER($K7)),$K7<0),"Mínimo de descrição inválido",""),IF(OR(NOT(ISNUMBER($L7)),$L7<1,$L7>200),"Limite de título inválido",""),IF(OR(NOT(ISNUMBER($M7)),$M7<0),"Preço mínimo inválido",""),IF(AND($N7<>"",OR(NOT(ISNUMBER($N7)),$N7<$M7)),"Preço máximo inválido",""))) | Q7: =IF(COUNTA($A7:$N7)=0,"",IF($P7="","Regra válida","Revisar regra"))
P8: =IF(COUNTA($A8:$N8)=0,"",_xlfn.TEXTJOIN(" | ",TRUE,IF($A8="","Nome do canal ausente",""),IF(AND($A8<>"",COUNTIF($A$5:$A$9,$A8)>1),"Canal duplicado",""),IF(COUNTIF($B8:$I8,"Sim")+COUNTIF($B8:$I8,"Não")<>8,"Campos Sim/Não incompletos ou inválidos",""),IF(OR(NOT(ISNUMBER($J8)),$J8<0,$J8>3),"Mínimo de mídias inválido",""),IF(OR(NOT(ISNUMBER($K8)),$K8<0),"Mínimo de descrição inválido",""),IF(OR(NOT(ISNUMBER($L8)),$L8<1,$L8>200),"Limite de título inválido",""),IF(OR(NOT(ISNUMBER($M8)),$M8<0),"Preço mínimo inválido",""),IF(AND($N8<>"",OR(NOT(ISNUMBER($N8)),$N8<$M8)),"Preço máximo inválido",""))) | Q8: =IF(COUNTA($A8:$N8)=0,"",IF($P8="","Regra válida","Revisar regra"))
P9: =IF(COUNTA($A9:$N9)=0,"",_xlfn.TEXTJOIN(" | ",TRUE,IF($A9="","Nome do canal ausente",""),IF(AND($A9<>"",COUNTIF($A$5:$A$9,$A9)>1),"Canal duplicado",""),IF(COUNTIF($B9:$I9,"Sim")+COUNTIF($B9:$I9,"Não")<>8,"Campos Sim/Não incompletos ou inválidos",""),IF(OR(NOT(ISNUMBER($J9)),$J9<0,$J9>3),"Mínimo de mídias inválido",""),IF(OR(NOT(ISNUMBER($K9)),$K9<0),"Mínimo de descrição inválido",""),IF(OR(NOT(ISNUMBER($L9)),$L9<1,$L9>200),"Limite de título inválido",""),IF(OR(NOT(ISNUMBER($M9)),$M9<0),"Preço mínimo inválido",""),IF(AND($N9<>"",OR(NOT(ISNUMBER($N9)),$N9<$M9)),"Preço máximo inválido",""))) | Q9: =IF(COUNTA($A9:$N9)=0,"",IF($P9="","Regra válida","Revisar regra"))

Sheet Feed e prontidão
A1: Feed e prontidão por produto e canal
A2: Filtre “Status de saída” por “Liberado para feed” para obter as linhas publicáveis.
A4: SKU | B4: Canal | C4: Incluir no canal? | D4: Título específico | E4: Categoria específica | F4: Preço específico | G4: Título do feed | H4: Categoria do feed | I4: Descrição do feed | J4: Marca | K4: Preço do feed | L4: GTIN | M4: Cor | N4: Tamanho/modelo | O4: Peso (kg) | P4: Largura (cm) | Q4: Altura (cm) | R4: Comprimento (cm) | S4: Mídia principal | T4: Mídia adicional 1 | U4: Mídia adicional 2 | V4: Quantidade de mídias | W4: Bloqueios de publicação | X4: Prontidão | Y4: Decisão operacional | Z4: Status de saída | AA4: Chave do feed | AB4: Canal ativo? | AC4: Exige categoria? | AD4: Exige GTIN? | AE4: Exige marca? | AF4: Exige cor? | AG4: Exige tamanho/modelo? | AH4: Exige peso? | AI4: Exige dimensões? | AJ4: Mínimo de mídias | AK4: Mínimo de descrição | AL4: Máximo de título | AM4: Preço mínimo | AN4: Preço máximo | AO4: Produto ativo? | AP4: Situação da regra
A5: =IF(OR(INDEX('Catálogo fonte'!$A$5:$A$104,INT((ROW()-5)/5)+1)="",INDEX('Regras por canal'!$A$5:$A$9,MOD(ROW()-5,5)+1)=""),"",INDEX('Catálogo fonte'!$A$5:$A$104,INT((ROW()-5)/5)+1)) | B5: =IF($A5="","",INDEX('Regras por canal'!$A$5:$A$9,MOD(ROW()-5,5)+1)) | C5: Sim | G5: =IF(OR($A5="",$B5=""),"",IF($D5<>"",$D5,IFERROR(INDEX('Catálogo fonte'!$B$5:$B$104,MATCH($A5,'Catálogo fonte'!$A$5:$A$104,0)),""))) | H5: =IF(OR($A5="",$B5=""),"",IF($E5<>"",$E5,IFERROR(INDEX('Catálogo fonte'!$C$5:$C$104,MATCH($A5,'Catálogo fonte'!$A$5:$A$104,0)),""))) | I5: =IF(OR($A5="",$B5=""),"",IFERROR(INDEX('Catálogo fonte'!$E$5:$E$104,MATCH($A5,'Catálogo fonte'!$A$5:$A$104,0)),"")) | J5: =IF(OR($A5="",$B5=""),"",IFERROR(INDEX('Catálogo fonte'!$D$5:$D$104,MATCH($A5,'Catálogo fonte'!$A$5:$A$104,0)),"")) | K5: =IF(OR($A5="",$B5=""),"",IF($F5<>"",$F5,IFERROR(INDEX('Catálogo fonte'!$F$5:$F$104,MATCH($A5,'Catálogo fonte'!$A$5:$A$104,0)),""))) | L5: =IF(OR($A5="",$B5=""),"",IFERROR(INDEX('Catálogo fonte'!$G$5:$G$104,MATCH($A5,'Catálogo fonte'!$A$5:$A$104,0)),"")) | M5: =IF(OR($A5="",$B5=""),"",IFERROR(INDEX('Catálogo fonte'!$H$5:$H$104,MATCH($A5,'Catálogo fonte'!$A$5:$A$104,0)),"")) | N5: =IF(OR($A5="",$B5=""),"",IFERROR(INDEX('Catálogo fonte'!$I$5:$I$104,MATCH($A5,'Catálogo fonte'!$A$5:$A$104,0)),"")) | O5: =IF(OR($A5="",$B5=""),"",IFERROR(INDEX('Catálogo fonte'!$J$5:$J$104,MATCH($A5,'Catálogo fonte'!$A$5:$A$104,0)),"")) | P5: =IF(OR($A5="",$B5=""),"",IFERROR(INDEX('Catálogo fonte'!$K$5:$K$104,MATCH($A5,'Catálogo fonte'!$A$5:$A$104,0)),"")) | Q5: =IF(OR($A5="",$B5=""),"",IFERROR(INDEX('Catálogo fonte'!$L$5:$L$104,MATCH($A5,'Catálogo fonte'!$A$5:$A$104,0)),"")) | R5: =IF(OR($A5="",$B5=""),"",IFERROR(INDEX('Catálogo fonte'!$M$5:$M$104,MATCH($A5,'Catálogo fonte'!$A$5:$A$104,0)),"")) | S5: =IF(OR($A5="",$B5=""),"",IFERROR(INDEX('Catálogo fonte'!$N$5:$N$104,MATCH($A5,'Catálogo fonte'!$A$5:$A$104,0)),"")) | T5: =IF(OR($A5="",$B5=""),"",IFERROR(INDEX('Catálogo fonte'!$O$5:$O$104,MATCH($A5,'Catálogo fonte'!$A$5:$A$104,0)),"")) | U5: =IF(OR($A5="",$B5=""),"",IFERROR(INDEX('Catálogo fonte'!$P$5:$P$104,MATCH($A5,'Catálogo fonte'!$A$5:$A$104,0)),"")) | V5: =IF(OR($A5="",$B5=""),"",--($S5<>"")+--($T5<>"")+--($U5<>"")) | W5: =IF(OR($A5="",$B5="",$C5<>"Sim"),"",_xlfn.TEXTJOIN(" | ",TRUE,IF($AP5<>"Regra válida","Regra do canal inválida",""),IF(COUNTIF('Catálogo fonte'!$A$5:$A$104,$A5)>1,"SKU duplicado",""),IF($AO5<>"Sim","Produto inativo",""),IF($AB5<>"Sim","Canal inativo",""),IF($G5="","Título ausente",""),IF(AND($G5<>"",$AL5<>"",LEN($G5)>$AL5),"Título excede o limite",""),IF(AND($AC5="Sim",$H5=""),"Categoria ausente",""),IF(AND($AK5>0,LEN($I5)<$AK5),"Descrição abaixo do mínimo",""),IF(AND($AE5="Sim",$J5=""),"Marca ausente",""),IF(OR($K5="",NOT(ISNUMBER($K5)),$K5<=0),"Preço inválido",""),IF(AND(ISNUMBER($K5),$AM5<>"",$K5<$AM5),"Preço abaixo do mínimo",""),IF(AND(ISNUMBER($K5),$AN5<>"",$K5>$AN5),"Preço acima do máximo",""),IF(AND($AD5="Sim",$L5=""),"GTIN ausente",""),IF(AND($L5<>"",NOT(IFERROR(AND(LEN($L5)=13,ISNUMBER(VALUE($L5))),FALSE))),"GTIN inválido",""),IF(AND($AF5="Sim",$M5=""),"Cor ausente",""),IF(AND($AG5="Sim",$N5=""),"Tamanho/modelo ausente",""),IF(AND($AH5="Sim",OR(NOT(ISNUMBER($O5)),$O5<=0)),"Peso ausente ou inválido",""),IF(AND($AI5="Sim",OR(NOT(ISNUMBER($P5)),$P5<=0,NOT(ISNUMBER($Q5)),$Q5<=0,NOT(ISNUMBER($R5)),$R5<=0)),"Dimensões ausentes ou inválidas",""),IF($V5<$AJ5,"Mídias abaixo do mínimo",""))) | X5: =IF(OR($A5="",$B5=""),"",IF($C5<>"Sim","Não selecionado",IF($W5="","Pronto para publicar","Bloqueado"))) | Y5: Publicar | Z5: =IF(OR($A5="",$B5=""),"",IF($C5<>"Sim","Fora do feed",IF($X5="Bloqueado","Bloqueado",IF($Y5="Publicar","Liberado para feed",IF($Y5="Manter rascunho","Mantido em rascunho","Aguardando decisão"))))) | AA5: =IF(OR($A5="",$B5=""),"",$A5&"|"&$B5) | AB5: =IF($B5="","",IFERROR(INDEX('Regras por canal'!$B$5:$B$9,MATCH($B5,'Regras por canal'!$A$5:$A$9,0)),"")) | AC5: =IF($B5="","",IFERROR(INDEX('Regras por canal'!$C$5:$C$9,MATCH($B5,'Regras por canal'!$A$5:$A$9,0)),"")) | AD5: =IF($B5="","",IFERROR(INDEX('Regras por canal'!$D$5:$D$9,MATCH($B5,'Regras por canal'!$A$5:$A$9,0)),"")) | AE5: =IF($B5="","",IFERROR(INDEX('Regras por canal'!$E$5:$E$9,MATCH($B5,'Regras por canal'!$A$5:$A$9,0)),"")) | AF5: =IF($B5="","",IFERROR(INDEX('Regras por canal'!$F$5:$F$9,MATCH($B5,'Regras por canal'!$A$5:$A$9,0)),"")) | AG5: =IF($B5="","",IFERROR(INDEX('Regras por canal'!$G$5:$G$9,MATCH($B5,'Regras por canal'!$A$5:$A$9,0)),"")) | AH5: =IF($B5="","",IFERROR(INDEX('Regras por canal'!$H$5:$H$9,MATCH($B5,'Regras por canal'!$A$5:$A$9,0)),"")) | AI5: =IF($B5="","",IFERROR(INDEX('Regras por canal'!$I$5:$I$9,MATCH($B5,'Regras por canal'!$A$5:$A$9,0)),"")) | AJ5: =IF($B5="","",IFERROR(INDEX('Regras por canal'!$J$5:$J$9,MATCH($B5,'Regras por canal'!$A$5:$A$9,0)),"")) | AK5: =IF($B5="","",IFERROR(INDEX('Regras por canal'!$K$5:$K$9,MATCH($B5,'Regras por canal'!$A$5:$A$9,0)),"")) | AL5: =IF($B5="","",IFERROR(INDEX('Regras por canal'!$L$5:$L$9,MATCH($B5,'Regras por canal'!$A$5:$A$9,0)),"")) | AM5: =IF($B5="","",IFERROR(INDEX('Regras por canal'!$M$5:$M$9,MATCH($B5,'Regras por canal'!$A$5:$A$9,0)),"")) | AN5: =IF($B5="","",IFERROR(INDEX('Regras por canal'!$N$5:$N$9,MATCH($B5,'Regras por canal'!$A$5:$A$9,0)),"")) | AO5: =IF($A5="","",IFERROR(INDEX('Catálogo fonte'!$Q$5:$Q$104,MATCH($A5,'Catálogo fonte'!$A$5:$A$104,0)),"")) | AP5: =IF($B5="","",IFERROR(INDEX('Regras por canal'!$Q$5:$Q$9,MATCH($B5,'Regras por canal'!$A$5:$A$9,0)),""))
A6: =IF(OR(INDEX('Catálogo fonte'!$A$5:$A$104,INT((ROW()-5)/5)+1)="",INDEX('Regras por canal'!$A$5:$A$9,MOD(ROW()-5,5)+1)=""),"",INDEX('Catálogo fonte'!$A$5:$A$104,INT((ROW()-5)/5)+1)) | B6: =IF($A6="","",INDEX('Regras por canal'!$A$5:$A$9,MOD(ROW()-5,5)+1)) | C6: Sim | D6: Organizador modular com 6 nichos | E6: Casa > Organização | F6: 84.9 | G6: =IF(OR($A6="",$B6=""),"",IF($D6<>"",$D6,IFERROR(INDEX('Catálogo fonte'!$B$5:$B$104,MATCH($A6,'Catálogo fonte'!$A$5:$A$104,0)),""))) | H6: =IF(OR($A6="",$B6=""),"",IF($E6<>"",$E6,IFERROR(INDEX('Catálogo fonte'!$C$5:$C$104,MATCH($A6,'Catálogo fonte'!$A$5:$A$104,0)),""))) | I6: =IF(OR($A6="",$B6=""),"",IFERROR(INDEX('Catálogo fonte'!$E$5:$E$104,MATCH($A6,'Catálogo fonte'!$A$5:$A$104,0)),"")) | J6: =IF(OR($A6="",$B6=""),"",IFERROR(INDEX('Catálogo fonte'!$D$5:$D$104,MATCH($A6,'Catálogo fonte'!$A$5:$A$104,0)),"")) | K6: =IF(OR($A6="",$B6=""),"",IF($F6<>"",$F6,IFERROR(INDEX('Catálogo fonte'!$F$5:$F$104,MATCH($A6,'Catálogo fonte'!$A$5:$A$104,0)),""))) | L6: =IF(OR($A6="",$B6=""),"",IFERROR(INDEX('Catálogo fonte'!$G$5:$G$104,MATCH($A6,'Catálogo fonte'!$A$5:$A$104,0)),"")) | M6: =IF(OR($A6="",$B6=""),"",IFERROR(INDEX('Catálogo fonte'!$H$5:$H$104,MATCH($A6,'Catálogo fonte'!$A$5:$A$104,0)),"")) | N6: =IF(OR($A6="",$B6=""),"",IFERROR(INDEX('Catálogo fonte'!$I$5:$I$104,MATCH($A6,'Catálogo fonte'!$A$5:$A$104,0)),"")) | O6: =IF(OR($A6="",$B6=""),"",IFERROR(INDEX('Catálogo fonte'!$J$5:$J$104,MATCH($A6,'Catálogo fonte'!$A$5:$A$104,0)),"")) | P6: =IF(OR($A6="",$B6=""),"",IFERROR(INDEX('Catálogo fonte'!$K$5:$K$104,MATCH($A6,'Catálogo fonte'!$A$5:$A$104,0)),"")) | Q6: =IF(OR($A6="",$B6=""),"",IFERROR(INDEX('Catálogo fonte'!$L$5:$L$104,MATCH($A6,'Catálogo fonte'!$A$5:$A$104,0)),"")) | R6: =IF(OR($A6="",$B6=""),"",IFERROR(INDEX('Catálogo fonte'!$M$5:$M$104,MATCH($A6,'Catálogo fonte'!$A$5:$A$104,0)),"")) | S6: =IF(OR($A6="",$B6=""),"",IFERROR(INDEX('Catálogo fonte'!$N$5:$N$104,MATCH($A6,'Catálogo fonte'!$A$5:$A$104,0)),"")) | T6: =IF(OR($A6="",$B6=""),"",IFERROR(INDEX('Catálogo fonte'!$O$5:$O$104,MATCH($A6,'Catálogo fonte'!$A$5:$A$104,0)),"")) | U6: =IF(OR($A6="",$B6=""),"",IFERROR(INDEX('Catálogo fonte'!$P$5:$P$104,MATCH($A6,'Catálogo fonte'!$A$5:$A$104,0)),"")) | V6: =IF(OR($A6="",$B6=""),"",--($S6<>"")+--($T6<>"")+--($U6<>"")) | W6: =IF(OR($A6="",$B6="",$C6<>"Sim"),"",_xlfn.TEXTJOIN(" | ",TRUE,IF($AP6<>"Regra válida","Regra do canal inválida",""),IF(COUNTIF('Catálogo fonte'!$A$5:$A$104,$A6)>1,"SKU duplicado",""),IF($AO6<>"Sim","Produto inativo",""),IF($AB6<>"Sim","Canal inativo",""),IF($G6="","Título ausente",""),IF(AND($G6<>"",$AL6<>"",LEN($G6)>$AL6),"Título excede o limite",""),IF(AND($AC6="Sim",$H6=""),"Categoria ausente",""),IF(AND($AK6>0,LEN($I6)<$AK6),"Descrição abaixo do mínimo",""),IF(AND($AE6="Sim",$J6=""),"Marca ausente",""),IF(OR($K6="",NOT(ISNUMBER($K6)),$K6<=0),"Preço inválido",""),IF(AND(ISNUMBER($K6),$AM6<>"",$K6<$AM6),"Preço abaixo do mínimo",""),IF(AND(ISNUMBER($K6),$AN6<>"",$K6>$AN6),"Preço acima do máximo",""),IF(AND($AD6="Sim",$L6=""),"GTIN ausente",""),IF(AND($L6<>"",NOT(IFERROR(AND(LEN($L6)=13,ISNUMBER(VALUE($L6))),FALSE))),"GTIN inválido",""),IF(AND($AF6="Sim",$M6=""),"Cor ausente",""),IF(AND($AG6="Sim",$N6=""),"Tamanho/modelo ausente",""),IF(AND($AH6="Sim",OR(NOT(ISNUMBER($O6)),$O6<=0)),"Peso ausente ou inválido",""),IF(AND($AI6="Sim",OR(NOT(ISNUMBER($P6)),$P6<=0,NOT(ISNUMBER($Q6)),$Q6<=0,NOT(ISNUMBER($R6)),$R6<=0)),"Dimensões ausentes ou inválidas",""),IF($V6<$AJ6,"Mídias abaixo do mínimo",""))) | X6: =IF(OR($A6="",$B6=""),"",IF($C6<>"Sim","Não selecionado",IF($W6="","Pronto para publicar","Bloqueado"))) | Y6: Publicar | Z6: =IF(OR($A6="",$B6=""),"",IF($C6<>"Sim","Fora do feed",IF($X6="Bloqueado","Bloqueado",IF($Y6="Publicar","Liberado para feed",IF($Y6="Manter rascunho","Mantido em rascunho","Aguardando decisão"))))) | AA6: =IF(OR($A6="",$B6=""),"",$A6&"|"&$B6) | AB6: =IF($B6="","",IFERROR(INDEX('Regras por canal'!$B$5:$B$9,MATCH($B6,'Regras por canal'!$A$5:$A$9,0)),"")) | AC6: =IF($B6="","",IFERROR(INDEX('Regras por canal'!$C$5:$C$9,MATCH($B6,'Regras por canal'!$A$5:$A$9,0)),"")) | AD6: =IF($B6="","",IFERROR(INDEX('Regras por canal'!$D$5:$D$9,MATCH($B6,'Regras por canal'!$A$5:$A$9,0)),"")) | AE6: =IF($B6="","",IFERROR(INDEX('Regras por canal'!$E$5:$E$9,MATCH($B6,'Regras por canal'!$A$5:$A$9,0)),"")) | AF6: =IF($B6="","",IFERROR(INDEX('Regras por canal'!$F$5:$F$9,MATCH($B6,'Regras por canal'!$A$5:$A$9,0)),"")) | AG6: =IF($B6="","",IFERROR(INDEX('Regras por canal'!$G$5:$G$9,MATCH($B6,'Regras por canal'!$A$5:$A$9,0)),"")) | AH6: =IF($B6="","",IFERROR(INDEX('Regras por canal'!$H$5:$H$9,MATCH($B6,'Regras por canal'!$A$5:$A$9,0)),"")) | AI6: =IF($B6="","",IFERROR(INDEX('Regras por canal'!$I$5:$I$9,MATCH($B6,'Regras por canal'!$A$5:$A$9,0)),"")) | AJ6: =IF($B6="","",IFERROR(INDEX('Regras por canal'!$J$5:$J$9,MATCH($B6,'Regras por canal'!$A$5:$A$9,0)),"")) | AK6: =IF($B6="","",IFERROR(INDEX('Regras por canal'!$K$5:$K$9,MATCH($B6,'Regras por canal'!$A$5:$A$9,0)),"")) | AL6: =IF($B6="","",IFERROR(INDEX('Regras por canal'!$L$5:$L$9,MATCH($B6,'Regras por canal'!$A$5:$A$9,0)),"")) | AM6: =IF($B6="","",IFERROR(INDEX('Regras por canal'!$M$5:$M$9,MATCH($B6,'Regras por canal'!$A$5:$A$9,0)),"")) | AN6: =IF($B6="","",IFERROR(INDEX('Regras por canal'!$N$5:$N$9,MATCH($B6,'Regras por canal'!$A$5:$A$9,0)),"")) | AO6: =IF($A6="","",IFERROR(INDEX('Catálogo fonte'!$Q$5:$Q$104,MATCH($A6,'Catálogo fonte'!$A$5:$A$104,0)),"")) | AP6: =IF($B6="","",IFERROR(INDEX('Regras por canal'!$Q$5:$Q$9,MATCH($B6,'Regras por canal'!$A$5:$A$9,0)),""))
A7: =IF(OR(INDEX('Catálogo fonte'!$A$5:$A$104,INT((ROW()-5)/5)+1)="",INDEX('Regras por canal'!$A$5:$A$9,MOD(ROW()-5,5)+1)=""),"",INDEX('Catálogo fonte'!$A$5:$A$104,INT((ROW()-5)/5)+1)) | B7: =IF($A7="","",INDEX('Regras por canal'!$A$5:$A$9,MOD(ROW()-5,5)+1)) | C7: Sim | G7: =IF(OR($A7="",$B7=""),"",IF($D7<>"",$D7,IFERROR(INDEX('Catálogo fonte'!$B$5:$B$104,MATCH($A7,'Catálogo fonte'!$A$5:$A$104,0)),""))) | H7: =IF(OR($A7="",$B7=""),"",IF($E7<>"",$E7,IFERROR(INDEX('Catálogo fonte'!$C$5:$C$104,MATCH($A7,'Catálogo fonte'!$A$5:$A$104,0)),""))) | I7: =IF(OR($A7="",$B7=""),"",IFERROR(INDEX('Catálogo fonte'!$E$5:$E$104,MATCH($A7,'Catálogo fonte'!$A$5:$A$104,0)),"")) | J7: =IF(OR($A7="",$B7=""),"",IFERROR(INDEX('Catálogo fonte'!$D$5:$D$104,MATCH($A7,'Catálogo fonte'!$A$5:$A$104,0)),"")) | K7: =IF(OR($A7="",$B7=""),"",IF($F7<>"",$F7,IFERROR(INDEX('Catálogo fonte'!$F$5:$F$104,MATCH($A7,'Catálogo fonte'!$A$5:$A$104,0)),""))) | L7: =IF(OR($A7="",$B7=""),"",IFERROR(INDEX('Catálogo fonte'!$G$5:$G$104,MATCH($A7,'Catálogo fonte'!$A$5:$A$104,0)),"")) | M7: =IF(OR($A7="",$B7=""),"",IFERROR(INDEX('Catálogo fonte'!$H$5:$H$104,MATCH($A7,'Catálogo fonte'!$A$5:$A$104,0)),"")) | N7: =IF(OR($A7="",$B7=""),"",IFERROR(INDEX('Catálogo fonte'!$I$5:$I$104,MATCH($A7,'Catálogo fonte'!$A$5:$A$104,0)),"")) | O7: =IF(OR($A7="",$B7=""),"",IFERROR(INDEX('Catálogo fonte'!$J$5:$J$104,MATCH($A7,'Catálogo fonte'!$A$5:$A$104,0)),"")) | P7: =IF(OR($A7="",$B7=""),"",IFERROR(INDEX('Catálogo fonte'!$K$5:$K$104,MATCH($A7,'Catálogo fonte'!$A$5:$A$104,0)),"")) | Q7: =IF(OR($A7="",$B7=""),"",IFERROR(INDEX('Catálogo fonte'!$L$5:$L$104,MATCH($A7,'Catálogo fonte'!$A$5:$A$104,0)),"")) | R7: =IF(OR($A7="",$B7=""),"",IFERROR(INDEX('Catálogo fonte'!$M$5:$M$104,MATCH($A7,'Catálogo fonte'!$A$5:$A$104,0)),"")) | S7: =IF(OR($A7="",$B7=""),"",IFERROR(INDEX('Catálogo fonte'!$N$5:$N$104,MATCH($A7,'Catálogo fonte'!$A$5:$A$104,0)),"")) | T7: =IF(OR($A7="",$B7=""),"",IFERROR(INDEX('Catálogo fonte'!$O$5:$O$104,MATCH($A7,'Catálogo fonte'!$A$5:$A$104,0)),"")) | U7: =IF(OR($A7="",$B7=""),"",IFERROR(INDEX('Catálogo fonte'!$P$5:$P$104,MATCH($A7,'Catálogo fonte'!$A$5:$A$104,0)),"")) | V7: =IF(OR($A7="",$B7=""),"",--($S7<>"")+--($T7<>"")+--($U7<>"")) | W7: =IF(OR($A7="",$B7="",$C7<>"Sim"),"",_xlfn.TEXTJOIN(" | ",TRUE,IF($AP7<>"Regra válida","Regra do canal inválida",""),IF(COUNTIF('Catálogo fonte'!$A$5:$A$104,$A7)>1,"SKU duplicado",""),IF($AO7<>"Sim","Produto inativo",""),IF($AB7<>"Sim","Canal inativo",""),IF($G7="","Título ausente",""),IF(AND($G7<>"",$AL7<>"",LEN($G7)>$AL7),"Título excede o limite",""),IF(AND($AC7="Sim",$H7=""),"Categoria ausente",""),IF(AND($AK7>0,LEN($I7)<$AK7),"Descrição abaixo do mínimo",""),IF(AND($AE7="Sim",$J7=""),"Marca ausente",""),IF(OR($K7="",NOT(ISNUMBER($K7)),$K7<=0),"Preço inválido",""),IF(AND(ISNUMBER($K7),$AM7<>"",$K7<$AM7),"Preço abaixo do mínimo",""),IF(AND(ISNUMBER($K7),$AN7<>"",$K7>$AN7),"Preço acima do máximo",""),IF(AND($AD7="Sim",$L7=""),"GTIN ausente",""),IF(AND($L7<>"",NOT(IFERROR(AND(LEN($L7)=13,ISNUMBER(VALUE($L7))),FALSE))),"GTIN inválido",""),IF(AND($AF7="Sim",$M7=""),"Cor ausente",""),IF(AND($AG7="Sim",$N7=""),"Tamanho/modelo ausente",""),IF(AND($AH7="Sim",OR(NOT(ISNUMBER($O7)),$O7<=0)),"Peso ausente ou inválido",""),IF(AND($AI7="Sim",OR(NOT(ISNUMBER($P7)),$P7<=0,NOT(ISNUMBER($Q7)),$Q7<=0,NOT(ISNUMBER($R7)),$R7<=0)),"Dimensões ausentes ou inválidas",""),IF($V7<$AJ7,"Mídias abaixo do mínimo",""))) | X7: =IF(OR($A7="",$B7=""),"",IF($C7<>"Sim","Não selecionado",IF($W7="","Pronto para publicar","Bloqueado"))) | Y7: Publicar | Z7: =IF(OR($A7="",$B7=""),"",IF($C7<>"Sim","Fora do feed",IF($X7="Bloqueado","Bloqueado",IF($Y7="Publicar","Liberado para feed",IF($Y7="Manter rascunho","Mantido em rascunho","Aguardando decisão"))))) | AA7: =IF(OR($A7="",$B7=""),"",$A7&"|"&$B7) | AB7: =IF($B7="","",IFERROR(INDEX('Regras por canal'!$B$5:$B$9,MATCH($B7,'Regras por canal'!$A$5:$A$9,0)),"")) | AC7: =IF($B7="","",IFERROR(INDEX('Regras por canal'!$C$5:$C$9,MATCH($B7,'Regras por canal'!$A$5:$A$9,0)),"")) | AD7: =IF($B7="","",IFERROR(INDEX('Regras por canal'!$D$5:$D$9,MATCH($B7,'Regras por canal'!$A$5:$A$9,0)),"")) | AE7: =IF($B7="","",IFERROR(INDEX('Regras por canal'!$E$5:$E$9,MATCH($B7,'Regras por canal'!$A$5:$A$9,0)),"")) | AF7: =IF($B7="","",IFERROR(INDEX('Regras por canal'!$F$5:$F$9,MATCH($B7,'Regras por canal'!$A$5:$A$9,0)),"")) | AG7: =IF($B7="","",IFERROR(INDEX('Regras por canal'!$G$5:$G$9,MATCH($B7,'Regras por canal'!$A$5:$A$9,0)),"")) | AH7: =IF($B7="","",IFERROR(INDEX('Regras por canal'!$H$5:$H$9,MATCH($B7,'Regras por canal'!$A$5:$A$9,0)),"")) | AI7: =IF($B7="","",IFERROR(INDEX('Regras por canal'!$I$5:$I$9,MATCH($B7,'Regras por canal'!$A$5:$A$9,0)),"")) | AJ7: =IF($B7="","",IFERROR(INDEX('Regras por canal'!$J$5:$J$9,MATCH($B7,'Regras por canal'!$A$5:$A$9,0)),"")) | AK7: =IF($B7="","",IFERROR(INDEX('Regras por canal'!$K$5:$K$9,MATCH($B7,'Regras por canal'!$A$5:$A$9,0)),"")) | AL7: =IF($B7="","",IFERROR(INDEX('Regras por canal'!$L$5:$L$9,MATCH($B7,'Regras por canal'!$A$5:$A$9,0)),"")) | AM7: =IF($B7="","",IFERROR(INDEX('Regras por canal'!$M$5:$M$9,MATCH($B7,'Regras por canal'!$A$5:$A$9,0)),"")) | AN7: =IF($B7="","",IFERROR(INDEX('Regras por canal'!$N$5:$N$9,MATCH($B7,'Regras por canal'!$A$5:$A$9,0)),"")) | AO7: =IF($A7="","",IFERROR(INDEX('Catálogo fonte'!$Q$5:$Q$104,MATCH($A7,'Catálogo fonte'!$A$5:$A$104,0)),"")) | AP7: =IF($B7="","",IFERROR(INDEX('Regras por canal'!$Q$5:$Q$9,MATCH($B7,'Regras por canal'!$A$5:$A$9,0)),""))
A8: =IF(OR(INDEX('Catálogo fonte'!$A$5:$A$104,INT((ROW()-5)/5)+1)="",INDEX('Regras por canal'!$A$5:$A$9,MOD(ROW()-5,5)+1)=""),"",INDEX('Catálogo fonte'!$A$5:$A$104,INT((ROW()-5)/5)+1)) | B8: =IF($A8="","",INDEX('Regras por canal'!$A$5:$A$9,MOD(ROW()-5,5)+1)) | G8: =IF(OR($A8="",$B8=""),"",IF($D8<>"",$D8,IFERROR(INDEX('Catálogo fonte'!$B$5:$B$104,MATCH($A8,'Catálogo fonte'!$A$5:$A$104,0)),""))) | H8: =IF(OR($A8="",$B8=""),"",IF($E8<>"",$E8,IFERROR(INDEX('Catálogo fonte'!$C$5:$C$104,MATCH($A8,'Catálogo fonte'!$A$5:$A$104,0)),""))) | I8: =IF(OR($A8="",$B8=""),"",IFERROR(INDEX('Catálogo fonte'!$E$5:$E$104,MATCH($A8,'Catálogo fonte'!$A$5:$A$104,0)),"")) | J8: =IF(OR($A8="",$B8=""),"",IFERROR(INDEX('Catálogo fonte'!$D$5:$D$104,MATCH($A8,'Catálogo fonte'!$A$5:$A$104,0)),"")) | K8: =IF(OR($A8="",$B8=""),"",IF($F8<>"",$F8,IFERROR(INDEX('Catálogo fonte'!$F$5:$F$104,MATCH($A8,'Catálogo fonte'!$A$5:$A$104,0)),""))) | L8: =IF(OR($A8="",$B8=""),"",IFERROR(INDEX('Catálogo fonte'!$G$5:$G$104,MATCH($A8,'Catálogo fonte'!$A$5:$A$104,0)),"")) | M8: =IF(OR($A8="",$B8=""),"",IFERROR(INDEX('Catálogo fonte'!$H$5:$H$104,MATCH($A8,'Catálogo fonte'!$A$5:$A$104,0)),"")) | N8: =IF(OR($A8="",$B8=""),"",IFERROR(INDEX('Catálogo fonte'!$I$5:$I$104,MATCH($A8,'Catálogo fonte'!$A$5:$A$104,0)),"")) | O8: =IF(OR($A8="",$B8=""),"",IFERROR(INDEX('Catálogo fonte'!$J$5:$J$104,MATCH($A8,'Catálogo fonte'!$A$5:$A$104,0)),"")) | P8: =IF(OR($A8="",$B8=""),"",IFERROR(INDEX('Catálogo fonte'!$K$5:$K$104,MATCH($A8,'Catálogo fonte'!$A$5:$A$104,0)),"")) | Q8: =IF(OR($A8="",$B8=""),"",IFERROR(INDEX('Catálogo fonte'!$L$5:$L$104,MATCH($A8,'Catálogo fonte'!$A$5:$A$104,0)),"")) | R8: =IF(OR($A8="",$B8=""),"",IFERROR(INDEX('Catálogo fonte'!$M$5:$M$104,MATCH($A8,'Catálogo fonte'!$A$5:$A$104,0)),"")) | S8: =IF(OR($A8="",$B8=""),"",IFERROR(INDEX('Catálogo fonte'!$N$5:$N$104,MATCH($A8,'Catálogo fonte'!$A$5:$A$104,0)),"")) | T8: =IF(OR($A8="",$B8=""),"",IFERROR(INDEX('Catálogo fonte'!$O$5:$O$104,MATCH($A8,'Catálogo fonte'!$A$5:$A$104,0)),"")) | U8: =IF(OR($A8="",$B8=""),"",IFERROR(INDEX('Catálogo fonte'!$P$5:$P$104,MATCH($A8,'Catálogo fonte'!$A$5:$A$104,0)),"")) | V8: =IF(OR($A8="",$B8=""),"",--($S8<>"")+--($T8<>"")+--($U8<>"")) | W8: =IF(OR($A8="",$B8="",$C8<>"Sim"),"",_xlfn.TEXTJOIN(" | ",TRUE,IF($AP8<>"Regra válida","Regra do canal inválida",""),IF(COUNTIF('Catálogo fonte'!$A$5:$A$104,$A8)>1,"SKU duplicado",""),IF($AO8<>"Sim","Produto inativo",""),IF($AB8<>"Sim","Canal inativo",""),IF($G8="","Título ausente",""),IF(AND($G8<>"",$AL8<>"",LEN($G8)>$AL8),"Título excede o limite",""),IF(AND($AC8="Sim",$H8=""),"Categoria ausente",""),IF(AND($AK8>0,LEN($I8)<$AK8),"Descrição abaixo do mínimo",""),IF(AND($AE8="Sim",$J8=""),"Marca ausente",""),IF(OR($K8="",NOT(ISNUMBER($K8)),$K8<=0),"Preço inválido",""),IF(AND(ISNUMBER($K8),$AM8<>"",$K8<$AM8),"Preço abaixo do mínimo",""),IF(AND(ISNUMBER($K8),$AN8<>"",$K8>$AN8),"Preço acima do máximo",""),IF(AND($AD8="Sim",$L8=""),"GTIN ausente",""),IF(AND($L8<>"",NOT(IFERROR(AND(LEN($L8)=13,ISNUMBER(VALUE($L8))),FALSE))),"GTIN inválido",""),IF(AND($AF8="Sim",$M8=""),"Cor ausente",""),IF(AND($AG8="Sim",$N8=""),"Tamanho/modelo ausente",""),IF(AND($AH8="Sim",OR(NOT(ISNUMBER($O8)),$O8<=0)),"Peso ausente ou inválido",""),IF(AND($AI8="Sim",OR(NOT(ISNUMBER($P8)),$P8<=0,NOT(ISNUMBER($Q8)),$Q8<=0,NOT(ISNUMBER($R8)),$R8<=0)),"Dimensões ausentes ou inválidas",""),IF($V8<$AJ8,"Mídias abaixo do mínimo",""))) | X8: =IF(OR($A8="",$B8=""),"",IF($C8<>"Sim","Não selecionado",IF($W8="","Pronto para publicar","Bloqueado"))) | Z8: =IF(OR($A8="",$B8=""),"",IF($C8<>"Sim","Fora do feed",IF($X8="Bloqueado","Bloqueado",IF($Y8="Publicar","Liberado para feed",IF($Y8="Manter rascunho","Mantido em rascunho","Aguardando decisão"))))) | AA8: =IF(OR($A8="",$B8=""),"",$A8&"|"&$B8) | AB8: =IF($B8="","",IFERROR(INDEX('Regras por canal'!$B$5:$B$9,MATCH($B8,'Regras por canal'!$A$5:$A$9,0)),"")) | AC8: =IF($B8="","",IFERROR(INDEX('Regras por canal'!$C$5:$C$9,MATCH($B8,'Regras por canal'!$A$5:$A$9,0)),"")) | AD8: =IF($B8="","",IFERROR(INDEX('Regras por canal'!$D$5:$D$9,MATCH($B8,'Regras por canal'!$A$5:$A$9,0)),"")) | AE8: =IF($B8="","",IFERROR(INDEX('Regras por canal'!$E$5:$E$9,MATCH($B8,'Regras por canal'!$A$5:$A$9,0)),"")) | AF8: =IF($B8="","",IFERROR(INDEX('Regras por canal'!$F$5:$F$9,MATCH($B8,'Regras por canal'!$A$5:$A$9,0)),"")) | AG8: =IF($B8="","",IFERROR(INDEX('Regras por canal'!$G$5:$G$9,MATCH($B8,'Regras por canal'!$A$5:$A$9,0)),"")) | AH8: =IF($B8="","",IFERROR(INDEX('Regras por canal'!$H$5:$H$9,MATCH($B8,'Regras por canal'!$A$5:$A$9,0)),"")) | AI8: =IF($B8="","",IFERROR(INDEX('Regras por canal'!$I$5:$I$9,MATCH($B8,'Regras por canal'!$A$5:$A$9,0)),"")) | AJ8: =IF($B8="","",IFERROR(INDEX('Regras por canal'!$J$5:$J$9,MATCH($B8,'Regras por canal'!$A$5:$A$9,0)),"")) | AK8: =IF($B8="","",IFERROR(INDEX('Regras por canal'!$K$5:$K$9,MATCH($B8,'Regras por canal'!$A$5:$A$9,0)),"")) | AL8: =IF($B8="","",IFERROR(INDEX('Regras por canal'!$L$5:$L$9,MATCH($B8,'Regras por canal'!$A$5:$A$9,0)),"")) | AM8: =IF($B8="","",IFERROR(INDEX('Regras por canal'!$M$5:$M$9,MATCH($B8,'Regras por canal'!$A$5:$A$9,0)),"")) | AN8: =IF($B8="","",IFERROR(INDEX('Regras por canal'!$N$5:$N$9,MATCH($B8,'Regras por canal'!$A$5:$A$9,0)),"")) | AO8: =IF($A8="","",IFERROR(INDEX('Catálogo fonte'!$Q$5:$Q$104,MATCH($A8,'Catálogo fonte'!$A$5:$A$104,0)),"")) | AP8: =IF($B8="","",IFERROR(INDEX('Regras por canal'!$Q$5:$Q$9,MATCH($B8,'Regras por canal'!$A$5:$A$9,0)),""))
A9: =IF(OR(INDEX('Catálogo fonte'!$A$5:$A$104,INT((ROW()-5)/5)+1)="",INDEX('Regras por canal'!$A$5:$A$9,MOD(ROW()-5,5)+1)=""),"",INDEX('Catálogo fonte'!$A$5:$A$104,INT((ROW()-5)/5)+1)) | B9: =IF($A9="","",INDEX('Regras por canal'!$A$5:$A$9,MOD(ROW()-5,5)+1)) | G9: =IF(OR($A9="",$B9=""),"",IF($D9<>"",$D9,IFERROR(INDEX('Catálogo fonte'!$B$5:$B$104,MATCH($A9,'Catálogo fonte'!$A$5:$A$104,0)),""))) | H9: =IF(OR($A9="",$B9=""),"",IF($E9<>"",$E9,IFERROR(INDEX('Catálogo fonte'!$C$5:$C$104,MATCH($A9,'Catálogo fonte'!$A$5:$A$104,0)),""))) | I9: =IF(OR($A9="",$B9=""),"",IFERROR(INDEX('Catálogo fonte'!$E$5:$E$104,MATCH($A9,'Catálogo fonte'!$A$5:$A$104,0)),"")) | J9: =IF(OR($A9="",$B9=""),"",IFERROR(INDEX('Catálogo fonte'!$D$5:$D$104,MATCH($A9,'Catálogo fonte'!$A$5:$A$104,0)),"")) | K9: =IF(OR($A9="",$B9=""),"",IF($F9<>"",$F9,IFERROR(INDEX('Catálogo fonte'!$F$5:$F$104,MATCH($A9,'Catálogo fonte'!$A$5:$A$104,0)),""))) | L9: =IF(OR($A9="",$B9=""),"",IFERROR(INDEX('Catálogo fonte'!$G$5:$G$104,MATCH($A9,'Catálogo fonte'!$A$5:$A$104,0)),"")) | M9: =IF(OR($A9="",$B9=""),"",IFERROR(INDEX('Catálogo fonte'!$H$5:$H$104,MATCH($A9,'Catálogo fonte'!$A$5:$A$104,0)),"")) | N9: =IF(OR($A9="",$B9=""),"",IFERROR(INDEX('Catálogo fonte'!$I$5:$I$104,MATCH($A9,'Catálogo fonte'!$A$5:$A$104,0)),"")) | O9: =IF(OR($A9="",$B9=""),"",IFERROR(INDEX('Catálogo fonte'!$J$5:$J$104,MATCH($A9,'Catálogo fonte'!$A$5:$A$104,0)),"")) | P9: =IF(OR($A9="",$B9=""),"",IFERROR(INDEX('Catálogo fonte'!$K$5:$K$104,MATCH($A9,'Catálogo fonte'!$A$5:$A$104,0)),"")) | Q9: =IF(OR($A9="",$B9=""),"",IFERROR(INDEX('Catálogo fonte'!$L$5:$L$104,MATCH($A9,'Catálogo fonte'!$A$5:$A$104,0)),"")) | R9: =IF(OR($A9="",$B9=""),"",IFERROR(INDEX('Catálogo fonte'!$M$5:$M$104,MATCH($A9,'Catálogo fonte'!$A$5:$A$104,0)),"")) | S9: =IF(OR($A9="",$B9=""),"",IFERROR(INDEX('Catálogo fonte'!$N$5:$N$104,MATCH($A9,'Catálogo fonte'!$A$5:$A$104,0)),"")) | T9: =IF(OR($A9="",$B9=""),"",IFERROR(INDEX('Catálogo fonte'!$O$5:$O$104,MATCH($A9,'Catálogo fonte'!$A$5:$A$104,0)),"")) | U9: =IF(OR($A9="",$B9=""),"",IFERROR(INDEX('Catálogo fonte'!$P$5:$P$104,MATCH($A9,'Catálogo fonte'!$A$5:$A$104,0)),"")) | V9: =IF(OR($A9="",$B9=""),"",--($S9<>"")+--($T9<>"")+--($U9<>"")) | W9: =IF(OR($A9="",$B9="",$C9<>"Sim"),"",_xlfn.TEXTJOIN(" | ",TRUE,IF($AP9<>"Regra válida","Regra do canal inválida",""),IF(COUNTIF('Catálogo fonte'!$A$5:$A$104,$A9)>1,"SKU duplicado",""),IF($AO9<>"Sim","Produto inativo",""),IF($AB9<>"Sim","Canal inativo",""),IF($G9="","Título ausente",""),IF(AND($G9<>"",$AL9<>"",LEN($G9)>$AL9),"Título excede o limite",""),IF(AND($AC9="Sim",$H9=""),"Categoria ausente",""),IF(AND($AK9>0,LEN($I9)<$AK9),"Descrição abaixo do mínimo",""),IF(AND($AE9="Sim",$J9=""),"Marca ausente",""),IF(OR($K9="",NOT(ISNUMBER($K9)),$K9<=0),"Preço inválido",""),IF(AND(ISNUMBER($K9),$AM9<>"",$K9<$AM9),"Preço abaixo do mínimo",""),IF(AND(ISNUMBER($K9),$AN9<>"",$K9>$AN9),"Preço acima do máximo",""),IF(AND($AD9="Sim",$L9=""),"GTIN ausente",""),IF(AND($L9<>"",NOT(IFERROR(AND(LEN($L9)=13,ISNUMBER(VALUE($L9))),FALSE))),"GTIN inválido",""),IF(AND($AF9="Sim",$M9=""),"Cor ausente",""),IF(AND($AG9="Sim",$N9=""),"Tamanho/modelo ausente",""),IF(AND($AH9="Sim",OR(NOT(ISNUMBER($O9)),$O9<=0)),"Peso ausente ou inválido",""),IF(AND($AI9="Sim",OR(NOT(ISNUMBER($P9)),$P9<=0,NOT(ISNUMBER($Q9)),$Q9<=0,NOT(ISNUMBER($R9)),$R9<=0)),"Dimensões ausentes ou inválidas",""),IF($V9<$AJ9,"Mídias abaixo do mínimo",""))) | X9: =IF(OR($A9="",$B9=""),"",IF($C9<>"Sim","Não selecionado",IF($W9="","Pronto para publicar","Bloqueado"))) | Z9: =IF(OR($A9="",$B9=""),"",IF($C9<>"Sim","Fora do feed",IF($X9="Bloqueado","Bloqueado",IF($Y9="Publicar","Liberado para feed",IF($Y9="Manter rascunho","Mantido em rascunho","Aguardando decisão"))))) | AA9: =IF(OR($A9="",$B9=""),"",$A9&"|"&$B9) | AB9: =IF($B9="","",IFERROR(INDEX('Regras por canal'!$B$5:$B$9,MATCH($B9,'Regras por canal'!$A$5:$A$9,0)),"")) | AC9: =IF($B9="","",IFERROR(INDEX('Regras por canal'!$C$5:$C$9,MATCH($B9,'Regras por canal'!$A$5:$A$9,0)),"")) | AD9: =IF($B9="","",IFERROR(INDEX('Regras por canal'!$D$5:$D$9,MATCH($B9,'Regras por canal'!$A$5:$A$9,0)),"")) | AE9: =IF($B9="","",IFERROR(INDEX('Regras por canal'!$E$5:$E$9,MATCH($B9,'Regras por canal'!$A$5:$A$9,0)),"")) | AF9: =IF($B9="","",IFERROR(INDEX('Regras por canal'!$F$5:$F$9,MATCH($B9,'Regras por canal'!$A$5:$A$9,0)),"")) | AG9: =IF($B9="","",IFERROR(INDEX('Regras por canal'!$G$5:$G$9,MATCH($B9,'Regras por canal'!$A$5:$A$9,0)),"")) | AH9: =IF($B9="","",IFERROR(INDEX('Regras por canal'!$H$5:$H$9,MATCH($B9,'Regras por canal'!$A$5:$A$9,0)),"")) | AI9: =IF($B9="","",IFERROR(INDEX('Regras por canal'!$I$5:$I$9,MATCH($B9,'Regras por canal'!$A$5:$A$9,0)),"")) | AJ9: =IF($B9="","",IFERROR(INDEX('Regras por canal'!$J$5:$J$9,MATCH($B9,'Regras por canal'!$A$5:$A$9,0)),"")) | AK9: =IF($B9="","",IFERROR(INDEX('Regras por canal'!$K$5:$K$9,MATCH($B9,'Regras por canal'!$A$5:$A$9,0)),"")) | AL9: =IF($B9="","",IFERROR(INDEX('Regras por canal'!$L$5:$L$9,MATCH($B9,'Regras por canal'!$A$5:$A$9,0)),"")) | AM9: =IF($B9="","",IFERROR(INDEX('Regras por canal'!$M$5:$M$9,MATCH($B9,'Regras por canal'!$A$5:$A$9,0)),"")) | AN9: =IF($B9="","",IFERROR(INDEX('Regras por canal'!$N$5:$N$9,MATCH($B9,'Regras por canal'!$A$5:$A$9,0)),"")) | AO9: =IF($A9="","",IFERROR(INDEX('Catálogo fonte'!$Q$5:$Q$104,MATCH($A9,'Catálogo fonte'!$A$5:$A$104,0)),"")) | AP9: =IF($B9="","",IFERROR(INDEX('Regras por canal'!$Q$5:$Q$9,MATCH($B9,'Regras por canal'!$A$5:$A$9,0)),""))
A10: =IF(OR(INDEX('Catálogo fonte'!$A$5:$A$104,INT((ROW()-5)/5)+1)="",INDEX('Regras por canal'!$A$5:$A$9,MOD(ROW()-5,5)+1)=""),"",INDEX('Catálogo fonte'!$A$5:$A$104,INT((ROW()-5)/5)+1)) | B10: =IF($A10="","",INDEX('Regras por canal'!$A$5:$A$9,MOD(ROW()-5,5)+1)) | C10: Sim | G10: =IF(OR($A10="",$B10=""),"",IF($D10<>"",$D10,IFERROR(INDEX('Catálogo fonte'!$B$5:$B$104,MATCH($A10,'Catálogo fonte'!$A$5:$A$104,0)),""))) | H10: =IF(OR($A10="",$B10=""),"",IF($E10<>"",$E10,IFERROR(INDEX('Catálogo fonte'!$C$5:$C$104,MATCH($A10,'Catálogo fonte'!$A$5:$A$104,0)),""))) | I10: =IF(OR($A10="",$B10=""),"",IFERROR(INDEX('Catálogo fonte'!$E$5:$E$104,MATCH($A10,'Catálogo fonte'!$A$5:$A$104,0)),"")) | J10: =IF(OR($A10="",$B10=""),"",IFERROR(INDEX('Catálogo fonte'!$D$5:$D$104,MATCH($A10,'Catálogo fonte'!$A$5:$A$104,0)),"")) | K10: =IF(OR($A10="",$B10=""),"",IF($F10<>"",$F10,IFERROR(INDEX('Catálogo fonte'!$F$5:$F$104,MATCH($A10,'Catálogo fonte'!$A$5:$A$104,0)),""))) | L10: =IF(OR($A10="",$B10=""),"",IFERROR(INDEX('Catálogo fonte'!$G$5:$G$104,MATCH($A10,'Catálogo fonte'!$A$5:$A$104,0)),"")) | M10: =IF(OR($A10="",$B10=""),"",IFERROR(INDEX('Catálogo fonte'!$H$5:$H$104,MATCH($A10,'Catálogo fonte'!$A$5:$A$104,0)),"")) | N10: =IF(OR($A10="",$B10=""),"",IFERROR(INDEX('Catálogo fonte'!$I$5:$I$104,MATCH($A10,'Catálogo fonte'!$A$5:$A$104,0)),"")) | O10: =IF(OR($A10="",$B10=""),"",IFERROR(INDEX('Catálogo fonte'!$J$5:$J$104,MATCH($A10,'Catálogo fonte'!$A$5:$A$104,0)),"")) | P10: =IF(OR($A10="",$B10=""),"",IFERROR(INDEX('Catálogo fonte'!$K$5:$K$104,MATCH($A10,'Catálogo fonte'!$A$5:$A$104,0)),"")) | Q10: =IF(OR($A10="",$B10=""),"",IFERROR(INDEX('Catálogo fonte'!$L$5:$L$104,MATCH($A10,'Catálogo fonte'!$A$5:$A$104,0)),"")) | R10: =IF(OR($A10="",$B10=""),"",IFERROR(INDEX('Catálogo fonte'!$M$5:$M$104,MATCH($A10,'Catálogo fonte'!$A$5:$A$104,0)),"")) | S10: =IF(OR($A10="",$B10=""),"",IFERROR(INDEX('Catálogo fonte'!$N$5:$N$104,MATCH($A10,'Catálogo fonte'!$A$5:$A$104,0)),"")) | T10: =IF(OR($A10="",$B10=""),"",IFERROR(INDEX('Catálogo fonte'!$O$5:$O$104,MATCH($A10,'Catálogo fonte'!$A$5:$A$104,0)),"")) | U10: =IF(OR($A10="",$B10=""),"",IFERROR(INDEX('Catálogo fonte'!$P$5:$P$104,MATCH($A10,'Catálogo fonte'!$A$5:$A$104,0)),"")) | V10: =IF(OR($A10="",$B10=""),"",--($S10<>"")+--($T10<>"")+--($U10<>"")) | W10: =IF(OR($A10="",$B10="",$C10<>"Sim"),"",_xlfn.TEXTJOIN(" | ",TRUE,IF($AP10<>"Regra válida","Regra do canal inválida",""),IF(COUNTIF('Catálogo fonte'!$A$5:$A$104,$A10)>1,"SKU duplicado",""),IF($AO10<>"Sim","Produto inativo",""),IF($AB10<>"Sim","Canal inativo",""),IF($G10="","Título ausente",""),IF(AND($G10<>"",$AL10<>"",LEN($G10)>$AL10),"Título excede o limite",""),IF(AND($AC10="Sim",$H10=""),"Categoria ausente",""),IF(AND($AK10>0,LEN($I10)<$AK10),"Descrição abaixo do mínimo",""),IF(AND($AE10="Sim",$J10=""),"Marca ausente",""),IF(OR($K10="",NOT(ISNUMBER($K10)),$K10<=0),"Preço inválido",""),IF(AND(ISNUMBER($K10),$AM10<>"",$K10<$AM10),"Preço abaixo do mínimo",""),IF(AND(ISNUMBER($K10),$AN10<>"",$K10>$AN10),"Preço acima do máximo",""),IF(AND($AD10="Sim",$L10=""),"GTIN ausente",""),IF(AND($L10<>"",NOT(IFERROR(AND(LEN($L10)=13,ISNUMBER(VALUE($L10))),FALSE))),"GTIN inválido",""),IF(AND($AF10="Sim",$M10=""),"Cor ausente",""),IF(AND($AG10="Sim",$N10=""),"Tamanho/modelo ausente",""),IF(AND($AH10="Sim",OR(NOT(ISNUMBER($O10)),$O10<=0)),"Peso ausente ou inválido",""),IF(AND($AI10="Sim",OR(NOT(ISNUMBER($P10)),$P10<=0,NOT(ISNUMBER($Q10)),$Q10<=0,NOT(ISNUMBER($R10)),$R10<=0)),"Dimensões ausentes ou inválidas",""),IF($V10<$AJ10,"Mídias abaixo do mínimo",""))) | X10: =IF(OR($A10="",$B10=""),"",IF($C10<>"Sim","Não selecionado",IF($W10="","Pronto para publicar","Bloqueado"))) | Y10: Publicar | Z10: =IF(OR($A10="",$B10=""),"",IF($C10<>"Sim","Fora do feed",IF($X10="Bloqueado","Bloqueado",IF($Y10="Publicar","Liberado para feed",IF($Y10="Manter rascunho","Mantido em rascunho","Aguardando decisão"))))) | AA10: =IF(OR($A10="",$B10=""),"",$A10&"|"&$B10) | AB10: =IF($B10="","",IFERROR(INDEX('Regras por canal'!$B$5:$B$9,MATCH($B10,'Regras por canal'!$A$5:$A$9,0)),"")) | AC10: =IF($B10="","",IFERROR(INDEX('Regras por canal'!$C$5:$C$9,MATCH($B10,'Regras por canal'!$A$5:$A$9,0)),"")) | AD10: =IF($B10="","",IFERROR(INDEX('Regras por canal'!$D$5:$D$9,MATCH($B10,'Regras por canal'!$A$5:$A$9,0)),"")) | AE10: =IF($B10="","",IFERROR(INDEX('Regras por canal'!$E$5:$E$9,MATCH($B10,'Regras por canal'!$A$5:$A$9,0)),"")) | AF10: =IF($B10="","",IFERROR(INDEX('Regras por canal'!$F$5:$F$9,MATCH($B10,'Regras por canal'!$A$5:$A$9,0)),"")) | AG10: =IF($B10="","",IFERROR(INDEX('Regras por canal'!$G$5:$G$9,MATCH($B10,'Regras por canal'!$A$5:$A$9,0)),"")) | AH10: =IF($B10="","",IFERROR(INDEX('Regras por canal'!$H$5:$H$9,MATCH($B10,'Regras por canal'!$A$5:$A$9,0)),"")) | AI10: =IF($B10="","",IFERROR(INDEX('Regras por canal'!$I$5:$I$9,MATCH($B10,'Regras por canal'!$A$5:$A$9,0)),"")) | AJ10: =IF($B10="","",IFERROR(INDEX('Regras por canal'!$J$5:$J$9,MATCH($B10,'Regras por canal'!$A$5:$A$9,0)),"")) | AK10: =IF($B10="","",IFERROR(INDEX('Regras por canal'!$K$5:$K$9,MATCH($B10,'Regras por canal'!$A$5:$A$9,0)),"")) | AL10: =IF($B10="","",IFERROR(INDEX('Regras por canal'!$L$5:$L$9,MATCH($B10,'Regras por canal'!$A$5:$A$9,0)),"")) | AM10: =IF($B10="","",IFERROR(INDEX('Regras por canal'!$M$5:$M$9,MATCH($B10,'Regras por canal'!$A$5:$A$9,0)),"")) | AN10: =IF($B10="","",IFERROR(INDEX('Regras por canal'!$N$5:$N$9,MATCH($B10,'Regras por canal'!$A$5:$A$9,0)),"")) | AO10: =IF($A10="","",IFERROR(INDEX('Catálogo fonte'!$Q$5:$Q$104,MATCH($A10,'Catálogo fonte'!$A$5:$A$104,0)),"")) | AP10: =IF($B10="","",IFERROR(INDEX('Regras por canal'!$Q$5:$Q$9,MATCH($B10,'Regras por canal'!$A$5:$A$9,0)),""))
