Workbook

Sheet Resumo
A1: Painel — Catálogo multicanal
A2: Prontidão, bloqueios e liberações por produto e canal | I2: Data de referência | J2: 46271
A4: Produtos cadastrados | C4: Pares selecionados | E4: Prontos para publicar | G4: Bloqueados
A5: =COUNTIF('Catálogo fonte'!$A$5:$A$104,"<>") | C5: =COUNTIFS('Feed e prontidão'!$A$5:$A$504,"<>",'Feed e prontidão'!$B$5:$B$504,"<>",'Feed e prontidão'!$C$5:$C$504,"Sim") | E5: =COUNTIF('Feed e prontidão'!$X$5:$X$504,"Pronto para publicar") | G5: =COUNTIF('Feed e prontidão'!$X$5:$X$504,"Bloqueado")
A7: Liberados para feed | C7: Aguardando decisão | E7: Prontidão geral | G7: Itens de revisão
A8: =COUNTIF('Feed e prontidão'!$Z$5:$Z$504,"Liberado para feed") | C8: =COUNTIF('Feed e prontidão'!$Z$5:$Z$504,"Aguardando decisão") | E8: =IFERROR($E$5/$C$5,0) | G8: =SUM($E$21:$E$25)
A11: Canal | B11: Selecionados | C11: Prontos | D11: Bloqueados | E11: Liberados | F11: % de prontidão
A12: =IF('Regras por canal'!A5="","",'Regras por canal'!A5) | B12: =IF($A12="","",COUNTIFS('Feed e prontidão'!$B$5:$B$504,$A12,'Feed e prontidão'!$C$5:$C$504,"Sim")) | C12: =IF($A12="","",COUNTIFS('Feed e prontidão'!$B$5:$B$504,$A12,'Feed e prontidão'!$X$5:$X$504,"Pronto para publicar")) | D12: =IF($A12="","",COUNTIFS('Feed e prontidão'!$B$5:$B$504,$A12,'Feed e prontidão'!$X$5:$X$504,"Bloqueado")) | E12: =IF($A12="","",COUNTIFS('Feed e prontidão'!$B$5:$B$504,$A12,'Feed e prontidão'!$Z$5:$Z$504,"Liberado para feed")) | F12: =IF($A12="","",IFERROR($C12/$B12,0))
A13: =IF('Regras por canal'!A6="","",'Regras por canal'!A6) | B13: =IF($A13="","",COUNTIFS('Feed e prontidão'!$B$5:$B$504,$A13,'Feed e prontidão'!$C$5:$C$504,"Sim")) | C13: =IF($A13="","",COUNTIFS('Feed e prontidão'!$B$5:$B$504,$A13,'Feed e prontidão'!$X$5:$X$504,"Pronto para publicar")) | D13: =IF($A13="","",COUNTIFS('Feed e prontidão'!$B$5:$B$504,$A13,'Feed e prontidão'!$X$5:$X$504,"Bloqueado")) | E13: =IF($A13="","",COUNTIFS('Feed e prontidão'!$B$5:$B$504,$A13,'Feed e prontidão'!$Z$5:$Z$504,"Liberado para feed")) | F13: =IF($A13="","",IFERROR($C13/$B13,0))
A14: =IF('Regras por canal'!A7="","",'Regras por canal'!A7) | B14: =IF($A14="","",COUNTIFS('Feed e prontidão'!$B$5:$B$504,$A14,'Feed e prontidão'!$C$5:$C$504,"Sim")) | C14: =IF($A14="","",COUNTIFS('Feed e prontidão'!$B$5:$B$504,$A14,'Feed e prontidão'!$X$5:$X$504,"Pronto para publicar")) | D14: =IF($A14="","",COUNTIFS('Feed e prontidão'!$B$5:$B$504,$A14,'Feed e prontidão'!$X$5:$X$504,"Bloqueado")) | E14: =IF($A14="","",COUNTIFS('Feed e prontidão'!$B$5:$B$504,$A14,'Feed e prontidão'!$Z$5:$Z$504,"Liberado para feed")) | F14: =IF($A14="","",IFERROR($C14/$B14,0))
A15: =IF('Regras por canal'!A8="","",'Regras por canal'!A8) | B15: =IF($A15="","",COUNTIFS('Feed e prontidão'!$B$5:$B$504,$A15,'Feed e prontidão'!$C$5:$C$504,"Sim")) | C15: =IF($A15="","",COUNTIFS('Feed e prontidão'!$B$5:$B$504,$A15,'Feed e prontidão'!$X$5:$X$504,"Pronto para publicar")) | D15: =IF($A15="","",COUNTIFS('Feed e prontidão'!$B$5:$B$504,$A15,'Feed e prontidão'!$X$5:$X$504,"Bloqueado")) | E15: =IF($A15="","",COUNTIFS('Feed e prontidão'!$B$5:$B$504,$A15,'Feed e prontidão'!$Z$5:$Z$504,"Liberado para feed")) | F15: =IF($A15="","",IFERROR($C15/$B15,0))
A16: =IF('Regras por canal'!A9="","",'Regras por canal'!A9) | B16: =IF($A16="","",COUNTIFS('Feed e prontidão'!$B$5:$B$504,$A16,'Feed e prontidão'!$C$5:$C$504,"Sim")) | C16: =IF($A16="","",COUNTIFS('Feed e prontidão'!$B$5:$B$504,$A16,'Feed e prontidão'!$X$5:$X$504,"Pronto para publicar")) | D16: =IF($A16="","",COUNTIFS('Feed e prontidão'!$B$5:$B$504,$A16,'Feed e prontidão'!$X$5:$X$504,"Bloqueado")) | E16: =IF($A16="","",COUNTIFS('Feed e prontidão'!$B$5:$B$504,$A16,'Feed e prontidão'!$Z$5:$Z$504,"Liberado para feed")) | F16: =IF($A16="","",IFERROR($C16/$B16,0))
D20: Verificação | E20: Ocorrências
D21: Linhas da fonte para revisar | E21: =COUNTIF('Catálogo fonte'!$S$5:$S$104,"Revisar base")
D22: Regras para revisar | E22: =COUNTIF('Regras por canal'!$Q$5:$Q$9,"Revisar regra")
D23: Entradas órfãs no feed | E23: =SUMPRODUCT(--((('Feed e prontidão'!$A$5:$A$504="")+('Feed e prontidão'!$B$5:$B$504=""))>0),--((('Feed e prontidão'!$C$5:$C$504<>"")+('Feed e prontidão'!$D$5:$D$504<>"")+('Feed e prontidão'!$E$5:$E$504<>"")+('Feed e prontidão'!$F$5:$F$504<>"")+('Feed e prontidão'!$Y$5:$Y$504<>""))>0))
D24: Decisão informada sem seleção | E24: =COUNTIFS('Feed e prontidão'!$A$5:$A$504,"<>",'Feed e prontidão'!$B$5:$B$504,"<>",'Feed e prontidão'!$C$5:$C$504,"<>Sim",'Feed e prontidão'!$Y$5:$Y$504,"<>")
D25: Tentativas de publicar item bloqueado | E25: =COUNTIFS('Feed e prontidão'!$Y$5:$Y$504,"Publicar",'Feed e prontidão'!$X$5:$X$504,"Bloqueado")
A27: Motivo de bloqueio | B27: Ocorrências
A28: Mídias abaixo do mínimo | B28: =COUNTIF('Feed e prontidão'!$W$5:$W$504,"*"&$A28&"*")
A29: Descrição abaixo do mínimo | B29: =COUNTIF('Feed e prontidão'!$W$5:$W$504,"*"&$A29&"*")
A30: Marca ausente | B30: =COUNTIF('Feed e prontidão'!$W$5:$W$504,"*"&$A30&"*")
A31: Preço abaixo do mínimo | B31: =COUNTIF('Feed e prontidão'!$W$5:$W$504,"*"&$A31&"*")
A32: GTIN ausente | B32: =COUNTIF('Feed e prontidão'!$W$5:$W$504,"*"&$A32&"*")
A33: Peso ausente ou inválido | B33: =COUNTIF('Feed e prontidão'!$W$5:$W$504,"*"&$A33&"*")
A34: Dimensões ausentes ou inválidas | B34: =COUNTIF('Feed e prontidão'!$W$5:$W$504,"*"&$A34&"*")
A35: SKU duplicado | B35: =COUNTIF('Feed e prontidão'!$W$5:$W$504,"*"&$A35&"*")

Sheet Catálogo fonte
A1: Catálogo fonte para publicação
A2: Edite apenas os campos de entrada. Os ajustes exclusivos de cada canal devem ser feitos em “Feed e prontidão”.
A4: SKU | B4: Nome do produto | C4: Categoria padrão | D4: Marca | E4: Descrição completa | F4: Preço padrão | G4: GTIN — 13 dígitos | H4: Cor | I4: Tamanho/modelo | J4: Peso (kg) | K4: Largura (cm) | L4: Altura (cm) | M4: Comprimento (cm) | N4: Mídia principal | O4: Mídia adicional 1 | P4: Mídia adicional 2 | Q4: Produto ativo? | R4: Pendências da fonte | S4: Situação da fonte
A5: FIC-CAS-001 | B5: Organizador Modular Aurora | C5: Casa e organização | D5: Lume Fictícia | E5: Organizador modular com seis nichos, peças empilháveis e acabamento fosco para armários, estantes e bancadas. | F5: 79.9 | G5: 7900000000001 | H5: Areia | I5: Médio | J5: 1.2 | K5: 32 | L5: 18 | M5: 42 | N5: fic_cas_001_01.jpg | O5: fic_cas_001_02.jpg | P5: fic_cas_001_03.jpg | Q5: Sim | R5: =IF(COUNTA($A5:$Q5)=0,"",_xlfn.TEXTJOIN(" | ",TRUE,IF($A5="","SKU ausente",""),IF(AND($A5<>"",COUNTIF($A$5:$A$104,$A5)>1),"SKU duplicado",""),IF($B5="","Nome ausente",""),IF($F5="","Preço ausente",IF(OR(NOT(ISNUMBER($F5)),$F5<=0),"Preço inválido","")),IF(AND($G5<>"",NOT(IFERROR(AND(LEN($G5)=13,ISNUMBER(VALUE($G5))),FALSE))),"GTIN inválido",""),IF($Q5="","Definir produto ativo",""))) | S5: =IF(COUNTA($A5:$Q5)=0,"",IF($R5="","Base utilizável","Revisar base"))
A6: FIC-ESC-002 | B6: Suporte de Mesa Nimbo | C6: Escritório | D6: Nimbo Fictícia | E6: Suporte ajustável para notebook, com base ventilada, seis níveis de inclinação e apoios antiderrapantes. | F6: 129.9 | G6: 7900000000002 | H6: Grafite | I6: Único | J6: 0.85 | K6: 26 | L6: 4 | M6: 24 | N6: fic_esc_002_01.jpg | O6: fic_esc_002_02.jpg | Q6: Sim | R6: =IF(COUNTA($A6:$Q6)=0,"",_xlfn.TEXTJOIN(" | ",TRUE,IF($A6="","SKU ausente",""),IF(AND($A6<>"",COUNTIF($A$5:$A$104,$A6)>1),"SKU duplicado",""),IF($B6="","Nome ausente",""),IF($F6="","Preço ausente",IF(OR(NOT(ISNUMBER($F6)),$F6<=0),"Preço inválido","")),IF(AND($G6<>"",NOT(IFERROR(AND(LEN($G6)=13,ISNUMBER(VALUE($G6))),FALSE))),"GTIN inválido",""),IF($Q6="","Definir produto ativo",""))) | S6: =IF(COUNTA($A6:$Q6)=0,"",IF($R6="","Base utilizável","Revisar base"))
A7: FIC-BEM-003 | B7: Garrafa Térmica Brisa 750 ml | C7: Bem-estar | D7: Brisa Fictícia | E7: Garrafa térmica de 750 ml com parede dupla, tampa rosqueável e acabamento resistente para uso diário. | F7: 89.5 | G7: 7900000000003 | H7: Azul | I7: 750 ml | J7: 0.42 | K7: 8 | L7: 28 | M7: 8 | N7: fic_bem_003_01.jpg | O7: fic_bem_003_02.jpg | Q7: Sim | R7: =IF(COUNTA($A7:$Q7)=0,"",_xlfn.TEXTJOIN(" | ",TRUE,IF($A7="","SKU ausente",""),IF(AND($A7<>"",COUNTIF($A$5:$A$104,$A7)>1),"SKU duplicado",""),IF($B7="","Nome ausente",""),IF($F7="","Preço ausente",IF(OR(NOT(ISNUMBER($F7)),$F7<=0),"Preço inválido","")),IF(AND($G7<>"",NOT(IFERROR(AND(LEN($G7)=13,ISNUMBER(VALUE($G7))),FALSE))),"GTIN inválido",""),IF($Q7="","Definir produto ativo",""))) | S7: =IF(COUNTA($A7:$Q7)=0,"",IF($R7="","Base utilizável","Revisar base"))
A8: FIC-PET-004 | B8: Tapete Pet Trilha P | C8: Pet | D8: Pata Lunar Fictícia | E8: Tapete lavável para pets pequenos, com base antiderrapante. | F8: 49.9 | H8: Cinza | I8: P | J8: 0.55 | K8: 45 | L8: 2 | M8: 60 | N8: fic_pet_004_01.jpg | Q8: Sim | R8: =IF(COUNTA($A8:$Q8)=0,"",_xlfn.TEXTJOIN(" | ",TRUE,IF($A8="","SKU ausente",""),IF(AND($A8<>"",COUNTIF($A$5:$A$104,$A8)>1),"SKU duplicado",""),IF($B8="","Nome ausente",""),IF($F8="","Preço ausente",IF(OR(NOT(ISNUMBER($F8)),$F8<=0),"Preço inválido","")),IF(AND($G8<>"",NOT(IFERROR(AND(LEN($G8)=13,ISNUMBER(VALUE($G8))),FALSE))),"GTIN inválido",""),IF($Q8="","Definir produto ativo",""))) | S8: =IF(COUNTA($A8:$Q8)=0,"",IF($R8="","Base utilizável","Revisar base"))
A9: FIC-VIA-005 | B9: Nécessaire Dobra | C9: Viagem | E9: Nécessaire dobrável com três compartimentos, gancho interno e fechamento por zíper para organizar itens de viagem. | F9: 39.9 | G9: 7900000000005 | H9: Terracota | I9: Médio | N9: fic_via_005_01.jpg | O9: fic_via_005_02.jpg | Q9: Sim | R9: =IF(COUNTA($A9:$Q9)=0,"",_xlfn.TEXTJOIN(" | ",TRUE,IF($A9="","SKU ausente",""),IF(AND($A9<>"",COUNTIF($A$5:$A$104,$A9)>1),"SKU duplicado",""),IF($B9="","Nome ausente",""),IF($F9="","Preço ausente",IF(OR(NOT(ISNUMBER($F9)),$F9<=0),"Preço inválido","")),IF(AND($G9<>"",NOT(IFERROR(AND(LEN($G9)=13,ISNUMBER(VALUE($G9))),FALSE))),"GTIN inválido",""),IF($Q9="","Definir produto ativo",""))) | S9: =IF(COUNTA($A9:$Q9)=0,"",IF($R9="","Base utilizável","Revisar base"))
A10: FIC-CAS-006 | B10: Luminária de Leitura Orbe | C10: Casa e organização | D10: Orbe Fictícia | E10: Luminária de leitura com haste articulada, três intensidades de luz e base compacta para mesas e cabeceiras. | F10: 159.9 | G10: 7900000000006 | H10: Branco | I10: Bivolt | J10: 0.68 | K10: 16 | L10: 38 | M10: 16 | N10: fic_cas_006_01.jpg | Q10: Sim | R10: =IF(COUNTA($A10:$Q10)=0,"",_xlfn.TEXTJOIN(" | ",TRUE,IF($A10="","SKU ausente",""),IF(AND($A10<>"",COUNTIF($A$5:$A$104,$A10)>1),"SKU duplicado",""),IF($B10="","Nome ausente",""),IF($F10="","Preço ausente",IF(OR(NOT(ISNUMBER($F10)),$F10<=0),"Preço inválido","")),IF(AND($G10<>"",NOT(IFERROR(AND(LEN($G10)=13,ISNUMBER(VALUE($G10))),FALSE))),"GTIN inválido",""),IF($Q10="","Definir produto ativo",""))) | S10: =IF(COUNTA($A10:$Q10)=0,"",IF($R10="","Base utilizável","Revisar base"))
A11: FIC-ESC-007 | B11: Caderno Reutilizável Ciclo A5 | C11: Escritório | D11: Ciclo Fictícia | E11: Caderno reutilizável em formato A5, com folhas apagáveis, divisórias coloridas e espaço para anotações diárias. | F11: 69.9 | G11: 7900000000007 | H11: Verde | I11: A5 | J11: 0.35 | K11: 16 | L11: 2 | M11: 22 | N11: fic_esc_007_01.jpg | O11: fic_esc_007_02.jpg | P11: fic_esc_007_03.jpg | Q11: Sim | R11: =IF(COUNTA($A11:$Q11)=0,"",_xlfn.TEXTJOIN(" | ",TRUE,IF($A11="","SKU ausente",""),IF(AND($A11<>"",COUNTIF($A$5:$A$104,$A11)>1),"SKU duplicado",""),IF($B11="","Nome ausente",""),IF($F11="","Preço ausente",IF(OR(NOT(ISNUMBER($F11)),$F11<=0),"Preço inválido","")),IF(AND($G11<>"",NOT(IFERROR(AND(LEN($G11)=13,ISNUMBER(VALUE($G11))),FALSE))),"GTIN inválido",""),IF($Q11="","Definir produto ativo",""))) | S11: =IF(COUNTA($A11:$Q11)=0,"",IF($R11="","Base utilizável","Revisar base"))
A12: FIC-BEM-008 | B12: Faixa Elástica Movimento Leve | C12: Bem-estar | D12: Movimento Fictícia | E12: Faixa elástica de resistência leve, com textura antideslizante e estojo compacto para exercícios e alongamentos. | F12: 24.9 | H12: Lilás | I12: Leve | J12: 0.12 | K12: 8 | L12: 3 | M12: 15 | N12: fic_bem_008_01.jpg | O12: fic_bem_008_02.jpg | Q12: Sim | R12: =IF(COUNTA($A12:$Q12)=0,"",_xlfn.TEXTJOIN(" | ",TRUE,IF($A12="","SKU ausente",""),IF(AND($A12<>"",COUNTIF($A$5:$A$104,$A12)>1),"SKU duplicado",""),IF($B12="","Nome ausente",""),IF($F12="","Preço ausente",IF(OR(NOT(ISNUMBER($F12)),$F12<=0),"Preço inválido","")),IF(AND($G12<>"",NOT(IFERROR(AND(LEN($G12)=13,ISNUMBER(VALUE($G12))),FALSE))),"GTIN inválido",""),IF($Q12="","Definir produto ativo",""))) | S12: =IF(COUNTA($A12:$Q12)=0,"",IF($R12="","Base utilizável","Revisar base"))
A13: FIC-PET-009 | B13: Comedouro Elevado Lótus | C13: Pet | D13: Lótus Pet Fictícia | E13: Comedouro elevado com duas tigelas removíveis e base estável, desenvolvido para facilitar a rotina de alimentação. | F13: 139.9 | G13: 7900000000009 | H13: Natural | I13: M | J13: 1.1 | K13: 24 | L13: 14 | M13: 24 | N13: fic_pet_009_01.jpg | O13: fic_pet_009_02.jpg | Q13: Sim | R13: =IF(COUNTA($A13:$Q13)=0,"",_xlfn.TEXTJOIN(" | ",TRUE,IF($A13="","SKU ausente",""),IF(AND($A13<>"",COUNTIF($A$5:$A$104,$A13)>1),"SKU duplicado",""),IF($B13="","Nome ausente",""),IF($F13="","Preço ausente",IF(OR(NOT(ISNUMBER($F13)),$F13<=0),"Preço inválido","")),IF(AND($G13<>"",NOT(IFERROR(AND(LEN($G13)=13,ISNUMBER(VALUE($G13))),FALSE))),"GTIN inválido",""),IF($Q13="","Definir produto ativo",""))) | S13: =IF(COUNTA($A13:$Q13)=0,"",IF($R13="","Base utilizável","Revisar base"))
A14: FIC-VIA-010 | B14: Etiqueta de Bagagem Rota | C14: Viagem | D14: Rota Fictícia | E14: Etiqueta leve para identificar malas, com visor protegido e alça flexível. | F14: 8.9 | G14: 7900000000010 | H14: Laranja | I14: Único | J14: 0.04 | K14: 7 | L14: 0.5 | M14: 11 | N14: fic_via_010_01.jpg | Q14: Sim | R14: =IF(COUNTA($A14:$Q14)=0,"",_xlfn.TEXTJOIN(" | ",TRUE,IF($A14="","SKU ausente",""),IF(AND($A14<>"",COUNTIF($A$5:$A$104,$A14)>1),"SKU duplicado",""),IF($B14="","Nome ausente",""),IF($F14="","Preço ausente",IF(OR(NOT(ISNUMBER($F14)),$F14<=0),"Preço inválido","")),IF(AND($G14<>"",NOT(IFERROR(AND(LEN($G14)=13,ISNUMBER(VALUE($G14))),FALSE))),"GTIN inválido",""),IF($Q14="","Definir produto ativo",""))) | S14: =IF(COUNTA($A14:$Q14)=0,"",IF($R14="","Base utilizável","Revisar base"))
R15: =IF(COUNTA($A15:$Q15)=0,"",_xlfn.TEXTJOIN(" | ",TRUE,IF($A15="","SKU ausente",""),IF(AND($A15<>"",COUNTIF($A$5:$A$104,$A15)>1),"SKU duplicado",""),IF($B15="","Nome ausente",""),IF($F15="","Preço ausente",IF(OR(NOT(ISNUMBER($F15)),$F15<=0),"Preço inválido","")),IF(AND($G15<>"",NOT(IFERROR(AND(LEN($G15)=13,ISNUMBER(VALUE($G15))),FALSE))),"GTIN inválido",""),IF($Q15="","Definir produto ativo",""))) | S15: =IF(COUNTA($A15:$Q15)=0,"",IF($R15="","Base utilizável","Revisar base"))
R16: =IF(COUNTA($A16:$Q16)=0,"",_xlfn.TEXTJOIN(" | ",TRUE,IF($A16="","SKU ausente",""),IF(AND($A16<>"",COUNTIF($A$5:$A$104,$A16)>1),"SKU duplicado",""),IF($B16="","Nome ausente",""),IF($F16="","Preço ausente",IF(OR(NOT(ISNUMBER($F16)),$F16<=0),"Preço inválido","")),IF(AND($G16<>"",NOT(IFERROR(AND(LEN($G16)=13,ISNUMBER(VALUE($G16))),FALSE))),"GTIN inválido",""),IF($Q16="","Definir produto ativo",""))) | S16: =IF(COUNTA($A16:$Q16)=0,"",IF($R16="","Base utilizável","Revisar base"))
R17: =IF(COUNTA($A17:$Q17)=0,"",_xlfn.TEXTJOIN(" | ",TRUE,IF($A17="","SKU ausente",""),IF(AND($A17<>"",COUNTIF($A$5:$A$104,$A17)>1),"SKU duplicado",""),IF($B17="","Nome ausente",""),IF($F17="","Preço ausente",IF(OR(NOT(ISNUMBER($F17)),$F17<=0),"Preço inválido","")),IF(AND($G17<>"",NOT(IFERROR(AND(LEN($G17)=13,ISNUMBER(VALUE($G17))),FALSE))),"GTIN inválido",""),IF($Q17="","Definir produto ativo",""))) | S17: =IF(COUNTA($A17:$Q17)=0,"",IF($R17="","Base utilizável","Revisar base"))
R18: =IF(COUNTA($A18:$Q18)=0,"",_xlfn.TEXTJOIN(" | ",TRUE,IF($A18="","SKU ausente",""),IF(AND($A18<>"",COUNTIF($A$5:$A$104,$A18)>1),"SKU duplicado",""),IF($B18="","Nome ausente",""),IF($F18="","Preço ausente",IF(OR(NOT(ISNUMBER($F18)),$F18<=0),"Preço inválido","")),IF(AND($G18<>"",NOT(IFERROR(AND(LEN($G18)=13,ISNUMBER(VALUE($G18))),FALSE))),"GTIN inválido",""),IF($Q18="","Definir produto ativo",""))) | S18: =IF(COUNTA($A18:$Q18)=0,"",IF($R18="","Base utilizável","Revisar base"))
R19: =IF(COUNTA($A19:$Q19)=0,"",_xlfn.TEXTJOIN(" | ",TRUE,IF($A19="","SKU ausente",""),IF(AND($A19<>"",COUNTIF($A$5:$A$104,$A19)>1),"SKU duplicado",""),IF($B19="","Nome ausente",""),IF($F19="","Preço ausente",IF(OR(NOT(ISNUMBER($F19)),$F19<=0),"Preço inválido","")),IF(AND($G19<>"",NOT(IFERROR(AND(LEN($G19)=13,ISNUMBER(VALUE($G19))),FALSE))),"GTIN inválido",""),IF($Q19="","Definir produto ativo",""))) | S19: =IF(COUNTA($A19:$Q19)=0,"",IF($R19="","Base utilizável","Revisar base"))
R20: =IF(COUNTA($A20:$Q20)=0,"",_xlfn.TEXTJOIN(" | ",TRUE,IF($A20="","SKU ausente",""),IF(AND($A20<>"",COUNTIF($A$5:$A$104,$A20)>1),"SKU duplicado",""),IF($B20="","Nome ausente",""),IF($F20="","Preço ausente",IF(OR(NOT(ISNUMBER($F20)),$F20<=0),"Preço inválido","")),IF(AND($G20<>"",NOT(IFERROR(AND(LEN($G20)=13,ISNUMBER(VALUE($G20))),FALSE))),"GTIN inválido",""),IF($Q20="","Definir produto ativo",""))) | S20: =IF(COUNTA($A20:$Q20)=0,"",IF($R20="","Base utilizável","Revisar base"))
R21: =IF(COUNTA($A21:$Q21)=0,"",_xlfn.TEXTJOIN(" | ",TRUE,IF($A21="","SKU ausente",""),IF(AND($A21<>"",COUNTIF($A$5:$A$104,$A21)>1),"SKU duplicado",""),IF($B21="","Nome ausente",""),IF($F21="","Preço ausente",IF(OR(NOT(ISNUMBER($F21)),$F21<=0),"Preço inválido","")),IF(AND($G21<>"",NOT(IFERROR(AND(LEN($G21)=13,ISNUMBER(VALUE($G21))),FALSE))),"GTIN inválido",""),IF($Q21="","Definir produto ativo",""))) | S21: =IF(COUNTA($A21:$Q21)=0,"",IF($R21="","Base utilizável","Revisar base"))
R22: =IF(COUNTA($A22:$Q22)=0,"",_xlfn.TEXTJOIN(" | ",TRUE,IF($A22="","SKU ausente",""),IF(AND($A22<>"",COUNTIF($A$5:$A$104,$A22)>1),"SKU duplicado",""),IF($B22="","Nome ausente",""),IF($F22="","Preço ausente",IF(OR(NOT(ISNUMBER($F22)),$F22<=0),"Preço inválido","")),IF(AND($G22<>"",NOT(IFERROR(AND(LEN($G22)=13,ISNUMBER(VALUE($G22))),FALSE))),"GTIN inválido",""),IF($Q22="","Definir produto ativo",""))) | S22: =IF(COUNTA($A22:$Q22)=0,"",IF($R22="","Base utilizável","Revisar base"))
R23: =IF(COUNTA($A23:$Q23)=0,"",_xlfn.TEXTJOIN(" | ",TRUE,IF($A23="","SKU ausente",""),IF(AND($A23<>"",COUNTIF($A$5:$A$104,$A23)>1),"SKU duplicado",""),IF($B23="","Nome ausente",""),IF($F23="","Preço ausente",IF(OR(NOT(ISNUMBER($F23)),$F23<=0),"Preço inválido","")),IF(AND($G23<>"",NOT(IFERROR(AND(LEN($G23)=13,ISNUMBER(VALUE($G23))),FALSE))),"GTIN inválido",""),IF($Q23="","Definir produto ativo",""))) | S23: =IF(COUNTA($A23:$Q23)=0,"",IF($R23="","Base utilizável","Revisar base"))
R24: =IF(COUNTA($A24:$Q24)=0,"",_xlfn.TEXTJOIN(" | ",TRUE,IF($A24="","SKU ausente",""),IF(AND($A24<>"",COUNTIF($A$5:$A$104,$A24)>1),"SKU duplicado",""),IF($B24="","Nome ausente",""),IF($F24="","Preço ausente",IF(OR(NOT(ISNUMBER($F24)),$F24<=0),"Preço inválido","")),IF(AND($G24<>"",NOT(IFERROR(AND(LEN($G24)=13,ISNUMBER(VALUE($G24))),FALSE))),"GTIN inválido",""),IF($Q24="","Definir produto ativo",""))) | S24: =IF(COUNTA($A24:$Q24)=0,"",IF($R24="","Base utilizável","Revisar base"))
R25: =IF(COUNTA($A25:$Q25)=0,"",_xlfn.TEXTJOIN(" | ",TRUE,IF($A25="","SKU ausente",""),IF(AND($A25<>"",COUNTIF($A$5:$A$104,$A25)>1),"SKU duplicado",""),IF($B25="","Nome ausente",""),IF($F25="","Preço ausente",IF(OR(NOT(ISNUMBER($F25)),$F25<=0),"Preço inválido","")),IF(AND($G25<>"",NOT(IFERROR(AND(LEN($G25)=13,ISNUMBER(VALUE($G25))),FALSE))),"GTIN inválido",""),IF($Q25="","Definir produto ativo",""))) | S25: =IF(COUNTA($A25:$Q25)=0,"",IF($R25="","Base utilizável","Revisar base"))
R26: =IF(COUNTA($A26:$Q26)=0,"",_xlfn.TEXTJOIN(" | ",TRUE,IF($A26="","SKU ausente",""),IF(AND($A26<>"",COUNTIF($A$5:$A$104,$A26)>1),"SKU duplicado",""),IF($B26="","Nome ausente",""),IF($F26="","Preço ausente",IF(OR(NOT(ISNUMBER($F26)),$F26<=0),"Preço inválido","")),IF(AND($G26<>"",NOT(IFERROR(AND(LEN($G26)=13,ISNUMBER(VALUE($G26))),FALSE))),"GTIN inválido",""),IF($Q26="","Definir produto ativo",""))) | S26: =IF(COUNTA($A26:$Q26)=0,"",IF($R26="","Base utilizável","Revisar base"))
... R104: =IF(COUNTA($A104:$Q104)=0,"",_xlfn.TEXTJOIN(" | ",TRUE,IF($A104="","SKU ausente",""),IF(AND($A104<>"",COUNTIF($A$5:$A$104,$A104)>1),"SKU duplicado",""),IF($B104="","Nome ausente",""),IF($F104="","Preço ausente",IF(OR(NOT(ISNUMBER($F104)),$F104<=0),"Preço inválido","")),IF(AND($G104<>"",NOT(IFERROR(AND(LEN($G104)=13,ISNUMBER(VALUE($G104))),FALSE))),"GTIN inválido",""),IF($Q104="","Definir produto ativo",""))) | S104: =IF(COUNTA($A104:$Q104)=0,"",IF($R104="","Base utilizável","Revisar base"))

Sheet Regras por canal
A1: Regras de publicação por canal
A2: Os canais e limites deste modelo são fictícios e devem ser ajustados à operação.
A4: Canal | B4: Canal ativo? | C4: Exige categoria? | D4: Exige GTIN? | E4: Exige marca? | F4: Exige cor? | G4: Exige tamanho/modelo? | H4: Exige peso? | I4: Exige dimensões? | J4: Mínimo de mídias | K4: Mínimo de caracteres da descrição | L4: Máximo de caracteres do título | M4: Preço mínimo | N4: Preço máximo | O4: Observações | P4: Pendências da regra | Q4: Situação da regra
A5: Loja Horizonte — canal fictício | B5: Sim | C5: Sim | D5: Não | E5: Sim | F5: Não | G5: Não | H5: Sim | I5: Sim | J5: 1 | K5: 40 | L5: 90 | M5: 10 | N5: 5000 | P5: =IF(COUNTA($A5:$N5)=0,"",_xlfn.TEXTJOIN(" | ",TRUE,IF($A5="","Nome do canal ausente",""),IF(AND($A5<>"",COUNTIF($A$5:$A$9,$A5)>1),"Canal duplicado",""),IF(COUNTIF($B5:$I5,"Sim")+COUNTIF($B5:$I5,"Não")<>8,"Campos Sim/Não incompletos ou inválidos",""),IF(OR(NOT(ISNUMBER($J5)),$J5<0,$J5>3),"Mínimo de mídias inválido",""),IF(OR(NOT(ISNUMBER($K5)),$K5<0),"Mínimo de descrição inválido",""),IF(OR(NOT(ISNUMBER($L5)),$L5<1,$L5>200),"Limite de título inválido",""),IF(OR(NOT(ISNUMBER($M5)),$M5<0),"Preço mínimo inválido",""),IF(AND($N5<>"",OR(NOT(ISNUMBER($N5)),$N5<$M5)),"Preço máximo inválido",""))) | Q5: =IF(COUNTA($A5:$N5)=0,"",IF($P5="","Regra válida","Revisar regra"))
A6: Marketplace Aurora — canal fictício | B6: Sim | C6: Sim | D6: Sim | E6: Sim | F6: Sim | G6: Sim | H6: Sim | I6: Sim | J6: 2 | K6: 80 | L6: 60 | M6: 20 | N6: 3000 | P6: =IF(COUNTA($A6:$N6)=0,"",_xlfn.TEXTJOIN(" | ",TRUE,IF($A6="","Nome do canal ausente",""),IF(AND($A6<>"",COUNTIF($A$5:$A$9,$A6)>1),"Canal duplicado",""),IF(COUNTIF($B6:$I6,"Sim")+COUNTIF($B6:$I6,"Não")<>8,"Campos Sim/Não incompletos ou inválidos",""),IF(OR(NOT(ISNUMBER($J6)),$J6<0,$J6>3),"Mínimo de mídias inválido",""),IF(OR(NOT(ISNUMBER($K6)),$K6<0),"Mínimo de descrição inválido",""),IF(OR(NOT(ISNUMBER($L6)),$L6<1,$L6>200),"Limite de título inválido",""),IF(OR(NOT(ISNUMBER($M6)),$M6<0),"Preço mínimo inválido",""),IF(AND($N6<>"",OR(NOT(ISNUMBER($N6)),$N6<$M6)),"Preço máximo inválido",""))) | Q6: =IF(COUNTA($A6:$N6)=0,"",IF($P6="","Regra válida","Revisar regra"))
A7: Vitrine Ponto Azul — canal fictício | B7: Sim | C7: Sim | D7: Não | E7: Não | F7: Não | G7: Sim | H7: Não | I7: Não | J7: 1 | K7: 30 | L7: 70 | M7: 5 | P7: =IF(COUNTA($A7:$N7)=0,"",_xlfn.TEXTJOIN(" | ",TRUE,IF($A7="","Nome do canal ausente",""),IF(AND($A7<>"",COUNTIF($A$5:$A$9,$A7)>1),"Canal duplicado",""),IF(COUNTIF($B7:$I7,"Sim")+COUNTIF($B7:$I7,"Não")<>8,"Campos Sim/Não incompletos ou inválidos",""),IF(OR(NOT(ISNUMBER($J7)),$J7<0,$J7>3),"Mínimo de mídias inválido",""),IF(OR(NOT(ISNUMBER($K7)),$K7<0),"Mínimo de descrição inválido",""),IF(OR(NOT(ISNUMBER($L7)),$L7<1,$L7>200),"Limite de título inválido",""),IF(OR(NOT(ISNUMBER($M7)),$M7<0),"Preço mínimo inválido",""),IF(AND($N7<>"",OR(NOT(ISNUMBER($N7)),$N7<$M7)),"Preço máximo inválido",""))) | Q7: =IF(COUNTA($A7:$N7)=0,"",IF($P7="","Regra válida","Revisar regra"))
P8: =IF(COUNTA($A8:$N8)=0,"",_xlfn.TEXTJOIN(" | ",TRUE,IF($A8="","Nome do canal ausente",""),IF(AND($A8<>"",COUNTIF($A$5:$A$9,$A8)>1),"Canal duplicado",""),IF(COUNTIF($B8:$I8,"Sim")+COUNTIF($B8:$I8,"Não")<>8,"Campos Sim/Não incompletos ou inválidos",""),IF(OR(NOT(ISNUMBER($J8)),$J8<0,$J8>3),"Mínimo de mídias inválido",""),IF(OR(NOT(ISNUMBER($K8)),$K8<0),"Mínimo de descrição inválido",""),IF(OR(NOT(ISNUMBER($L8)),$L8<1,$L8>200),"Limite de título inválido",""),IF(OR(NOT(ISNUMBER($M8)),$M8<0),"Preço mínimo inválido",""),IF(AND($N8<>"",OR(NOT(ISNUMBER($N8)),$N8<$M8)),"Preço máximo inválido",""))) | Q8: =IF(COUNTA($A8:$N8)=0,"",IF($P8="","Regra válida","Revisar regra"))
P9: =IF(COUNTA($A9:$N9)=0,"",_xlfn.TEXTJOIN(" | ",TRUE,IF($A9="","Nome do canal ausente",""),IF(AND($A9<>"",COUNTIF($A$5:$A$9,$A9)>1),"Canal duplicado",""),IF(COUNTIF($B9:$I9,"Sim")+COUNTIF($B9:$I9,"Não")<>8,"Campos Sim/Não incompletos ou inválidos",""),IF(OR(NOT(ISNUMBER($J9)),$J9<0,$J9>3),"Mínimo de mídias inválido",""),IF(OR(NOT(ISNUMBER($K9)),$K9<0),"Mínimo de descrição inválido",""),IF(OR(NOT(ISNUMBER($L9)),$L9<1,$L9>200),"Limite de título inválido",""),IF(OR(NOT(ISNUMBER($M9)),$M9<0),"Preço mínimo inválido",""),IF(AND($N9<>"",OR(NOT(ISNUMBER($N9)),$N9<$M9)),"Preço máximo inválido",""))) | Q9: =IF(COUNTA($A9:$N9)=0,"",IF($P9="","Regra válida","Revisar regra"))

Sheet Feed e prontidão
A1: Feed e prontidão por produto e canal
A2: Filtre “Status de saída” por “Liberado para feed” para obter as linhas publicáveis.
A4: SKU | B4: Canal | C4: Incluir no canal? | D4: Título específico | E4: Categoria específica | F4: Preço específico | G4: Título do feed | H4: Categoria do feed | I4: Descrição do feed | J4: Marca | K4: Preço do feed | L4: GTIN | M4: Cor | N4: Tamanho/modelo | O4: Peso (kg) | P4: Largura (cm) | Q4: Altura (cm) | R4: Comprimento (cm) | S4: Mídia principal | T4: Mídia adicional 1 | U4: Mídia adicional 2 | V4: Quantidade de mídias | W4: Bloqueios de publicação | X4: Prontidão | Y4: Decisão operacional | Z4: Status de saída | AA4: Chave do feed | AB4: Canal ativo? | AC4: Exige categoria? | AD4: Exige GTIN? | AE4: Exige marca? | AF4: Exige cor? | AG4: Exige tamanho/modelo? | AH4: Exige peso? | AI4: Exige dimensões? | AJ4: Mínimo de mídias | AK4: Mínimo de descrição | AL4: Máximo de título | AM4: Preço mínimo | AN4: Preço máximo | AO4: Produto ativo? | AP4: Situação da regra
A5: =IF(OR(INDEX('Catálogo fonte'!$A$5:$A$104,INT((ROW()-5)/5)+1)="",INDEX('Regras por canal'!$A$5:$A$9,MOD(ROW()-5,5)+1)=""),"",INDEX('Catálogo fonte'!$A$5:$A$104,INT((ROW()-5)/5)+1)) | B5: =IF($A5="","",INDEX('Regras por canal'!$A$5:$A$9,MOD(ROW()-5,5)+1)) | C5: Sim | G5: =IF(OR($A5="",$B5=""),"",IF($D5<>"",$D5,IFERROR(INDEX('Catálogo fonte'!$B$5:$B$104,MATCH($A5,'Catálogo fonte'!$A$5:$A$104,0)),""))) | H5: =IF(OR($A5="",$B5=""),"",IF($E5<>"",$E5,IFERROR(INDEX('Catálogo fonte'!$C$5:$C$104,MATCH($A5,'Catálogo fonte'!$A$5:$A$104,0)),""))) | I5: =IF(OR($A5="",$B5=""),"",IFERROR(INDEX('Catálogo fonte'!$E$5:$E$104,MATCH($A5,'Catálogo fonte'!$A$5:$A$104,0)),"")) | J5: =IF(OR($A5="",$B5=""),"",IFERROR(INDEX('Catálogo fonte'!$D$5:$D$104,MATCH($A5,'Catálogo fonte'!$A$5:$A$104,0)),"")) | K5: =IF(OR($A5="",$B5=""),"",IF($F5<>"",$F5,IFERROR(INDEX('Catálogo fonte'!$F$5:$F$104,MATCH($A5,'Catálogo fonte'!$A$5:$A$104,0)),""))) | L5: =IF(OR($A5="",$B5=""),"",IFERROR(INDEX('Catálogo fonte'!$G$5:$G$104,MATCH($A5,'Catálogo fonte'!$A$5:$A$104,0)),"")) | M5: =IF(OR($A5="",$B5=""),"",IFERROR(INDEX('Catálogo fonte'!$H$5:$H$104,MATCH($A5,'Catálogo fonte'!$A$5:$A$104,0)),"")) | N5: =IF(OR($A5="",$B5=""),"",IFERROR(INDEX('Catálogo fonte'!$I$5:$I$104,MATCH($A5,'Catálogo fonte'!$A$5:$A$104,0)),"")) | O5: =IF(OR($A5="",$B5=""),"",IFERROR(INDEX('Catálogo fonte'!$J$5:$J$104,MATCH($A5,'Catálogo fonte'!$A$5:$A$104,0)),"")) | P5: =IF(OR($A5="",$B5=""),"",IFERROR(INDEX('Catálogo fonte'!$K$5:$K$104,MATCH($A5,'Catálogo fonte'!$A$5:$A$104,0)),"")) | Q5: =IF(OR($A5="",$B5=""),"",IFERROR(INDEX('Catálogo fonte'!$L$5:$L$104,MATCH($A5,'Catálogo fonte'!$A$5:$A$104,0)),"")) | R5: =IF(OR($A5="",$B5=""),"",IFERROR(INDEX('Catálogo fonte'!$M$5:$M$104,MATCH($A5,'Catálogo fonte'!$A$5:$A$104,0)),"")) | S5: =IF(OR($A5="",$B5=""),"",IFERROR(INDEX('Catálogo fonte'!$N$5:$N$104,MATCH($A5,'Catálogo fonte'!$A$5:$A$104,0)),"")) | T5: =IF(OR($A5="",$B5=""),"",IFERROR(INDEX('Catálogo fonte'!$O$5:$O$104,MATCH($A5,'Catálogo fonte'!$A$5:$A$104,0)),"")) | U5: =IF(OR($A5="",$B5=""),"",IFERROR(INDEX('Catálogo fonte'!$P$5:$P$104,MATCH($A5,'Catálogo fonte'!$A$5:$A$104,0)),"")) | V5: =IF(OR($A5="",$B5=""),"",--($S5<>"")+--($T5<>"")+--($U5<>"")) | W5: =IF(OR($A5="",$B5="",$C5<>"Sim"),"",_xlfn.TEXTJOIN(" | ",TRUE,IF($AP5<>"Regra válida","Regra do canal inválida",""),IF(COUNTIF('Catálogo fonte'!$A$5:$A$104,$A5)>1,"SKU duplicado",""),IF($AO5<>"Sim","Produto inativo",""),IF($AB5<>"Sim","Canal inativo",""),IF($G5="","Título ausente",""),IF(AND($G5<>"",$AL5<>"",LEN($G5)>$AL5),"Título excede o limite",""),IF(AND($AC5="Sim",$H5=""),"Categoria ausente",""),IF(AND($AK5>0,LEN($I5)<$AK5),"Descrição abaixo do mínimo",""),IF(AND($AE5="Sim",$J5=""),"Marca ausente",""),IF(OR($K5="",NOT(ISNUMBER($K5)),$K5<=0),"Preço inválido",""),IF(AND(ISNUMBER($K5),$AM5<>"",$K5<$AM5),"Preço abaixo do mínimo",""),IF(AND(ISNUMBER($K5),$AN5<>"",$K5>$AN5),"Preço acima do máximo",""),IF(AND($AD5="Sim",$L5=""),"GTIN ausente",""),IF(AND($L5<>"",NOT(IFERROR(AND(LEN($L5)=13,ISNUMBER(VALUE($L5))),FALSE))),"GTIN inválido",""),IF(AND($AF5="Sim",$M5=""),"Cor ausente",""),IF(AND($AG5="Sim",$N5=""),"Tamanho/modelo ausente",""),IF(AND($AH5="Sim",OR(NOT(ISNUMBER($O5)),$O5<=0)),"Peso ausente ou inválido",""),IF(AND($AI5="Sim",OR(NOT(ISNUMBER($P5)),$P5<=0,NOT(ISNUMBER($Q5)),$Q5<=0,NOT(ISNUMBER($R5)),$R5<=0)),"Dimensões ausentes ou inválidas",""),IF($V5<$AJ5,"Mídias abaixo do mínimo",""))) | X5: =IF(OR($A5="",$B5=""),"",IF($C5<>"Sim","Não selecionado",IF($W5="","Pronto para publicar","Bloqueado"))) | Y5: Publicar | Z5: =IF(OR($A5="",$B5=""),"",IF($C5<>"Sim","Fora do feed",IF($X5="Bloqueado","Bloqueado",IF($Y5="Publicar","Liberado para feed",IF($Y5="Manter rascunho","Mantido em rascunho","Aguardando decisão"))))) | AA5: =IF(OR($A5="",$B5=""),"",$A5&"|"&$B5) | AB5: =IF($B5="","",IFERROR(INDEX('Regras por canal'!$B$5:$B$9,MATCH($B5,'Regras por canal'!$A$5:$A$9,0)),"")) | AC5: =IF($B5="","",IFERROR(INDEX('Regras por canal'!$C$5:$C$9,MATCH($B5,'Regras por canal'!$A$5:$A$9,0)),"")) | AD5: =IF($B5="","",IFERROR(INDEX('Regras por canal'!$D$5:$D$9,MATCH($B5,'Regras por canal'!$A$5:$A$9,0)),"")) | AE5: =IF($B5="","",IFERROR(INDEX('Regras por canal'!$E$5:$E$9,MATCH($B5,'Regras por canal'!$A$5:$A$9,0)),"")) | AF5: =IF($B5="","",IFERROR(INDEX('Regras por canal'!$F$5:$F$9,MATCH($B5,'Regras por canal'!$A$5:$A$9,0)),"")) | AG5: =IF($B5="","",IFERROR(INDEX('Regras por canal'!$G$5:$G$9,MATCH($B5,'Regras por canal'!$A$5:$A$9,0)),"")) | AH5: =IF($B5="","",IFERROR(INDEX('Regras por canal'!$H$5:$H$9,MATCH($B5,'Regras por canal'!$A$5:$A$9,0)),"")) | AI5: =IF($B5="","",IFERROR(INDEX('Regras por canal'!$I$5:$I$9,MATCH($B5,'Regras por canal'!$A$5:$A$9,0)),"")) | AJ5: =IF($B5="","",IFERROR(INDEX('Regras por canal'!$J$5:$J$9,MATCH($B5,'Regras por canal'!$A$5:$A$9,0)),"")) | AK5: =IF($B5="","",IFERROR(INDEX('Regras por canal'!$K$5:$K$9,MATCH($B5,'Regras por canal'!$A$5:$A$9,0)),"")) | AL5: =IF($B5="","",IFERROR(INDEX('Regras por canal'!$L$5:$L$9,MATCH($B5,'Regras por canal'!$A$5:$A$9,0)),"")) | AM5: =IF($B5="","",IFERROR(INDEX('Regras por canal'!$M$5:$M$9,MATCH($B5,'Regras por canal'!$A$5:$A$9,0)),"")) | AN5: =IF($B5="","",IFERROR(INDEX('Regras por canal'!$N$5:$N$9,MATCH($B5,'Regras por canal'!$A$5:$A$9,0)),"")) | AO5: =IF($A5="","",IFERROR(INDEX('Catálogo fonte'!$Q$5:$Q$104,MATCH($A5,'Catálogo fonte'!$A$5:$A$104,0)),"")) | AP5: =IF($B5="","",IFERROR(INDEX('Regras por canal'!$Q$5:$Q$9,MATCH($B5,'Regras por canal'!$A$5:$A$9,0)),""))
A6: =IF(OR(INDEX('Catálogo fonte'!$A$5:$A$104,INT((ROW()-5)/5)+1)="",INDEX('Regras por canal'!$A$5:$A$9,MOD(ROW()-5,5)+1)=""),"",INDEX('Catálogo fonte'!$A$5:$A$104,INT((ROW()-5)/5)+1)) | B6: =IF($A6="","",INDEX('Regras por canal'!$A$5:$A$9,MOD(ROW()-5,5)+1)) | C6: Sim | D6: Organizador modular com 6 nichos | E6: Casa > Organização | F6: 84.9 | G6: =IF(OR($A6="",$B6=""),"",IF($D6<>"",$D6,IFERROR(INDEX('Catálogo fonte'!$B$5:$B$104,MATCH($A6,'Catálogo fonte'!$A$5:$A$104,0)),""))) | H6: =IF(OR($A6="",$B6=""),"",IF($E6<>"",$E6,IFERROR(INDEX('Catálogo fonte'!$C$5:$C$104,MATCH($A6,'Catálogo fonte'!$A$5:$A$104,0)),""))) | I6: =IF(OR($A6="",$B6=""),"",IFERROR(INDEX('Catálogo fonte'!$E$5:$E$104,MATCH($A6,'Catálogo fonte'!$A$5:$A$104,0)),"")) | J6: =IF(OR($A6="",$B6=""),"",IFERROR(INDEX('Catálogo fonte'!$D$5:$D$104,MATCH($A6,'Catálogo fonte'!$A$5:$A$104,0)),"")) | K6: =IF(OR($A6="",$B6=""),"",IF($F6<>"",$F6,IFERROR(INDEX('Catálogo fonte'!$F$5:$F$104,MATCH($A6,'Catálogo fonte'!$A$5:$A$104,0)),""))) | L6: =IF(OR($A6="",$B6=""),"",IFERROR(INDEX('Catálogo fonte'!$G$5:$G$104,MATCH($A6,'Catálogo fonte'!$A$5:$A$104,0)),"")) | M6: =IF(OR($A6="",$B6=""),"",IFERROR(INDEX('Catálogo fonte'!$H$5:$H$104,MATCH($A6,'Catálogo fonte'!$A$5:$A$104,0)),"")) | N6: =IF(OR($A6="",$B6=""),"",IFERROR(INDEX('Catálogo fonte'!$I$5:$I$104,MATCH($A6,'Catálogo fonte'!$A$5:$A$104,0)),"")) | O6: =IF(OR($A6="",$B6=""),"",IFERROR(INDEX('Catálogo fonte'!$J$5:$J$104,MATCH($A6,'Catálogo fonte'!$A$5:$A$104,0)),"")) | P6: =IF(OR($A6="",$B6=""),"",IFERROR(INDEX('Catálogo fonte'!$K$5:$K$104,MATCH($A6,'Catálogo fonte'!$A$5:$A$104,0)),"")) | Q6: =IF(OR($A6="",$B6=""),"",IFERROR(INDEX('Catálogo fonte'!$L$5:$L$104,MATCH($A6,'Catálogo fonte'!$A$5:$A$104,0)),"")) | R6: =IF(OR($A6="",$B6=""),"",IFERROR(INDEX('Catálogo fonte'!$M$5:$M$104,MATCH($A6,'Catálogo fonte'!$A$5:$A$104,0)),"")) | S6: =IF(OR($A6="",$B6=""),"",IFERROR(INDEX('Catálogo fonte'!$N$5:$N$104,MATCH($A6,'Catálogo fonte'!$A$5:$A$104,0)),"")) | T6: =IF(OR($A6="",$B6=""),"",IFERROR(INDEX('Catálogo fonte'!$O$5:$O$104,MATCH($A6,'Catálogo fonte'!$A$5:$A$104,0)),"")) | U6: =IF(OR($A6="",$B6=""),"",IFERROR(INDEX('Catálogo fonte'!$P$5:$P$104,MATCH($A6,'Catálogo fonte'!$A$5:$A$104,0)),"")) | V6: =IF(OR($A6="",$B6=""),"",--($S6<>"")+--($T6<>"")+--($U6<>"")) | W6: =IF(OR($A6="",$B6="",$C6<>"Sim"),"",_xlfn.TEXTJOIN(" | ",TRUE,IF($AP6<>"Regra válida","Regra do canal inválida",""),IF(COUNTIF('Catálogo fonte'!$A$5:$A$104,$A6)>1,"SKU duplicado",""),IF($AO6<>"Sim","Produto inativo",""),IF($AB6<>"Sim","Canal inativo",""),IF($G6="","Título ausente",""),IF(AND($G6<>"",$AL6<>"",LEN($G6)>$AL6),"Título excede o limite",""),IF(AND($AC6="Sim",$H6=""),"Categoria ausente",""),IF(AND($AK6>0,LEN($I6)<$AK6),"Descrição abaixo do mínimo",""),IF(AND($AE6="Sim",$J6=""),"Marca ausente",""),IF(OR($K6="",NOT(ISNUMBER($K6)),$K6<=0),"Preço inválido",""),IF(AND(ISNUMBER($K6),$AM6<>"",$K6<$AM6),"Preço abaixo do mínimo",""),IF(AND(ISNUMBER($K6),$AN6<>"",$K6>$AN6),"Preço acima do máximo",""),IF(AND($AD6="Sim",$L6=""),"GTIN ausente",""),IF(AND($L6<>"",NOT(IFERROR(AND(LEN($L6)=13,ISNUMBER(VALUE($L6))),FALSE))),"GTIN inválido",""),IF(AND($AF6="Sim",$M6=""),"Cor ausente",""),IF(AND($AG6="Sim",$N6=""),"Tamanho/modelo ausente",""),IF(AND($AH6="Sim",OR(NOT(ISNUMBER($O6)),$O6<=0)),"Peso ausente ou inválido",""),IF(AND($AI6="Sim",OR(NOT(ISNUMBER($P6)),$P6<=0,NOT(ISNUMBER($Q6)),$Q6<=0,NOT(ISNUMBER($R6)),$R6<=0)),"Dimensões ausentes ou inválidas",""),IF($V6<$AJ6,"Mídias abaixo do mínimo",""))) | X6: =IF(OR($A6="",$B6=""),"",IF($C6<>"Sim","Não selecionado",IF($W6="","Pronto para publicar","Bloqueado"))) | Y6: Publicar | Z6: =IF(OR($A6="",$B6=""),"",IF($C6<>"Sim","Fora do feed",IF($X6="Bloqueado","Bloqueado",IF($Y6="Publicar","Liberado para feed",IF($Y6="Manter rascunho","Mantido em rascunho","Aguardando decisão"))))) | AA6: =IF(OR($A6="",$B6=""),"",$A6&"|"&$B6) | AB6: =IF($B6="","",IFERROR(INDEX('Regras por canal'!$B$5:$B$9,MATCH($B6,'Regras por canal'!$A$5:$A$9,0)),"")) | AC6: =IF($B6="","",IFERROR(INDEX('Regras por canal'!$C$5:$C$9,MATCH($B6,'Regras por canal'!$A$5:$A$9,0)),"")) | AD6: =IF($B6="","",IFERROR(INDEX('Regras por canal'!$D$5:$D$9,MATCH($B6,'Regras por canal'!$A$5:$A$9,0)),"")) | AE6: =IF($B6="","",IFERROR(INDEX('Regras por canal'!$E$5:$E$9,MATCH($B6,'Regras por canal'!$A$5:$A$9,0)),"")) | AF6: =IF($B6="","",IFERROR(INDEX('Regras por canal'!$F$5:$F$9,MATCH($B6,'Regras por canal'!$A$5:$A$9,0)),"")) | AG6: =IF($B6="","",IFERROR(INDEX('Regras por canal'!$G$5:$G$9,MATCH($B6,'Regras por canal'!$A$5:$A$9,0)),"")) | AH6: =IF($B6="","",IFERROR(INDEX('Regras por canal'!$H$5:$H$9,MATCH($B6,'Regras por canal'!$A$5:$A$9,0)),"")) | AI6: =IF($B6="","",IFERROR(INDEX('Regras por canal'!$I$5:$I$9,MATCH($B6,'Regras por canal'!$A$5:$A$9,0)),"")) | AJ6: =IF($B6="","",IFERROR(INDEX('Regras por canal'!$J$5:$J$9,MATCH($B6,'Regras por canal'!$A$5:$A$9,0)),"")) | AK6: =IF($B6="","",IFERROR(INDEX('Regras por canal'!$K$5:$K$9,MATCH($B6,'Regras por canal'!$A$5:$A$9,0)),"")) | AL6: =IF($B6="","",IFERROR(INDEX('Regras por canal'!$L$5:$L$9,MATCH($B6,'Regras por canal'!$A$5:$A$9,0)),"")) | AM6: =IF($B6="","",IFERROR(INDEX('Regras por canal'!$M$5:$M$9,MATCH($B6,'Regras por canal'!$A$5:$A$9,0)),"")) | AN6: =IF($B6="","",IFERROR(INDEX('Regras por canal'!$N$5:$N$9,MATCH($B6,'Regras por canal'!$A$5:$A$9,0)),"")) | AO6: =IF($A6="","",IFERROR(INDEX('Catálogo fonte'!$Q$5:$Q$104,MATCH($A6,'Catálogo fonte'!$A$5:$A$104,0)),"")) | AP6: =IF($B6="","",IFERROR(INDEX('Regras por canal'!$Q$5:$Q$9,MATCH($B6,'Regras por canal'!$A$5:$A$9,0)),""))
A7: =IF(OR(INDEX('Catálogo fonte'!$A$5:$A$104,INT((ROW()-5)/5)+1)="",INDEX('Regras por canal'!$A$5:$A$9,MOD(ROW()-5,5)+1)=""),"",INDEX('Catálogo fonte'!$A$5:$A$104,INT((ROW()-5)/5)+1)) | B7: =IF($A7="","",INDEX('Regras por canal'!$A$5:$A$9,MOD(ROW()-5,5)+1)) | C7: Sim | G7: =IF(OR($A7="",$B7=""),"",IF($D7<>"",$D7,IFERROR(INDEX('Catálogo fonte'!$B$5:$B$104,MATCH($A7,'Catálogo fonte'!$A$5:$A$104,0)),""))) | H7: =IF(OR($A7="",$B7=""),"",IF($E7<>"",$E7,IFERROR(INDEX('Catálogo fonte'!$C$5:$C$104,MATCH($A7,'Catálogo fonte'!$A$5:$A$104,0)),""))) | I7: =IF(OR($A7="",$B7=""),"",IFERROR(INDEX('Catálogo fonte'!$E$5:$E$104,MATCH($A7,'Catálogo fonte'!$A$5:$A$104,0)),"")) | J7: =IF(OR($A7="",$B7=""),"",IFERROR(INDEX('Catálogo fonte'!$D$5:$D$104,MATCH($A7,'Catálogo fonte'!$A$5:$A$104,0)),"")) | K7: =IF(OR($A7="",$B7=""),"",IF($F7<>"",$F7,IFERROR(INDEX('Catálogo fonte'!$F$5:$F$104,MATCH($A7,'Catálogo fonte'!$A$5:$A$104,0)),""))) | L7: =IF(OR($A7="",$B7=""),"",IFERROR(INDEX('Catálogo fonte'!$G$5:$G$104,MATCH($A7,'Catálogo fonte'!$A$5:$A$104,0)),"")) | M7: =IF(OR($A7="",$B7=""),"",IFERROR(INDEX('Catálogo fonte'!$H$5:$H$104,MATCH($A7,'Catálogo fonte'!$A$5:$A$104,0)),"")) | N7: =IF(OR($A7="",$B7=""),"",IFERROR(INDEX('Catálogo fonte'!$I$5:$I$104,MATCH($A7,'Catálogo fonte'!$A$5:$A$104,0)),"")) | O7: =IF(OR($A7="",$B7=""),"",IFERROR(INDEX('Catálogo fonte'!$J$5:$J$104,MATCH($A7,'Catálogo fonte'!$A$5:$A$104,0)),"")) | P7: =IF(OR($A7="",$B7=""),"",IFERROR(INDEX('Catálogo fonte'!$K$5:$K$104,MATCH($A7,'Catálogo fonte'!$A$5:$A$104,0)),"")) | Q7: =IF(OR($A7="",$B7=""),"",IFERROR(INDEX('Catálogo fonte'!$L$5:$L$104,MATCH($A7,'Catálogo fonte'!$A$5:$A$104,0)),"")) | R7: =IF(OR($A7="",$B7=""),"",IFERROR(INDEX('Catálogo fonte'!$M$5:$M$104,MATCH($A7,'Catálogo fonte'!$A$5:$A$104,0)),"")) | S7: =IF(OR($A7="",$B7=""),"",IFERROR(INDEX('Catálogo fonte'!$N$5:$N$104,MATCH($A7,'Catálogo fonte'!$A$5:$A$104,0)),"")) | T7: =IF(OR($A7="",$B7=""),"",IFERROR(INDEX('Catálogo fonte'!$O$5:$O$104,MATCH($A7,'Catálogo fonte'!$A$5:$A$104,0)),"")) | U7: =IF(OR($A7="",$B7=""),"",IFERROR(INDEX('Catálogo fonte'!$P$5:$P$104,MATCH($A7,'Catálogo fonte'!$A$5:$A$104,0)),"")) | V7: =IF(OR($A7="",$B7=""),"",--($S7<>"")+--($T7<>"")+--($U7<>"")) | W7: =IF(OR($A7="",$B7="",$C7<>"Sim"),"",_xlfn.TEXTJOIN(" | ",TRUE,IF($AP7<>"Regra válida","Regra do canal inválida",""),IF(COUNTIF('Catálogo fonte'!$A$5:$A$104,$A7)>1,"SKU duplicado",""),IF($AO7<>"Sim","Produto inativo",""),IF($AB7<>"Sim","Canal inativo",""),IF($G7="","Título ausente",""),IF(AND($G7<>"",$AL7<>"",LEN($G7)>$AL7),"Título excede o limite",""),IF(AND($AC7="Sim",$H7=""),"Categoria ausente",""),IF(AND($AK7>0,LEN($I7)<$AK7),"Descrição abaixo do mínimo",""),IF(AND($AE7="Sim",$J7=""),"Marca ausente",""),IF(OR($K7="",NOT(ISNUMBER($K7)),$K7<=0),"Preço inválido",""),IF(AND(ISNUMBER($K7),$AM7<>"",$K7<$AM7),"Preço abaixo do mínimo",""),IF(AND(ISNUMBER($K7),$AN7<>"",$K7>$AN7),"Preço acima do máximo",""),IF(AND($AD7="Sim",$L7=""),"GTIN ausente",""),IF(AND($L7<>"",NOT(IFERROR(AND(LEN($L7)=13,ISNUMBER(VALUE($L7))),FALSE))),"GTIN inválido",""),IF(AND($AF7="Sim",$M7=""),"Cor ausente",""),IF(AND($AG7="Sim",$N7=""),"Tamanho/modelo ausente",""),IF(AND($AH7="Sim",OR(NOT(ISNUMBER($O7)),$O7<=0)),"Peso ausente ou inválido",""),IF(AND($AI7="Sim",OR(NOT(ISNUMBER($P7)),$P7<=0,NOT(ISNUMBER($Q7)),$Q7<=0,NOT(ISNUMBER($R7)),$R7<=0)),"Dimensões ausentes ou inválidas",""),IF($V7<$AJ7,"Mídias abaixo do mínimo",""))) | X7: =IF(OR($A7="",$B7=""),"",IF($C7<>"Sim","Não selecionado",IF($W7="","Pronto para publicar","Bloqueado"))) | Y7: Publicar | Z7: =IF(OR($A7="",$B7=""),"",IF($C7<>"Sim","Fora do feed",IF($X7="Bloqueado","Bloqueado",IF($Y7="Publicar","Liberado para feed",IF($Y7="Manter rascunho","Mantido em rascunho","Aguardando decisão"))))) | AA7: =IF(OR($A7="",$B7=""),"",$A7&"|"&$B7) | AB7: =IF($B7="","",IFERROR(INDEX('Regras por canal'!$B$5:$B$9,MATCH($B7,'Regras por canal'!$A$5:$A$9,0)),"")) | AC7: =IF($B7="","",IFERROR(INDEX('Regras por canal'!$C$5:$C$9,MATCH($B7,'Regras por canal'!$A$5:$A$9,0)),"")) | AD7: =IF($B7="","",IFERROR(INDEX('Regras por canal'!$D$5:$D$9,MATCH($B7,'Regras por canal'!$A$5:$A$9,0)),"")) | AE7: =IF($B7="","",IFERROR(INDEX('Regras por canal'!$E$5:$E$9,MATCH($B7,'Regras por canal'!$A$5:$A$9,0)),"")) | AF7: =IF($B7="","",IFERROR(INDEX('Regras por canal'!$F$5:$F$9,MATCH($B7,'Regras por canal'!$A$5:$A$9,0)),"")) | AG7: =IF($B7="","",IFERROR(INDEX('Regras por canal'!$G$5:$G$9,MATCH($B7,'Regras por canal'!$A$5:$A$9,0)),"")) | AH7: =IF($B7="","",IFERROR(INDEX('Regras por canal'!$H$5:$H$9,MATCH($B7,'Regras por canal'!$A$5:$A$9,0)),"")) | AI7: =IF($B7="","",IFERROR(INDEX('Regras por canal'!$I$5:$I$9,MATCH($B7,'Regras por canal'!$A$5:$A$9,0)),"")) | AJ7: =IF($B7="","",IFERROR(INDEX('Regras por canal'!$J$5:$J$9,MATCH($B7,'Regras por canal'!$A$5:$A$9,0)),"")) | AK7: =IF($B7="","",IFERROR(INDEX('Regras por canal'!$K$5:$K$9,MATCH($B7,'Regras por canal'!$A$5:$A$9,0)),"")) | AL7: =IF($B7="","",IFERROR(INDEX('Regras por canal'!$L$5:$L$9,MATCH($B7,'Regras por canal'!$A$5:$A$9,0)),"")) | AM7: =IF($B7="","",IFERROR(INDEX('Regras por canal'!$M$5:$M$9,MATCH($B7,'Regras por canal'!$A$5:$A$9,0)),"")) | AN7: =IF($B7="","",IFERROR(INDEX('Regras por canal'!$N$5:$N$9,MATCH($B7,'Regras por canal'!$A$5:$A$9,0)),"")) | AO7: =IF($A7="","",IFERROR(INDEX('Catálogo fonte'!$Q$5:$Q$104,MATCH($A7,'Catálogo fonte'!$A$5:$A$104,0)),"")) | AP7: =IF($B7="","",IFERROR(INDEX('Regras por canal'!$Q$5:$Q$9,MATCH($B7,'Regras por canal'!$A$5:$A$9,0)),""))
A8: =IF(OR(INDEX('Catálogo fonte'!$A$5:$A$104,INT((ROW()-5)/5)+1)="",INDEX('Regras por canal'!$A$5:$A$9,MOD(ROW()-5,5)+1)=""),"",INDEX('Catálogo fonte'!$A$5:$A$104,INT((ROW()-5)/5)+1)) | B8: =IF($A8="","",INDEX('Regras por canal'!$A$5:$A$9,MOD(ROW()-5,5)+1)) | G8: =IF(OR($A8="",$B8=""),"",IF($D8<>"",$D8,IFERROR(INDEX('Catálogo fonte'!$B$5:$B$104,MATCH($A8,'Catálogo fonte'!$A$5:$A$104,0)),""))) | H8: =IF(OR($A8="",$B8=""),"",IF($E8<>"",$E8,IFERROR(INDEX('Catálogo fonte'!$C$5:$C$104,MATCH($A8,'Catálogo fonte'!$A$5:$A$104,0)),""))) | I8: =IF(OR($A8="",$B8=""),"",IFERROR(INDEX('Catálogo fonte'!$E$5:$E$104,MATCH($A8,'Catálogo fonte'!$A$5:$A$104,0)),"")) | J8: =IF(OR($A8="",$B8=""),"",IFERROR(INDEX('Catálogo fonte'!$D$5:$D$104,MATCH($A8,'Catálogo fonte'!$A$5:$A$104,0)),"")) | K8: =IF(OR($A8="",$B8=""),"",IF($F8<>"",$F8,IFERROR(INDEX('Catálogo fonte'!$F$5:$F$104,MATCH($A8,'Catálogo fonte'!$A$5:$A$104,0)),""))) | L8: =IF(OR($A8="",$B8=""),"",IFERROR(INDEX('Catálogo fonte'!$G$5:$G$104,MATCH($A8,'Catálogo fonte'!$A$5:$A$104,0)),"")) | M8: =IF(OR($A8="",$B8=""),"",IFERROR(INDEX('Catálogo fonte'!$H$5:$H$104,MATCH($A8,'Catálogo fonte'!$A$5:$A$104,0)),"")) | N8: =IF(OR($A8="",$B8=""),"",IFERROR(INDEX('Catálogo fonte'!$I$5:$I$104,MATCH($A8,'Catálogo fonte'!$A$5:$A$104,0)),"")) | O8: =IF(OR($A8="",$B8=""),"",IFERROR(INDEX('Catálogo fonte'!$J$5:$J$104,MATCH($A8,'Catálogo fonte'!$A$5:$A$104,0)),"")) | P8: =IF(OR($A8="",$B8=""),"",IFERROR(INDEX('Catálogo fonte'!$K$5:$K$104,MATCH($A8,'Catálogo fonte'!$A$5:$A$104,0)),"")) | Q8: =IF(OR($A8="",$B8=""),"",IFERROR(INDEX('Catálogo fonte'!$L$5:$L$104,MATCH($A8,'Catálogo fonte'!$A$5:$A$104,0)),"")) | R8: =IF(OR($A8="",$B8=""),"",IFERROR(INDEX('Catálogo fonte'!$M$5:$M$104,MATCH($A8,'Catálogo fonte'!$A$5:$A$104,0)),"")) | S8: =IF(OR($A8="",$B8=""),"",IFERROR(INDEX('Catálogo fonte'!$N$5:$N$104,MATCH($A8,'Catálogo fonte'!$A$5:$A$104,0)),"")) | T8: =IF(OR($A8="",$B8=""),"",IFERROR(INDEX('Catálogo fonte'!$O$5:$O$104,MATCH($A8,'Catálogo fonte'!$A$5:$A$104,0)),"")) | U8: =IF(OR($A8="",$B8=""),"",IFERROR(INDEX('Catálogo fonte'!$P$5:$P$104,MATCH($A8,'Catálogo fonte'!$A$5:$A$104,0)),"")) | V8: =IF(OR($A8="",$B8=""),"",--($S8<>"")+--($T8<>"")+--($U8<>"")) | W8: =IF(OR($A8="",$B8="",$C8<>"Sim"),"",_xlfn.TEXTJOIN(" | ",TRUE,IF($AP8<>"Regra válida","Regra do canal inválida",""),IF(COUNTIF('Catálogo fonte'!$A$5:$A$104,$A8)>1,"SKU duplicado",""),IF($AO8<>"Sim","Produto inativo",""),IF($AB8<>"Sim","Canal inativo",""),IF($G8="","Título ausente",""),IF(AND($G8<>"",$AL8<>"",LEN($G8)>$AL8),"Título excede o limite",""),IF(AND($AC8="Sim",$H8=""),"Categoria ausente",""),IF(AND($AK8>0,LEN($I8)<$AK8),"Descrição abaixo do mínimo",""),IF(AND($AE8="Sim",$J8=""),"Marca ausente",""),IF(OR($K8="",NOT(ISNUMBER($K8)),$K8<=0),"Preço inválido",""),IF(AND(ISNUMBER($K8),$AM8<>"",$K8<$AM8),"Preço abaixo do mínimo",""),IF(AND(ISNUMBER($K8),$AN8<>"",$K8>$AN8),"Preço acima do máximo",""),IF(AND($AD8="Sim",$L8=""),"GTIN ausente",""),IF(AND($L8<>"",NOT(IFERROR(AND(LEN($L8)=13,ISNUMBER(VALUE($L8))),FALSE))),"GTIN inválido",""),IF(AND($AF8="Sim",$M8=""),"Cor ausente",""),IF(AND($AG8="Sim",$N8=""),"Tamanho/modelo ausente",""),IF(AND($AH8="Sim",OR(NOT(ISNUMBER($O8)),$O8<=0)),"Peso ausente ou inválido",""),IF(AND($AI8="Sim",OR(NOT(ISNUMBER($P8)),$P8<=0,NOT(ISNUMBER($Q8)),$Q8<=0,NOT(ISNUMBER($R8)),$R8<=0)),"Dimensões ausentes ou inválidas",""),IF($V8<$AJ8,"Mídias abaixo do mínimo",""))) | X8: =IF(OR($A8="",$B8=""),"",IF($C8<>"Sim","Não selecionado",IF($W8="","Pronto para publicar","Bloqueado"))) | Z8: =IF(OR($A8="",$B8=""),"",IF($C8<>"Sim","Fora do feed",IF($X8="Bloqueado","Bloqueado",IF($Y8="Publicar","Liberado para feed",IF($Y8="Manter rascunho","Mantido em rascunho","Aguardando decisão"))))) | AA8: =IF(OR($A8="",$B8=""),"",$A8&"|"&$B8) | AB8: =IF($B8="","",IFERROR(INDEX('Regras por canal'!$B$5:$B$9,MATCH($B8,'Regras por canal'!$A$5:$A$9,0)),"")) | AC8: =IF($B8="","",IFERROR(INDEX('Regras por canal'!$C$5:$C$9,MATCH($B8,'Regras por canal'!$A$5:$A$9,0)),"")) | AD8: =IF($B8="","",IFERROR(INDEX('Regras por canal'!$D$5:$D$9,MATCH($B8,'Regras por canal'!$A$5:$A$9,0)),"")) | AE8: =IF($B8="","",IFERROR(INDEX('Regras por canal'!$E$5:$E$9,MATCH($B8,'Regras por canal'!$A$5:$A$9,0)),"")) | AF8: =IF($B8="","",IFERROR(INDEX('Regras por canal'!$F$5:$F$9,MATCH($B8,'Regras por canal'!$A$5:$A$9,0)),"")) | AG8: =IF($B8="","",IFERROR(INDEX('Regras por canal'!$G$5:$G$9,MATCH($B8,'Regras por canal'!$A$5:$A$9,0)),"")) | AH8: =IF($B8="","",IFERROR(INDEX('Regras por canal'!$H$5:$H$9,MATCH($B8,'Regras por canal'!$A$5:$A$9,0)),"")) | AI8: =IF($B8="","",IFERROR(INDEX('Regras por canal'!$I$5:$I$9,MATCH($B8,'Regras por canal'!$A$5:$A$9,0)),"")) | AJ8: =IF($B8="","",IFERROR(INDEX('Regras por canal'!$J$5:$J$9,MATCH($B8,'Regras por canal'!$A$5:$A$9,0)),"")) | AK8: =IF($B8="","",IFERROR(INDEX('Regras por canal'!$K$5:$K$9,MATCH($B8,'Regras por canal'!$A$5:$A$9,0)),"")) | AL8: =IF($B8="","",IFERROR(INDEX('Regras por canal'!$L$5:$L$9,MATCH($B8,'Regras por canal'!$A$5:$A$9,0)),"")) | AM8: =IF($B8="","",IFERROR(INDEX('Regras por canal'!$M$5:$M$9,MATCH($B8,'Regras por canal'!$A$5:$A$9,0)),"")) | AN8: =IF($B8="","",IFERROR(INDEX('Regras por canal'!$N$5:$N$9,MATCH($B8,'Regras por canal'!$A$5:$A$9,0)),"")) | AO8: =IF($A8="","",IFERROR(INDEX('Catálogo fonte'!$Q$5:$Q$104,MATCH($A8,'Catálogo fonte'!$A$5:$A$104,0)),"")) | AP8: =IF($B8="","",IFERROR(INDEX('Regras por canal'!$Q$5:$Q$9,MATCH($B8,'Regras por canal'!$A$5:$A$9,0)),""))
A9: =IF(OR(INDEX('Catálogo fonte'!$A$5:$A$104,INT((ROW()-5)/5)+1)="",INDEX('Regras por canal'!$A$5:$A$9,MOD(ROW()-5,5)+1)=""),"",INDEX('Catálogo fonte'!$A$5:$A$104,INT((ROW()-5)/5)+1)) | B9: =IF($A9="","",INDEX('Regras por canal'!$A$5:$A$9,MOD(ROW()-5,5)+1)) | G9: =IF(OR($A9="",$B9=""),"",IF($D9<>"",$D9,IFERROR(INDEX('Catálogo fonte'!$B$5:$B$104,MATCH($A9,'Catálogo fonte'!$A$5:$A$104,0)),""))) | H9: =IF(OR($A9="",$B9=""),"",IF($E9<>"",$E9,IFERROR(INDEX('Catálogo fonte'!$C$5:$C$104,MATCH($A9,'Catálogo fonte'!$A$5:$A$104,0)),""))) | I9: =IF(OR($A9="",$B9=""),"",IFERROR(INDEX('Catálogo fonte'!$E$5:$E$104,MATCH($A9,'Catálogo fonte'!$A$5:$A$104,0)),"")) | J9: =IF(OR($A9="",$B9=""),"",IFERROR(INDEX('Catálogo fonte'!$D$5:$D$104,MATCH($A9,'Catálogo fonte'!$A$5:$A$104,0)),"")) | K9: =IF(OR($A9="",$B9=""),"",IF($F9<>"",$F9,IFERROR(INDEX('Catálogo fonte'!$F$5:$F$104,MATCH($A9,'Catálogo fonte'!$A$5:$A$104,0)),""))) | L9: =IF(OR($A9="",$B9=""),"",IFERROR(INDEX('Catálogo fonte'!$G$5:$G$104,MATCH($A9,'Catálogo fonte'!$A$5:$A$104,0)),"")) | M9: =IF(OR($A9="",$B9=""),"",IFERROR(INDEX('Catálogo fonte'!$H$5:$H$104,MATCH($A9,'Catálogo fonte'!$A$5:$A$104,0)),"")) | N9: =IF(OR($A9="",$B9=""),"",IFERROR(INDEX('Catálogo fonte'!$I$5:$I$104,MATCH($A9,'Catálogo fonte'!$A$5:$A$104,0)),"")) | O9: =IF(OR($A9="",$B9=""),"",IFERROR(INDEX('Catálogo fonte'!$J$5:$J$104,MATCH($A9,'Catálogo fonte'!$A$5:$A$104,0)),"")) | P9: =IF(OR($A9="",$B9=""),"",IFERROR(INDEX('Catálogo fonte'!$K$5:$K$104,MATCH($A9,'Catálogo fonte'!$A$5:$A$104,0)),"")) | Q9: =IF(OR($A9="",$B9=""),"",IFERROR(INDEX('Catálogo fonte'!$L$5:$L$104,MATCH($A9,'Catálogo fonte'!$A$5:$A$104,0)),"")) | R9: =IF(OR($A9="",$B9=""),"",IFERROR(INDEX('Catálogo fonte'!$M$5:$M$104,MATCH($A9,'Catálogo fonte'!$A$5:$A$104,0)),"")) | S9: =IF(OR($A9="",$B9=""),"",IFERROR(INDEX('Catálogo fonte'!$N$5:$N$104,MATCH($A9,'Catálogo fonte'!$A$5:$A$104,0)),"")) | T9: =IF(OR($A9="",$B9=""),"",IFERROR(INDEX('Catálogo fonte'!$O$5:$O$104,MATCH($A9,'Catálogo fonte'!$A$5:$A$104,0)),"")) | U9: =IF(OR($A9="",$B9=""),"",IFERROR(INDEX('Catálogo fonte'!$P$5:$P$104,MATCH($A9,'Catálogo fonte'!$A$5:$A$104,0)),"")) | V9: =IF(OR($A9="",$B9=""),"",--($S9<>"")+--($T9<>"")+--($U9<>"")) | W9: =IF(OR($A9="",$B9="",$C9<>"Sim"),"",_xlfn.TEXTJOIN(" | ",TRUE,IF($AP9<>"Regra válida","Regra do canal inválida",""),IF(COUNTIF('Catálogo fonte'!$A$5:$A$104,$A9)>1,"SKU duplicado",""),IF($AO9<>"Sim","Produto inativo",""),IF($AB9<>"Sim","Canal inativo",""),IF($G9="","Título ausente",""),IF(AND($G9<>"",$AL9<>"",LEN($G9)>$AL9),"Título excede o limite",""),IF(AND($AC9="Sim",$H9=""),"Categoria ausente",""),IF(AND($AK9>0,LEN($I9)<$AK9),"Descrição abaixo do mínimo",""),IF(AND($AE9="Sim",$J9=""),"Marca ausente",""),IF(OR($K9="",NOT(ISNUMBER($K9)),$K9<=0),"Preço inválido",""),IF(AND(ISNUMBER($K9),$AM9<>"",$K9<$AM9),"Preço abaixo do mínimo",""),IF(AND(ISNUMBER($K9),$AN9<>"",$K9>$AN9),"Preço acima do máximo",""),IF(AND($AD9="Sim",$L9=""),"GTIN ausente",""),IF(AND($L9<>"",NOT(IFERROR(AND(LEN($L9)=13,ISNUMBER(VALUE($L9))),FALSE))),"GTIN inválido",""),IF(AND($AF9="Sim",$M9=""),"Cor ausente",""),IF(AND($AG9="Sim",$N9=""),"Tamanho/modelo ausente",""),IF(AND($AH9="Sim",OR(NOT(ISNUMBER($O9)),$O9<=0)),"Peso ausente ou inválido",""),IF(AND($AI9="Sim",OR(NOT(ISNUMBER($P9)),$P9<=0,NOT(ISNUMBER($Q9)),$Q9<=0,NOT(ISNUMBER($R9)),$R9<=0)),"Dimensões ausentes ou inválidas",""),IF($V9<$AJ9,"Mídias abaixo do mínimo",""))) | X9: =IF(OR($A9="",$B9=""),"",IF($C9<>"Sim","Não selecionado",IF($W9="","Pronto para publicar","Bloqueado"))) | Z9: =IF(OR($A9="",$B9=""),"",IF($C9<>"Sim","Fora do feed",IF($X9="Bloqueado","Bloqueado",IF($Y9="Publicar","Liberado para feed",IF($Y9="Manter rascunho","Mantido em rascunho","Aguardando decisão"))))) | AA9: =IF(OR($A9="",$B9=""),"",$A9&"|"&$B9) | AB9: =IF($B9="","",IFERROR(INDEX('Regras por canal'!$B$5:$B$9,MATCH($B9,'Regras por canal'!$A$5:$A$9,0)),"")) | AC9: =IF($B9="","",IFERROR(INDEX('Regras por canal'!$C$5:$C$9,MATCH($B9,'Regras por canal'!$A$5:$A$9,0)),"")) | AD9: =IF($B9="","",IFERROR(INDEX('Regras por canal'!$D$5:$D$9,MATCH($B9,'Regras por canal'!$A$5:$A$9,0)),"")) | AE9: =IF($B9="","",IFERROR(INDEX('Regras por canal'!$E$5:$E$9,MATCH($B9,'Regras por canal'!$A$5:$A$9,0)),"")) | AF9: =IF($B9="","",IFERROR(INDEX('Regras por canal'!$F$5:$F$9,MATCH($B9,'Regras por canal'!$A$5:$A$9,0)),"")) | AG9: =IF($B9="","",IFERROR(INDEX('Regras por canal'!$G$5:$G$9,MATCH($B9,'Regras por canal'!$A$5:$A$9,0)),"")) | AH9: =IF($B9="","",IFERROR(INDEX('Regras por canal'!$H$5:$H$9,MATCH($B9,'Regras por canal'!$A$5:$A$9,0)),"")) | AI9: =IF($B9="","",IFERROR(INDEX('Regras por canal'!$I$5:$I$9,MATCH($B9,'Regras por canal'!$A$5:$A$9,0)),"")) | AJ9: =IF($B9="","",IFERROR(INDEX('Regras por canal'!$J$5:$J$9,MATCH($B9,'Regras por canal'!$A$5:$A$9,0)),"")) | AK9: =IF($B9="","",IFERROR(INDEX('Regras por canal'!$K$5:$K$9,MATCH($B9,'Regras por canal'!$A$5:$A$9,0)),"")) | AL9: =IF($B9="","",IFERROR(INDEX('Regras por canal'!$L$5:$L$9,MATCH($B9,'Regras por canal'!$A$5:$A$9,0)),"")) | AM9: =IF($B9="","",IFERROR(INDEX('Regras por canal'!$M$5:$M$9,MATCH($B9,'Regras por canal'!$A$5:$A$9,0)),"")) | AN9: =IF($B9="","",IFERROR(INDEX('Regras por canal'!$N$5:$N$9,MATCH($B9,'Regras por canal'!$A$5:$A$9,0)),"")) | AO9: =IF($A9="","",IFERROR(INDEX('Catálogo fonte'!$Q$5:$Q$104,MATCH($A9,'Catálogo fonte'!$A$5:$A$104,0)),"")) | AP9: =IF($B9="","",IFERROR(INDEX('Regras por canal'!$Q$5:$Q$9,MATCH($B9,'Regras por canal'!$A$5:$A$9,0)),""))
A10: =IF(OR(INDEX('Catálogo fonte'!$A$5:$A$104,INT((ROW()-5)/5)+1)="",INDEX('Regras por canal'!$A$5:$A$9,MOD(ROW()-5,5)+1)=""),"",INDEX('Catálogo fonte'!$A$5:$A$104,INT((ROW()-5)/5)+1)) | B10: =IF($A10="","",INDEX('Regras por canal'!$A$5:$A$9,MOD(ROW()-5,5)+1)) | C10: Sim | G10: =IF(OR($A10="",$B10=""),"",IF($D10<>"",$D10,IFERROR(INDEX('Catálogo fonte'!$B$5:$B$104,MATCH($A10,'Catálogo fonte'!$A$5:$A$104,0)),""))) | H10: =IF(OR($A10="",$B10=""),"",IF($E10<>"",$E10,IFERROR(INDEX('Catálogo fonte'!$C$5:$C$104,MATCH($A10,'Catálogo fonte'!$A$5:$A$104,0)),""))) | I10: =IF(OR($A10="",$B10=""),"",IFERROR(INDEX('Catálogo fonte'!$E$5:$E$104,MATCH($A10,'Catálogo fonte'!$A$5:$A$104,0)),"")) | J10: =IF(OR($A10="",$B10=""),"",IFERROR(INDEX('Catálogo fonte'!$D$5:$D$104,MATCH($A10,'Catálogo fonte'!$A$5:$A$104,0)),"")) | K10: =IF(OR($A10="",$B10=""),"",IF($F10<>"",$F10,IFERROR(INDEX('Catálogo fonte'!$F$5:$F$104,MATCH($A10,'Catálogo fonte'!$A$5:$A$104,0)),""))) | L10: =IF(OR($A10="",$B10=""),"",IFERROR(INDEX('Catálogo fonte'!$G$5:$G$104,MATCH($A10,'Catálogo fonte'!$A$5:$A$104,0)),"")) | M10: =IF(OR($A10="",$B10=""),"",IFERROR(INDEX('Catálogo fonte'!$H$5:$H$104,MATCH($A10,'Catálogo fonte'!$A$5:$A$104,0)),"")) | N10: =IF(OR($A10="",$B10=""),"",IFERROR(INDEX('Catálogo fonte'!$I$5:$I$104,MATCH($A10,'Catálogo fonte'!$A$5:$A$104,0)),"")) | O10: =IF(OR($A10="",$B10=""),"",IFERROR(INDEX('Catálogo fonte'!$J$5:$J$104,MATCH($A10,'Catálogo fonte'!$A$5:$A$104,0)),"")) | P10: =IF(OR($A10="",$B10=""),"",IFERROR(INDEX('Catálogo fonte'!$K$5:$K$104,MATCH($A10,'Catálogo fonte'!$A$5:$A$104,0)),"")) | Q10: =IF(OR($A10="",$B10=""),"",IFERROR(INDEX('Catálogo fonte'!$L$5:$L$104,MATCH($A10,'Catálogo fonte'!$A$5:$A$104,0)),"")) | R10: =IF(OR($A10="",$B10=""),"",IFERROR(INDEX('Catálogo fonte'!$M$5:$M$104,MATCH($A10,'Catálogo fonte'!$A$5:$A$104,0)),"")) | S10: =IF(OR($A10="",$B10=""),"",IFERROR(INDEX('Catálogo fonte'!$N$5:$N$104,MATCH($A10,'Catálogo fonte'!$A$5:$A$104,0)),"")) | T10: =IF(OR($A10="",$B10=""),"",IFERROR(INDEX('Catálogo fonte'!$O$5:$O$104,MATCH($A10,'Catálogo fonte'!$A$5:$A$104,0)),"")) | U10: =IF(OR($A10="",$B10=""),"",IFERROR(INDEX('Catálogo fonte'!$P$5:$P$104,MATCH($A10,'Catálogo fonte'!$A$5:$A$104,0)),"")) | V10: =IF(OR($A10="",$B10=""),"",--($S10<>"")+--($T10<>"")+--($U10<>"")) | W10: =IF(OR($A10="",$B10="",$C10<>"Sim"),"",_xlfn.TEXTJOIN(" | ",TRUE,IF($AP10<>"Regra válida","Regra do canal inválida",""),IF(COUNTIF('Catálogo fonte'!$A$5:$A$104,$A10)>1,"SKU duplicado",""),IF($AO10<>"Sim","Produto inativo",""),IF($AB10<>"Sim","Canal inativo",""),IF($G10="","Título ausente",""),IF(AND($G10<>"",$AL10<>"",LEN($G10)>$AL10),"Título excede o limite",""),IF(AND($AC10="Sim",$H10=""),"Categoria ausente",""),IF(AND($AK10>0,LEN($I10)<$AK10),"Descrição abaixo do mínimo",""),IF(AND($AE10="Sim",$J10=""),"Marca ausente",""),IF(OR($K10="",NOT(ISNUMBER($K10)),$K10<=0),"Preço inválido",""),IF(AND(ISNUMBER($K10),$AM10<>"",$K10<$AM10),"Preço abaixo do mínimo",""),IF(AND(ISNUMBER($K10),$AN10<>"",$K10>$AN10),"Preço acima do máximo",""),IF(AND($AD10="Sim",$L10=""),"GTIN ausente",""),IF(AND($L10<>"",NOT(IFERROR(AND(LEN($L10)=13,ISNUMBER(VALUE($L10))),FALSE))),"GTIN inválido",""),IF(AND($AF10="Sim",$M10=""),"Cor ausente",""),IF(AND($AG10="Sim",$N10=""),"Tamanho/modelo ausente",""),IF(AND($AH10="Sim",OR(NOT(ISNUMBER($O10)),$O10<=0)),"Peso ausente ou inválido",""),IF(AND($AI10="Sim",OR(NOT(ISNUMBER($P10)),$P10<=0,NOT(ISNUMBER($Q10)),$Q10<=0,NOT(ISNUMBER($R10)),$R10<=0)),"Dimensões ausentes ou inválidas",""),IF($V10<$AJ10,"Mídias abaixo do mínimo",""))) | X10: =IF(OR($A10="",$B10=""),"",IF($C10<>"Sim","Não selecionado",IF($W10="","Pronto para publicar","Bloqueado"))) | Y10: Publicar | Z10: =IF(OR($A10="",$B10=""),"",IF($C10<>"Sim","Fora do feed",IF($X10="Bloqueado","Bloqueado",IF($Y10="Publicar","Liberado para feed",IF($Y10="Manter rascunho","Mantido em rascunho","Aguardando decisão"))))) | AA10: =IF(OR($A10="",$B10=""),"",$A10&"|"&$B10) | AB10: =IF($B10="","",IFERROR(INDEX('Regras por canal'!$B$5:$B$9,MATCH($B10,'Regras por canal'!$A$5:$A$9,0)),"")) | AC10: =IF($B10="","",IFERROR(INDEX('Regras por canal'!$C$5:$C$9,MATCH($B10,'Regras por canal'!$A$5:$A$9,0)),"")) | AD10: =IF($B10="","",IFERROR(INDEX('Regras por canal'!$D$5:$D$9,MATCH($B10,'Regras por canal'!$A$5:$A$9,0)),"")) | AE10: =IF($B10="","",IFERROR(INDEX('Regras por canal'!$E$5:$E$9,MATCH($B10,'Regras por canal'!$A$5:$A$9,0)),"")) | AF10: =IF($B10="","",IFERROR(INDEX('Regras por canal'!$F$5:$F$9,MATCH($B10,'Regras por canal'!$A$5:$A$9,0)),"")) | AG10: =IF($B10="","",IFERROR(INDEX('Regras por canal'!$G$5:$G$9,MATCH($B10,'Regras por canal'!$A$5:$A$9,0)),"")) | AH10: =IF($B10="","",IFERROR(INDEX('Regras por canal'!$H$5:$H$9,MATCH($B10,'Regras por canal'!$A$5:$A$9,0)),"")) | AI10: =IF($B10="","",IFERROR(INDEX('Regras por canal'!$I$5:$I$9,MATCH($B10,'Regras por canal'!$A$5:$A$9,0)),"")) | AJ10: =IF($B10="","",IFERROR(INDEX('Regras por canal'!$J$5:$J$9,MATCH($B10,'Regras por canal'!$A$5:$A$9,0)),"")) | AK10: =IF($B10="","",IFERROR(INDEX('Regras por canal'!$K$5:$K$9,MATCH($B10,'Regras por canal'!$A$5:$A$9,0)),"")) | AL10: =IF($B10="","",IFERROR(INDEX('Regras por canal'!$L$5:$L$9,MATCH($B10,'Regras por canal'!$A$5:$A$9,0)),"")) | AM10: =IF($B10="","",IFERROR(INDEX('Regras por canal'!$M$5:$M$9,MATCH($B10,'Regras por canal'!$A$5:$A$9,0)),"")) | AN10: =IF($B10="","",IFERROR(INDEX('Regras por canal'!$N$5:$N$9,MATCH($B10,'Regras por canal'!$A$5:$A$9,0)),"")) | AO10: =IF($A10="","",IFERROR(INDEX('Catálogo fonte'!$Q$5:$Q$104,MATCH($A10,'Catálogo fonte'!$A$5:$A$104,0)),"")) | AP10: =IF($B10="","",IFERROR(INDEX('Regras por canal'!$Q$5:$Q$9,MATCH($B10,'Regras por canal'!$A$5:$A$9,0)),""))
A11: =IF(OR(INDEX('Catálogo fonte'!$A$5:$A$104,INT((ROW()-5)/5)+1)="",INDEX('Regras por canal'!$A$5:$A$9,MOD(ROW()-5,5)+1)=""),"",INDEX('Catálogo fonte'!$A$5:$A$104,INT((ROW()-5)/5)+1)) | B11: =IF($A11="","",INDEX('Regras por canal'!$A$5:$A$9,MOD(ROW()-5,5)+1)) | C11: Sim | G11: =IF(OR($A11="",$B11=""),"",IF($D11<>"",$D11,IFERROR(INDEX('Catálogo fonte'!$B$5:$B$104,MATCH($A11,'Catálogo fonte'!$A$5:$A$104,0)),""))) | H11: =IF(OR($A11="",$B11=""),"",IF($E11<>"",$E11,IFERROR(INDEX('Catálogo fonte'!$C$5:$C$104,MATCH($A11,'Catálogo fonte'!$A$5:$A$104,0)),""))) | I11: =IF(OR($A11="",$B11=""),"",IFERROR(INDEX('Catálogo fonte'!$E$5:$E$104,MATCH($A11,'Catálogo fonte'!$A$5:$A$104,0)),"")) | J11: =IF(OR($A11="",$B11=""),"",IFERROR(INDEX('Catálogo fonte'!$D$5:$D$104,MATCH($A11,'Catálogo fonte'!$A$5:$A$104,0)),"")) | K11: =IF(OR($A11="",$B11=""),"",IF($F11<>"",$F11,IFERROR(INDEX('Catálogo fonte'!$F$5:$F$104,MATCH($A11,'Catálogo fonte'!$A$5:$A$104,0)),""))) | L11: =IF(OR($A11="",$B11=""),"",IFERROR(INDEX('Catálogo fonte'!$G$5:$G$104,MATCH($A11,'Catálogo fonte'!$A$5:$A$104,0)),"")) | M11: =IF(OR($A11="",$B11=""),"",IFERROR(INDEX('Catálogo fonte'!$H$5:$H$104,MATCH($A11,'Catálogo fonte'!$A$5:$A$104,0)),"")) | N11: =IF(OR($A11="",$B11=""),"",IFERROR(INDEX('Catálogo fonte'!$I$5:$I$104,MATCH($A11,'Catálogo fonte'!$A$5:$A$104,0)),"")) | O11: =IF(OR($A11="",$B11=""),"",IFERROR(INDEX('Catálogo fonte'!$J$5:$J$104,MATCH($A11,'Catálogo fonte'!$A$5:$A$104,0)),"")) | P11: =IF(OR($A11="",$B11=""),"",IFERROR(INDEX('Catálogo fonte'!$K$5:$K$104,MATCH($A11,'Catálogo fonte'!$A$5:$A$104,0)),"")) | Q11: =IF(OR($A11="",$B11=""),"",IFERROR(INDEX('Catálogo fonte'!$L$5:$L$104,MATCH($A11,'Catálogo fonte'!$A$5:$A$104,0)),"")) | R11: =IF(OR($A11="",$B11=""),"",IFERROR(INDEX('Catálogo fonte'!$M$5:$M$104,MATCH($A11,'Catálogo fonte'!$A$5:$A$104,0)),"")) | S11: =IF(OR($A11="",$B11=""),"",IFERROR(INDEX('Catálogo fonte'!$N$5:$N$104,MATCH($A11,'Catálogo fonte'!$A$5:$A$104,0)),"")) | T11: =IF(OR($A11="",$B11=""),"",IFERROR(INDEX('Catálogo fonte'!$O$5:$O$104,MATCH($A11,'Catálogo fonte'!$A$5:$A$104,0)),"")) | U11: =IF(OR($A11="",$B11=""),"",IFERROR(INDEX('Catálogo fonte'!$P$5:$P$104,MATCH($A11,'Catálogo fonte'!$A$5:$A$104,0)),"")) | V11: =IF(OR($A11="",$B11=""),"",--($S11<>"")+--($T11<>"")+--($U11<>"")) | W11: =IF(OR($A11="",$B11="",$C11<>"Sim"),"",_xlfn.TEXTJOIN(" | ",TRUE,IF($AP11<>"Regra válida","Regra do canal inválida",""),IF(COUNTIF('Catálogo fonte'!$A$5:$A$104,$A11)>1,"SKU duplicado",""),IF($AO11<>"Sim","Produto inativo",""),IF($AB11<>"Sim","Canal inativo",""),IF($G11="","Título ausente",""),IF(AND($G11<>"",$AL11<>"",LEN($G11)>$AL11),"Título excede o limite",""),IF(AND($AC11="Sim",$H11=""),"Categoria ausente",""),IF(AND($AK11>0,LEN($I11)<$AK11),"Descrição abaixo do mínimo",""),IF(AND($AE11="Sim",$J11=""),"Marca ausente",""),IF(OR($K11="",NOT(ISNUMBER($K11)),$K11<=0),"Preço inválido",""),IF(AND(ISNUMBER($K11),$AM11<>"",$K11<$AM11),"Preço abaixo do mínimo",""),IF(AND(ISNUMBER($K11),$AN11<>"",$K11>$AN11),"Preço acima do máximo",""),IF(AND($AD11="Sim",$L11=""),"GTIN ausente",""),IF(AND($L11<>"",NOT(IFERROR(AND(LEN($L11)=13,ISNUMBER(VALUE($L11))),FALSE))),"GTIN inválido",""),IF(AND($AF11="Sim",$M11=""),"Cor ausente",""),IF(AND($AG11="Sim",$N11=""),"Tamanho/modelo ausente",""),IF(AND($AH11="Sim",OR(NOT(ISNUMBER($O11)),$O11<=0)),"Peso ausente ou inválido",""),IF(AND($AI11="Sim",OR(NOT(ISNUMBER($P11)),$P11<=0,NOT(ISNUMBER($Q11)),$Q11<=0,NOT(ISNUMBER($R11)),$R11<=0)),"Dimensões ausentes ou inválidas",""),IF($V11<$AJ11,"Mídias abaixo do mínimo",""))) | X11: =IF(OR($A11="",$B11=""),"",IF($C11<>"Sim","Não selecionado",IF($W11="","Pronto para publicar","Bloqueado"))) | Y11: Publicar | Z11: =IF(OR($A11="",$B11=""),"",IF($C11<>"Sim","Fora do feed",IF($X11="Bloqueado","Bloqueado",IF($Y11="Publicar","Liberado para feed",IF($Y11="Manter rascunho","Mantido em rascunho","Aguardando decisão"))))) | AA11: =IF(OR($A11="",$B11=""),"",$A11&"|"&$B11) | AB11: =IF($B11="","",IFERROR(INDEX('Regras por canal'!$B$5:$B$9,MATCH($B11,'Regras por canal'!$A$5:$A$9,0)),"")) | AC11: =IF($B11="","",IFERROR(INDEX('Regras por canal'!$C$5:$C$9,MATCH($B11,'Regras por canal'!$A$5:$A$9,0)),"")) | AD11: =IF($B11="","",IFERROR(INDEX('Regras por canal'!$D$5:$D$9,MATCH($B11,'Regras por canal'!$A$5:$A$9,0)),"")) | AE11: =IF($B11="","",IFERROR(INDEX('Regras por canal'!$E$5:$E$9,MATCH($B11,'Regras por canal'!$A$5:$A$9,0)),"")) | AF11: =IF($B11="","",IFERROR(INDEX('Regras por canal'!$F$5:$F$9,MATCH($B11,'Regras por canal'!$A$5:$A$9,0)),"")) | AG11: =IF($B11="","",IFERROR(INDEX('Regras por canal'!$G$5:$G$9,MATCH($B11,'Regras por canal'!$A$5:$A$9,0)),"")) | AH11: =IF($B11="","",IFERROR(INDEX('Regras por canal'!$H$5:$H$9,MATCH($B11,'Regras por canal'!$A$5:$A$9,0)),"")) | AI11: =IF($B11="","",IFERROR(INDEX('Regras por canal'!$I$5:$I$9,MATCH($B11,'Regras por canal'!$A$5:$A$9,0)),"")) | AJ11: =IF($B11="","",IFERROR(INDEX('Regras por canal'!$J$5:$J$9,MATCH($B11,'Regras por canal'!$A$5:$A$9,0)),"")) | AK11: =IF($B11="","",IFERROR(INDEX('Regras por canal'!$K$5:$K$9,MATCH($B11,'Regras por canal'!$A$5:$A$9,0)),"")) | AL11: =IF($B11="","",IFERROR(INDEX('Regras por canal'!$L$5:$L$9,MATCH($B11,'Regras por canal'!$A$5:$A$9,0)),"")) | AM11: =IF($B11="","",IFERROR(INDEX('Regras por canal'!$M$5:$M$9,MATCH($B11,'Regras por canal'!$A$5:$A$9,0)),"")) | AN11: =IF($B11="","",IFERROR(INDEX('Regras por canal'!$N$5:$N$9,MATCH($B11,'Regras por canal'!$A$5:$A$9,0)),"")) | AO11: =IF($A11="","",IFERROR(INDEX('Catálogo fonte'!$Q$5:$Q$104,MATCH($A11,'Catálogo fonte'!$A$5:$A$104,0)),"")) | AP11: =IF($B11="","",IFERROR(INDEX('Regras por canal'!$Q$5:$Q$9,MATCH($B11,'Regras por canal'!$A$5:$A$9,0)),""))
A12: =IF(OR(INDEX('Catálogo fonte'!$A$5:$A$104,INT((ROW()-5)/5)+1)="",INDEX('Regras por canal'!$A$5:$A$9,MOD(ROW()-5,5)+1)=""),"",INDEX('Catálogo fonte'!$A$5:$A$104,INT((ROW()-5)/5)+1)) | B12: =IF($A12="","",INDEX('Regras por canal'!$A$5:$A$9,MOD(ROW()-5,5)+1)) | C12: Sim | G12: =IF(OR($A12="",$B12=""),"",IF($D12<>"",$D12,IFERROR(INDEX('Catálogo fonte'!$B$5:$B$104,MATCH($A12,'Catálogo fonte'!$A$5:$A$104,0)),""))) | H12: =IF(OR($A12="",$B12=""),"",IF($E12<>"",$E12,IFERROR(INDEX('Catálogo fonte'!$C$5:$C$104,MATCH($A12,'Catálogo fonte'!$A$5:$A$104,0)),""))) | I12: =IF(OR($A12="",$B12=""),"",IFERROR(INDEX('Catálogo fonte'!$E$5:$E$104,MATCH($A12,'Catálogo fonte'!$A$5:$A$104,0)),"")) | J12: =IF(OR($A12="",$B12=""),"",IFERROR(INDEX('Catálogo fonte'!$D$5:$D$104,MATCH($A12,'Catálogo fonte'!$A$5:$A$104,0)),"")) | K12: =IF(OR($A12="",$B12=""),"",IF($F12<>"",$F12,IFERROR(INDEX('Catálogo fonte'!$F$5:$F$104,MATCH($A12,'Catálogo fonte'!$A$5:$A$104,0)),""))) | L12: =IF(OR($A12="",$B12=""),"",IFERROR(INDEX('Catálogo fonte'!$G$5:$G$104,MATCH($A12,'Catálogo fonte'!$A$5:$A$104,0)),"")) | M12: =IF(OR($A12="",$B12=""),"",IFERROR(INDEX('Catálogo fonte'!$H$5:$H$104,MATCH($A12,'Catálogo fonte'!$A$5:$A$104,0)),"")) | N12: =IF(OR($A12="",$B12=""),"",IFERROR(INDEX('Catálogo fonte'!$I$5:$I$104,MATCH($A12,'Catálogo fonte'!$A$5:$A$104,0)),"")) | O12: =IF(OR($A12="",$B12=""),"",IFERROR(INDEX('Catálogo fonte'!$J$5:$J$104,MATCH($A12,'Catálogo fonte'!$A$5:$A$104,0)),"")) | P12: =IF(OR($A12="",$B12=""),"",IFERROR(INDEX('Catálogo fonte'!$K$5:$K$104,MATCH($A12,'Catálogo fonte'!$A$5:$A$104,0)),"")) | Q12: =IF(OR($A12="",$B12=""),"",IFERROR(INDEX('Catálogo fonte'!$L$5:$L$104,MATCH($A12,'Catálogo fonte'!$A$5:$A$104,0)),"")) | R12: =IF(OR($A12="",$B12=""),"",IFERROR(INDEX('Catálogo fonte'!$M$5:$M$104,MATCH($A12,'Catálogo fonte'!$A$5:$A$104,0)),"")) | S12: =IF(OR($A12="",$B12=""),"",IFERROR(INDEX('Catálogo fonte'!$N$5:$N$104,MATCH($A12,'Catálogo fonte'!$A$5:$A$104,0)),"")) | T12: =IF(OR($A12="",$B12=""),"",IFERROR(INDEX('Catálogo fonte'!$O$5:$O$104,MATCH($A12,'Catálogo fonte'!$A$5:$A$104,0)),"")) | U12: =IF(OR($A12="",$B12=""),"",IFERROR(INDEX('Catálogo fonte'!$P$5:$P$104,MATCH($A12,'Catálogo fonte'!$A$5:$A$104,0)),"")) | V12: =IF(OR($A12="",$B12=""),"",--($S12<>"")+--($T12<>"")+--($U12<>"")) | W12: =IF(OR($A12="",$B12="",$C12<>"Sim"),"",_xlfn.TEXTJOIN(" | ",TRUE,IF($AP12<>"Regra válida","Regra do canal inválida",""),IF(COUNTIF('Catálogo fonte'!$A$5:$A$104,$A12)>1,"SKU duplicado",""),IF($AO12<>"Sim","Produto inativo",""),IF($AB12<>"Sim","Canal inativo",""),IF($G12="","Título ausente",""),IF(AND($G12<>"",$AL12<>"",LEN($G12)>$AL12),"Título excede o limite",""),IF(AND($AC12="Sim",$H12=""),"Categoria ausente",""),IF(AND($AK12>0,LEN($I12)<$AK12),"Descrição abaixo do mínimo",""),IF(AND($AE12="Sim",$J12=""),"Marca ausente",""),IF(OR($K12="",NOT(ISNUMBER($K12)),$K12<=0),"Preço inválido",""),IF(AND(ISNUMBER($K12),$AM12<>"",$K12<$AM12),"Preço abaixo do mínimo",""),IF(AND(ISNUMBER($K12),$AN12<>"",$K12>$AN12),"Preço acima do máximo",""),IF(AND($AD12="Sim",$L12=""),"GTIN ausente",""),IF(AND($L12<>"",NOT(IFERROR(AND(LEN($L12)=13,ISNUMBER(VALUE($L12))),FALSE))),"GTIN inválido",""),IF(AND($AF12="Sim",$M12=""),"Cor ausente",""),IF(AND($AG12="Sim",$N12=""),"Tamanho/modelo ausente",""),IF(AND($AH12="Sim",OR(NOT(ISNUMBER($O12)),$O12<=0)),"Peso ausente ou inválido",""),IF(AND($AI12="Sim",OR(NOT(ISNUMBER($P12)),$P12<=0,NOT(ISNUMBER($Q12)),$Q12<=0,NOT(ISNUMBER($R12)),$R12<=0)),"Dimensões ausentes ou inválidas",""),IF($V12<$AJ12,"Mídias abaixo do mínimo",""))) | X12: =IF(OR($A12="",$B12=""),"",IF($C12<>"Sim","Não selecionado",IF($W12="","Pronto para publicar","Bloqueado"))) | Y12: Manter rascunho | Z12: =IF(OR($A12="",$B12=""),"",IF($C12<>"Sim","Fora do feed",IF($X12="Bloqueado","Bloqueado",IF($Y12="Publicar","Liberado para feed",IF($Y12="Manter rascunho","Mantido em rascunho","Aguardando decisão"))))) | AA12: =IF(OR($A12="",$B12=""),"",$A12&"|"&$B12) | AB12: =IF($B12="","",IFERROR(INDEX('Regras por canal'!$B$5:$B$9,MATCH($B12,'Regras por canal'!$A$5:$A$9,0)),"")) | AC12: =IF($B12="","",IFERROR(INDEX('Regras por canal'!$C$5:$C$9,MATCH($B12,'Regras por canal'!$A$5:$A$9,0)),"")) | AD12: =IF($B12="","",IFERROR(INDEX('Regras por canal'!$D$5:$D$9,MATCH($B12,'Regras por canal'!$A$5:$A$9,0)),"")) | AE12: =IF($B12="","",IFERROR(INDEX('Regras por canal'!$E$5:$E$9,MATCH($B12,'Regras por canal'!$A$5:$A$9,0)),"")) | AF12: =IF($B12="","",IFERROR(INDEX('Regras por canal'!$F$5:$F$9,MATCH($B12,'Regras por canal'!$A$5:$A$9,0)),"")) | AG12: =IF($B12="","",IFERROR(INDEX('Regras por canal'!$G$5:$G$9,MATCH($B12,'Regras por canal'!$A$5:$A$9,0)),"")) | AH12: =IF($B12="","",IFERROR(INDEX('Regras por canal'!$H$5:$H$9,MATCH($B12,'Regras por canal'!$A$5:$A$9,0)),"")) | AI12: =IF($B12="","",IFERROR(INDEX('Regras por canal'!$I$5:$I$9,MATCH($B12,'Regras por canal'!$A$5:$A$9,0)),"")) | AJ12: =IF($B12="","",IFERROR(INDEX('Regras por canal'!$J$5:$J$9,MATCH($B12,'Regras por canal'!$A$5:$A$9,0)),"")) | AK12: =IF($B12="","",IFERROR(INDEX('Regras por canal'!$K$5:$K$9,MATCH($B12,'Regras por canal'!$A$5:$A$9,0)),"")) | AL12: =IF($B12="","",IFERROR(INDEX('Regras por canal'!$L$5:$L$9,MATCH($B12,'Regras por canal'!$A$5:$A$9,0)),"")) | AM12: =IF($B12="","",IFERROR(INDEX('Regras por canal'!$M$5:$M$9,MATCH($B12,'Regras por canal'!$A$5:$A$9,0)),"")) | AN12: =IF($B12="","",IFERROR(INDEX('Regras por canal'!$N$5:$N$9,MATCH($B12,'Regras por canal'!$A$5:$A$9,0)),"")) | AO12: =IF($A12="","",IFERROR(INDEX('Catálogo fonte'!$Q$5:$Q$104,MATCH($A12,'Catálogo fonte'!$A$5:$A$104,0)),"")) | AP12: =IF($B12="","",IFERROR(INDEX('Regras por canal'!$Q$5:$Q$9,MATCH($B12,'Regras por canal'!$A$5:$A$9,0)),""))
A13: =IF(OR(INDEX('Catálogo fonte'!$A$5:$A$104,INT((ROW()-5)/5)+1)="",INDEX('Regras por canal'!$A$5:$A$9,MOD(ROW()-5,5)+1)=""),"",INDEX('Catálogo fonte'!$A$5:$A$104,INT((ROW()-5)/5)+1)) | B13: =IF($A13="","",INDEX('Regras por canal'!$A$5:$A$9,MOD(ROW()-5,5)+1)) | G13: =IF(OR($A13="",$B13=""),"",IF($D13<>"",$D13,IFERROR(INDEX('Catálogo fonte'!$B$5:$B$104,MATCH($A13,'Catálogo fonte'!$A$5:$A$104,0)),""))) | H13: =IF(OR($A13="",$B13=""),"",IF($E13<>"",$E13,IFERROR(INDEX('Catálogo fonte'!$C$5:$C$104,MATCH($A13,'Catálogo fonte'!$A$5:$A$104,0)),""))) | I13: =IF(OR($A13="",$B13=""),"",IFERROR(INDEX('Catálogo fonte'!$E$5:$E$104,MATCH($A13,'Catálogo fonte'!$A$5:$A$104,0)),"")) | J13: =IF(OR($A13="",$B13=""),"",IFERROR(INDEX('Catálogo fonte'!$D$5:$D$104,MATCH($A13,'Catálogo fonte'!$A$5:$A$104,0)),"")) | K13: =IF(OR($A13="",$B13=""),"",IF($F13<>"",$F13,IFERROR(INDEX('Catálogo fonte'!$F$5:$F$104,MATCH($A13,'Catálogo fonte'!$A$5:$A$104,0)),""))) | L13: =IF(OR($A13="",$B13=""),"",IFERROR(INDEX('Catálogo fonte'!$G$5:$G$104,MATCH($A13,'Catálogo fonte'!$A$5:$A$104,0)),"")) | M13: =IF(OR($A13="",$B13=""),"",IFERROR(INDEX('Catálogo fonte'!$H$5:$H$104,MATCH($A13,'Catálogo fonte'!$A$5:$A$104,0)),"")) | N13: =IF(OR($A13="",$B13=""),"",IFERROR(INDEX('Catálogo fonte'!$I$5:$I$104,MATCH($A13,'Catálogo fonte'!$A$5:$A$104,0)),"")) | O13: =IF(OR($A13="",$B13=""),"",IFERROR(INDEX('Catálogo fonte'!$J$5:$J$104,MATCH($A13,'Catálogo fonte'!$A$5:$A$104,0)),"")) | P13: =IF(OR($A13="",$B13=""),"",IFERROR(INDEX('Catálogo fonte'!$K$5:$K$104,MATCH($A13,'Catálogo fonte'!$A$5:$A$104,0)),"")) | Q13: =IF(OR($A13="",$B13=""),"",IFERROR(INDEX('Catálogo fonte'!$L$5:$L$104,MATCH($A13,'Catálogo fonte'!$A$5:$A$104,0)),"")) | R13: =IF(OR($A13="",$B13=""),"",IFERROR(INDEX('Catálogo fonte'!$M$5:$M$104,MATCH($A13,'Catálogo fonte'!$A$5:$A$104,0)),"")) | S13: =IF(OR($A13="",$B13=""),"",IFERROR(INDEX('Catálogo fonte'!$N$5:$N$104,MATCH($A13,'Catálogo fonte'!$A$5:$A$104,0)),"")) | T13: =IF(OR($A13="",$B13=""),"",IFERROR(INDEX('Catálogo fonte'!$O$5:$O$104,MATCH($A13,'Catálogo fonte'!$A$5:$A$104,0)),"")) | U13: =IF(OR($A13="",$B13=""),"",IFERROR(INDEX('Catálogo fonte'!$P$5:$P$104,MATCH($A13,'Catálogo fonte'!$A$5:$A$104,0)),"")) | V13: =IF(OR($A13="",$B13=""),"",--($S13<>"")+--($T13<>"")+--($U13<>"")) | W13: =IF(OR($A13="",$B13="",$C13<>"Sim"),"",_xlfn.TEXTJOIN(" | ",TRUE,IF($AP13<>"Regra válida","Regra do canal inválida",""),IF(COUNTIF('Catálogo fonte'!$A$5:$A$104,$A13)>1,"SKU duplicado",""),IF($AO13<>"Sim","Produto inativo",""),IF($AB13<>"Sim","Canal inativo",""),IF($G13="","Título ausente",""),IF(AND($G13<>"",$AL13<>"",LEN($G13)>$AL13),"Título excede o limite",""),IF(AND($AC13="Sim",$H13=""),"Categoria ausente",""),IF(AND($AK13>0,LEN($I13)<$AK13),"Descrição abaixo do mínimo",""),IF(AND($AE13="Sim",$J13=""),"Marca ausente",""),IF(OR($K13="",NOT(ISNUMBER($K13)),$K13<=0),"Preço inválido",""),IF(AND(ISNUMBER($K13),$AM13<>"",$K13<$AM13),"Preço abaixo do mínimo",""),IF(AND(ISNUMBER($K13),$AN13<>"",$K13>$AN13),"Preço acima do máximo",""),IF(AND($AD13="Sim",$L13=""),"GTIN ausente",""),IF(AND($L13<>"",NOT(IFERROR(AND(LEN($L13)=13,ISNUMBER(VALUE($L13))),FALSE))),"GTIN inválido",""),IF(AND($AF13="Sim",$M13=""),"Cor ausente",""),IF(AND($AG13="Sim",$N13=""),"Tamanho/modelo ausente",""),IF(AND($AH13="Sim",OR(NOT(ISNUMBER($O13)),$O13<=0)),"Peso ausente ou inválido",""),IF(AND($AI13="Sim",OR(NOT(ISNUMBER($P13)),$P13<=0,NOT(ISNUMBER($Q13)),$Q13<=0,NOT(ISNUMBER($R13)),$R13<=0)),"Dimensões ausentes ou inválidas",""),IF($V13<$AJ13,"Mídias abaixo do mínimo",""))) | X13: =IF(OR($A13="",$B13=""),"",IF($C13<>"Sim","Não selecionado",IF($W13="","Pronto para publicar","Bloqueado"))) | Z13: =IF(OR($A13="",$B13=""),"",IF($C13<>"Sim","Fora do feed",IF($X13="Bloqueado","Bloqueado",IF($Y13="Publicar","Liberado para feed",IF($Y13="Manter rascunho","Mantido em rascunho","Aguardando decisão"))))) | AA13: =IF(OR($A13="",$B13=""),"",$A13&"|"&$B13) | AB13: =IF($B13="","",IFERROR(INDEX('Regras por canal'!$B$5:$B$9,MATCH($B13,'Regras por canal'!$A$5:$A$9,0)),"")) | AC13: =IF($B13="","",IFERROR(INDEX('Regras por canal'!$C$5:$C$9,MATCH($B13,'Regras por canal'!$A$5:$A$9,0)),"")) | AD13: =IF($B13="","",IFERROR(INDEX('Regras por canal'!$D$5:$D$9,MATCH($B13,'Regras por canal'!$A$5:$A$9,0)),"")) | AE13: =IF($B13="","",IFERROR(INDEX('Regras por canal'!$E$5:$E$9,MATCH($B13,'Regras por canal'!$A$5:$A$9,0)),"")) | AF13: =IF($B13="","",IFERROR(INDEX('Regras por canal'!$F$5:$F$9,MATCH($B13,'Regras por canal'!$A$5:$A$9,0)),"")) | AG13: =IF($B13="","",IFERROR(INDEX('Regras por canal'!$G$5:$G$9,MATCH($B13,'Regras por canal'!$A$5:$A$9,0)),"")) | AH13: =IF($B13="","",IFERROR(INDEX('Regras por canal'!$H$5:$H$9,MATCH($B13,'Regras por canal'!$A$5:$A$9,0)),"")) | AI13: =IF($B13="","",IFERROR(INDEX('Regras por canal'!$I$5:$I$9,MATCH($B13,'Regras por canal'!$A$5:$A$9,0)),"")) | AJ13: =IF($B13="","",IFERROR(INDEX('Regras por canal'!$J$5:$J$9,MATCH($B13,'Regras por canal'!$A$5:$A$9,0)),"")) | AK13: =IF($B13="","",IFERROR(INDEX('Regras por canal'!$K$5:$K$9,MATCH($B13,'Regras por canal'!$A$5:$A$9,0)),"")) | AL13: =IF($B13="","",IFERROR(INDEX('Regras por canal'!$L$5:$L$9,MATCH($B13,'Regras por canal'!$A$5:$A$9,0)),"")) | AM13: =IF($B13="","",IFERROR(INDEX('Regras por canal'!$M$5:$M$9,MATCH($B13,'Regras por canal'!$A$5:$A$9,0)),"")) | AN13: =IF($B13="","",IFERROR(INDEX('Regras por canal'!$N$5:$N$9,MATCH($B13,'Regras por canal'!$A$5:$A$9,0)),"")) | AO13: =IF($A13="","",IFERROR(INDEX('Catálogo fonte'!$Q$5:$Q$104,MATCH($A13,'Catálogo fonte'!$A$5:$A$104,0)),"")) | AP13: =IF($B13="","",IFERROR(INDEX('Regras por canal'!$Q$5:$Q$9,MATCH($B13,'Regras por canal'!$A$5:$A$9,0)),""))
A14: =IF(OR(INDEX('Catálogo fonte'!$A$5:$A$104,INT((ROW()-5)/5)+1)="",INDEX('Regras por canal'!$A$5:$A$9,MOD(ROW()-5,5)+1)=""),"",INDEX('Catálogo fonte'!$A$5:$A$104,INT((ROW()-5)/5)+1)) | B14: =IF($A14="","",INDEX('Regras por canal'!$A$5:$A$9,MOD(ROW()-5,5)+1)) | G14: =IF(OR($A14="",$B14=""),"",IF($D14<>"",$D14,IFERROR(INDEX('Catálogo fonte'!$B$5:$B$104,MATCH($A14,'Catálogo fonte'!$A$5:$A$104,0)),""))) | H14: =IF(OR($A14="",$B14=""),"",IF($E14<>"",$E14,IFERROR(INDEX('Catálogo fonte'!$C$5:$C$104,MATCH($A14,'Catálogo fonte'!$A$5:$A$104,0)),""))) | I14: =IF(OR($A14="",$B14=""),"",IFERROR(INDEX('Catálogo fonte'!$E$5:$E$104,MATCH($A14,'Catálogo fonte'!$A$5:$A$104,0)),"")) | J14: =IF(OR($A14="",$B14=""),"",IFERROR(INDEX('Catálogo fonte'!$D$5:$D$104,MATCH($A14,'Catálogo fonte'!$A$5:$A$104,0)),"")) | K14: =IF(OR($A14="",$B14=""),"",IF($F14<>"",$F14,IFERROR(INDEX('Catálogo fonte'!$F$5:$F$104,MATCH($A14,'Catálogo fonte'!$A$5:$A$104,0)),""))) | L14: =IF(OR($A14="",$B14=""),"",IFERROR(INDEX('Catálogo fonte'!$G$5:$G$104,MATCH($A14,'Catálogo fonte'!$A$5:$A$104,0)),"")) | M14: =IF(OR($A14="",$B14=""),"",IFERROR(INDEX('Catálogo fonte'!$H$5:$H$104,MATCH($A14,'Catálogo fonte'!$A$5:$A$104,0)),"")) | N14: =IF(OR($A14="",$B14=""),"",IFERROR(INDEX('Catálogo fonte'!$I$5:$I$104,MATCH($A14,'Catálogo fonte'!$A$5:$A$104,0)),"")) | O14: =IF(OR($A14="",$B14=""),"",IFERROR(INDEX('Catálogo fonte'!$J$5:$J$104,MATCH($A14,'Catálogo fonte'!$A$5:$A$104,0)),"")) | P14: =IF(OR($A14="",$B14=""),"",IFERROR(INDEX('Catálogo fonte'!$K$5:$K$104,MATCH($A14,'Catálogo fonte'!$A$5:$A$104,0)),"")) | Q14: =IF(OR($A14="",$B14=""),"",IFERROR(INDEX('Catálogo fonte'!$L$5:$L$104,MATCH($A14,'Catálogo fonte'!$A$5:$A$104,0)),"")) | R14: =IF(OR($A14="",$B14=""),"",IFERROR(INDEX('Catálogo fonte'!$M$5:$M$104,MATCH($A14,'Catálogo fonte'!$A$5:$A$104,0)),"")) | S14: =IF(OR($A14="",$B14=""),"",IFERROR(INDEX('Catálogo fonte'!$N$5:$N$104,MATCH($A14,'Catálogo fonte'!$A$5:$A$104,0)),"")) | T14: =IF(OR($A14="",$B14=""),"",IFERROR(INDEX('Catálogo fonte'!$O$5:$O$104,MATCH($A14,'Catálogo fonte'!$A$5:$A$104,0)),"")) | U14: =IF(OR($A14="",$B14=""),"",IFERROR(INDEX('Catálogo fonte'!$P$5:$P$104,MATCH($A14,'Catálogo fonte'!$A$5:$A$104,0)),"")) | V14: =IF(OR($A14="",$B14=""),"",--($S14<>"")+--($T14<>"")+--($U14<>"")) | W14: =IF(OR($A14="",$B14="",$C14<>"Sim"),"",_xlfn.TEXTJOIN(" | ",TRUE,IF($AP14<>"Regra válida","Regra do canal inválida",""),IF(COUNTIF('Catálogo fonte'!$A$5:$A$104,$A14)>1,"SKU duplicado",""),IF($AO14<>"Sim","Produto inativo",""),IF($AB14<>"Sim","Canal inativo",""),IF($G14="","Título ausente",""),IF(AND($G14<>"",$AL14<>"",LEN($G14)>$AL14),"Título excede o limite",""),IF(AND($AC14="Sim",$H14=""),"Categoria ausente",""),IF(AND($AK14>0,LEN($I14)<$AK14),"Descrição abaixo do mínimo",""),IF(AND($AE14="Sim",$J14=""),"Marca ausente",""),IF(OR($K14="",NOT(ISNUMBER($K14)),$K14<=0),"Preço inválido",""),IF(AND(ISNUMBER($K14),$AM14<>"",$K14<$AM14),"Preço abaixo do mínimo",""),IF(AND(ISNUMBER($K14),$AN14<>"",$K14>$AN14),"Preço acima do máximo",""),IF(AND($AD14="Sim",$L14=""),"GTIN ausente",""),IF(AND($L14<>"",NOT(IFERROR(AND(LEN($L14)=13,ISNUMBER(VALUE($L14))),FALSE))),"GTIN inválido",""),IF(AND($AF14="Sim",$M14=""),"Cor ausente",""),IF(AND($AG14="Sim",$N14=""),"Tamanho/modelo ausente",""),IF(AND($AH14="Sim",OR(NOT(ISNUMBER($O14)),$O14<=0)),"Peso ausente ou inválido",""),IF(AND($AI14="Sim",OR(NOT(ISNUMBER($P14)),$P14<=0,NOT(ISNUMBER($Q14)),$Q14<=0,NOT(ISNUMBER($R14)),$R14<=0)),"Dimensões ausentes ou inválidas",""),IF($V14<$AJ14,"Mídias abaixo do mínimo",""))) | X14: =IF(OR($A14="",$B14=""),"",IF($C14<>"Sim","Não selecionado",IF($W14="","Pronto para publicar","Bloqueado"))) | Z14: =IF(OR($A14="",$B14=""),"",IF($C14<>"Sim","Fora do feed",IF($X14="Bloqueado","Bloqueado",IF($Y14="Publicar","Liberado para feed",IF($Y14="Manter rascunho","Mantido em rascunho","Aguardando decisão"))))) | AA14: =IF(OR($A14="",$B14=""),"",$A14&"|"&$B14) | AB14: =IF($B14="","",IFERROR(INDEX('Regras por canal'!$B$5:$B$9,MATCH($B14,'Regras por canal'!$A$5:$A$9,0)),"")) | AC14: =IF($B14="","",IFERROR(INDEX('Regras por canal'!$C$5:$C$9,MATCH($B14,'Regras por canal'!$A$5:$A$9,0)),"")) | AD14: =IF($B14="","",IFERROR(INDEX('Regras por canal'!$D$5:$D$9,MATCH($B14,'Regras por canal'!$A$5:$A$9,0)),"")) | AE14: =IF($B14="","",IFERROR(INDEX('Regras por canal'!$E$5:$E$9,MATCH($B14,'Regras por canal'!$A$5:$A$9,0)),"")) | AF14: =IF($B14="","",IFERROR(INDEX('Regras por canal'!$F$5:$F$9,MATCH($B14,'Regras por canal'!$A$5:$A$9,0)),"")) | AG14: =IF($B14="","",IFERROR(INDEX('Regras por canal'!$G$5:$G$9,MATCH($B14,'Regras por canal'!$A$5:$A$9,0)),"")) | AH14: =IF($B14="","",IFERROR(INDEX('Regras por canal'!$H$5:$H$9,MATCH($B14,'Regras por canal'!$A$5:$A$9,0)),"")) | AI14: =IF($B14="","",IFERROR(INDEX('Regras por canal'!$I$5:$I$9,MATCH($B14,'Regras por canal'!$A$5:$A$9,0)),"")) | AJ14: =IF($B14="","",IFERROR(INDEX('Regras por canal'!$J$5:$J$9,MATCH($B14,'Regras por canal'!$A$5:$A$9,0)),"")) | AK14: =IF($B14="","",IFERROR(INDEX('Regras por canal'!$K$5:$K$9,MATCH($B14,'Regras por canal'!$A$5:$A$9,0)),"")) | AL14: =IF($B14="","",IFERROR(INDEX('Regras por canal'!$L$5:$L$9,MATCH($B14,'Regras por canal'!$A$5:$A$9,0)),"")) | AM14: =IF($B14="","",IFERROR(INDEX('Regras por canal'!$M$5:$M$9,MATCH($B14,'Regras por canal'!$A$5:$A$9,0)),"")) | AN14: =IF($B14="","",IFERROR(INDEX('Regras por canal'!$N$5:$N$9,MATCH($B14,'Regras por canal'!$A$5:$A$9,0)),"")) | AO14: =IF($A14="","",IFERROR(INDEX('Catálogo fonte'!$Q$5:$Q$104,MATCH($A14,'Catálogo fonte'!$A$5:$A$104,0)),"")) | AP14: =IF($B14="","",IFERROR(INDEX('Regras por canal'!$Q$5:$Q$9,MATCH($B14,'Regras por canal'!$A$5:$A$9,0)),""))
A15: =IF(OR(INDEX('Catálogo fonte'!$A$5:$A$104,INT((ROW()-5)/5)+1)="",INDEX('Regras por canal'!$A$5:$A$9,MOD(ROW()-5,5)+1)=""),"",INDEX('Catálogo fonte'!$A$5:$A$104,INT((ROW()-5)/5)+1)) | B15: =IF($A15="","",INDEX('Regras por canal'!$A$5:$A$9,MOD(ROW()-5,5)+1)) | C15: Sim | G15: =IF(OR($A15="",$B15=""),"",IF($D15<>"",$D15,IFERROR(INDEX('Catálogo fonte'!$B$5:$B$104,MATCH($A15,'Catálogo fonte'!$A$5:$A$104,0)),""))) | H15: =IF(OR($A15="",$B15=""),"",IF($E15<>"",$E15,IFERROR(INDEX('Catálogo fonte'!$C$5:$C$104,MATCH($A15,'Catálogo fonte'!$A$5:$A$104,0)),""))) | I15: =IF(OR($A15="",$B15=""),"",IFERROR(INDEX('Catálogo fonte'!$E$5:$E$104,MATCH($A15,'Catálogo fonte'!$A$5:$A$104,0)),"")) | J15: =IF(OR($A15="",$B15=""),"",IFERROR(INDEX('Catálogo fonte'!$D$5:$D$104,MATCH($A15,'Catálogo fonte'!$A$5:$A$104,0)),"")) | K15: =IF(OR($A15="",$B15=""),"",IF($F15<>"",$F15,IFERROR(INDEX('Catálogo fonte'!$F$5:$F$104,MATCH($A15,'Catálogo fonte'!$A$5:$A$104,0)),""))) | L15: =IF(OR($A15="",$B15=""),"",IFERROR(INDEX('Catálogo fonte'!$G$5:$G$104,MATCH($A15,'Catálogo fonte'!$A$5:$A$104,0)),"")) | M15: =IF(OR($A15="",$B15=""),"",IFERROR(INDEX('Catálogo fonte'!$H$5:$H$104,MATCH($A15,'Catálogo fonte'!$A$5:$A$104,0)),"")) | N15: =IF(OR($A15="",$B15=""),"",IFERROR(INDEX('Catálogo fonte'!$I$5:$I$104,MATCH($A15,'Catálogo fonte'!$A$5:$A$104,0)),"")) | O15: =IF(OR($A15="",$B15=""),"",IFERROR(INDEX('Catálogo fonte'!$J$5:$J$104,MATCH($A15,'Catálogo fonte'!$A$5:$A$104,0)),"")) | P15: =IF(OR($A15="",$B15=""),"",IFERROR(INDEX('Catálogo fonte'!$K$5:$K$104,MATCH($A15,'Catálogo fonte'!$A$5:$A$104,0)),"")) | Q15: =IF(OR($A15="",$B15=""),"",IFERROR(INDEX('Catálogo fonte'!$L$5:$L$104,MATCH($A15,'Catálogo fonte'!$A$5:$A$104,0)),"")) | R15: =IF(OR($A15="",$B15=""),"",IFERROR(INDEX('Catálogo fonte'!$M$5:$M$104,MATCH($A15,'Catálogo fonte'!$A$5:$A$104,0)),"")) | S15: =IF(OR($A15="",$B15=""),"",IFERROR(INDEX('Catálogo fonte'!$N$5:$N$104,MATCH($A15,'Catálogo fonte'!$A$5:$A$104,0)),"")) | T15: =IF(OR($A15="",$B15=""),"",IFERROR(INDEX('Catálogo fonte'!$O$5:$O$104,MATCH($A15,'Catálogo fonte'!$A$5:$A$104,0)),"")) | U15: =IF(OR($A15="",$B15=""),"",IFERROR(INDEX('Catálogo fonte'!$P$5:$P$104,MATCH($A15,'Catálogo fonte'!$A$5:$A$104,0)),"")) | V15: =IF(OR($A15="",$B15=""),"",--($S15<>"")+--($T15<>"")+--($U15<>"")) | W15: =IF(OR($A15="",$B15="",$C15<>"Sim"),"",_xlfn.TEXTJOIN(" | ",TRUE,IF($AP15<>"Regra válida","Regra do canal inválida",""),IF(COUNTIF('Catálogo fonte'!$A$5:$A$104,$A15)>1,"SKU duplicado",""),IF($AO15<>"Sim","Produto inativo",""),IF($AB15<>"Sim","Canal inativo",""),IF($G15="","Título ausente",""),IF(AND($G15<>"",$AL15<>"",LEN($G15)>$AL15),"Título excede o limite",""),IF(AND($AC15="Sim",$H15=""),"Categoria ausente",""),IF(AND($AK15>0,LEN($I15)<$AK15),"Descrição abaixo do mínimo",""),IF(AND($AE15="Sim",$J15=""),"Marca ausente",""),IF(OR($K15="",NOT(ISNUMBER($K15)),$K15<=0),"Preço inválido",""),IF(AND(ISNUMBER($K15),$AM15<>"",$K15<$AM15),"Preço abaixo do mínimo",""),IF(AND(ISNUMBER($K15),$AN15<>"",$K15>$AN15),"Preço acima do máximo",""),IF(AND($AD15="Sim",$L15=""),"GTIN ausente",""),IF(AND($L15<>"",NOT(IFERROR(AND(LEN($L15)=13,ISNUMBER(VALUE($L15))),FALSE))),"GTIN inválido",""),IF(AND($AF15="Sim",$M15=""),"Cor ausente",""),IF(AND($AG15="Sim",$N15=""),"Tamanho/modelo ausente",""),IF(AND($AH15="Sim",OR(NOT(ISNUMBER($O15)),$O15<=0)),"Peso ausente ou inválido",""),IF(AND($AI15="Sim",OR(NOT(ISNUMBER($P15)),$P15<=0,NOT(ISNUMBER($Q15)),$Q15<=0,NOT(ISNUMBER($R15)),$R15<=0)),"Dimensões ausentes ou inválidas",""),IF($V15<$AJ15,"Mídias abaixo do mínimo",""))) | X15: =IF(OR($A15="",$B15=""),"",IF($C15<>"Sim","Não selecionado",IF($W15="","Pronto para publicar","Bloqueado"))) | Y15: Publicar | Z15: =IF(OR($A15="",$B15=""),"",IF($C15<>"Sim","Fora do feed",IF($X15="Bloqueado","Bloqueado",IF($Y15="Publicar","Liberado para feed",IF($Y15="Manter rascunho","Mantido em rascunho","Aguardando decisão"))))) | AA15: =IF(OR($A15="",$B15=""),"",$A15&"|"&$B15) | AB15: =IF($B15="","",IFERROR(INDEX('Regras por canal'!$B$5:$B$9,MATCH($B15,'Regras por canal'!$A$5:$A$9,0)),"")) | AC15: =IF($B15="","",IFERROR(INDEX('Regras por canal'!$C$5:$C$9,MATCH($B15,'Regras por canal'!$A$5:$A$9,0)),"")) | AD15: =IF($B15="","",IFERROR(INDEX('Regras por canal'!$D$5:$D$9,MATCH($B15,'Regras por canal'!$A$5:$A$9,0)),"")) | AE15: =IF($B15="","",IFERROR(INDEX('Regras por canal'!$E$5:$E$9,MATCH($B15,'Regras por canal'!$A$5:$A$9,0)),"")) | AF15: =IF($B15="","",IFERROR(INDEX('Regras por canal'!$F$5:$F$9,MATCH($B15,'Regras por canal'!$A$5:$A$9,0)),"")) | AG15: =IF($B15="","",IFERROR(INDEX('Regras por canal'!$G$5:$G$9,MATCH($B15,'Regras por canal'!$A$5:$A$9,0)),"")) | AH15: =IF($B15="","",IFERROR(INDEX('Regras por canal'!$H$5:$H$9,MATCH($B15,'Regras por canal'!$A$5:$A$9,0)),"")) | AI15: =IF($B15="","",IFERROR(INDEX('Regras por canal'!$I$5:$I$9,MATCH($B15,'Regras por canal'!$A$5:$A$9,0)),"")) | AJ15: =IF($B15="","",IFERROR(INDEX('Regras por canal'!$J$5:$J$9,MATCH($B15,'Regras por canal'!$A$5:$A$9,0)),"")) | AK15: =IF($B15="","",IFERROR(INDEX('Regras por canal'!$K$5:$K$9,MATCH($B15,'Regras por canal'!$A$5:$A$9,0)),"")) | AL15: =IF($B15="","",IFERROR(INDEX('Regras por canal'!$L$5:$L$9,MATCH($B15,'Regras por canal'!$A$5:$A$9,0)),"")) | AM15: =IF($B15="","",IFERROR(INDEX('Regras por canal'!$M$5:$M$9,MATCH($B15,'Regras por canal'!$A$5:$A$9,0)),"")) | AN15: =IF($B15="","",IFERROR(INDEX('Regras por canal'!$N$5:$N$9,MATCH($B15,'Regras por canal'!$A$5:$A$9,0)),"")) | AO15: =IF($A15="","",IFERROR(INDEX('Catálogo fonte'!$Q$5:$Q$104,MATCH($A15,'Catálogo fonte'!$A$5:$A$104,0)),"")) | AP15: =IF($B15="","",IFERROR(INDEX('Regras por canal'!$Q$5:$Q$9,MATCH($B15,'Regras por canal'!$A$5:$A$9,0)),""))
A16: =IF(OR(INDEX('Catálogo fonte'!$A$5:$A$104,INT((ROW()-5)/5)+1)="",INDEX('Regras por canal'!$A$5:$A$9,MOD(ROW()-5,5)+1)=""),"",INDEX('Catálogo fonte'!$A$5:$A$104,INT((ROW()-5)/5)+1)) | B16: =IF($A16="","",INDEX('Regras por canal'!$A$5:$A$9,MOD(ROW()-5,5)+1)) | C16: Sim | G16: =IF(OR($A16="",$B16=""),"",IF($D16<>"",$D16,IFERROR(INDEX('Catálogo fonte'!$B$5:$B$104,MATCH($A16,'Catálogo fonte'!$A$5:$A$104,0)),""))) | H16: =IF(OR($A16="",$B16=""),"",IF($E16<>"",$E16,IFERROR(INDEX('Catálogo fonte'!$C$5:$C$104,MATCH($A16,'Catálogo fonte'!$A$5:$A$104,0)),""))) | I16: =IF(OR($A16="",$B16=""),"",IFERROR(INDEX('Catálogo fonte'!$E$5:$E$104,MATCH($A16,'Catálogo fonte'!$A$5:$A$104,0)),"")) | J16: =IF(OR($A16="",$B16=""),"",IFERROR(INDEX('Catálogo fonte'!$D$5:$D$104,MATCH($A16,'Catálogo fonte'!$A$5:$A$104,0)),"")) | K16: =IF(OR($A16="",$B16=""),"",IF($F16<>"",$F16,IFERROR(INDEX('Catálogo fonte'!$F$5:$F$104,MATCH($A16,'Catálogo fonte'!$A$5:$A$104,0)),""))) | L16: =IF(OR($A16="",$B16=""),"",IFERROR(INDEX('Catálogo fonte'!$G$5:$G$104,MATCH($A16,'Catálogo fonte'!$A$5:$A$104,0)),"")) | M16: =IF(OR($A16="",$B16=""),"",IFERROR(INDEX('Catálogo fonte'!$H$5:$H$104,MATCH($A16,'Catálogo fonte'!$A$5:$A$104,0)),"")) | N16: =IF(OR($A16="",$B16=""),"",IFERROR(INDEX('Catálogo fonte'!$I$5:$I$104,MATCH($A16,'Catálogo fonte'!$A$5:$A$104,0)),"")) | O16: =IF(OR($A16="",$B16=""),"",IFERROR(INDEX('Catálogo fonte'!$J$5:$J$104,MATCH($A16,'Catálogo fonte'!$A$5:$A$104,0)),"")) | P16: =IF(OR($A16="",$B16=""),"",IFERROR(INDEX('Catálogo fonte'!$K$5:$K$104,MATCH($A16,'Catálogo fonte'!$A$5:$A$104,0)),"")) | Q16: =IF(OR($A16="",$B16=""),"",IFERROR(INDEX('Catálogo fonte'!$L$5:$L$104,MATCH($A16,'Catálogo fonte'!$A$5:$A$104,0)),"")) | R16: =IF(OR($A16="",$B16=""),"",IFERROR(INDEX('Catálogo fonte'!$M$5:$M$104,MATCH($A16,'Catálogo fonte'!$A$5:$A$104,0)),"")) | S16: =IF(OR($A16="",$B16=""),"",IFERROR(INDEX('Catálogo fonte'!$N$5:$N$104,MATCH($A16,'Catálogo fonte'!$A$5:$A$104,0)),"")) | T16: =IF(OR($A16="",$B16=""),"",IFERROR(INDEX('Catálogo fonte'!$O$5:$O$104,MATCH($A16,'Catálogo fonte'!$A$5:$A$104,0)),"")) | U16: =IF(OR($A16="",$B16=""),"",IFERROR(INDEX('Catálogo fonte'!$P$5:$P$104,MATCH($A16,'Catálogo fonte'!$A$5:$A$104,0)),"")) | V16: =IF(OR($A16="",$B16=""),"",--($S16<>"")+--($T16<>"")+--($U16<>"")) | W16: =IF(OR($A16="",$B16="",$C16<>"Sim"),"",_xlfn.TEXTJOIN(" | ",TRUE,IF($AP16<>"Regra válida","Regra do canal inválida",""),IF(COUNTIF('Catálogo fonte'!$A$5:$A$104,$A16)>1,"SKU duplicado",""),IF($AO16<>"Sim","Produto inativo",""),IF($AB16<>"Sim","Canal inativo",""),IF($G16="","Título ausente",""),IF(AND($G16<>"",$AL16<>"",LEN($G16)>$AL16),"Título excede o limite",""),IF(AND($AC16="Sim",$H16=""),"Categoria ausente",""),IF(AND($AK16>0,LEN($I16)<$AK16),"Descrição abaixo do mínimo",""),IF(AND($AE16="Sim",$J16=""),"Marca ausente",""),IF(OR($K16="",NOT(ISNUMBER($K16)),$K16<=0),"Preço inválido",""),IF(AND(ISNUMBER($K16),$AM16<>"",$K16<$AM16),"Preço abaixo do mínimo",""),IF(AND(ISNUMBER($K16),$AN16<>"",$K16>$AN16),"Preço acima do máximo",""),IF(AND($AD16="Sim",$L16=""),"GTIN ausente",""),IF(AND($L16<>"",NOT(IFERROR(AND(LEN($L16)=13,ISNUMBER(VALUE($L16))),FALSE))),"GTIN inválido",""),IF(AND($AF16="Sim",$M16=""),"Cor ausente",""),IF(AND($AG16="Sim",$N16=""),"Tamanho/modelo ausente",""),IF(AND($AH16="Sim",OR(NOT(ISNUMBER($O16)),$O16<=0)),"Peso ausente ou inválido",""),IF(AND($AI16="Sim",OR(NOT(ISNUMBER($P16)),$P16<=0,NOT(ISNUMBER($Q16)),$Q16<=0,NOT(ISNUMBER($R16)),$R16<=0)),"Dimensões ausentes ou inválidas",""),IF($V16<$AJ16,"Mídias abaixo do mínimo",""))) | X16: =IF(OR($A16="",$B16=""),"",IF($C16<>"Sim","Não selecionado",IF($W16="","Pronto para publicar","Bloqueado"))) | Y16: Não definida | Z16: =IF(OR($A16="",$B16=""),"",IF($C16<>"Sim","Fora do feed",IF($X16="Bloqueado","Bloqueado",IF($Y16="Publicar","Liberado para feed",IF($Y16="Manter rascunho","Mantido em rascunho","Aguardando decisão"))))) | AA16: =IF(OR($A16="",$B16=""),"",$A16&"|"&$B16) | AB16: =IF($B16="","",IFERROR(INDEX('Regras por canal'!$B$5:$B$9,MATCH($B16,'Regras por canal'!$A$5:$A$9,0)),"")) | AC16: =IF($B16="","",IFERROR(INDEX('Regras por canal'!$C$5:$C$9,MATCH($B16,'Regras por canal'!$A$5:$A$9,0)),"")) | AD16: =IF($B16="","",IFERROR(INDEX('Regras por canal'!$D$5:$D$9,MATCH($B16,'Regras por canal'!$A$5:$A$9,0)),"")) | AE16: =IF($B16="","",IFERROR(INDEX('Regras por canal'!$E$5:$E$9,MATCH($B16,'Regras por canal'!$A$5:$A$9,0)),"")) | AF16: =IF($B16="","",IFERROR(INDEX('Regras por canal'!$F$5:$F$9,MATCH($B16,'Regras por canal'!$A$5:$A$9,0)),"")) | AG16: =IF($B16="","",IFERROR(INDEX('Regras por canal'!$G$5:$G$9,MATCH($B16,'Regras por canal'!$A$5:$A$9,0)),"")) | AH16: =IF($B16="","",IFERROR(INDEX('Regras por canal'!$H$5:$H$9,MATCH($B16,'Regras por canal'!$A$5:$A$9,0)),"")) | AI16: =IF($B16="","",IFERROR(INDEX('Regras por canal'!$I$5:$I$9,MATCH($B16,'Regras por canal'!$A$5:$A$9,0)),"")) | AJ16: =IF($B16="","",IFERROR(INDEX('Regras por canal'!$J$5:$J$9,MATCH($B16,'Regras por canal'!$A$5:$A$9,0)),"")) | AK16: =IF($B16="","",IFERROR(INDEX('Regras por canal'!$K$5:$K$9,MATCH($B16,'Regras por canal'!$A$5:$A$9,0)),"")) | AL16: =IF($B16="","",IFERROR(INDEX('Regras por canal'!$L$5:$L$9,MATCH($B16,'Regras por canal'!$A$5:$A$9,0)),"")) | AM16: =IF($B16="","",IFERROR(INDEX('Regras por canal'!$M$5:$M$9,MATCH($B16,'Regras por canal'!$A$5:$A$9,0)),"")) | AN16: =IF($B16="","",IFERROR(INDEX('Regras por canal'!$N$5:$N$9,MATCH($B16,'Regras por canal'!$A$5:$A$9,0)),"")) | AO16: =IF($A16="","",IFERROR(INDEX('Catálogo fonte'!$Q$5:$Q$104,MATCH($A16,'Catálogo fonte'!$A$5:$A$104,0)),"")) | AP16: =IF($B16="","",IFERROR(INDEX('Regras por canal'!$Q$5:$Q$9,MATCH($B16,'Regras por canal'!$A$5:$A$9,0)),""))
A17: =IF(OR(INDEX('Catálogo fonte'!$A$5:$A$104,INT((ROW()-5)/5)+1)="",INDEX('Regras por canal'!$A$5:$A$9,MOD(ROW()-5,5)+1)=""),"",INDEX('Catálogo fonte'!$A$5:$A$104,INT((ROW()-5)/5)+1)) | B17: =IF($A17="","",INDEX('Regras por canal'!$A$5:$A$9,MOD(ROW()-5,5)+1)) | C17: Sim | G17: =IF(OR($A17="",$B17=""),"",IF($D17<>"",$D17,IFERROR(INDEX('Catálogo fonte'!$B$5:$B$104,MATCH($A17,'Catálogo fonte'!$A$5:$A$104,0)),""))) | H17: =IF(OR($A17="",$B17=""),"",IF($E17<>"",$E17,IFERROR(INDEX('Catálogo fonte'!$C$5:$C$104,MATCH($A17,'Catálogo fonte'!$A$5:$A$104,0)),""))) | I17: =IF(OR($A17="",$B17=""),"",IFERROR(INDEX('Catálogo fonte'!$E$5:$E$104,MATCH($A17,'Catálogo fonte'!$A$5:$A$104,0)),"")) | J17: =IF(OR($A17="",$B17=""),"",IFERROR(INDEX('Catálogo fonte'!$D$5:$D$104,MATCH($A17,'Catálogo fonte'!$A$5:$A$104,0)),"")) | K17: =IF(OR($A17="",$B17=""),"",IF($F17<>"",$F17,IFERROR(INDEX('Catálogo fonte'!$F$5:$F$104,MATCH($A17,'Catálogo fonte'!$A$5:$A$104,0)),""))) | L17: =IF(OR($A17="",$B17=""),"",IFERROR(INDEX('Catálogo fonte'!$G$5:$G$104,MATCH($A17,'Catálogo fonte'!$A$5:$A$104,0)),"")) | M17: =IF(OR($A17="",$B17=""),"",IFERROR(INDEX('Catálogo fonte'!$H$5:$H$104,MATCH($A17,'Catálogo fonte'!$A$5:$A$104,0)),"")) | N17: =IF(OR($A17="",$B17=""),"",IFERROR(INDEX('Catálogo fonte'!$I$5:$I$104,MATCH($A17,'Catálogo fonte'!$A$5:$A$104,0)),"")) | O17: =IF(OR($A17="",$B17=""),"",IFERROR(INDEX('Catálogo fonte'!$J$5:$J$104,MATCH($A17,'Catálogo fonte'!$A$5:$A$104,0)),"")) | P17: =IF(OR($A17="",$B17=""),"",IFERROR(INDEX('Catálogo fonte'!$K$5:$K$104,MATCH($A17,'Catálogo fonte'!$A$5:$A$104,0)),"")) | Q17: =IF(OR($A17="",$B17=""),"",IFERROR(INDEX('Catálogo fonte'!$L$5:$L$104,MATCH($A17,'Catálogo fonte'!$A$5:$A$104,0)),"")) | R17: =IF(OR($A17="",$B17=""),"",IFERROR(INDEX('Catálogo fonte'!$M$5:$M$104,MATCH($A17,'Catálogo fonte'!$A$5:$A$104,0)),"")) | S17: =IF(OR($A17="",$B17=""),"",IFERROR(INDEX('Catálogo fonte'!$N$5:$N$104,MATCH($A17,'Catálogo fonte'!$A$5:$A$104,0)),"")) | T17: =IF(OR($A17="",$B17=""),"",IFERROR(INDEX('Catálogo fonte'!$O$5:$O$104,MATCH($A17,'Catálogo fonte'!$A$5:$A$104,0)),"")) | U17: =IF(OR($A17="",$B17=""),"",IFERROR(INDEX('Catálogo fonte'!$P$5:$P$104,MATCH($A17,'Catálogo fonte'!$A$5:$A$104,0)),"")) | V17: =IF(OR($A17="",$B17=""),"",--($S17<>"")+--($T17<>"")+--($U17<>"")) | W17: =IF(OR($A17="",$B17="",$C17<>"Sim"),"",_xlfn.TEXTJOIN(" | ",TRUE,IF($AP17<>"Regra válida","Regra do canal inválida",""),IF(COUNTIF('Catálogo fonte'!$A$5:$A$104,$A17)>1,"SKU duplicado",""),IF($AO17<>"Sim","Produto inativo",""),IF($AB17<>"Sim","Canal inativo",""),IF($G17="","Título ausente",""),IF(AND($G17<>"",$AL17<>"",LEN($G17)>$AL17),"Título excede o limite",""),IF(AND($AC17="Sim",$H17=""),"Categoria ausente",""),IF(AND($AK17>0,LEN($I17)<$AK17),"Descrição abaixo do mínimo",""),IF(AND($AE17="Sim",$J17=""),"Marca ausente",""),IF(OR($K17="",NOT(ISNUMBER($K17)),$K17<=0),"Preço inválido",""),IF(AND(ISNUMBER($K17),$AM17<>"",$K17<$AM17),"Preço abaixo do mínimo",""),IF(AND(ISNUMBER($K17),$AN17<>"",$K17>$AN17),"Preço acima do máximo",""),IF(AND($AD17="Sim",$L17=""),"GTIN ausente",""),IF(AND($L17<>"",NOT(IFERROR(AND(LEN($L17)=13,ISNUMBER(VALUE($L17))),FALSE))),"GTIN inválido",""),IF(AND($AF17="Sim",$M17=""),"Cor ausente",""),IF(AND($AG17="Sim",$N17=""),"Tamanho/modelo ausente",""),IF(AND($AH17="Sim",OR(NOT(ISNUMBER($O17)),$O17<=0)),"Peso ausente ou inválido",""),IF(AND($AI17="Sim",OR(NOT(ISNUMBER($P17)),$P17<=0,NOT(ISNUMBER($Q17)),$Q17<=0,NOT(ISNUMBER($R17)),$R17<=0)),"Dimensões ausentes ou inválidas",""),IF($V17<$AJ17,"Mídias abaixo do mínimo",""))) | X17: =IF(OR($A17="",$B17=""),"",IF($C17<>"Sim","Não selecionado",IF($W17="","Pronto para publicar","Bloqueado"))) | Y17: Publicar | Z17: =IF(OR($A17="",$B17=""),"",IF($C17<>"Sim","Fora do feed",IF($X17="Bloqueado","Bloqueado",IF($Y17="Publicar","Liberado para feed",IF($Y17="Manter rascunho","Mantido em rascunho","Aguardando decisão"))))) | AA17: =IF(OR($A17="",$B17=""),"",$A17&"|"&$B17) | AB17: =IF($B17="","",IFERROR(INDEX('Regras por canal'!$B$5:$B$9,MATCH($B17,'Regras por canal'!$A$5:$A$9,0)),"")) | AC17: =IF($B17="","",IFERROR(INDEX('Regras por canal'!$C$5:$C$9,MATCH($B17,'Regras por canal'!$A$5:$A$9,0)),"")) | AD17: =IF($B17="","",IFERROR(INDEX('Regras por canal'!$D$5:$D$9,MATCH($B17,'Regras por canal'!$A$5:$A$9,0)),"")) | AE17: =IF($B17="","",IFERROR(INDEX('Regras por canal'!$E$5:$E$9,MATCH($B17,'Regras por canal'!$A$5:$A$9,0)),"")) | AF17: =IF($B17="","",IFERROR(INDEX('Regras por canal'!$F$5:$F$9,MATCH($B17,'Regras por canal'!$A$5:$A$9,0)),"")) | AG17: =IF($B17="","",IFERROR(INDEX('Regras por canal'!$G$5:$G$9,MATCH($B17,'Regras por canal'!$A$5:$A$9,0)),"")) | AH17: =IF($B17="","",IFERROR(INDEX('Regras por canal'!$H$5:$H$9,MATCH($B17,'Regras por canal'!$A$5:$A$9,0)),"")) | AI17: =IF($B17="","",IFERROR(INDEX('Regras por canal'!$I$5:$I$9,MATCH($B17,'Regras por canal'!$A$5:$A$9,0)),"")) | AJ17: =IF($B17="","",IFERROR(INDEX('Regras por canal'!$J$5:$J$9,MATCH($B17,'Regras por canal'!$A$5:$A$9,0)),"")) | AK17: =IF($B17="","",IFERROR(INDEX('Regras por canal'!$K$5:$K$9,MATCH($B17,'Regras por canal'!$A$5:$A$9,0)),"")) | AL17: =IF($B17="","",IFERROR(INDEX('Regras por canal'!$L$5:$L$9,MATCH($B17,'Regras por canal'!$A$5:$A$9,0)),"")) | AM17: =IF($B17="","",IFERROR(INDEX('Regras por canal'!$M$5:$M$9,MATCH($B17,'Regras por canal'!$A$5:$A$9,0)),"")) | AN17: =IF($B17="","",IFERROR(INDEX('Regras por canal'!$N$5:$N$9,MATCH($B17,'Regras por canal'!$A$5:$A$9,0)),"")) | AO17: =IF($A17="","",IFERROR(INDEX('Catálogo fonte'!$Q$5:$Q$104,MATCH($A17,'Catálogo fonte'!$A$5:$A$104,0)),"")) | AP17: =IF($B17="","",IFERROR(INDEX('Regras por canal'!$Q$5:$Q$9,MATCH($B17,'Regras por canal'!$A$5:$A$9,0)),""))
A18: =IF(OR(INDEX('Catálogo fonte'!$A$5:$A$104,INT((ROW()-5)/5)+1)="",INDEX('Regras por canal'!$A$5:$A$9,MOD(ROW()-5,5)+1)=""),"",INDEX('Catálogo fonte'!$A$5:$A$104,INT((ROW()-5)/5)+1)) | B18: =IF($A18="","",INDEX('Regras por canal'!$A$5:$A$9,MOD(ROW()-5,5)+1)) | G18: =IF(OR($A18="",$B18=""),"",IF($D18<>"",$D18,IFERROR(INDEX('Catálogo fonte'!$B$5:$B$104,MATCH($A18,'Catálogo fonte'!$A$5:$A$104,0)),""))) | H18: =IF(OR($A18="",$B18=""),"",IF($E18<>"",$E18,IFERROR(INDEX('Catálogo fonte'!$C$5:$C$104,MATCH($A18,'Catálogo fonte'!$A$5:$A$104,0)),""))) | I18: =IF(OR($A18="",$B18=""),"",IFERROR(INDEX('Catálogo fonte'!$E$5:$E$104,MATCH($A18,'Catálogo fonte'!$A$5:$A$104,0)),"")) | J18: =IF(OR($A18="",$B18=""),"",IFERROR(INDEX('Catálogo fonte'!$D$5:$D$104,MATCH($A18,'Catálogo fonte'!$A$5:$A$104,0)),"")) | K18: =IF(OR($A18="",$B18=""),"",IF($F18<>"",$F18,IFERROR(INDEX('Catálogo fonte'!$F$5:$F$104,MATCH($A18,'Catálogo fonte'!$A$5:$A$104,0)),""))) | L18: =IF(OR($A18="",$B18=""),"",IFERROR(INDEX('Catálogo fonte'!$G$5:$G$104,MATCH($A18,'Catálogo fonte'!$A$5:$A$104,0)),"")) | M18: =IF(OR($A18="",$B18=""),"",IFERROR(INDEX('Catálogo fonte'!$H$5:$H$104,MATCH($A18,'Catálogo fonte'!$A$5:$A$104,0)),"")) | N18: =IF(OR($A18="",$B18=""),"",IFERROR(INDEX('Catálogo fonte'!$I$5:$I$104,MATCH($A18,'Catálogo fonte'!$A$5:$A$104,0)),"")) | O18: =IF(OR($A18="",$B18=""),"",IFERROR(INDEX('Catálogo fonte'!$J$5:$J$104,MATCH($A18,'Catálogo fonte'!$A$5:$A$104,0)),"")) | P18: =IF(OR($A18="",$B18=""),"",IFERROR(INDEX('Catálogo fonte'!$K$5:$K$104,MATCH($A18,'Catálogo fonte'!$A$5:$A$104,0)),"")) | Q18: =IF(OR($A18="",$B18=""),"",IFERROR(INDEX('Catálogo fonte'!$L$5:$L$104,MATCH($A18,'Catálogo fonte'!$A$5:$A$104,0)),"")) | R18: =IF(OR($A18="",$B18=""),"",IFERROR(INDEX('Catálogo fonte'!$M$5:$M$104,MATCH($A18,'Catálogo fonte'!$A$5:$A$104,0)),"")) | S18: =IF(OR($A18="",$B18=""),"",IFERROR(INDEX('Catálogo fonte'!$N$5:$N$104,MATCH($A18,'Catálogo fonte'!$A$5:$A$104,0)),"")) | T18: =IF(OR($A18="",$B18=""),"",IFERROR(INDEX('Catálogo fonte'!$O$5:$O$104,MATCH($A18,'Catálogo fonte'!$A$5:$A$104,0)),"")) | U18: =IF(OR($A18="",$B18=""),"",IFERROR(INDEX('Catálogo fonte'!$P$5:$P$104,MATCH($A18,'Catálogo fonte'!$A$5:$A$104,0)),"")) | V18: =IF(OR($A18="",$B18=""),"",--($S18<>"")+--($T18<>"")+--($U18<>"")) | W18: =IF(OR($A18="",$B18="",$C18<>"Sim"),"",_xlfn.TEXTJOIN(" | ",TRUE,IF($AP18<>"Regra válida","Regra do canal inválida",""),IF(COUNTIF('Catálogo fonte'!$A$5:$A$104,$A18)>1,"SKU duplicado",""),IF($AO18<>"Sim","Produto inativo",""),IF($AB18<>"Sim","Canal inativo",""),IF($G18="","Título ausente",""),IF(AND($G18<>"",$AL18<>"",LEN($G18)>$AL18),"Título excede o limite",""),IF(AND($AC18="Sim",$H18=""),"Categoria ausente",""),IF(AND($AK18>0,LEN($I18)<$AK18),"Descrição abaixo do mínimo",""),IF(AND($AE18="Sim",$J18=""),"Marca ausente",""),IF(OR($K18="",NOT(ISNUMBER($K18)),$K18<=0),"Preço inválido",""),IF(AND(ISNUMBER($K18),$AM18<>"",$K18<$AM18),"Preço abaixo do mínimo",""),IF(AND(ISNUMBER($K18),$AN18<>"",$K18>$AN18),"Preço acima do máximo",""),IF(AND($AD18="Sim",$L18=""),"GTIN ausente",""),IF(AND($L18<>"",NOT(IFERROR(AND(LEN($L18)=13,ISNUMBER(VALUE($L18))),FALSE))),"GTIN inválido",""),IF(AND($AF18="Sim",$M18=""),"Cor ausente",""),IF(AND($AG18="Sim",$N18=""),"Tamanho/modelo ausente",""),IF(AND($AH18="Sim",OR(NOT(ISNUMBER($O18)),$O18<=0)),"Peso ausente ou inválido",""),IF(AND($AI18="Sim",OR(NOT(ISNUMBER($P18)),$P18<=0,NOT(ISNUMBER($Q18)),$Q18<=0,NOT(ISNUMBER($R18)),$R18<=0)),"Dimensões ausentes ou inválidas",""),IF($V18<$AJ18,"Mídias abaixo do mínimo",""))) | X18: =IF(OR($A18="",$B18=""),"",IF($C18<>"Sim","Não selecionado",IF($W18="","Pronto para publicar","Bloqueado"))) | Z18: =IF(OR($A18="",$B18=""),"",IF($C18<>"Sim","Fora do feed",IF($X18="Bloqueado","Bloqueado",IF($Y18="Publicar","Liberado para feed",IF($Y18="Manter rascunho","Mantido em rascunho","Aguardando decisão"))))) | AA18: =IF(OR($A18="",$B18=""),"",$A18&"|"&$B18) | AB18: =IF($B18="","",IFERROR(INDEX('Regras por canal'!$B$5:$B$9,MATCH($B18,'Regras por canal'!$A$5:$A$9,0)),"")) | AC18: =IF($B18="","",IFERROR(INDEX('Regras por canal'!$C$5:$C$9,MATCH($B18,'Regras por canal'!$A$5:$A$9,0)),"")) | AD18: =IF($B18="","",IFERROR(INDEX('Regras por canal'!$D$5:$D$9,MATCH($B18,'Regras por canal'!$A$5:$A$9,0)),"")) | AE18: =IF($B18="","",IFERROR(INDEX('Regras por canal'!$E$5:$E$9,MATCH($B18,'Regras por canal'!$A$5:$A$9,0)),"")) | AF18: =IF($B18="","",IFERROR(INDEX('Regras por canal'!$F$5:$F$9,MATCH($B18,'Regras por canal'!$A$5:$A$9,0)),"")) | AG18: =IF($B18="","",IFERROR(INDEX('Regras por canal'!$G$5:$G$9,MATCH($B18,'Regras por canal'!$A$5:$A$9,0)),"")) | AH18: =IF($B18="","",IFERROR(INDEX('Regras por canal'!$H$5:$H$9,MATCH($B18,'Regras por canal'!$A$5:$A$9,0)),"")) | AI18: =IF($B18="","",IFERROR(INDEX('Regras por canal'!$I$5:$I$9,MATCH($B18,'Regras por canal'!$A$5:$A$9,0)),"")) | AJ18: =IF($B18="","",IFERROR(INDEX('Regras por canal'!$J$5:$J$9,MATCH($B18,'Regras por canal'!$A$5:$A$9,0)),"")) | AK18: =IF($B18="","",IFERROR(INDEX('Regras por canal'!$K$5:$K$9,MATCH($B18,'Regras por canal'!$A$5:$A$9,0)),"")) | AL18: =IF($B18="","",IFERROR(INDEX('Regras por canal'!$L$5:$L$9,MATCH($B18,'Regras por canal'!$A$5:$A$9,0)),"")) | AM18: =IF($B18="","",IFERROR(INDEX('Regras por canal'!$M$5:$M$9,MATCH($B18,'Regras por canal'!$A$5:$A$9,0)),"")) | AN18: =IF($B18="","",IFERROR(INDEX('Regras por canal'!$N$5:$N$9,MATCH($B18,'Regras por canal'!$A$5:$A$9,0)),"")) | AO18: =IF($A18="","",IFERROR(INDEX('Catálogo fonte'!$Q$5:$Q$104,MATCH($A18,'Catálogo fonte'!$A$5:$A$104,0)),"")) | AP18: =IF($B18="","",IFERROR(INDEX('Regras por canal'!$Q$5:$Q$9,MATCH($B18,'Regras por canal'!$A$5:$A$9,0)),""))
A19: =IF(OR(INDEX('Catálogo fonte'!$A$5:$A$104,INT((ROW()-5)/5)+1)="",INDEX('Regras por canal'!$A$5:$A$9,MOD(ROW()-5,5)+1)=""),"",INDEX('Catálogo fonte'!$A$5:$A$104,INT((ROW()-5)/5)+1)) | B19: =IF($A19="","",INDEX('Regras por canal'!$A$5:$A$9,MOD(ROW()-5,5)+1)) | G19: =IF(OR($A19="",$B19=""),"",IF($D19<>"",$D19,IFERROR(INDEX('Catálogo fonte'!$B$5:$B$104,MATCH($A19,'Catálogo fonte'!$A$5:$A$104,0)),""))) | H19: =IF(OR($A19="",$B19=""),"",IF($E19<>"",$E19,IFERROR(INDEX('Catálogo fonte'!$C$5:$C$104,MATCH($A19,'Catálogo fonte'!$A$5:$A$104,0)),""))) | I19: =IF(OR($A19="",$B19=""),"",IFERROR(INDEX('Catálogo fonte'!$E$5:$E$104,MATCH($A19,'Catálogo fonte'!$A$5:$A$104,0)),"")) | J19: =IF(OR($A19="",$B19=""),"",IFERROR(INDEX('Catálogo fonte'!$D$5:$D$104,MATCH($A19,'Catálogo fonte'!$A$5:$A$104,0)),"")) | K19: =IF(OR($A19="",$B19=""),"",IF($F19<>"",$F19,IFERROR(INDEX('Catálogo fonte'!$F$5:$F$104,MATCH($A19,'Catálogo fonte'!$A$5:$A$104,0)),""))) | L19: =IF(OR($A19="",$B19=""),"",IFERROR(INDEX('Catálogo fonte'!$G$5:$G$104,MATCH($A19,'Catálogo fonte'!$A$5:$A$104,0)),"")) | M19: =IF(OR($A19="",$B19=""),"",IFERROR(INDEX('Catálogo fonte'!$H$5:$H$104,MATCH($A19,'Catálogo fonte'!$A$5:$A$104,0)),"")) | N19: =IF(OR($A19="",$B19=""),"",IFERROR(INDEX('Catálogo fonte'!$I$5:$I$104,MATCH($A19,'Catálogo fonte'!$A$5:$A$104,0)),"")) | O19: =IF(OR($A19="",$B19=""),"",IFERROR(INDEX('Catálogo fonte'!$J$5:$J$104,MATCH($A19,'Catálogo fonte'!$A$5:$A$104,0)),"")) | P19: =IF(OR($A19="",$B19=""),"",IFERROR(INDEX('Catálogo fonte'!$K$5:$K$104,MATCH($A19,'Catálogo fonte'!$A$5:$A$104,0)),"")) | Q19: =IF(OR($A19="",$B19=""),"",IFERROR(INDEX('Catálogo fonte'!$L$5:$L$104,MATCH($A19,'Catálogo fonte'!$A$5:$A$104,0)),"")) | R19: =IF(OR($A19="",$B19=""),"",IFERROR(INDEX('Catálogo fonte'!$M$5:$M$104,MATCH($A19,'Catálogo fonte'!$A$5:$A$104,0)),"")) | S19: =IF(OR($A19="",$B19=""),"",IFERROR(INDEX('Catálogo fonte'!$N$5:$N$104,MATCH($A19,'Catálogo fonte'!$A$5:$A$104,0)),"")) | T19: =IF(OR($A19="",$B19=""),"",IFERROR(INDEX('Catálogo fonte'!$O$5:$O$104,MATCH($A19,'Catálogo fonte'!$A$5:$A$104,0)),"")) | U19: =IF(OR($A19="",$B19=""),"",IFERROR(INDEX('Catálogo fonte'!$P$5:$P$104,MATCH($A19,'Catálogo fonte'!$A$5:$A$104,0)),"")) | V19: =IF(OR($A19="",$B19=""),"",--($S19<>"")+--($T19<>"")+--($U19<>"")) | W19: =IF(OR($A19="",$B19="",$C19<>"Sim"),"",_xlfn.TEXTJOIN(" | ",TRUE,IF($AP19<>"Regra válida","Regra do canal inválida",""),IF(COUNTIF('Catálogo fonte'!$A$5:$A$104,$A19)>1,"SKU duplicado",""),IF($AO19<>"Sim","Produto inativo",""),IF($AB19<>"Sim","Canal inativo",""),IF($G19="","Título ausente",""),IF(AND($G19<>"",$AL19<>"",LEN($G19)>$AL19),"Título excede o limite",""),IF(AND($AC19="Sim",$H19=""),"Categoria ausente",""),IF(AND($AK19>0,LEN($I19)<$AK19),"Descrição abaixo do mínimo",""),IF(AND($AE19="Sim",$J19=""),"Marca ausente",""),IF(OR($K19="",NOT(ISNUMBER($K19)),$K19<=0),"Preço inválido",""),IF(AND(ISNUMBER($K19),$AM19<>"",$K19<$AM19),"Preço abaixo do mínimo",""),IF(AND(ISNUMBER($K19),$AN19<>"",$K19>$AN19),"Preço acima do máximo",""),IF(AND($AD19="Sim",$L19=""),"GTIN ausente",""),IF(AND($L19<>"",NOT(IFERROR(AND(LEN($L19)=13,ISNUMBER(VALUE($L19))),FALSE))),"GTIN inválido",""),IF(AND($AF19="Sim",$M19=""),"Cor ausente",""),IF(AND($AG19="Sim",$N19=""),"Tamanho/modelo ausente",""),IF(AND($AH19="Sim",OR(NOT(ISNUMBER($O19)),$O19<=0)),"Peso ausente ou inválido",""),IF(AND($AI19="Sim",OR(NOT(ISNUMBER($P19)),$P19<=0,NOT(ISNUMBER($Q19)),$Q19<=0,NOT(ISNUMBER($R19)),$R19<=0)),"Dimensões ausentes ou inválidas",""),IF($V19<$AJ19,"Mídias abaixo do mínimo",""))) | X19: =IF(OR($A19="",$B19=""),"",IF($C19<>"Sim","Não selecionado",IF($W19="","Pronto para publicar","Bloqueado"))) | Z19: =IF(OR($A19="",$B19=""),"",IF($C19<>"Sim","Fora do feed",IF($X19="Bloqueado","Bloqueado",IF($Y19="Publicar","Liberado para feed",IF($Y19="Manter rascunho","Mantido em rascunho","Aguardando decisão"))))) | AA19: =IF(OR($A19="",$B19=""),"",$A19&"|"&$B19) | AB19: =IF($B19="","",IFERROR(INDEX('Regras por canal'!$B$5:$B$9,MATCH($B19,'Regras por canal'!$A$5:$A$9,0)),"")) | AC19: =IF($B19="","",IFERROR(INDEX('Regras por canal'!$C$5:$C$9,MATCH($B19,'Regras por canal'!$A$5:$A$9,0)),"")) | AD19: =IF($B19="","",IFERROR(INDEX('Regras por canal'!$D$5:$D$9,MATCH($B19,'Regras por canal'!$A$5:$A$9,0)),"")) | AE19: =IF($B19="","",IFERROR(INDEX('Regras por canal'!$E$5:$E$9,MATCH($B19,'Regras por canal'!$A$5:$A$9,0)),"")) | AF19: =IF($B19="","",IFERROR(INDEX('Regras por canal'!$F$5:$F$9,MATCH($B19,'Regras por canal'!$A$5:$A$9,0)),"")) | AG19: =IF($B19="","",IFERROR(INDEX('Regras por canal'!$G$5:$G$9,MATCH($B19,'Regras por canal'!$A$5:$A$9,0)),"")) | AH19: =IF($B19="","",IFERROR(INDEX('Regras por canal'!$H$5:$H$9,MATCH($B19,'Regras por canal'!$A$5:$A$9,0)),"")) | AI19: =IF($B19="","",IFERROR(INDEX('Regras por canal'!$I$5:$I$9,MATCH($B19,'Regras por canal'!$A$5:$A$9,0)),"")) | AJ19: =IF($B19="","",IFERROR(INDEX('Regras por canal'!$J$5:$J$9,MATCH($B19,'Regras por canal'!$A$5:$A$9,0)),"")) | AK19: =IF($B19="","",IFERROR(INDEX('Regras por canal'!$K$5:$K$9,MATCH($B19,'Regras por canal'!$A$5:$A$9,0)),"")) | AL19: =IF($B19="","",IFERROR(INDEX('Regras por canal'!$L$5:$L$9,MATCH($B19,'Regras por canal'!$A$5:$A$9,0)),"")) | AM19: =IF($B19="","",IFERROR(INDEX('Regras por canal'!$M$5:$M$9,MATCH($B19,'Regras por canal'!$A$5:$A$9,0)),"")) | AN19: =IF($B19="","",IFERROR(INDEX('Regras por canal'!$N$5:$N$9,MATCH($B19,'Regras por canal'!$A$5:$A$9,0)),"")) | AO19: =IF($A19="","",IFERROR(INDEX('Catálogo fonte'!$Q$5:$Q$104,MATCH($A19,'Catálogo fonte'!$A$5:$A$104,0)),"")) | AP19: =IF($B19="","",IFERROR(INDEX('Regras por canal'!$Q$5:$Q$9,MATCH($B19,'Regras por canal'!$A$5:$A$9,0)),""))
A20: =IF(OR(INDEX('Catálogo fonte'!$A$5:$A$104,INT((ROW()-5)/5)+1)="",INDEX('Regras por canal'!$A$5:$A$9,MOD(ROW()-5,5)+1)=""),"",INDEX('Catálogo fonte'!$A$5:$A$104,INT((ROW()-5)/5)+1)) | B20: =IF($A20="","",INDEX('Regras por canal'!$A$5:$A$9,MOD(ROW()-5,5)+1)) | C20: Sim | G20: =IF(OR($A20="",$B20=""),"",IF($D20<>"",$D20,IFERROR(INDEX('Catálogo fonte'!$B$5:$B$104,MATCH($A20,'Catálogo fonte'!$A$5:$A$104,0)),""))) | H20: =IF(OR($A20="",$B20=""),"",IF($E20<>"",$E20,IFERROR(INDEX('Catálogo fonte'!$C$5:$C$104,MATCH($A20,'Catálogo fonte'!$A$5:$A$104,0)),""))) | I20: =IF(OR($A20="",$B20=""),"",IFERROR(INDEX('Catálogo fonte'!$E$5:$E$104,MATCH($A20,'Catálogo fonte'!$A$5:$A$104,0)),"")) | J20: =IF(OR($A20="",$B20=""),"",IFERROR(INDEX('Catálogo fonte'!$D$5:$D$104,MATCH($A20,'Catálogo fonte'!$A$5:$A$104,0)),"")) | K20: =IF(OR($A20="",$B20=""),"",IF($F20<>"",$F20,IFERROR(INDEX('Catálogo fonte'!$F$5:$F$104,MATCH($A20,'Catálogo fonte'!$A$5:$A$104,0)),""))) | L20: =IF(OR($A20="",$B20=""),"",IFERROR(INDEX('Catálogo fonte'!$G$5:$G$104,MATCH($A20,'Catálogo fonte'!$A$5:$A$104,0)),"")) | M20: =IF(OR($A20="",$B20=""),"",IFERROR(INDEX('Catálogo fonte'!$H$5:$H$104,MATCH($A20,'Catálogo fonte'!$A$5:$A$104,0)),"")) | N20: =IF(OR($A20="",$B20=""),"",IFERROR(INDEX('Catálogo fonte'!$I$5:$I$104,MATCH($A20,'Catálogo fonte'!$A$5:$A$104,0)),"")) | O20: =IF(OR($A20="",$B20=""),"",IFERROR(INDEX('Catálogo fonte'!$J$5:$J$104,MATCH($A20,'Catálogo fonte'!$A$5:$A$104,0)),"")) | P20: =IF(OR($A20="",$B20=""),"",IFERROR(INDEX('Catálogo fonte'!$K$5:$K$104,MATCH($A20,'Catálogo fonte'!$A$5:$A$104,0)),"")) | Q20: =IF(OR($A20="",$B20=""),"",IFERROR(INDEX('Catálogo fonte'!$L$5:$L$104,MATCH($A20,'Catálogo fonte'!$A$5:$A$104,0)),"")) | R20: =IF(OR($A20="",$B20=""),"",IFERROR(INDEX('Catálogo fonte'!$M$5:$M$104,MATCH($A20,'Catálogo fonte'!$A$5:$A$104,0)),"")) | S20: =IF(OR($A20="",$B20=""),"",IFERROR(INDEX('Catálogo fonte'!$N$5:$N$104,MATCH($A20,'Catálogo fonte'!$A$5:$A$104,0)),"")) | T20: =IF(OR($A20="",$B20=""),"",IFERROR(INDEX('Catálogo fonte'!$O$5:$O$104,MATCH($A20,'Catálogo fonte'!$A$5:$A$104,0)),"")) | U20: =IF(OR($A20="",$B20=""),"",IFERROR(INDEX('Catálogo fonte'!$P$5:$P$104,MATCH($A20,'Catálogo fonte'!$A$5:$A$104,0)),"")) | V20: =IF(OR($A20="",$B20=""),"",--($S20<>"")+--($T20<>"")+--($U20<>"")) | W20: =IF(OR($A20="",$B20="",$C20<>"Sim"),"",_xlfn.TEXTJOIN(" | ",TRUE,IF($AP20<>"Regra válida","Regra do canal inválida",""),IF(COUNTIF('Catálogo fonte'!$A$5:$A$104,$A20)>1,"SKU duplicado",""),IF($AO20<>"Sim","Produto inativo",""),IF($AB20<>"Sim","Canal inativo",""),IF($G20="","Título ausente",""),IF(AND($G20<>"",$AL20<>"",LEN($G20)>$AL20),"Título excede o limite",""),IF(AND($AC20="Sim",$H20=""),"Categoria ausente",""),IF(AND($AK20>0,LEN($I20)<$AK20),"Descrição abaixo do mínimo",""),IF(AND($AE20="Sim",$J20=""),"Marca ausente",""),IF(OR($K20="",NOT(ISNUMBER($K20)),$K20<=0),"Preço inválido",""),IF(AND(ISNUMBER($K20),$AM20<>"",$K20<$AM20),"Preço abaixo do mínimo",""),IF(AND(ISNUMBER($K20),$AN20<>"",$K20>$AN20),"Preço acima do máximo",""),IF(AND($AD20="Sim",$L20=""),"GTIN ausente",""),IF(AND($L20<>"",NOT(IFERROR(AND(LEN($L20)=13,ISNUMBER(VALUE($L20))),FALSE))),"GTIN inválido",""),IF(AND($AF20="Sim",$M20=""),"Cor ausente",""),IF(AND($AG20="Sim",$N20=""),"Tamanho/modelo ausente",""),IF(AND($AH20="Sim",OR(NOT(ISNUMBER($O20)),$O20<=0)),"Peso ausente ou inválido",""),IF(AND($AI20="Sim",OR(NOT(ISNUMBER($P20)),$P20<=0,NOT(ISNUMBER($Q20)),$Q20<=0,NOT(ISNUMBER($R20)),$R20<=0)),"Dimensões ausentes ou inválidas",""),IF($V20<$AJ20,"Mídias abaixo do mínimo",""))) | X20: =IF(OR($A20="",$B20=""),"",IF($C20<>"Sim","Não selecionado",IF($W20="","Pronto para publicar","Bloqueado"))) | Y20: Publicar | Z20: =IF(OR($A20="",$B20=""),"",IF($C20<>"Sim","Fora do feed",IF($X20="Bloqueado","Bloqueado",IF($Y20="Publicar","Liberado para feed",IF($Y20="Manter rascunho","Mantido em rascunho","Aguardando decisão"))))) | AA20: =IF(OR($A20="",$B20=""),"",$A20&"|"&$B20) | AB20: =IF($B20="","",IFERROR(INDEX('Regras por canal'!$B$5:$B$9,MATCH($B20,'Regras por canal'!$A$5:$A$9,0)),"")) | AC20: =IF($B20="","",IFERROR(INDEX('Regras por canal'!$C$5:$C$9,MATCH($B20,'Regras por canal'!$A$5:$A$9,0)),"")) | AD20: =IF($B20="","",IFERROR(INDEX('Regras por canal'!$D$5:$D$9,MATCH($B20,'Regras por canal'!$A$5:$A$9,0)),"")) | AE20: =IF($B20="","",IFERROR(INDEX('Regras por canal'!$E$5:$E$9,MATCH($B20,'Regras por canal'!$A$5:$A$9,0)),"")) | AF20: =IF($B20="","",IFERROR(INDEX('Regras por canal'!$F$5:$F$9,MATCH($B20,'Regras por canal'!$A$5:$A$9,0)),"")) | AG20: =IF($B20="","",IFERROR(INDEX('Regras por canal'!$G$5:$G$9,MATCH($B20,'Regras por canal'!$A$5:$A$9,0)),"")) | AH20: =IF($B20="","",IFERROR(INDEX('Regras por canal'!$H$5:$H$9,MATCH($B20,'Regras por canal'!$A$5:$A$9,0)),"")) | AI20: =IF($B20="","",IFERROR(INDEX('Regras por canal'!$I$5:$I$9,MATCH($B20,'Regras por canal'!$A$5:$A$9,0)),"")) | AJ20: =IF($B20="","",IFERROR(INDEX('Regras por canal'!$J$5:$J$9,MATCH($B20,'Regras por canal'!$A$5:$A$9,0)),"")) | AK20: =IF($B20="","",IFERROR(INDEX('Regras por canal'!$K$5:$K$9,MATCH($B20,'Regras por canal'!$A$5:$A$9,0)),"")) | AL20: =IF($B20="","",IFERROR(INDEX('Regras por canal'!$L$5:$L$9,MATCH($B20,'Regras por canal'!$A$5:$A$9,0)),"")) | AM20: =IF($B20="","",IFERROR(INDEX('Regras por canal'!$M$5:$M$9,MATCH($B20,'Regras por canal'!$A$5:$A$9,0)),"")) | AN20: =IF($B20="","",IFERROR(INDEX('Regras por canal'!$N$5:$N$9,MATCH($B20,'Regras por canal'!$A$5:$A$9,0)),"")) | AO20: =IF($A20="","",IFERROR(INDEX('Catálogo fonte'!$Q$5:$Q$104,MATCH($A20,'Catálogo fonte'!$A$5:$A$104,0)),"")) | AP20: =IF($B20="","",IFERROR(INDEX('Regras por canal'!$Q$5:$Q$9,MATCH($B20,'Regras por canal'!$A$5:$A$9,0)),""))
A21: =IF(OR(INDEX('Catálogo fonte'!$A$5:$A$104,INT((ROW()-5)/5)+1)="",INDEX('Regras por canal'!$A$5:$A$9,MOD(ROW()-5,5)+1)=""),"",INDEX('Catálogo fonte'!$A$5:$A$104,INT((ROW()-5)/5)+1)) | B21: =IF($A21="","",INDEX('Regras por canal'!$A$5:$A$9,MOD(ROW()-5,5)+1)) | C21: Sim | G21: =IF(OR($A21="",$B21=""),"",IF($D21<>"",$D21,IFERROR(INDEX('Catálogo fonte'!$B$5:$B$104,MATCH($A21,'Catálogo fonte'!$A$5:$A$104,0)),""))) | H21: =IF(OR($A21="",$B21=""),"",IF($E21<>"",$E21,IFERROR(INDEX('Catálogo fonte'!$C$5:$C$104,MATCH($A21,'Catálogo fonte'!$A$5:$A$104,0)),""))) | I21: =IF(OR($A21="",$B21=""),"",IFERROR(INDEX('Catálogo fonte'!$E$5:$E$104,MATCH($A21,'Catálogo fonte'!$A$5:$A$104,0)),"")) | J21: =IF(OR($A21="",$B21=""),"",IFERROR(INDEX('Catálogo fonte'!$D$5:$D$104,MATCH($A21,'Catálogo fonte'!$A$5:$A$104,0)),"")) | K21: =IF(OR($A21="",$B21=""),"",IF($F21<>"",$F21,IFERROR(INDEX('Catálogo fonte'!$F$5:$F$104,MATCH($A21,'Catálogo fonte'!$A$5:$A$104,0)),""))) | L21: =IF(OR($A21="",$B21=""),"",IFERROR(INDEX('Catálogo fonte'!$G$5:$G$104,MATCH($A21,'Catálogo fonte'!$A$5:$A$104,0)),"")) | M21: =IF(OR($A21="",$B21=""),"",IFERROR(INDEX('Catálogo fonte'!$H$5:$H$104,MATCH($A21,'Catálogo fonte'!$A$5:$A$104,0)),"")) | N21: =IF(OR($A21="",$B21=""),"",IFERROR(INDEX('Catálogo fonte'!$I$5:$I$104,MATCH($A21,'Catálogo fonte'!$A$5:$A$104,0)),"")) | O21: =IF(OR($A21="",$B21=""),"",IFERROR(INDEX('Catálogo fonte'!$J$5:$J$104,MATCH($A21,'Catálogo fonte'!$A$5:$A$104,0)),"")) | P21: =IF(OR($A21="",$B21=""),"",IFERROR(INDEX('Catálogo fonte'!$K$5:$K$104,MATCH($A21,'Catálogo fonte'!$A$5:$A$104,0)),"")) | Q21: =IF(OR($A21="",$B21=""),"",IFERROR(INDEX('Catálogo fonte'!$L$5:$L$104,MATCH($A21,'Catálogo fonte'!$A$5:$A$104,0)),"")) | R21: =IF(OR($A21="",$B21=""),"",IFERROR(INDEX('Catálogo fonte'!$M$5:$M$104,MATCH($A21,'Catálogo fonte'!$A$5:$A$104,0)),"")) | S21: =IF(OR($A21="",$B21=""),"",IFERROR(INDEX('Catálogo fonte'!$N$5:$N$104,MATCH($A21,'Catálogo fonte'!$A$5:$A$104,0)),"")) | T21: =IF(OR($A21="",$B21=""),"",IFERROR(INDEX('Catálogo fonte'!$O$5:$O$104,MATCH($A21,'Catálogo fonte'!$A$5:$A$104,0)),"")) | U21: =IF(OR($A21="",$B21=""),"",IFERROR(INDEX('Catálogo fonte'!$P$5:$P$104,MATCH($A21,'Catálogo fonte'!$A$5:$A$104,0)),"")) | V21: =IF(OR($A21="",$B21=""),"",--($S21<>"")+--($T21<>"")+--($U21<>"")) | W21: =IF(OR($A21="",$B21="",$C21<>"Sim"),"",_xlfn.TEXTJOIN(" | ",TRUE,IF($AP21<>"Regra válida","Regra do canal inválida",""),IF(COUNTIF('Catálogo fonte'!$A$5:$A$104,$A21)>1,"SKU duplicado",""),IF($AO21<>"Sim","Produto inativo",""),IF($AB21<>"Sim","Canal inativo",""),IF($G21="","Título ausente",""),IF(AND($G21<>"",$AL21<>"",LEN($G21)>$AL21),"Título excede o limite",""),IF(AND($AC21="Sim",$H21=""),"Categoria ausente",""),IF(AND($AK21>0,LEN($I21)<$AK21),"Descrição abaixo do mínimo",""),IF(AND($AE21="Sim",$J21=""),"Marca ausente",""),IF(OR($K21="",NOT(ISNUMBER($K21)),$K21<=0),"Preço inválido",""),IF(AND(ISNUMBER($K21),$AM21<>"",$K21<$AM21),"Preço abaixo do mínimo",""),IF(AND(ISNUMBER($K21),$AN21<>"",$K21>$AN21),"Preço acima do máximo",""),IF(AND($AD21="Sim",$L21=""),"GTIN ausente",""),IF(AND($L21<>"",NOT(IFERROR(AND(LEN($L21)=13,ISNUMBER(VALUE($L21))),FALSE))),"GTIN inválido",""),IF(AND($AF21="Sim",$M21=""),"Cor ausente",""),IF(AND($AG21="Sim",$N21=""),"Tamanho/modelo ausente",""),IF(AND($AH21="Sim",OR(NOT(ISNUMBER($O21)),$O21<=0)),"Peso ausente ou inválido",""),IF(AND($AI21="Sim",OR(NOT(ISNUMBER($P21)),$P21<=0,NOT(ISNUMBER($Q21)),$Q21<=0,NOT(ISNUMBER($R21)),$R21<=0)),"Dimensões ausentes ou inválidas",""),IF($V21<$AJ21,"Mídias abaixo do mínimo",""))) | X21: =IF(OR($A21="",$B21=""),"",IF($C21<>"Sim","Não selecionado",IF($W21="","Pronto para publicar","Bloqueado"))) | Y21: Não definida | Z21: =IF(OR($A21="",$B21=""),"",IF($C21<>"Sim","Fora do feed",IF($X21="Bloqueado","Bloqueado",IF($Y21="Publicar","Liberado para feed",IF($Y21="Manter rascunho","Mantido em rascunho","Aguardando decisão"))))) | AA21: =IF(OR($A21="",$B21=""),"",$A21&"|"&$B21) | AB21: =IF($B21="","",IFERROR(INDEX('Regras por canal'!$B$5:$B$9,MATCH($B21,'Regras por canal'!$A$5:$A$9,0)),"")) | AC21: =IF($B21="","",IFERROR(INDEX('Regras por canal'!$C$5:$C$9,MATCH($B21,'Regras por canal'!$A$5:$A$9,0)),"")) | AD21: =IF($B21="","",IFERROR(INDEX('Regras por canal'!$D$5:$D$9,MATCH($B21,'Regras por canal'!$A$5:$A$9,0)),"")) | AE21: =IF($B21="","",IFERROR(INDEX('Regras por canal'!$E$5:$E$9,MATCH($B21,'Regras por canal'!$A$5:$A$9,0)),"")) | AF21: =IF($B21="","",IFERROR(INDEX('Regras por canal'!$F$5:$F$9,MATCH($B21,'Regras por canal'!$A$5:$A$9,0)),"")) | AG21: =IF($B21="","",IFERROR(INDEX('Regras por canal'!$G$5:$G$9,MATCH($B21,'Regras por canal'!$A$5:$A$9,0)),"")) | AH21: =IF($B21="","",IFERROR(INDEX('Regras por canal'!$H$5:$H$9,MATCH($B21,'Regras por canal'!$A$5:$A$9,0)),"")) | AI21: =IF($B21="","",IFERROR(INDEX('Regras por canal'!$I$5:$I$9,MATCH($B21,'Regras por canal'!$A$5:$A$9,0)),"")) | AJ21: =IF($B21="","",IFERROR(INDEX('Regras por canal'!$J$5:$J$9,MATCH($B21,'Regras por canal'!$A$5:$A$9,0)),"")) | AK21: =IF($B21="","",IFERROR(INDEX('Regras por canal'!$K$5:$K$9,MATCH($B21,'Regras por canal'!$A$5:$A$9,0)),"")) | AL21: =IF($B21="","",IFERROR(INDEX('Regras por canal'!$L$5:$L$9,MATCH($B21,'Regras por canal'!$A$5:$A$9,0)),"")) | AM21: =IF($B21="","",IFERROR(INDEX('Regras por canal'!$M$5:$M$9,MATCH($B21,'Regras por canal'!$A$5:$A$9,0)),"")) | AN21: =IF($B21="","",IFERROR(INDEX('Regras por canal'!$N$5:$N$9,MATCH($B21,'Regras por canal'!$A$5:$A$9,0)),"")) | AO21: =IF($A21="","",IFERROR(INDEX('Catálogo fonte'!$Q$5:$Q$104,MATCH($A21,'Catálogo fonte'!$A$5:$A$104,0)),"")) | AP21: =IF($B21="","",IFERROR(INDEX('Regras por canal'!$Q$5:$Q$9,MATCH($B21,'Regras por canal'!$A$5:$A$9,0)),""))
A22: =IF(OR(INDEX('Catálogo fonte'!$A$5:$A$104,INT((ROW()-5)/5)+1)="",INDEX('Regras por canal'!$A$5:$A$9,MOD(ROW()-5,5)+1)=""),"",INDEX('Catálogo fonte'!$A$5:$A$104,INT((ROW()-5)/5)+1)) | B22: =IF($A22="","",INDEX('Regras por canal'!$A$5:$A$9,MOD(ROW()-5,5)+1)) | C22: Sim | E22: Pet > Tapetes | G22: =IF(OR($A22="",$B22=""),"",IF($D22<>"",$D22,IFERROR(INDEX('Catálogo fonte'!$B$5:$B$104,MATCH($A22,'Catálogo fonte'!$A$5:$A$104,0)),""))) | H22: =IF(OR($A22="",$B22=""),"",IF($E22<>"",$E22,IFERROR(INDEX('Catálogo fonte'!$C$5:$C$104,MATCH($A22,'Catálogo fonte'!$A$5:$A$104,0)),""))) | I22: =IF(OR($A22="",$B22=""),"",IFERROR(INDEX('Catálogo fonte'!$E$5:$E$104,MATCH($A22,'Catálogo fonte'!$A$5:$A$104,0)),"")) | J22: =IF(OR($A22="",$B22=""),"",IFERROR(INDEX('Catálogo fonte'!$D$5:$D$104,MATCH($A22,'Catálogo fonte'!$A$5:$A$104,0)),"")) | K22: =IF(OR($A22="",$B22=""),"",IF($F22<>"",$F22,IFERROR(INDEX('Catálogo fonte'!$F$5:$F$104,MATCH($A22,'Catálogo fonte'!$A$5:$A$104,0)),""))) | L22: =IF(OR($A22="",$B22=""),"",IFERROR(INDEX('Catálogo fonte'!$G$5:$G$104,MATCH($A22,'Catálogo fonte'!$A$5:$A$104,0)),"")) | M22: =IF(OR($A22="",$B22=""),"",IFERROR(INDEX('Catálogo fonte'!$H$5:$H$104,MATCH($A22,'Catálogo fonte'!$A$5:$A$104,0)),"")) | N22: =IF(OR($A22="",$B22=""),"",IFERROR(INDEX('Catálogo fonte'!$I$5:$I$104,MATCH($A22,'Catálogo fonte'!$A$5:$A$104,0)),"")) | O22: =IF(OR($A22="",$B22=""),"",IFERROR(INDEX('Catálogo fonte'!$J$5:$J$104,MATCH($A22,'Catálogo fonte'!$A$5:$A$104,0)),"")) | P22: =IF(OR($A22="",$B22=""),"",IFERROR(INDEX('Catálogo fonte'!$K$5:$K$104,MATCH($A22,'Catálogo fonte'!$A$5:$A$104,0)),"")) | Q22: =IF(OR($A22="",$B22=""),"",IFERROR(INDEX('Catálogo fonte'!$L$5:$L$104,MATCH($A22,'Catálogo fonte'!$A$5:$A$104,0)),"")) | R22: =IF(OR($A22="",$B22=""),"",IFERROR(INDEX('Catálogo fonte'!$M$5:$M$104,MATCH($A22,'Catálogo fonte'!$A$5:$A$104,0)),"")) | S22: =IF(OR($A22="",$B22=""),"",IFERROR(INDEX('Catálogo fonte'!$N$5:$N$104,MATCH($A22,'Catálogo fonte'!$A$5:$A$104,0)),"")) | T22: =IF(OR($A22="",$B22=""),"",IFERROR(INDEX('Catálogo fonte'!$O$5:$O$104,MATCH($A22,'Catálogo fonte'!$A$5:$A$104,0)),"")) | U22: =IF(OR($A22="",$B22=""),"",IFERROR(INDEX('Catálogo fonte'!$P$5:$P$104,MATCH($A22,'Catálogo fonte'!$A$5:$A$104,0)),"")) | V22: =IF(OR($A22="",$B22=""),"",--($S22<>"")+--($T22<>"")+--($U22<>"")) | W22: =IF(OR($A22="",$B22="",$C22<>"Sim"),"",_xlfn.TEXTJOIN(" | ",TRUE,IF($AP22<>"Regra válida","Regra do canal inválida",""),IF(COUNTIF('Catálogo fonte'!$A$5:$A$104,$A22)>1,"SKU duplicado",""),IF($AO22<>"Sim","Produto inativo",""),IF($AB22<>"Sim","Canal inativo",""),IF($G22="","Título ausente",""),IF(AND($G22<>"",$AL22<>"",LEN($G22)>$AL22),"Título excede o limite",""),IF(AND($AC22="Sim",$H22=""),"Categoria ausente",""),IF(AND($AK22>0,LEN($I22)<$AK22),"Descrição abaixo do mínimo",""),IF(AND($AE22="Sim",$J22=""),"Marca ausente",""),IF(OR($K22="",NOT(ISNUMBER($K22)),$K22<=0),"Preço inválido",""),IF(AND(ISNUMBER($K22),$AM22<>"",$K22<$AM22),"Preço abaixo do mínimo",""),IF(AND(ISNUMBER($K22),$AN22<>"",$K22>$AN22),"Preço acima do máximo",""),IF(AND($AD22="Sim",$L22=""),"GTIN ausente",""),IF(AND($L22<>"",NOT(IFERROR(AND(LEN($L22)=13,ISNUMBER(VALUE($L22))),FALSE))),"GTIN inválido",""),IF(AND($AF22="Sim",$M22=""),"Cor ausente",""),IF(AND($AG22="Sim",$N22=""),"Tamanho/modelo ausente",""),IF(AND($AH22="Sim",OR(NOT(ISNUMBER($O22)),$O22<=0)),"Peso ausente ou inválido",""),IF(AND($AI22="Sim",OR(NOT(ISNUMBER($P22)),$P22<=0,NOT(ISNUMBER($Q22)),$Q22<=0,NOT(ISNUMBER($R22)),$R22<=0)),"Dimensões ausentes ou inválidas",""),IF($V22<$AJ22,"Mídias abaixo do mínimo",""))) | X22: =IF(OR($A22="",$B22=""),"",IF($C22<>"Sim","Não selecionado",IF($W22="","Pronto para publicar","Bloqueado"))) | Y22: Publicar | Z22: =IF(OR($A22="",$B22=""),"",IF($C22<>"Sim","Fora do feed",IF($X22="Bloqueado","Bloqueado",IF($Y22="Publicar","Liberado para feed",IF($Y22="Manter rascunho","Mantido em rascunho","Aguardando decisão"))))) | AA22: =IF(OR($A22="",$B22=""),"",$A22&"|"&$B22) | AB22: =IF($B22="","",IFERROR(INDEX('Regras por canal'!$B$5:$B$9,MATCH($B22,'Regras por canal'!$A$5:$A$9,0)),"")) | AC22: =IF($B22="","",IFERROR(INDEX('Regras por canal'!$C$5:$C$9,MATCH($B22,'Regras por canal'!$A$5:$A$9,0)),"")) | AD22: =IF($B22="","",IFERROR(INDEX('Regras por canal'!$D$5:$D$9,MATCH($B22,'Regras por canal'!$A$5:$A$9,0)),"")) | AE22: =IF($B22="","",IFERROR(INDEX('Regras por canal'!$E$5:$E$9,MATCH($B22,'Regras por canal'!$A$5:$A$9,0)),"")) | AF22: =IF($B22="","",IFERROR(INDEX('Regras por canal'!$F$5:$F$9,MATCH($B22,'Regras por canal'!$A$5:$A$9,0)),"")) | AG22: =IF($B22="","",IFERROR(INDEX('Regras por canal'!$G$5:$G$9,MATCH($B22,'Regras por canal'!$A$5:$A$9,0)),"")) | AH22: =IF($B22="","",IFERROR(INDEX('Regras por canal'!$H$5:$H$9,MATCH($B22,'Regras por canal'!$A$5:$A$9,0)),"")) | AI22: =IF($B22="","",IFERROR(INDEX('Regras por canal'!$I$5:$I$9,MATCH($B22,'Regras por canal'!$A$5:$A$9,0)),"")) | AJ22: =IF($B22="","",IFERROR(INDEX('Regras por canal'!$J$5:$J$9,MATCH($B22,'Regras por canal'!$A$5:$A$9,0)),"")) | AK22: =IF($B22="","",IFERROR(INDEX('Regras por canal'!$K$5:$K$9,MATCH($B22,'Regras por canal'!$A$5:$A$9,0)),"")) | AL22: =IF($B22="","",IFERROR(INDEX('Regras por canal'!$L$5:$L$9,MATCH($B22,'Regras por canal'!$A$5:$A$9,0)),"")) | AM22: =IF($B22="","",IFERROR(INDEX('Regras por canal'!$M$5:$M$9,MATCH($B22,'Regras por canal'!$A$5:$A$9,0)),"")) | AN22: =IF($B22="","",IFERROR(INDEX('Regras por canal'!$N$5:$N$9,MATCH($B22,'Regras por canal'!$A$5:$A$9,0)),"")) | AO22: =IF($A22="","",IFERROR(INDEX('Catálogo fonte'!$Q$5:$Q$104,MATCH($A22,'Catálogo fonte'!$A$5:$A$104,0)),"")) | AP22: =IF($B22="","",IFERROR(INDEX('Regras por canal'!$Q$5:$Q$9,MATCH($B22,'Regras por canal'!$A$5:$A$9,0)),""))
A23: =IF(OR(INDEX('Catálogo fonte'!$A$5:$A$104,INT((ROW()-5)/5)+1)="",INDEX('Regras por canal'!$A$5:$A$9,MOD(ROW()-5,5)+1)=""),"",INDEX('Catálogo fonte'!$A$5:$A$104,INT((ROW()-5)/5)+1)) | B23: =IF($A23="","",INDEX('Regras por canal'!$A$5:$A$9,MOD(ROW()-5,5)+1)) | G23: =IF(OR($A23="",$B23=""),"",IF($D23<>"",$D23,IFERROR(INDEX('Catálogo fonte'!$B$5:$B$104,MATCH($A23,'Catálogo fonte'!$A$5:$A$104,0)),""))) | H23: =IF(OR($A23="",$B23=""),"",IF($E23<>"",$E23,IFERROR(INDEX('Catálogo fonte'!$C$5:$C$104,MATCH($A23,'Catálogo fonte'!$A$5:$A$104,0)),""))) | I23: =IF(OR($A23="",$B23=""),"",IFERROR(INDEX('Catálogo fonte'!$E$5:$E$104,MATCH($A23,'Catálogo fonte'!$A$5:$A$104,0)),"")) | J23: =IF(OR($A23="",$B23=""),"",IFERROR(INDEX('Catálogo fonte'!$D$5:$D$104,MATCH($A23,'Catálogo fonte'!$A$5:$A$104,0)),"")) | K23: =IF(OR($A23="",$B23=""),"",IF($F23<>"",$F23,IFERROR(INDEX('Catálogo fonte'!$F$5:$F$104,MATCH($A23,'Catálogo fonte'!$A$5:$A$104,0)),""))) | L23: =IF(OR($A23="",$B23=""),"",IFERROR(INDEX('Catálogo fonte'!$G$5:$G$104,MATCH($A23,'Catálogo fonte'!$A$5:$A$104,0)),"")) | M23: =IF(OR($A23="",$B23=""),"",IFERROR(INDEX('Catálogo fonte'!$H$5:$H$104,MATCH($A23,'Catálogo fonte'!$A$5:$A$104,0)),"")) | N23: =IF(OR($A23="",$B23=""),"",IFERROR(INDEX('Catálogo fonte'!$I$5:$I$104,MATCH($A23,'Catálogo fonte'!$A$5:$A$104,0)),"")) | O23: =IF(OR($A23="",$B23=""),"",IFERROR(INDEX('Catálogo fonte'!$J$5:$J$104,MATCH($A23,'Catálogo fonte'!$A$5:$A$104,0)),"")) | P23: =IF(OR($A23="",$B23=""),"",IFERROR(INDEX('Catálogo fonte'!$K$5:$K$104,MATCH($A23,'Catálogo fonte'!$A$5:$A$104,0)),"")) | Q23: =IF(OR($A23="",$B23=""),"",IFERROR(INDEX('Catálogo fonte'!$L$5:$L$104,MATCH($A23,'Catálogo fonte'!$A$5:$A$104,0)),"")) | R23: =IF(OR($A23="",$B23=""),"",IFERROR(INDEX('Catálogo fonte'!$M$5:$M$104,MATCH($A23,'Catálogo fonte'!$A$5:$A$104,0)),"")) | S23: =IF(OR($A23="",$B23=""),"",IFERROR(INDEX('Catálogo fonte'!$N$5:$N$104,MATCH($A23,'Catálogo fonte'!$A$5:$A$104,0)),"")) | T23: =IF(OR($A23="",$B23=""),"",IFERROR(INDEX('Catálogo fonte'!$O$5:$O$104,MATCH($A23,'Catálogo fonte'!$A$5:$A$104,0)),"")) | U23: =IF(OR($A23="",$B23=""),"",IFERROR(INDEX('Catálogo fonte'!$P$5:$P$104,MATCH($A23,'Catálogo fonte'!$A$5:$A$104,0)),"")) | V23: =IF(OR($A23="",$B23=""),"",--($S23<>"")+--($T23<>"")+--($U23<>"")) | W23: =IF(OR($A23="",$B23="",$C23<>"Sim"),"",_xlfn.TEXTJOIN(" | ",TRUE,IF($AP23<>"Regra válida","Regra do canal inválida",""),IF(COUNTIF('Catálogo fonte'!$A$5:$A$104,$A23)>1,"SKU duplicado",""),IF($AO23<>"Sim","Produto inativo",""),IF($AB23<>"Sim","Canal inativo",""),IF($G23="","Título ausente",""),IF(AND($G23<>"",$AL23<>"",LEN($G23)>$AL23),"Título excede o limite",""),IF(AND($AC23="Sim",$H23=""),"Categoria ausente",""),IF(AND($AK23>0,LEN($I23)<$AK23),"Descrição abaixo do mínimo",""),IF(AND($AE23="Sim",$J23=""),"Marca ausente",""),IF(OR($K23="",NOT(ISNUMBER($K23)),$K23<=0),"Preço inválido",""),IF(AND(ISNUMBER($K23),$AM23<>"",$K23<$AM23),"Preço abaixo do mínimo",""),IF(AND(ISNUMBER($K23),$AN23<>"",$K23>$AN23),"Preço acima do máximo",""),IF(AND($AD23="Sim",$L23=""),"GTIN ausente",""),IF(AND($L23<>"",NOT(IFERROR(AND(LEN($L23)=13,ISNUMBER(VALUE($L23))),FALSE))),"GTIN inválido",""),IF(AND($AF23="Sim",$M23=""),"Cor ausente",""),IF(AND($AG23="Sim",$N23=""),"Tamanho/modelo ausente",""),IF(AND($AH23="Sim",OR(NOT(ISNUMBER($O23)),$O23<=0)),"Peso ausente ou inválido",""),IF(AND($AI23="Sim",OR(NOT(ISNUMBER($P23)),$P23<=0,NOT(ISNUMBER($Q23)),$Q23<=0,NOT(ISNUMBER($R23)),$R23<=0)),"Dimensões ausentes ou inválidas",""),IF($V23<$AJ23,"Mídias abaixo do mínimo",""))) | X23: =IF(OR($A23="",$B23=""),"",IF($C23<>"Sim","Não selecionado",IF($W23="","Pronto para publicar","Bloqueado"))) | Z23: =IF(OR($A23="",$B23=""),"",IF($C23<>"Sim","Fora do feed",IF($X23="Bloqueado","Bloqueado",IF($Y23="Publicar","Liberado para feed",IF($Y23="Manter rascunho","Mantido em rascunho","Aguardando decisão"))))) | AA23: =IF(OR($A23="",$B23=""),"",$A23&"|"&$B23) | AB23: =IF($B23="","",IFERROR(INDEX('Regras por canal'!$B$5:$B$9,MATCH($B23,'Regras por canal'!$A$5:$A$9,0)),"")) | AC23: =IF($B23="","",IFERROR(INDEX('Regras por canal'!$C$5:$C$9,MATCH($B23,'Regras por canal'!$A$5:$A$9,0)),"")) | AD23: =IF($B23="","",IFERROR(INDEX('Regras por canal'!$D$5:$D$9,MATCH($B23,'Regras por canal'!$A$5:$A$9,0)),"")) | AE23: =IF($B23="","",IFERROR(INDEX('Regras por canal'!$E$5:$E$9,MATCH($B23,'Regras por canal'!$A$5:$A$9,0)),"")) | AF23: =IF($B23="","",IFERROR(INDEX('Regras por canal'!$F$5:$F$9,MATCH($B23,'Regras por canal'!$A$5:$A$9,0)),"")) | AG23: =IF($B23="","",IFERROR(INDEX('Regras por canal'!$G$5:$G$9,MATCH($B23,'Regras por canal'!$A$5:$A$9,0)),"")) | AH23: =IF($B23="","",IFERROR(INDEX('Regras por canal'!$H$5:$H$9,MATCH($B23,'Regras por canal'!$A$5:$A$9,0)),"")) | AI23: =IF($B23="","",IFERROR(INDEX('Regras por canal'!$I$5:$I$9,MATCH($B23,'Regras por canal'!$A$5:$A$9,0)),"")) | AJ23: =IF($B23="","",IFERROR(INDEX('Regras por canal'!$J$5:$J$9,MATCH($B23,'Regras por canal'!$A$5:$A$9,0)),"")) | AK23: =IF($B23="","",IFERROR(INDEX('Regras por canal'!$K$5:$K$9,MATCH($B23,'Regras por canal'!$A$5:$A$9,0)),"")) | AL23: =IF($B23="","",IFERROR(INDEX('Regras por canal'!$L$5:$L$9,MATCH($B23,'Regras por canal'!$A$5:$A$9,0)),"")) | AM23: =IF($B23="","",IFERROR(INDEX('Regras por canal'!$M$5:$M$9,MATCH($B23,'Regras por canal'!$A$5:$A$9,0)),"")) | AN23: =IF($B23="","",IFERROR(INDEX('Regras por canal'!$N$5:$N$9,MATCH($B23,'Regras por canal'!$A$5:$A$9,0)),"")) | AO23: =IF($A23="","",IFERROR(INDEX('Catálogo fonte'!$Q$5:$Q$104,MATCH($A23,'Catálogo fonte'!$A$5:$A$104,0)),"")) | AP23: =IF($B23="","",IFERROR(INDEX('Regras por canal'!$Q$5:$Q$9,MATCH($B23,'Regras por canal'!$A$5:$A$9,0)),""))
A24: =IF(OR(INDEX('Catálogo fonte'!$A$5:$A$104,INT((ROW()-5)/5)+1)="",INDEX('Regras por canal'!$A$5:$A$9,MOD(ROW()-5,5)+1)=""),"",INDEX('Catálogo fonte'!$A$5:$A$104,INT((ROW()-5)/5)+1)) | B24: =IF($A24="","",INDEX('Regras por canal'!$A$5:$A$9,MOD(ROW()-5,5)+1)) | G24: =IF(OR($A24="",$B24=""),"",IF($D24<>"",$D24,IFERROR(INDEX('Catálogo fonte'!$B$5:$B$104,MATCH($A24,'Catálogo fonte'!$A$5:$A$104,0)),""))) | H24: =IF(OR($A24="",$B24=""),"",IF($E24<>"",$E24,IFERROR(INDEX('Catálogo fonte'!$C$5:$C$104,MATCH($A24,'Catálogo fonte'!$A$5:$A$104,0)),""))) | I24: =IF(OR($A24="",$B24=""),"",IFERROR(INDEX('Catálogo fonte'!$E$5:$E$104,MATCH($A24,'Catálogo fonte'!$A$5:$A$104,0)),"")) | J24: =IF(OR($A24="",$B24=""),"",IFERROR(INDEX('Catálogo fonte'!$D$5:$D$104,MATCH($A24,'Catálogo fonte'!$A$5:$A$104,0)),"")) | K24: =IF(OR($A24="",$B24=""),"",IF($F24<>"",$F24,IFERROR(INDEX('Catálogo fonte'!$F$5:$F$104,MATCH($A24,'Catálogo fonte'!$A$5:$A$104,0)),""))) | L24: =IF(OR($A24="",$B24=""),"",IFERROR(INDEX('Catálogo fonte'!$G$5:$G$104,MATCH($A24,'Catálogo fonte'!$A$5:$A$104,0)),"")) | M24: =IF(OR($A24="",$B24=""),"",IFERROR(INDEX('Catálogo fonte'!$H$5:$H$104,MATCH($A24,'Catálogo fonte'!$A$5:$A$104,0)),"")) | N24: =IF(OR($A24="",$B24=""),"",IFERROR(INDEX('Catálogo fonte'!$I$5:$I$104,MATCH($A24,'Catálogo fonte'!$A$5:$A$104,0)),"")) | O24: =IF(OR($A24="",$B24=""),"",IFERROR(INDEX('Catálogo fonte'!$J$5:$J$104,MATCH($A24,'Catálogo fonte'!$A$5:$A$104,0)),"")) | P24: =IF(OR($A24="",$B24=""),"",IFERROR(INDEX('Catálogo fonte'!$K$5:$K$104,MATCH($A24,'Catálogo fonte'!$A$5:$A$104,0)),"")) | Q24: =IF(OR($A24="",$B24=""),"",IFERROR(INDEX('Catálogo fonte'!$L$5:$L$104,MATCH($A24,'Catálogo fonte'!$A$5:$A$104,0)),"")) | R24: =IF(OR($A24="",$B24=""),"",IFERROR(INDEX('Catálogo fonte'!$M$5:$M$104,MATCH($A24,'Catálogo fonte'!$A$5:$A$104,0)),"")) | S24: =IF(OR($A24="",$B24=""),"",IFERROR(INDEX('Catálogo fonte'!$N$5:$N$104,MATCH($A24,'Catálogo fonte'!$A$5:$A$104,0)),"")) | T24: =IF(OR($A24="",$B24=""),"",IFERROR(INDEX('Catálogo fonte'!$O$5:$O$104,MATCH($A24,'Catálogo fonte'!$A$5:$A$104,0)),"")) | U24: =IF(OR($A24="",$B24=""),"",IFERROR(INDEX('Catálogo fonte'!$P$5:$P$104,MATCH($A24,'Catálogo fonte'!$A$5:$A$104,0)),"")) | V24: =IF(OR($A24="",$B24=""),"",--($S24<>"")+--($T24<>"")+--($U24<>"")) | W24: =IF(OR($A24="",$B24="",$C24<>"Sim"),"",_xlfn.TEXTJOIN(" | ",TRUE,IF($AP24<>"Regra válida","Regra do canal inválida",""),IF(COUNTIF('Catálogo fonte'!$A$5:$A$104,$A24)>1,"SKU duplicado",""),IF($AO24<>"Sim","Produto inativo",""),IF($AB24<>"Sim","Canal inativo",""),IF($G24="","Título ausente",""),IF(AND($G24<>"",$AL24<>"",LEN($G24)>$AL24),"Título excede o limite",""),IF(AND($AC24="Sim",$H24=""),"Categoria ausente",""),IF(AND($AK24>0,LEN($I24)<$AK24),"Descrição abaixo do mínimo",""),IF(AND($AE24="Sim",$J24=""),"Marca ausente",""),IF(OR($K24="",NOT(ISNUMBER($K24)),$K24<=0),"Preço inválido",""),IF(AND(ISNUMBER($K24),$AM24<>"",$K24<$AM24),"Preço abaixo do mínimo",""),IF(AND(ISNUMBER($K24),$AN24<>"",$K24>$AN24),"Preço acima do máximo",""),IF(AND($AD24="Sim",$L24=""),"GTIN ausente",""),IF(AND($L24<>"",NOT(IFERROR(AND(LEN($L24)=13,ISNUMBER(VALUE($L24))),FALSE))),"GTIN inválido",""),IF(AND($AF24="Sim",$M24=""),"Cor ausente",""),IF(AND($AG24="Sim",$N24=""),"Tamanho/modelo ausente",""),IF(AND($AH24="Sim",OR(NOT(ISNUMBER($O24)),$O24<=0)),"Peso ausente ou inválido",""),IF(AND($AI24="Sim",OR(NOT(ISNUMBER($P24)),$P24<=0,NOT(ISNUMBER($Q24)),$Q24<=0,NOT(ISNUMBER($R24)),$R24<=0)),"Dimensões ausentes ou inválidas",""),IF($V24<$AJ24,"Mídias abaixo do mínimo",""))) | X24: =IF(OR($A24="",$B24=""),"",IF($C24<>"Sim","Não selecionado",IF($W24="","Pronto para publicar","Bloqueado"))) | Z24: =IF(OR($A24="",$B24=""),"",IF($C24<>"Sim","Fora do feed",IF($X24="Bloqueado","Bloqueado",IF($Y24="Publicar","Liberado para feed",IF($Y24="Manter rascunho","Mantido em rascunho","Aguardando decisão"))))) | AA24: =IF(OR($A24="",$B24=""),"",$A24&"|"&$B24) | AB24: =IF($B24="","",IFERROR(INDEX('Regras por canal'!$B$5:$B$9,MATCH($B24,'Regras por canal'!$A$5:$A$9,0)),"")) | AC24: =IF($B24="","",IFERROR(INDEX('Regras por canal'!$C$5:$C$9,MATCH($B24,'Regras por canal'!$A$5:$A$9,0)),"")) | AD24: =IF($B24="","",IFERROR(INDEX('Regras por canal'!$D$5:$D$9,MATCH($B24,'Regras por canal'!$A$5:$A$9,0)),"")) | AE24: =IF($B24="","",IFERROR(INDEX('Regras por canal'!$E$5:$E$9,MATCH($B24,'Regras por canal'!$A$5:$A$9,0)),"")) | AF24: =IF($B24="","",IFERROR(INDEX('Regras por canal'!$F$5:$F$9,MATCH($B24,'Regras por canal'!$A$5:$A$9,0)),"")) | AG24: =IF($B24="","",IFERROR(INDEX('Regras por canal'!$G$5:$G$9,MATCH($B24,'Regras por canal'!$A$5:$A$9,0)),"")) | AH24: =IF($B24="","",IFERROR(INDEX('Regras por canal'!$H$5:$H$9,MATCH($B24,'Regras por canal'!$A$5:$A$9,0)),"")) | AI24: =IF($B24="","",IFERROR(INDEX('Regras por canal'!$I$5:$I$9,MATCH($B24,'Regras por canal'!$A$5:$A$9,0)),"")) | AJ24: =IF($B24="","",IFERROR(INDEX('Regras por canal'!$J$5:$J$9,MATCH($B24,'Regras por canal'!$A$5:$A$9,0)),"")) | AK24: =IF($B24="","",IFERROR(INDEX('Regras por canal'!$K$5:$K$9,MATCH($B24,'Regras por canal'!$A$5:$A$9,0)),"")) | AL24: =IF($B24="","",IFERROR(INDEX('Regras por canal'!$L$5:$L$9,MATCH($B24,'Regras por canal'!$A$5:$A$9,0)),"")) | AM24: =IF($B24="","",IFERROR(INDEX('Regras por canal'!$M$5:$M$9,MATCH($B24,'Regras por canal'!$A$5:$A$9,0)),"")) | AN24: =IF($B24="","",IFERROR(INDEX('Regras por canal'!$N$5:$N$9,MATCH($B24,'Regras por canal'!$A$5:$A$9,0)),"")) | AO24: =IF($A24="","",IFERROR(INDEX('Catálogo fonte'!$Q$5:$Q$104,MATCH($A24,'Catálogo fonte'!$A$5:$A$104,0)),"")) | AP24: =IF($B24="","",IFERROR(INDEX('Regras por canal'!$Q$5:$Q$9,MATCH($B24,'Regras por canal'!$A$5:$A$9,0)),""))
A25: =IF(OR(INDEX('Catálogo fonte'!$A$5:$A$104,INT((ROW()-5)/5)+1)="",INDEX('Regras por canal'!$A$5:$A$9,MOD(ROW()-5,5)+1)=""),"",INDEX('Catálogo fonte'!$A$5:$A$104,INT((ROW()-5)/5)+1)) | B25: =IF($A25="","",INDEX('Regras por canal'!$A$5:$A$9,MOD(ROW()-5,5)+1)) | C25: Sim | G25: =IF(OR($A25="",$B25=""),"",IF($D25<>"",$D25,IFERROR(INDEX('Catálogo fonte'!$B$5:$B$104,MATCH($A25,'Catálogo fonte'!$A$5:$A$104,0)),""))) | H25: =IF(OR($A25="",$B25=""),"",IF($E25<>"",$E25,IFERROR(INDEX('Catálogo fonte'!$C$5:$C$104,MATCH($A25,'Catálogo fonte'!$A$5:$A$104,0)),""))) | I25: =IF(OR($A25="",$B25=""),"",IFERROR(INDEX('Catálogo fonte'!$E$5:$E$104,MATCH($A25,'Catálogo fonte'!$A$5:$A$104,0)),"")) | J25: =IF(OR($A25="",$B25=""),"",IFERROR(INDEX('Catálogo fonte'!$D$5:$D$104,MATCH($A25,'Catálogo fonte'!$A$5:$A$104,0)),"")) | K25: =IF(OR($A25="",$B25=""),"",IF($F25<>"",$F25,IFERROR(INDEX('Catálogo fonte'!$F$5:$F$104,MATCH($A25,'Catálogo fonte'!$A$5:$A$104,0)),""))) | L25: =IF(OR($A25="",$B25=""),"",IFERROR(INDEX('Catálogo fonte'!$G$5:$G$104,MATCH($A25,'Catálogo fonte'!$A$5:$A$104,0)),"")) | M25: =IF(OR($A25="",$B25=""),"",IFERROR(INDEX('Catálogo fonte'!$H$5:$H$104,MATCH($A25,'Catálogo fonte'!$A$5:$A$104,0)),"")) | N25: =IF(OR($A25="",$B25=""),"",IFERROR(INDEX('Catálogo fonte'!$I$5:$I$104,MATCH($A25,'Catálogo fonte'!$A$5:$A$104,0)),"")) | O25: =IF(OR($A25="",$B25=""),"",IFERROR(INDEX('Catálogo fonte'!$J$5:$J$104,MATCH($A25,'Catálogo fonte'!$A$5:$A$104,0)),"")) | P25: =IF(OR($A25="",$B25=""),"",IFERROR(INDEX('Catálogo fonte'!$K$5:$K$104,MATCH($A25,'Catálogo fonte'!$A$5:$A$104,0)),"")) | Q25: =IF(OR($A25="",$B25=""),"",IFERROR(INDEX('Catálogo fonte'!$L$5:$L$104,MATCH($A25,'Catálogo fonte'!$A$5:$A$104,0)),"")) | R25: =IF(OR($A25="",$B25=""),"",IFERROR(INDEX('Catálogo fonte'!$M$5:$M$104,MATCH($A25,'Catálogo fonte'!$A$5:$A$104,0)),"")) | S25: =IF(OR($A25="",$B25=""),"",IFERROR(INDEX('Catálogo fonte'!$N$5:$N$104,MATCH($A25,'Catálogo fonte'!$A$5:$A$104,0)),"")) | T25: =IF(OR($A25="",$B25=""),"",IFERROR(INDEX('Catálogo fonte'!$O$5:$O$104,MATCH($A25,'Catálogo fonte'!$A$5:$A$104,0)),"")) | U25: =IF(OR($A25="",$B25=""),"",IFERROR(INDEX('Catálogo fonte'!$P$5:$P$104,MATCH($A25,'Catálogo fonte'!$A$5:$A$104,0)),"")) | V25: =IF(OR($A25="",$B25=""),"",--($S25<>"")+--($T25<>"")+--($U25<>"")) | W25: =IF(OR($A25="",$B25="",$C25<>"Sim"),"",_xlfn.TEXTJOIN(" | ",TRUE,IF($AP25<>"Regra válida","Regra do canal inválida",""),IF(COUNTIF('Catálogo fonte'!$A$5:$A$104,$A25)>1,"SKU duplicado",""),IF($AO25<>"Sim","Produto inativo",""),IF($AB25<>"Sim","Canal inativo",""),IF($G25="","Título ausente",""),IF(AND($G25<>"",$AL25<>"",LEN($G25)>$AL25),"Título excede o limite",""),IF(AND($AC25="Sim",$H25=""),"Categoria ausente",""),IF(AND($AK25>0,LEN($I25)<$AK25),"Descrição abaixo do mínimo",""),IF(AND($AE25="Sim",$J25=""),"Marca ausente",""),IF(OR($K25="",NOT(ISNUMBER($K25)),$K25<=0),"Preço inválido",""),IF(AND(ISNUMBER($K25),$AM25<>"",$K25<$AM25),"Preço abaixo do mínimo",""),IF(AND(ISNUMBER($K25),$AN25<>"",$K25>$AN25),"Preço acima do máximo",""),IF(AND($AD25="Sim",$L25=""),"GTIN ausente",""),IF(AND($L25<>"",NOT(IFERROR(AND(LEN($L25)=13,ISNUMBER(VALUE($L25))),FALSE))),"GTIN inválido",""),IF(AND($AF25="Sim",$M25=""),"Cor ausente",""),IF(AND($AG25="Sim",$N25=""),"Tamanho/modelo ausente",""),IF(AND($AH25="Sim",OR(NOT(ISNUMBER($O25)),$O25<=0)),"Peso ausente ou inválido",""),IF(AND($AI25="Sim",OR(NOT(ISNUMBER($P25)),$P25<=0,NOT(ISNUMBER($Q25)),$Q25<=0,NOT(ISNUMBER($R25)),$R25<=0)),"Dimensões ausentes ou inválidas",""),IF($V25<$AJ25,"Mídias abaixo do mínimo",""))) | X25: =IF(OR($A25="",$B25=""),"",IF($C25<>"Sim","Não selecionado",IF($W25="","Pronto para publicar","Bloqueado"))) | Y25: Não definida | Z25: =IF(OR($A25="",$B25=""),"",IF($C25<>"Sim","Fora do feed",IF($X25="Bloqueado","Bloqueado",IF($Y25="Publicar","Liberado para feed",IF($Y25="Manter rascunho","Mantido em rascunho","Aguardando decisão"))))) | AA25: =IF(OR($A25="",$B25=""),"",$A25&"|"&$B25) | AB25: =IF($B25="","",IFERROR(INDEX('Regras por canal'!$B$5:$B$9,MATCH($B25,'Regras por canal'!$A$5:$A$9,0)),"")) | AC25: =IF($B25="","",IFERROR(INDEX('Regras por canal'!$C$5:$C$9,MATCH($B25,'Regras por canal'!$A$5:$A$9,0)),"")) | AD25: =IF($B25="","",IFERROR(INDEX('Regras por canal'!$D$5:$D$9,MATCH($B25,'Regras por canal'!$A$5:$A$9,0)),"")) | AE25: =IF($B25="","",IFERROR(INDEX('Regras por canal'!$E$5:$E$9,MATCH($B25,'Regras por canal'!$A$5:$A$9,0)),"")) | AF25: =IF($B25="","",IFERROR(INDEX('Regras por canal'!$F$5:$F$9,MATCH($B25,'Regras por canal'!$A$5:$A$9,0)),"")) | AG25: =IF($B25="","",IFERROR(INDEX('Regras por canal'!$G$5:$G$9,MATCH($B25,'Regras por canal'!$A$5:$A$9,0)),"")) | AH25: =IF($B25="","",IFERROR(INDEX('Regras por canal'!$H$5:$H$9,MATCH($B25,'Regras por canal'!$A$5:$A$9,0)),"")) | AI25: =IF($B25="","",IFERROR(INDEX('Regras por canal'!$I$5:$I$9,MATCH($B25,'Regras por canal'!$A$5:$A$9,0)),"")) | AJ25: =IF($B25="","",IFERROR(INDEX('Regras por canal'!$J$5:$J$9,MATCH($B25,'Regras por canal'!$A$5:$A$9,0)),"")) | AK25: =IF($B25="","",IFERROR(INDEX('Regras por canal'!$K$5:$K$9,MATCH($B25,'Regras por canal'!$A$5:$A$9,0)),"")) | AL25: =IF($B25="","",IFERROR(INDEX('Regras por canal'!$L$5:$L$9,MATCH($B25,'Regras por canal'!$A$5:$A$9,0)),"")) | AM25: =IF($B25="","",IFERROR(INDEX('Regras por canal'!$M$5:$M$9,MATCH($B25,'Regras por canal'!$A$5:$A$9,0)),"")) | AN25: =IF($B25="","",IFERROR(INDEX('Regras por canal'!$N$5:$N$9,MATCH($B25,'Regras por canal'!$A$5:$A$9,0)),"")) | AO25: =IF($A25="","",IFERROR(INDEX('Catálogo fonte'!$Q$5:$Q$104,MATCH($A25,'Catálogo fonte'!$A$5:$A$104,0)),"")) | AP25: =IF($B25="","",IFERROR(INDEX('Regras por canal'!$Q$5:$Q$9,MATCH($B25,'Regras por canal'!$A$5:$A$9,0)),""))
A26: =IF(OR(INDEX('Catálogo fonte'!$A$5:$A$104,INT((ROW()-5)/5)+1)="",INDEX('Regras por canal'!$A$5:$A$9,MOD(ROW()-5,5)+1)=""),"",INDEX('Catálogo fonte'!$A$5:$A$104,INT((ROW()-5)/5)+1)) | B26: =IF($A26="","",INDEX('Regras por canal'!$A$5:$A$9,MOD(ROW()-5,5)+1)) | C26: Sim | G26: =IF(OR($A26="",$B26=""),"",IF($D26<>"",$D26,IFERROR(INDEX('Catálogo fonte'!$B$5:$B$104,MATCH($A26,'Catálogo fonte'!$A$5:$A$104,0)),""))) | H26: =IF(OR($A26="",$B26=""),"",IF($E26<>"",$E26,IFERROR(INDEX('Catálogo fonte'!$C$5:$C$104,MATCH($A26,'Catálogo fonte'!$A$5:$A$104,0)),""))) | I26: =IF(OR($A26="",$B26=""),"",IFERROR(INDEX('Catálogo fonte'!$E$5:$E$104,MATCH($A26,'Catálogo fonte'!$A$5:$A$104,0)),"")) | J26: =IF(OR($A26="",$B26=""),"",IFERROR(INDEX('Catálogo fonte'!$D$5:$D$104,MATCH($A26,'Catálogo fonte'!$A$5:$A$104,0)),"")) | K26: =IF(OR($A26="",$B26=""),"",IF($F26<>"",$F26,IFERROR(INDEX('Catálogo fonte'!$F$5:$F$104,MATCH($A26,'Catálogo fonte'!$A$5:$A$104,0)),""))) | L26: =IF(OR($A26="",$B26=""),"",IFERROR(INDEX('Catálogo fonte'!$G$5:$G$104,MATCH($A26,'Catálogo fonte'!$A$5:$A$104,0)),"")) | M26: =IF(OR($A26="",$B26=""),"",IFERROR(INDEX('Catálogo fonte'!$H$5:$H$104,MATCH($A26,'Catálogo fonte'!$A$5:$A$104,0)),"")) | N26: =IF(OR($A26="",$B26=""),"",IFERROR(INDEX('Catálogo fonte'!$I$5:$I$104,MATCH($A26,'Catálogo fonte'!$A$5:$A$104,0)),"")) | O26: =IF(OR($A26="",$B26=""),"",IFERROR(INDEX('Catálogo fonte'!$J$5:$J$104,MATCH($A26,'Catálogo fonte'!$A$5:$A$104,0)),"")) | P26: =IF(OR($A26="",$B26=""),"",IFERROR(INDEX('Catálogo fonte'!$K$5:$K$104,MATCH($A26,'Catálogo fonte'!$A$5:$A$104,0)),"")) | Q26: =IF(OR($A26="",$B26=""),"",IFERROR(INDEX('Catálogo fonte'!$L$5:$L$104,MATCH($A26,'Catálogo fonte'!$A$5:$A$104,0)),"")) | R26: =IF(OR($A26="",$B26=""),"",IFERROR(INDEX('Catálogo fonte'!$M$5:$M$104,MATCH($A26,'Catálogo fonte'!$A$5:$A$104,0)),"")) | S26: =IF(OR($A26="",$B26=""),"",IFERROR(INDEX('Catálogo fonte'!$N$5:$N$104,MATCH($A26,'Catálogo fonte'!$A$5:$A$104,0)),"")) | T26: =IF(OR($A26="",$B26=""),"",IFERROR(INDEX('Catálogo fonte'!$O$5:$O$104,MATCH($A26,'Catálogo fonte'!$A$5:$A$104,0)),"")) | U26: =IF(OR($A26="",$B26=""),"",IFERROR(INDEX('Catálogo fonte'!$P$5:$P$104,MATCH($A26,'Catálogo fonte'!$A$5:$A$104,0)),"")) | V26: =IF(OR($A26="",$B26=""),"",--($S26<>"")+--($T26<>"")+--($U26<>"")) | W26: =IF(OR($A26="",$B26="",$C26<>"Sim"),"",_xlfn.TEXTJOIN(" | ",TRUE,IF($AP26<>"Regra válida","Regra do canal inválida",""),IF(COUNTIF('Catálogo fonte'!$A$5:$A$104,$A26)>1,"SKU duplicado",""),IF($AO26<>"Sim","Produto inativo",""),IF($AB26<>"Sim","Canal inativo",""),IF($G26="","Título ausente",""),IF(AND($G26<>"",$AL26<>"",LEN($G26)>$AL26),"Título excede o limite",""),IF(AND($AC26="Sim",$H26=""),"Categoria ausente",""),IF(AND($AK26>0,LEN($I26)<$AK26),"Descrição abaixo do mínimo",""),IF(AND($AE26="Sim",$J26=""),"Marca ausente",""),IF(OR($K26="",NOT(ISNUMBER($K26)),$K26<=0),"Preço inválido",""),IF(AND(ISNUMBER($K26),$AM26<>"",$K26<$AM26),"Preço abaixo do mínimo",""),IF(AND(ISNUMBER($K26),$AN26<>"",$K26>$AN26),"Preço acima do máximo",""),IF(AND($AD26="Sim",$L26=""),"GTIN ausente",""),IF(AND($L26<>"",NOT(IFERROR(AND(LEN($L26)=13,ISNUMBER(VALUE($L26))),FALSE))),"GTIN inválido",""),IF(AND($AF26="Sim",$M26=""),"Cor ausente",""),IF(AND($AG26="Sim",$N26=""),"Tamanho/modelo ausente",""),IF(AND($AH26="Sim",OR(NOT(ISNUMBER($O26)),$O26<=0)),"Peso ausente ou inválido",""),IF(AND($AI26="Sim",OR(NOT(ISNUMBER($P26)),$P26<=0,NOT(ISNUMBER($Q26)),$Q26<=0,NOT(ISNUMBER($R26)),$R26<=0)),"Dimensões ausentes ou inválidas",""),IF($V26<$AJ26,"Mídias abaixo do mínimo",""))) | X26: =IF(OR($A26="",$B26=""),"",IF($C26<>"Sim","Não selecionado",IF($W26="","Pronto para publicar","Bloqueado"))) | Y26: Não definida | Z26: =IF(OR($A26="",$B26=""),"",IF($C26<>"Sim","Fora do feed",IF($X26="Bloqueado","Bloqueado",IF($Y26="Publicar","Liberado para feed",IF($Y26="Manter rascunho","Mantido em rascunho","Aguardando decisão"))))) | AA26: =IF(OR($A26="",$B26=""),"",$A26&"|"&$B26) | AB26: =IF($B26="","",IFERROR(INDEX('Regras por canal'!$B$5:$B$9,MATCH($B26,'Regras por canal'!$A$5:$A$9,0)),"")) | AC26: =IF($B26="","",IFERROR(INDEX('Regras por canal'!$C$5:$C$9,MATCH($B26,'Regras por canal'!$A$5:$A$9,0)),"")) | AD26: =IF($B26="","",IFERROR(INDEX('Regras por canal'!$D$5:$D$9,MATCH($B26,'Regras por canal'!$A$5:$A$9,0)),"")) | AE26: =IF($B26="","",IFERROR(INDEX('Regras por canal'!$E$5:$E$9,MATCH($B26,'Regras por canal'!$A$5:$A$9,0)),"")) | AF26: =IF($B26="","",IFERROR(INDEX('Regras por canal'!$F$5:$F$9,MATCH($B26,'Regras por canal'!$A$5:$A$9,0)),"")) | AG26: =IF($B26="","",IFERROR(INDEX('Regras por canal'!$G$5:$G$9,MATCH($B26,'Regras por canal'!$A$5:$A$9,0)),"")) | AH26: =IF($B26="","",IFERROR(INDEX('Regras por canal'!$H$5:$H$9,MATCH($B26,'Regras por canal'!$A$5:$A$9,0)),"")) | AI26: =IF($B26="","",IFERROR(INDEX('Regras por canal'!$I$5:$I$9,MATCH($B26,'Regras por canal'!$A$5:$A$9,0)),"")) | AJ26: =IF($B26="","",IFERROR(INDEX('Regras por canal'!$J$5:$J$9,MATCH($B26,'Regras por canal'!$A$5:$A$9,0)),"")) | AK26: =IF($B26="","",IFERROR(INDEX('Regras por canal'!$K$5:$K$9,MATCH($B26,'Regras por canal'!$A$5:$A$9,0)),"")) | AL26: =IF($B26="","",IFERROR(INDEX('Regras por canal'!$L$5:$L$9,MATCH($B26,'Regras por canal'!$A$5:$A$9,0)),"")) | AM26: =IF($B26="","",IFERROR(INDEX('Regras por canal'!$M$5:$M$9,MATCH($B26,'Regras por canal'!$A$5:$A$9,0)),"")) | AN26: =IF($B26="","",IFERROR(INDEX('Regras por canal'!$N$5:$N$9,MATCH($B26,'Regras por canal'!$A$5:$A$9,0)),"")) | AO26: =IF($A26="","",IFERROR(INDEX('Catálogo fonte'!$Q$5:$Q$104,MATCH($A26,'Catálogo fonte'!$A$5:$A$104,0)),"")) | AP26: =IF($B26="","",IFERROR(INDEX('Regras por canal'!$Q$5:$Q$9,MATCH($B26,'Regras por canal'!$A$5:$A$9,0)),""))
A27: =IF(OR(INDEX('Catálogo fonte'!$A$5:$A$104,INT((ROW()-5)/5)+1)="",INDEX('Regras por canal'!$A$5:$A$9,MOD(ROW()-5,5)+1)=""),"",INDEX('Catálogo fonte'!$A$5:$A$104,INT((ROW()-5)/5)+1)) | B27: =IF($A27="","",INDEX('Regras por canal'!$A$5:$A$9,MOD(ROW()-5,5)+1)) | C27: Sim | D27: Nécessaire Dobra média | F27: 42.9 | G27: =IF(OR($A27="",$B27=""),"",IF($D27<>"",$D27,IFERROR(INDEX('Catálogo fonte'!$B$5:$B$104,MATCH($A27,'Catálogo fonte'!$A$5:$A$104,0)),""))) | H27: =IF(OR($A27="",$B27=""),"",IF($E27<>"",$E27,IFERROR(INDEX('Catálogo fonte'!$C$5:$C$104,MATCH($A27,'Catálogo fonte'!$A$5:$A$104,0)),""))) | I27: =IF(OR($A27="",$B27=""),"",IFERROR(INDEX('Catálogo fonte'!$E$5:$E$104,MATCH($A27,'Catálogo fonte'!$A$5:$A$104,0)),"")) | J27: =IF(OR($A27="",$B27=""),"",IFERROR(INDEX('Catálogo fonte'!$D$5:$D$104,MATCH($A27,'Catálogo fonte'!$A$5:$A$104,0)),"")) | K27: =IF(OR($A27="",$B27=""),"",IF($F27<>"",$F27,IFERROR(INDEX('Catálogo fonte'!$F$5:$F$104,MATCH($A27,'Catálogo fonte'!$A$5:$A$104,0)),""))) | L27: =IF(OR($A27="",$B27=""),"",IFERROR(INDEX('Catálogo fonte'!$G$5:$G$104,MATCH($A27,'Catálogo fonte'!$A$5:$A$104,0)),"")) | M27: =IF(OR($A27="",$B27=""),"",IFERROR(INDEX('Catálogo fonte'!$H$5:$H$104,MATCH($A27,'Catálogo fonte'!$A$5:$A$104,0)),"")) | N27: =IF(OR($A27="",$B27=""),"",IFERROR(INDEX('Catálogo fonte'!$I$5:$I$104,MATCH($A27,'Catálogo fonte'!$A$5:$A$104,0)),"")) | O27: =IF(OR($A27="",$B27=""),"",IFERROR(INDEX('Catálogo fonte'!$J$5:$J$104,MATCH($A27,'Catálogo fonte'!$A$5:$A$104,0)),"")) | P27: =IF(OR($A27="",$B27=""),"",IFERROR(INDEX('Catálogo fonte'!$K$5:$K$104,MATCH($A27,'Catálogo fonte'!$A$5:$A$104,0)),"")) | Q27: =IF(OR($A27="",$B27=""),"",IFERROR(INDEX('Catálogo fonte'!$L$5:$L$104,MATCH($A27,'Catálogo fonte'!$A$5:$A$104,0)),"")) | R27: =IF(OR($A27="",$B27=""),"",IFERROR(INDEX('Catálogo fonte'!$M$5:$M$104,MATCH($A27,'Catálogo fonte'!$A$5:$A$104,0)),"")) | S27: =IF(OR($A27="",$B27=""),"",IFERROR(INDEX('Catálogo fonte'!$N$5:$N$104,MATCH($A27,'Catálogo fonte'!$A$5:$A$104,0)),"")) | T27: =IF(OR($A27="",$B27=""),"",IFERROR(INDEX('Catálogo fonte'!$O$5:$O$104,MATCH($A27,'Catálogo fonte'!$A$5:$A$104,0)),"")) | U27: =IF(OR($A27="",$B27=""),"",IFERROR(INDEX('Catálogo fonte'!$P$5:$P$104,MATCH($A27,'Catálogo fonte'!$A$5:$A$104,0)),"")) | V27: =IF(OR($A27="",$B27=""),"",--($S27<>"")+--($T27<>"")+--($U27<>"")) | W27: =IF(OR($A27="",$B27="",$C27<>"Sim"),"",_xlfn.TEXTJOIN(" | ",TRUE,IF($AP27<>"Regra válida","Regra do canal inválida",""),IF(COUNTIF('Catálogo fonte'!$A$5:$A$104,$A27)>1,"SKU duplicado",""),IF($AO27<>"Sim","Produto inativo",""),IF($AB27<>"Sim","Canal inativo",""),IF($G27="","Título ausente",""),IF(AND($G27<>"",$AL27<>"",LEN($G27)>$AL27),"Título excede o limite",""),IF(AND($AC27="Sim",$H27=""),"Categoria ausente",""),IF(AND($AK27>0,LEN($I27)<$AK27),"Descrição abaixo do mínimo",""),IF(AND($AE27="Sim",$J27=""),"Marca ausente",""),IF(OR($K27="",NOT(ISNUMBER($K27)),$K27<=0),"Preço inválido",""),IF(AND(ISNUMBER($K27),$AM27<>"",$K27<$AM27),"Preço abaixo do mínimo",""),IF(AND(ISNUMBER($K27),$AN27<>"",$K27>$AN27),"Preço acima do máximo",""),IF(AND($AD27="Sim",$L27=""),"GTIN ausente",""),IF(AND($L27<>"",NOT(IFERROR(AND(LEN($L27)=13,ISNUMBER(VALUE($L27))),FALSE))),"GTIN inválido",""),IF(AND($AF27="Sim",$M27=""),"Cor ausente",""),IF(AND($AG27="Sim",$N27=""),"Tamanho/modelo ausente",""),IF(AND($AH27="Sim",OR(NOT(ISNUMBER($O27)),$O27<=0)),"Peso ausente ou inválido",""),IF(AND($AI27="Sim",OR(NOT(ISNUMBER($P27)),$P27<=0,NOT(ISNUMBER($Q27)),$Q27<=0,NOT(ISNUMBER($R27)),$R27<=0)),"Dimensões ausentes ou inválidas",""),IF($V27<$AJ27,"Mídias abaixo do mínimo",""))) | X27: =IF(OR($A27="",$B27=""),"",IF($C27<>"Sim","Não selecionado",IF($W27="","Pronto para publicar","Bloqueado"))) | Y27: Manter rascunho | Z27: =IF(OR($A27="",$B27=""),"",IF($C27<>"Sim","Fora do feed",IF($X27="Bloqueado","Bloqueado",IF($Y27="Publicar","Liberado para feed",IF($Y27="Manter rascunho","Mantido em rascunho","Aguardando decisão"))))) | AA27: =IF(OR($A27="",$B27=""),"",$A27&"|"&$B27) | AB27: =IF($B27="","",IFERROR(INDEX('Regras por canal'!$B$5:$B$9,MATCH($B27,'Regras por canal'!$A$5:$A$9,0)),"")) | AC27: =IF($B27="","",IFERROR(INDEX('Regras por canal'!$C$5:$C$9,MATCH($B27,'Regras por canal'!$A$5:$A$9,0)),"")) | AD27: =IF($B27="","",IFERROR(INDEX('Regras por canal'!$D$5:$D$9,MATCH($B27,'Regras por canal'!$A$5:$A$9,0)),"")) | AE27: =IF($B27="","",IFERROR(INDEX('Regras por canal'!$E$5:$E$9,MATCH($B27,'Regras por canal'!$A$5:$A$9,0)),"")) | AF27: =IF($B27="","",IFERROR(INDEX('Regras por canal'!$F$5:$F$9,MATCH($B27,'Regras por canal'!$A$5:$A$9,0)),"")) | AG27: =IF($B27="","",IFERROR(INDEX('Regras por canal'!$G$5:$G$9,MATCH($B27,'Regras por canal'!$A$5:$A$9,0)),"")) | AH27: =IF($B27="","",IFERROR(INDEX('Regras por canal'!$H$5:$H$9,MATCH($B27,'Regras por canal'!$A$5:$A$9,0)),"")) | AI27: =IF($B27="","",IFERROR(INDEX('Regras por canal'!$I$5:$I$9,MATCH($B27,'Regras por canal'!$A$5:$A$9,0)),"")) | AJ27: =IF($B27="","",IFERROR(INDEX('Regras por canal'!$J$5:$J$9,MATCH($B27,'Regras por canal'!$A$5:$A$9,0)),"")) | AK27: =IF($B27="","",IFERROR(INDEX('Regras por canal'!$K$5:$K$9,MATCH($B27,'Regras por canal'!$A$5:$A$9,0)),"")) | AL27: =IF($B27="","",IFERROR(INDEX('Regras por canal'!$L$5:$L$9,MATCH($B27,'Regras por canal'!$A$5:$A$9,0)),"")) | AM27: =IF($B27="","",IFERROR(INDEX('Regras por canal'!$M$5:$M$9,MATCH($B27,'Regras por canal'!$A$5:$A$9,0)),"")) | AN27: =IF($B27="","",IFERROR(INDEX('Regras por canal'!$N$5:$N$9,MATCH($B27,'Regras por canal'!$A$5:$A$9,0)),"")) | AO27: =IF($A27="","",IFERROR(INDEX('Catálogo fonte'!$Q$5:$Q$104,MATCH($A27,'Catálogo fonte'!$A$5:$A$104,0)),"")) | AP27: =IF($B27="","",IFERROR(INDEX('Regras por canal'!$Q$5:$Q$9,MATCH($B27,'Regras por canal'!$A$5:$A$9,0)),""))
A28: =IF(OR(INDEX('Catálogo fonte'!$A$5:$A$104,INT((ROW()-5)/5)+1)="",INDEX('Regras por canal'!$A$5:$A$9,MOD(ROW()-5,5)+1)=""),"",INDEX('Catálogo fonte'!$A$5:$A$104,INT((ROW()-5)/5)+1)) | B28: =IF($A28="","",INDEX('Regras por canal'!$A$5:$A$9,MOD(ROW()-5,5)+1)) | G28: =IF(OR($A28="",$B28=""),"",IF($D28<>"",$D28,IFERROR(INDEX('Catálogo fonte'!$B$5:$B$104,MATCH($A28,'Catálogo fonte'!$A$5:$A$104,0)),""))) | H28: =IF(OR($A28="",$B28=""),"",IF($E28<>"",$E28,IFERROR(INDEX('Catálogo fonte'!$C$5:$C$104,MATCH($A28,'Catálogo fonte'!$A$5:$A$104,0)),""))) | I28: =IF(OR($A28="",$B28=""),"",IFERROR(INDEX('Catálogo fonte'!$E$5:$E$104,MATCH($A28,'Catálogo fonte'!$A$5:$A$104,0)),"")) | J28: =IF(OR($A28="",$B28=""),"",IFERROR(INDEX('Catálogo fonte'!$D$5:$D$104,MATCH($A28,'Catálogo fonte'!$A$5:$A$104,0)),"")) | K28: =IF(OR($A28="",$B28=""),"",IF($F28<>"",$F28,IFERROR(INDEX('Catálogo fonte'!$F$5:$F$104,MATCH($A28,'Catálogo fonte'!$A$5:$A$104,0)),""))) | L28: =IF(OR($A28="",$B28=""),"",IFERROR(INDEX('Catálogo fonte'!$G$5:$G$104,MATCH($A28,'Catálogo fonte'!$A$5:$A$104,0)),"")) | M28: =IF(OR($A28="",$B28=""),"",IFERROR(INDEX('Catálogo fonte'!$H$5:$H$104,MATCH($A28,'Catálogo fonte'!$A$5:$A$104,0)),"")) | N28: =IF(OR($A28="",$B28=""),"",IFERROR(INDEX('Catálogo fonte'!$I$5:$I$104,MATCH($A28,'Catálogo fonte'!$A$5:$A$104,0)),"")) | O28: =IF(OR($A28="",$B28=""),"",IFERROR(INDEX('Catálogo fonte'!$J$5:$J$104,MATCH($A28,'Catálogo fonte'!$A$5:$A$104,0)),"")) | P28: =IF(OR($A28="",$B28=""),"",IFERROR(INDEX('Catálogo fonte'!$K$5:$K$104,MATCH($A28,'Catálogo fonte'!$A$5:$A$104,0)),"")) | Q28: =IF(OR($A28="",$B28=""),"",IFERROR(INDEX('Catálogo fonte'!$L$5:$L$104,MATCH($A28,'Catálogo fonte'!$A$5:$A$104,0)),"")) | R28: =IF(OR($A28="",$B28=""),"",IFERROR(INDEX('Catálogo fonte'!$M$5:$M$104,MATCH($A28,'Catálogo fonte'!$A$5:$A$104,0)),"")) | S28: =IF(OR($A28="",$B28=""),"",IFERROR(INDEX('Catálogo fonte'!$N$5:$N$104,MATCH($A28,'Catálogo fonte'!$A$5:$A$104,0)),"")) | T28: =IF(OR($A28="",$B28=""),"",IFERROR(INDEX('Catálogo fonte'!$O$5:$O$104,MATCH($A28,'Catálogo fonte'!$A$5:$A$104,0)),"")) | U28: =IF(OR($A28="",$B28=""),"",IFERROR(INDEX('Catálogo fonte'!$P$5:$P$104,MATCH($A28,'Catálogo fonte'!$A$5:$A$104,0)),"")) | V28: =IF(OR($A28="",$B28=""),"",--($S28<>"")+--($T28<>"")+--($U28<>"")) | W28: =IF(OR($A28="",$B28="",$C28<>"Sim"),"",_xlfn.TEXTJOIN(" | ",TRUE,IF($AP28<>"Regra válida","Regra do canal inválida",""),IF(COUNTIF('Catálogo fonte'!$A$5:$A$104,$A28)>1,"SKU duplicado",""),IF($AO28<>"Sim","Produto inativo",""),IF($AB28<>"Sim","Canal inativo",""),IF($G28="","Título ausente",""),IF(AND($G28<>"",$AL28<>"",LEN($G28)>$AL28),"Título excede o limite",""),IF(AND($AC28="Sim",$H28=""),"Categoria ausente",""),IF(AND($AK28>0,LEN($I28)<$AK28),"Descrição abaixo do mínimo",""),IF(AND($AE28="Sim",$J28=""),"Marca ausente",""),IF(OR($K28="",NOT(ISNUMBER($K28)),$K28<=0),"Preço inválido",""),IF(AND(ISNUMBER($K28),$AM28<>"",$K28<$AM28),"Preço abaixo do mínimo",""),IF(AND(ISNUMBER($K28),$AN28<>"",$K28>$AN28),"Preço acima do máximo",""),IF(AND($AD28="Sim",$L28=""),"GTIN ausente",""),IF(AND($L28<>"",NOT(IFERROR(AND(LEN($L28)=13,ISNUMBER(VALUE($L28))),FALSE))),"GTIN inválido",""),IF(AND($AF28="Sim",$M28=""),"Cor ausente",""),IF(AND($AG28="Sim",$N28=""),"Tamanho/modelo ausente",""),IF(AND($AH28="Sim",OR(NOT(ISNUMBER($O28)),$O28<=0)),"Peso ausente ou inválido",""),IF(AND($AI28="Sim",OR(NOT(ISNUMBER($P28)),$P28<=0,NOT(ISNUMBER($Q28)),$Q28<=0,NOT(ISNUMBER($R28)),$R28<=0)),"Dimensões ausentes ou inválidas",""),IF($V28<$AJ28,"Mídias abaixo do mínimo",""))) | X28: =IF(OR($A28="",$B28=""),"",IF($C28<>"Sim","Não selecionado",IF($W28="","Pronto para publicar","Bloqueado"))) | Z28: =IF(OR($A28="",$B28=""),"",IF($C28<>"Sim","Fora do feed",IF($X28="Bloqueado","Bloqueado",IF($Y28="Publicar","Liberado para feed",IF($Y28="Manter rascunho","Mantido em rascunho","Aguardando decisão"))))) | AA28: =IF(OR($A28="",$B28=""),"",$A28&"|"&$B28) | AB28: =IF($B28="","",IFERROR(INDEX('Regras por canal'!$B$5:$B$9,MATCH($B28,'Regras por canal'!$A$5:$A$9,0)),"")) | AC28: =IF($B28="","",IFERROR(INDEX('Regras por canal'!$C$5:$C$9,MATCH($B28,'Regras por canal'!$A$5:$A$9,0)),"")) | AD28: =IF($B28="","",IFERROR(INDEX('Regras por canal'!$D$5:$D$9,MATCH($B28,'Regras por canal'!$A$5:$A$9,0)),"")) | AE28: =IF($B28="","",IFERROR(INDEX('Regras por canal'!$E$5:$E$9,MATCH($B28,'Regras por canal'!$A$5:$A$9,0)),"")) | AF28: =IF($B28="","",IFERROR(INDEX('Regras por canal'!$F$5:$F$9,MATCH($B28,'Regras por canal'!$A$5:$A$9,0)),"")) | AG28: =IF($B28="","",IFERROR(INDEX('Regras por canal'!$G$5:$G$9,MATCH($B28,'Regras por canal'!$A$5:$A$9,0)),"")) | AH28: =IF($B28="","",IFERROR(INDEX('Regras por canal'!$H$5:$H$9,MATCH($B28,'Regras por canal'!$A$5:$A$9,0)),"")) | AI28: =IF($B28="","",IFERROR(INDEX('Regras por canal'!$I$5:$I$9,MATCH($B28,'Regras por canal'!$A$5:$A$9,0)),"")) | AJ28: =IF($B28="","",IFERROR(INDEX('Regras por canal'!$J$5:$J$9,MATCH($B28,'Regras por canal'!$A$5:$A$9,0)),"")) | AK28: =IF($B28="","",IFERROR(INDEX('Regras por canal'!$K$5:$K$9,MATCH($B28,'Regras por canal'!$A$5:$A$9,0)),"")) | AL28: =IF($B28="","",IFERROR(INDEX('Regras por canal'!$L$5:$L$9,MATCH($B28,'Regras por canal'!$A$5:$A$9,0)),"")) | AM28: =IF($B28="","",IFERROR(INDEX('Regras por canal'!$M$5:$M$9,MATCH($B28,'Regras por canal'!$A$5:$A$9,0)),"")) | AN28: =IF($B28="","",IFERROR(INDEX('Regras por canal'!$N$5:$N$9,MATCH($B28,'Regras por canal'!$A$5:$A$9,0)),"")) | AO28: =IF($A28="","",IFERROR(INDEX('Catálogo fonte'!$Q$5:$Q$104,MATCH($A28,'Catálogo fonte'!$A$5:$A$104,0)),"")) | AP28: =IF($B28="","",IFERROR(INDEX('Regras por canal'!$Q$5:$Q$9,MATCH($B28,'Regras por canal'!$A$5:$A$9,0)),""))
A29: =IF(OR(INDEX('Catálogo fonte'!$A$5:$A$104,INT((ROW()-5)/5)+1)="",INDEX('Regras por canal'!$A$5:$A$9,MOD(ROW()-5,5)+1)=""),"",INDEX('Catálogo fonte'!$A$5:$A$104,INT((ROW()-5)/5)+1)) | B29: =IF($A29="","",INDEX('Regras por canal'!$A$5:$A$9,MOD(ROW()-5,5)+1)) | G29: =IF(OR($A29="",$B29=""),"",IF($D29<>"",$D29,IFERROR(INDEX('Catálogo fonte'!$B$5:$B$104,MATCH($A29,'Catálogo fonte'!$A$5:$A$104,0)),""))) | H29: =IF(OR($A29="",$B29=""),"",IF($E29<>"",$E29,IFERROR(INDEX('Catálogo fonte'!$C$5:$C$104,MATCH($A29,'Catálogo fonte'!$A$5:$A$104,0)),""))) | I29: =IF(OR($A29="",$B29=""),"",IFERROR(INDEX('Catálogo fonte'!$E$5:$E$104,MATCH($A29,'Catálogo fonte'!$A$5:$A$104,0)),"")) | J29: =IF(OR($A29="",$B29=""),"",IFERROR(INDEX('Catálogo fonte'!$D$5:$D$104,MATCH($A29,'Catálogo fonte'!$A$5:$A$104,0)),"")) | K29: =IF(OR($A29="",$B29=""),"",IF($F29<>"",$F29,IFERROR(INDEX('Catálogo fonte'!$F$5:$F$104,MATCH($A29,'Catálogo fonte'!$A$5:$A$104,0)),""))) | L29: =IF(OR($A29="",$B29=""),"",IFERROR(INDEX('Catálogo fonte'!$G$5:$G$104,MATCH($A29,'Catálogo fonte'!$A$5:$A$104,0)),"")) | M29: =IF(OR($A29="",$B29=""),"",IFERROR(INDEX('Catálogo fonte'!$H$5:$H$104,MATCH($A29,'Catálogo fonte'!$A$5:$A$104,0)),"")) | N29: =IF(OR($A29="",$B29=""),"",IFERROR(INDEX('Catálogo fonte'!$I$5:$I$104,MATCH($A29,'Catálogo fonte'!$A$5:$A$104,0)),"")) | O29: =IF(OR($A29="",$B29=""),"",IFERROR(INDEX('Catálogo fonte'!$J$5:$J$104,MATCH($A29,'Catálogo fonte'!$A$5:$A$104,0)),"")) | P29: =IF(OR($A29="",$B29=""),"",IFERROR(INDEX('Catálogo fonte'!$K$5:$K$104,MATCH($A29,'Catálogo fonte'!$A$5:$A$104,0)),"")) | Q29: =IF(OR($A29="",$B29=""),"",IFERROR(INDEX('Catálogo fonte'!$L$5:$L$104,MATCH($A29,'Catálogo fonte'!$A$5:$A$104,0)),"")) | R29: =IF(OR($A29="",$B29=""),"",IFERROR(INDEX('Catálogo fonte'!$M$5:$M$104,MATCH($A29,'Catálogo fonte'!$A$5:$A$104,0)),"")) | S29: =IF(OR($A29="",$B29=""),"",IFERROR(INDEX('Catálogo fonte'!$N$5:$N$104,MATCH($A29,'Catálogo fonte'!$A$5:$A$104,0)),"")) | T29: =IF(OR($A29="",$B29=""),"",IFERROR(INDEX('Catálogo fonte'!$O$5:$O$104,MATCH($A29,'Catálogo fonte'!$A$5:$A$104,0)),"")) | U29: =IF(OR($A29="",$B29=""),"",IFERROR(INDEX('Catálogo fonte'!$P$5:$P$104,MATCH($A29,'Catálogo fonte'!$A$5:$A$104,0)),"")) | V29: =IF(OR($A29="",$B29=""),"",--($S29<>"")+--($T29<>"")+--($U29<>"")) | W29: =IF(OR($A29="",$B29="",$C29<>"Sim"),"",_xlfn.TEXTJOIN(" | ",TRUE,IF($AP29<>"Regra válida","Regra do canal inválida",""),IF(COUNTIF('Catálogo fonte'!$A$5:$A$104,$A29)>1,"SKU duplicado",""),IF($AO29<>"Sim","Produto inativo",""),IF($AB29<>"Sim","Canal inativo",""),IF($G29="","Título ausente",""),IF(AND($G29<>"",$AL29<>"",LEN($G29)>$AL29),"Título excede o limite",""),IF(AND($AC29="Sim",$H29=""),"Categoria ausente",""),IF(AND($AK29>0,LEN($I29)<$AK29),"Descrição abaixo do mínimo",""),IF(AND($AE29="Sim",$J29=""),"Marca ausente",""),IF(OR($K29="",NOT(ISNUMBER($K29)),$K29<=0),"Preço inválido",""),IF(AND(ISNUMBER($K29),$AM29<>"",$K29<$AM29),"Preço abaixo do mínimo",""),IF(AND(ISNUMBER($K29),$AN29<>"",$K29>$AN29),"Preço acima do máximo",""),IF(AND($AD29="Sim",$L29=""),"GTIN ausente",""),IF(AND($L29<>"",NOT(IFERROR(AND(LEN($L29)=13,ISNUMBER(VALUE($L29))),FALSE))),"GTIN inválido",""),IF(AND($AF29="Sim",$M29=""),"Cor ausente",""),IF(AND($AG29="Sim",$N29=""),"Tamanho/modelo ausente",""),IF(AND($AH29="Sim",OR(NOT(ISNUMBER($O29)),$O29<=0)),"Peso ausente ou inválido",""),IF(AND($AI29="Sim",OR(NOT(ISNUMBER($P29)),$P29<=0,NOT(ISNUMBER($Q29)),$Q29<=0,NOT(ISNUMBER($R29)),$R29<=0)),"Dimensões ausentes ou inválidas",""),IF($V29<$AJ29,"Mídias abaixo do mínimo",""))) | X29: =IF(OR($A29="",$B29=""),"",IF($C29<>"Sim","Não selecionado",IF($W29="","Pronto para publicar","Bloqueado"))) | Z29: =IF(OR($A29="",$B29=""),"",IF($C29<>"Sim","Fora do feed",IF($X29="Bloqueado","Bloqueado",IF($Y29="Publicar","Liberado para feed",IF($Y29="Manter rascunho","Mantido em rascunho","Aguardando decisão"))))) | AA29: =IF(OR($A29="",$B29=""),"",$A29&"|"&$B29) | AB29: =IF($B29="","",IFERROR(INDEX('Regras por canal'!$B$5:$B$9,MATCH($B29,'Regras por canal'!$A$5:$A$9,0)),"")) | AC29: =IF($B29="","",IFERROR(INDEX('Regras por canal'!$C$5:$C$9,MATCH($B29,'Regras por canal'!$A$5:$A$9,0)),"")) | AD29: =IF($B29="","",IFERROR(INDEX('Regras por canal'!$D$5:$D$9,MATCH($B29,'Regras por canal'!$A$5:$A$9,0)),"")) | AE29: =IF($B29="","",IFERROR(INDEX('Regras por canal'!$E$5:$E$9,MATCH($B29,'Regras por canal'!$A$5:$A$9,0)),"")) | AF29: =IF($B29="","",IFERROR(INDEX('Regras por canal'!$F$5:$F$9,MATCH($B29,'Regras por canal'!$A$5:$A$9,0)),"")) | AG29: =IF($B29="","",IFERROR(INDEX('Regras por canal'!$G$5:$G$9,MATCH($B29,'Regras por canal'!$A$5:$A$9,0)),"")) | AH29: =IF($B29="","",IFERROR(INDEX('Regras por canal'!$H$5:$H$9,MATCH($B29,'Regras por canal'!$A$5:$A$9,0)),"")) | AI29: =IF($B29="","",IFERROR(INDEX('Regras por canal'!$I$5:$I$9,MATCH($B29,'Regras por canal'!$A$5:$A$9,0)),"")) | AJ29: =IF($B29="","",IFERROR(INDEX('Regras por canal'!$J$5:$J$9,MATCH($B29,'Regras por canal'!$A$5:$A$9,0)),"")) | AK29: =IF($B29="","",IFERROR(INDEX('Regras por canal'!$K$5:$K$9,MATCH($B29,'Regras por canal'!$A$5:$A$9,0)),"")) | AL29: =IF($B29="","",IFERROR(INDEX('Regras por canal'!$L$5:$L$9,MATCH($B29,'Regras por canal'!$A$5:$A$9,0)),"")) | AM29: =IF($B29="","",IFERROR(INDEX('Regras por canal'!$M$5:$M$9,MATCH($B29,'Regras por canal'!$A$5:$A$9,0)),"")) | AN29: =IF($B29="","",IFERROR(INDEX('Regras por canal'!$N$5:$N$9,MATCH($B29,'Regras por canal'!$A$5:$A$9,0)),"")) | AO29: =IF($A29="","",IFERROR(INDEX('Catálogo fonte'!$Q$5:$Q$104,MATCH($A29,'Catálogo fonte'!$A$5:$A$104,0)),"")) | AP29: =IF($B29="","",IFERROR(INDEX('Regras por canal'!$Q$5:$Q$9,MATCH($B29,'Regras por canal'!$A$5:$A$9,0)),""))
A30: =IF(OR(INDEX('Catálogo fonte'!$A$5:$A$104,INT((ROW()-5)/5)+1)="",INDEX('Regras por canal'!$A$5:$A$9,MOD(ROW()-5,5)+1)=""),"",INDEX('Catálogo fonte'!$A$5:$A$104,INT((ROW()-5)/5)+1)) | B30: =IF($A30="","",INDEX('Regras por canal'!$A$5:$A$9,MOD(ROW()-5,5)+1)) | C30: Sim | G30: =IF(OR($A30="",$B30=""),"",IF($D30<>"",$D30,IFERROR(INDEX('Catálogo fonte'!$B$5:$B$104,MATCH($A30,'Catálogo fonte'!$A$5:$A$104,0)),""))) | H30: =IF(OR($A30="",$B30=""),"",IF($E30<>"",$E30,IFERROR(INDEX('Catálogo fonte'!$C$5:$C$104,MATCH($A30,'Catálogo fonte'!$A$5:$A$104,0)),""))) | I30: =IF(OR($A30="",$B30=""),"",IFERROR(INDEX('Catálogo fonte'!$E$5:$E$104,MATCH($A30,'Catálogo fonte'!$A$5:$A$104,0)),"")) | J30: =IF(OR($A30="",$B30=""),"",IFERROR(INDEX('Catálogo fonte'!$D$5:$D$104,MATCH($A30,'Catálogo fonte'!$A$5:$A$104,0)),"")) | K30: =IF(OR($A30="",$B30=""),"",IF($F30<>"",$F30,IFERROR(INDEX('Catálogo fonte'!$F$5:$F$104,MATCH($A30,'Catálogo fonte'!$A$5:$A$104,0)),""))) | L30: =IF(OR($A30="",$B30=""),"",IFERROR(INDEX('Catálogo fonte'!$G$5:$G$104,MATCH($A30,'Catálogo fonte'!$A$5:$A$104,0)),"")) | M30: =IF(OR($A30="",$B30=""),"",IFERROR(INDEX('Catálogo fonte'!$H$5:$H$104,MATCH($A30,'Catálogo fonte'!$A$5:$A$104,0)),"")) | N30: =IF(OR($A30="",$B30=""),"",IFERROR(INDEX('Catálogo fonte'!$I$5:$I$104,MATCH($A30,'Catálogo fonte'!$A$5:$A$104,0)),"")) | O30: =IF(OR($A30="",$B30=""),"",IFERROR(INDEX('Catálogo fonte'!$J$5:$J$104,MATCH($A30,'Catálogo fonte'!$A$5:$A$104,0)),"")) | P30: =IF(OR($A30="",$B30=""),"",IFERROR(INDEX('Catálogo fonte'!$K$5:$K$104,MATCH($A30,'Catálogo fonte'!$A$5:$A$104,0)),"")) | Q30: =IF(OR($A30="",$B30=""),"",IFERROR(INDEX('Catálogo fonte'!$L$5:$L$104,MATCH($A30,'Catálogo fonte'!$A$5:$A$104,0)),"")) | R30: =IF(OR($A30="",$B30=""),"",IFERROR(INDEX('Catálogo fonte'!$M$5:$M$104,MATCH($A30,'Catálogo fonte'!$A$5:$A$104,0)),"")) | S30: =IF(OR($A30="",$B30=""),"",IFERROR(INDEX('Catálogo fonte'!$N$5:$N$104,MATCH($A30,'Catálogo fonte'!$A$5:$A$104,0)),"")) | T30: =IF(OR($A30="",$B30=""),"",IFERROR(INDEX('Catálogo fonte'!$O$5:$O$104,MATCH($A30,'Catálogo fonte'!$A$5:$A$104,0)),"")) | U30: =IF(OR($A30="",$B30=""),"",IFERROR(INDEX('Catálogo fonte'!$P$5:$P$104,MATCH($A30,'Catálogo fonte'!$A$5:$A$104,0)),"")) | V30: =IF(OR($A30="",$B30=""),"",--($S30<>"")+--($T30<>"")+--($U30<>"")) | W30: =IF(OR($A30="",$B30="",$C30<>"Sim"),"",_xlfn.TEXTJOIN(" | ",TRUE,IF($AP30<>"Regra válida","Regra do canal inválida",""),IF(COUNTIF('Catálogo fonte'!$A$5:$A$104,$A30)>1,"SKU duplicado",""),IF($AO30<>"Sim","Produto inativo",""),IF($AB30<>"Sim","Canal inativo",""),IF($G30="","Título ausente",""),IF(AND($G30<>"",$AL30<>"",LEN($G30)>$AL30),"Título excede o limite",""),IF(AND($AC30="Sim",$H30=""),"Categoria ausente",""),IF(AND($AK30>0,LEN($I30)<$AK30),"Descrição abaixo do mínimo",""),IF(AND($AE30="Sim",$J30=""),"Marca ausente",""),IF(OR($K30="",NOT(ISNUMBER($K30)),$K30<=0),"Preço inválido",""),IF(AND(ISNUMBER($K30),$AM30<>"",$K30<$AM30),"Preço abaixo do mínimo",""),IF(AND(ISNUMBER($K30),$AN30<>"",$K30>$AN30),"Preço acima do máximo",""),IF(AND($AD30="Sim",$L30=""),"GTIN ausente",""),IF(AND($L30<>"",NOT(IFERROR(AND(LEN($L30)=13,ISNUMBER(VALUE($L30))),FALSE))),"GTIN inválido",""),IF(AND($AF30="Sim",$M30=""),"Cor ausente",""),IF(AND($AG30="Sim",$N30=""),"Tamanho/modelo ausente",""),IF(AND($AH30="Sim",OR(NOT(ISNUMBER($O30)),$O30<=0)),"Peso ausente ou inválido",""),IF(AND($AI30="Sim",OR(NOT(ISNUMBER($P30)),$P30<=0,NOT(ISNUMBER($Q30)),$Q30<=0,NOT(ISNUMBER($R30)),$R30<=0)),"Dimensões ausentes ou inválidas",""),IF($V30<$AJ30,"Mídias abaixo do mínimo",""))) | X30: =IF(OR($A30="",$B30=""),"",IF($C30<>"Sim","Não selecionado",IF($W30="","Pronto para publicar","Bloqueado"))) | Y30: Publicar | Z30: =IF(OR($A30="",$B30=""),"",IF($C30<>"Sim","Fora do feed",IF($X30="Bloqueado","Bloqueado",IF($Y30="Publicar","Liberado para feed",IF($Y30="Manter rascunho","Mantido em rascunho","Aguardando decisão"))))) | AA30: =IF(OR($A30="",$B30=""),"",$A30&"|"&$B30) | AB30: =IF($B30="","",IFERROR(INDEX('Regras por canal'!$B$5:$B$9,MATCH($B30,'Regras por canal'!$A$5:$A$9,0)),"")) | AC30: =IF($B30="","",IFERROR(INDEX('Regras por canal'!$C$5:$C$9,MATCH($B30,'Regras por canal'!$A$5:$A$9,0)),"")) | AD30: =IF($B30="","",IFERROR(INDEX('Regras por canal'!$D$5:$D$9,MATCH($B30,'Regras por canal'!$A$5:$A$9,0)),"")) | AE30: =IF($B30="","",IFERROR(INDEX('Regras por canal'!$E$5:$E$9,MATCH($B30,'Regras por canal'!$A$5:$A$9,0)),"")) | AF30: =IF($B30="","",IFERROR(INDEX('Regras por canal'!$F$5:$F$9,MATCH($B30,'Regras por canal'!$A$5:$A$9,0)),"")) | AG30: =IF($B30="","",IFERROR(INDEX('Regras por canal'!$G$5:$G$9,MATCH($B30,'Regras por canal'!$A$5:$A$9,0)),"")) | AH30: =IF($B30="","",IFERROR(INDEX('Regras por canal'!$H$5:$H$9,MATCH($B30,'Regras por canal'!$A$5:$A$9,0)),"")) | AI30: =IF($B30="","",IFERROR(INDEX('Regras por canal'!$I$5:$I$9,MATCH($B30,'Regras por canal'!$A$5:$A$9,0)),"")) | AJ30: =IF($B30="","",IFERROR(INDEX('Regras por canal'!$J$5:$J$9,MATCH($B30,'Regras por canal'!$A$5:$A$9,0)),"")) | AK30: =IF($B30="","",IFERROR(INDEX('Regras por canal'!$K$5:$K$9,MATCH($B30,'Regras por canal'!$A$5:$A$9,0)),"")) | AL30: =IF($B30="","",IFERROR(INDEX('Regras por canal'!$L$5:$L$9,MATCH($B30,'Regras por canal'!$A$5:$A$9,0)),"")) | AM30: =IF($B30="","",IFERROR(INDEX('Regras por canal'!$M$5:$M$9,MATCH($B30,'Regras por canal'!$A$5:$A$9,0)),"")) | AN30: =IF($B30="","",IFERROR(INDEX('Regras por canal'!$N$5:$N$9,MATCH($B30,'Regras por canal'!$A$5:$A$9,0)),"")) | AO30: =IF($A30="","",IFERROR(INDEX('Catálogo fonte'!$Q$5:$Q$104,MATCH($A30,'Catálogo fonte'!$A$5:$A$104,0)),"")) | AP30: =IF($B30="","",IFERROR(INDEX('Regras por canal'!$Q$5:$Q$9,MATCH($B30,'Regras por canal'!$A$5:$A$9,0)),""))
A31: =IF(OR(INDEX('Catálogo fonte'!$A$5:$A$104,INT((ROW()-5)/5)+1)="",INDEX('Regras por canal'!$A$5:$A$9,MOD(ROW()-5,5)+1)=""),"",INDEX('Catálogo fonte'!$A$5:$A$104,INT((ROW()-5)/5)+1)) | B31: =IF($A31="","",INDEX('Regras por canal'!$A$5:$A$9,MOD(ROW()-5,5)+1)) | C31: Sim | G31: =IF(OR($A31="",$B31=""),"",IF($D31<>"",$D31,IFERROR(INDEX('Catálogo fonte'!$B$5:$B$104,MATCH($A31,'Catálogo fonte'!$A$5:$A$104,0)),""))) | H31: =IF(OR($A31="",$B31=""),"",IF($E31<>"",$E31,IFERROR(INDEX('Catálogo fonte'!$C$5:$C$104,MATCH($A31,'Catálogo fonte'!$A$5:$A$104,0)),""))) | I31: =IF(OR($A31="",$B31=""),"",IFERROR(INDEX('Catálogo fonte'!$E$5:$E$104,MATCH($A31,'Catálogo fonte'!$A$5:$A$104,0)),"")) | J31: =IF(OR($A31="",$B31=""),"",IFERROR(INDEX('Catálogo fonte'!$D$5:$D$104,MATCH($A31,'Catálogo fonte'!$A$5:$A$104,0)),"")) | K31: =IF(OR($A31="",$B31=""),"",IF($F31<>"",$F31,IFERROR(INDEX('Catálogo fonte'!$F$5:$F$104,MATCH($A31,'Catálogo fonte'!$A$5:$A$104,0)),""))) | L31: =IF(OR($A31="",$B31=""),"",IFERROR(INDEX('Catálogo fonte'!$G$5:$G$104,MATCH($A31,'Catálogo fonte'!$A$5:$A$104,0)),"")) | M31: =IF(OR($A31="",$B31=""),"",IFERROR(INDEX('Catálogo fonte'!$H$5:$H$104,MATCH($A31,'Catálogo fonte'!$A$5:$A$104,0)),"")) | N31: =IF(OR($A31="",$B31=""),"",IFERROR(INDEX('Catálogo fonte'!$I$5:$I$104,MATCH($A31,'Catálogo fonte'!$A$5:$A$104,0)),"")) | O31: =IF(OR($A31="",$B31=""),"",IFERROR(INDEX('Catálogo fonte'!$J$5:$J$104,MATCH($A31,'Catálogo fonte'!$A$5:$A$104,0)),"")) | P31: =IF(OR($A31="",$B31=""),"",IFERROR(INDEX('Catálogo fonte'!$K$5:$K$104,MATCH($A31,'Catálogo fonte'!$A$5:$A$104,0)),"")) | Q31: =IF(OR($A31="",$B31=""),"",IFERROR(INDEX('Catálogo fonte'!$L$5:$L$104,MATCH($A31,'Catálogo fonte'!$A$5:$A$104,0)),"")) | R31: =IF(OR($A31="",$B31=""),"",IFERROR(INDEX('Catálogo fonte'!$M$5:$M$104,MATCH($A31,'Catálogo fonte'!$A$5:$A$104,0)),"")) | S31: =IF(OR($A31="",$B31=""),"",IFERROR(INDEX('Catálogo fonte'!$N$5:$N$104,MATCH($A31,'Catálogo fonte'!$A$5:$A$104,0)),"")) | T31: =IF(OR($A31="",$B31=""),"",IFERROR(INDEX('Catálogo fonte'!$O$5:$O$104,MATCH($A31,'Catálogo fonte'!$A$5:$A$104,0)),"")) | U31: =IF(OR($A31="",$B31=""),"",IFERROR(INDEX('Catálogo fonte'!$P$5:$P$104,MATCH($A31,'Catálogo fonte'!$A$5:$A$104,0)),"")) | V31: =IF(OR($A31="",$B31=""),"",--($S31<>"")+--($T31<>"")+--($U31<>"")) | W31: =IF(OR($A31="",$B31="",$C31<>"Sim"),"",_xlfn.TEXTJOIN(" | ",TRUE,IF($AP31<>"Regra válida","Regra do canal inválida",""),IF(COUNTIF('Catálogo fonte'!$A$5:$A$104,$A31)>1,"SKU duplicado",""),IF($AO31<>"Sim","Produto inativo",""),IF($AB31<>"Sim","Canal inativo",""),IF($G31="","Título ausente",""),IF(AND($G31<>"",$AL31<>"",LEN($G31)>$AL31),"Título excede o limite",""),IF(AND($AC31="Sim",$H31=""),"Categoria ausente",""),IF(AND($AK31>0,LEN($I31)<$AK31),"Descrição abaixo do mínimo",""),IF(AND($AE31="Sim",$J31=""),"Marca ausente",""),IF(OR($K31="",NOT(ISNUMBER($K31)),$K31<=0),"Preço inválido",""),IF(AND(ISNUMBER($K31),$AM31<>"",$K31<$AM31),"Preço abaixo do mínimo",""),IF(AND(ISNUMBER($K31),$AN31<>"",$K31>$AN31),"Preço acima do máximo",""),IF(AND($AD31="Sim",$L31=""),"GTIN ausente",""),IF(AND($L31<>"",NOT(IFERROR(AND(LEN($L31)=13,ISNUMBER(VALUE($L31))),FALSE))),"GTIN inválido",""),IF(AND($AF31="Sim",$M31=""),"Cor ausente",""),IF(AND($AG31="Sim",$N31=""),"Tamanho/modelo ausente",""),IF(AND($AH31="Sim",OR(NOT(ISNUMBER($O31)),$O31<=0)),"Peso ausente ou inválido",""),IF(AND($AI31="Sim",OR(NOT(ISNUMBER($P31)),$P31<=0,NOT(ISNUMBER($Q31)),$Q31<=0,NOT(ISNUMBER($R31)),$R31<=0)),"Dimensões ausentes ou inválidas",""),IF($V31<$AJ31,"Mídias abaixo do mínimo",""))) | X31: =IF(OR($A31="",$B31=""),"",IF($C31<>"Sim","Não selecionado",IF($W31="","Pronto para publicar","Bloqueado"))) | Y31: Não definida | Z31: =IF(OR($A31="",$B31=""),"",IF($C31<>"Sim","Fora do feed",IF($X31="Bloqueado","Bloqueado",IF($Y31="Publicar","Liberado para feed",IF($Y31="Manter rascunho","Mantido em rascunho","Aguardando decisão"))))) | AA31: =IF(OR($A31="",$B31=""),"",$A31&"|"&$B31) | AB31: =IF($B31="","",IFERROR(INDEX('Regras por canal'!$B$5:$B$9,MATCH($B31,'Regras por canal'!$A$5:$A$9,0)),"")) | AC31: =IF($B31="","",IFERROR(INDEX('Regras por canal'!$C$5:$C$9,MATCH($B31,'Regras por canal'!$A$5:$A$9,0)),"")) | AD31: =IF($B31="","",IFERROR(INDEX('Regras por canal'!$D$5:$D$9,MATCH($B31,'Regras por canal'!$A$5:$A$9,0)),"")) | AE31: =IF($B31="","",IFERROR(INDEX('Regras por canal'!$E$5:$E$9,MATCH($B31,'Regras por canal'!$A$5:$A$9,0)),"")) | AF31: =IF($B31="","",IFERROR(INDEX('Regras por canal'!$F$5:$F$9,MATCH($B31,'Regras por canal'!$A$5:$A$9,0)),"")) | AG31: =IF($B31="","",IFERROR(INDEX('Regras por canal'!$G$5:$G$9,MATCH($B31,'Regras por canal'!$A$5:$A$9,0)),"")) | AH31: =IF($B31="","",IFERROR(INDEX('Regras por canal'!$H$5:$H$9,MATCH($B31,'Regras por canal'!$A$5:$A$9,0)),"")) | AI31: =IF($B31="","",IFERROR(INDEX('Regras por canal'!$I$5:$I$9,MATCH($B31,'Regras por canal'!$A$5:$A$9,0)),"")) | AJ31: =IF($B31="","",IFERROR(INDEX('Regras por canal'!$J$5:$J$9,MATCH($B31,'Regras por canal'!$A$5:$A$9,0)),"")) | AK31: =IF($B31="","",IFERROR(INDEX('Regras por canal'!$K$5:$K$9,MATCH($B31,'Regras por canal'!$A$5:$A$9,0)),"")) | AL31: =IF($B31="","",IFERROR(INDEX('Regras por canal'!$L$5:$L$9,MATCH($B31,'Regras por canal'!$A$5:$A$9,0)),"")) | AM31: =IF($B31="","",IFERROR(INDEX('Regras por canal'!$M$5:$M$9,MATCH($B31,'Regras por canal'!$A$5:$A$9,0)),"")) | AN31: =IF($B31="","",IFERROR(INDEX('Regras por canal'!$N$5:$N$9,MATCH($B31,'Regras por canal'!$A$5:$A$9,0)),"")) | AO31: =IF($A31="","",IFERROR(INDEX('Catálogo fonte'!$Q$5:$Q$104,MATCH($A31,'Catálogo fonte'!$A$5:$A$104,0)),"")) | AP31: =IF($B31="","",IFERROR(INDEX('Regras por canal'!$Q$5:$Q$9,MATCH($B31,'Regras por canal'!$A$5:$A$9,0)),""))
A32: =IF(OR(INDEX('Catálogo fonte'!$A$5:$A$104,INT((ROW()-5)/5)+1)="",INDEX('Regras por canal'!$A$5:$A$9,MOD(ROW()-5,5)+1)=""),"",INDEX('Catálogo fonte'!$A$5:$A$104,INT((ROW()-5)/5)+1)) | B32: =IF($A32="","",INDEX('Regras por canal'!$A$5:$A$9,MOD(ROW()-5,5)+1)) | C32: Sim | G32: =IF(OR($A32="",$B32=""),"",IF($D32<>"",$D32,IFERROR(INDEX('Catálogo fonte'!$B$5:$B$104,MATCH($A32,'Catálogo fonte'!$A$5:$A$104,0)),""))) | H32: =IF(OR($A32="",$B32=""),"",IF($E32<>"",$E32,IFERROR(INDEX('Catálogo fonte'!$C$5:$C$104,MATCH($A32,'Catálogo fonte'!$A$5:$A$104,0)),""))) | I32: =IF(OR($A32="",$B32=""),"",IFERROR(INDEX('Catálogo fonte'!$E$5:$E$104,MATCH($A32,'Catálogo fonte'!$A$5:$A$104,0)),"")) | J32: =IF(OR($A32="",$B32=""),"",IFERROR(INDEX('Catálogo fonte'!$D$5:$D$104,MATCH($A32,'Catálogo fonte'!$A$5:$A$104,0)),"")) | K32: =IF(OR($A32="",$B32=""),"",IF($F32<>"",$F32,IFERROR(INDEX('Catálogo fonte'!$F$5:$F$104,MATCH($A32,'Catálogo fonte'!$A$5:$A$104,0)),""))) | L32: =IF(OR($A32="",$B32=""),"",IFERROR(INDEX('Catálogo fonte'!$G$5:$G$104,MATCH($A32,'Catálogo fonte'!$A$5:$A$104,0)),"")) | M32: =IF(OR($A32="",$B32=""),"",IFERROR(INDEX('Catálogo fonte'!$H$5:$H$104,MATCH($A32,'Catálogo fonte'!$A$5:$A$104,0)),"")) | N32: =IF(OR($A32="",$B32=""),"",IFERROR(INDEX('Catálogo fonte'!$I$5:$I$104,MATCH($A32,'Catálogo fonte'!$A$5:$A$104,0)),"")) | O32: =IF(OR($A32="",$B32=""),"",IFERROR(INDEX('Catálogo fonte'!$J$5:$J$104,MATCH($A32,'Catálogo fonte'!$A$5:$A$104,0)),"")) | P32: =IF(OR($A32="",$B32=""),"",IFERROR(INDEX('Catálogo fonte'!$K$5:$K$104,MATCH($A32,'Catálogo fonte'!$A$5:$A$104,0)),"")) | Q32: =IF(OR($A32="",$B32=""),"",IFERROR(INDEX('Catálogo fonte'!$L$5:$L$104,MATCH($A32,'Catálogo fonte'!$A$5:$A$104,0)),"")) | R32: =IF(OR($A32="",$B32=""),"",IFERROR(INDEX('Catálogo fonte'!$M$5:$M$104,MATCH($A32,'Catálogo fonte'!$A$5:$A$104,0)),"")) | S32: =IF(OR($A32="",$B32=""),"",IFERROR(INDEX('Catálogo fonte'!$N$5:$N$104,MATCH($A32,'Catálogo fonte'!$A$5:$A$104,0)),"")) | T32: =IF(OR($A32="",$B32=""),"",IFERROR(INDEX('Catálogo fonte'!$O$5:$O$104,MATCH($A32,'Catálogo fonte'!$A$5:$A$104,0)),"")) | U32: =IF(OR($A32="",$B32=""),"",IFERROR(INDEX('Catálogo fonte'!$P$5:$P$104,MATCH($A32,'Catálogo fonte'!$A$5:$A$104,0)),"")) | V32: =IF(OR($A32="",$B32=""),"",--($S32<>"")+--($T32<>"")+--($U32<>"")) | W32: =IF(OR($A32="",$B32="",$C32<>"Sim"),"",_xlfn.TEXTJOIN(" | ",TRUE,IF($AP32<>"Regra válida","Regra do canal inválida",""),IF(COUNTIF('Catálogo fonte'!$A$5:$A$104,$A32)>1,"SKU duplicado",""),IF($AO32<>"Sim","Produto inativo",""),IF($AB32<>"Sim","Canal inativo",""),IF($G32="","Título ausente",""),IF(AND($G32<>"",$AL32<>"",LEN($G32)>$AL32),"Título excede o limite",""),IF(AND($AC32="Sim",$H32=""),"Categoria ausente",""),IF(AND($AK32>0,LEN($I32)<$AK32),"Descrição abaixo do mínimo",""),IF(AND($AE32="Sim",$J32=""),"Marca ausente",""),IF(OR($K32="",NOT(ISNUMBER($K32)),$K32<=0),"Preço inválido",""),IF(AND(ISNUMBER($K32),$AM32<>"",$K32<$AM32),"Preço abaixo do mínimo",""),IF(AND(ISNUMBER($K32),$AN32<>"",$K32>$AN32),"Preço acima do máximo",""),IF(AND($AD32="Sim",$L32=""),"GTIN ausente",""),IF(AND($L32<>"",NOT(IFERROR(AND(LEN($L32)=13,ISNUMBER(VALUE($L32))),FALSE))),"GTIN inválido",""),IF(AND($AF32="Sim",$M32=""),"Cor ausente",""),IF(AND($AG32="Sim",$N32=""),"Tamanho/modelo ausente",""),IF(AND($AH32="Sim",OR(NOT(ISNUMBER($O32)),$O32<=0)),"Peso ausente ou inválido",""),IF(AND($AI32="Sim",OR(NOT(ISNUMBER($P32)),$P32<=0,NOT(ISNUMBER($Q32)),$Q32<=0,NOT(ISNUMBER($R32)),$R32<=0)),"Dimensões ausentes ou inválidas",""),IF($V32<$AJ32,"Mídias abaixo do mínimo",""))) | X32: =IF(OR($A32="",$B32=""),"",IF($C32<>"Sim","Não selecionado",IF($W32="","Pronto para publicar","Bloqueado"))) | Y32: Publicar | Z32: =IF(OR($A32="",$B32=""),"",IF($C32<>"Sim","Fora do feed",IF($X32="Bloqueado","Bloqueado",IF($Y32="Publicar","Liberado para feed",IF($Y32="Manter rascunho","Mantido em rascunho","Aguardando decisão"))))) | AA32: =IF(OR($A32="",$B32=""),"",$A32&"|"&$B32) | AB32: =IF($B32="","",IFERROR(INDEX('Regras por canal'!$B$5:$B$9,MATCH($B32,'Regras por canal'!$A$5:$A$9,0)),"")) | AC32: =IF($B32="","",IFERROR(INDEX('Regras por canal'!$C$5:$C$9,MATCH($B32,'Regras por canal'!$A$5:$A$9,0)),"")) | AD32: =IF($B32="","",IFERROR(INDEX('Regras por canal'!$D$5:$D$9,MATCH($B32,'Regras por canal'!$A$5:$A$9,0)),"")) | AE32: =IF($B32="","",IFERROR(INDEX('Regras por canal'!$E$5:$E$9,MATCH($B32,'Regras por canal'!$A$5:$A$9,0)),"")) | AF32: =IF($B32="","",IFERROR(INDEX('Regras por canal'!$F$5:$F$9,MATCH($B32,'Regras por canal'!$A$5:$A$9,0)),"")) | AG32: =IF($B32="","",IFERROR(INDEX('Regras por canal'!$G$5:$G$9,MATCH($B32,'Regras por canal'!$A$5:$A$9,0)),"")) | AH32: =IF($B32="","",IFERROR(INDEX('Regras por canal'!$H$5:$H$9,MATCH($B32,'Regras por canal'!$A$5:$A$9,0)),"")) | AI32: =IF($B32="","",IFERROR(INDEX('Regras por canal'!$I$5:$I$9,MATCH($B32,'Regras por canal'!$A$5:$A$9,0)),"")) | AJ32: =IF($B32="","",IFERROR(INDEX('Regras por canal'!$J$5:$J$9,MATCH($B32,'Regras por canal'!$A$5:$A$9,0)),"")) | AK32: =IF($B32="","",IFERROR(INDEX('Regras por canal'!$K$5:$K$9,MATCH($B32,'Regras por canal'!$A$5:$A$9,0)),"")) | AL32: =IF($B32="","",IFERROR(INDEX('Regras por canal'!$L$5:$L$9,MATCH($B32,'Regras por canal'!$A$5:$A$9,0)),"")) | AM32: =IF($B32="","",IFERROR(INDEX('Regras por canal'!$M$5:$M$9,MATCH($B32,'Regras por canal'!$A$5:$A$9,0)),"")) | AN32: =IF($B32="","",IFERROR(INDEX('Regras por canal'!$N$5:$N$9,MATCH($B32,'Regras por canal'!$A$5:$A$9,0)),"")) | AO32: =IF($A32="","",IFERROR(INDEX('Catálogo fonte'!$Q$5:$Q$104,MATCH($A32,'Catálogo fonte'!$A$5:$A$104,0)),"")) | AP32: =IF($B32="","",IFERROR(INDEX('Regras por canal'!$Q$5:$Q$9,MATCH($B32,'Regras por canal'!$A$5:$A$9,0)),""))
A33: =IF(OR(INDEX('Catálogo fonte'!$A$5:$A$104,INT((ROW()-5)/5)+1)="",INDEX('Regras por canal'!$A$5:$A$9,MOD(ROW()-5,5)+1)=""),"",INDEX('Catálogo fonte'!$A$5:$A$104,INT((ROW()-5)/5)+1)) | B33: =IF($A33="","",INDEX('Regras por canal'!$A$5:$A$9,MOD(ROW()-5,5)+1)) | G33: =IF(OR($A33="",$B33=""),"",IF($D33<>"",$D33,IFERROR(INDEX('Catálogo fonte'!$B$5:$B$104,MATCH($A33,'Catálogo fonte'!$A$5:$A$104,0)),""))) | H33: =IF(OR($A33="",$B33=""),"",IF($E33<>"",$E33,IFERROR(INDEX('Catálogo fonte'!$C$5:$C$104,MATCH($A33,'Catálogo fonte'!$A$5:$A$104,0)),""))) | I33: =IF(OR($A33="",$B33=""),"",IFERROR(INDEX('Catálogo fonte'!$E$5:$E$104,MATCH($A33,'Catálogo fonte'!$A$5:$A$104,0)),"")) | J33: =IF(OR($A33="",$B33=""),"",IFERROR(INDEX('Catálogo fonte'!$D$5:$D$104,MATCH($A33,'Catálogo fonte'!$A$5:$A$104,0)),"")) | K33: =IF(OR($A33="",$B33=""),"",IF($F33<>"",$F33,IFERROR(INDEX('Catálogo fonte'!$F$5:$F$104,MATCH($A33,'Catálogo fonte'!$A$5:$A$104,0)),""))) | L33: =IF(OR($A33="",$B33=""),"",IFERROR(INDEX('Catálogo fonte'!$G$5:$G$104,MATCH($A33,'Catálogo fonte'!$A$5:$A$104,0)),"")) | M33: =IF(OR($A33="",$B33=""),"",IFERROR(INDEX('Catálogo fonte'!$H$5:$H$104,MATCH($A33,'Catálogo fonte'!$A$5:$A$104,0)),"")) | N33: =IF(OR($A33="",$B33=""),"",IFERROR(INDEX('Catálogo fonte'!$I$5:$I$104,MATCH($A33,'Catálogo fonte'!$A$5:$A$104,0)),"")) | O33: =IF(OR($A33="",$B33=""),"",IFERROR(INDEX('Catálogo fonte'!$J$5:$J$104,MATCH($A33,'Catálogo fonte'!$A$5:$A$104,0)),"")) | P33: =IF(OR($A33="",$B33=""),"",IFERROR(INDEX('Catálogo fonte'!$K$5:$K$104,MATCH($A33,'Catálogo fonte'!$A$5:$A$104,0)),"")) | Q33: =IF(OR($A33="",$B33=""),"",IFERROR(INDEX('Catálogo fonte'!$L$5:$L$104,MATCH($A33,'Catálogo fonte'!$A$5:$A$104,0)),"")) | R33: =IF(OR($A33="",$B33=""),"",IFERROR(INDEX('Catálogo fonte'!$M$5:$M$104,MATCH($A33,'Catálogo fonte'!$A$5:$A$104,0)),"")) | S33: =IF(OR($A33="",$B33=""),"",IFERROR(INDEX('Catálogo fonte'!$N$5:$N$104,MATCH($A33,'Catálogo fonte'!$A$5:$A$104,0)),"")) | T33: =IF(OR($A33="",$B33=""),"",IFERROR(INDEX('Catálogo fonte'!$O$5:$O$104,MATCH($A33,'Catálogo fonte'!$A$5:$A$104,0)),"")) | U33: =IF(OR($A33="",$B33=""),"",IFERROR(INDEX('Catálogo fonte'!$P$5:$P$104,MATCH($A33,'Catálogo fonte'!$A$5:$A$104,0)),"")) | V33: =IF(OR($A33="",$B33=""),"",--($S33<>"")+--($T33<>"")+--($U33<>"")) | W33: =IF(OR($A33="",$B33="",$C33<>"Sim"),"",_xlfn.TEXTJOIN(" | ",TRUE,IF($AP33<>"Regra válida","Regra do canal inválida",""),IF(COUNTIF('Catálogo fonte'!$A$5:$A$104,$A33)>1,"SKU duplicado",""),IF($AO33<>"Sim","Produto inativo",""),IF($AB33<>"Sim","Canal inativo",""),IF($G33="","Título ausente",""),IF(AND($G33<>"",$AL33<>"",LEN($G33)>$AL33),"Título excede o limite",""),IF(AND($AC33="Sim",$H33=""),"Categoria ausente",""),IF(AND($AK33>0,LEN($I33)<$AK33),"Descrição abaixo do mínimo",""),IF(AND($AE33="Sim",$J33=""),"Marca ausente",""),IF(OR($K33="",NOT(ISNUMBER($K33)),$K33<=0),"Preço inválido",""),IF(AND(ISNUMBER($K33),$AM33<>"",$K33<$AM33),"Preço abaixo do mínimo",""),IF(AND(ISNUMBER($K33),$AN33<>"",$K33>$AN33),"Preço acima do máximo",""),IF(AND($AD33="Sim",$L33=""),"GTIN ausente",""),IF(AND($L33<>"",NOT(IFERROR(AND(LEN($L33)=13,ISNUMBER(VALUE($L33))),FALSE))),"GTIN inválido",""),IF(AND($AF33="Sim",$M33=""),"Cor ausente",""),IF(AND($AG33="Sim",$N33=""),"Tamanho/modelo ausente",""),IF(AND($AH33="Sim",OR(NOT(ISNUMBER($O33)),$O33<=0)),"Peso ausente ou inválido",""),IF(AND($AI33="Sim",OR(NOT(ISNUMBER($P33)),$P33<=0,NOT(ISNUMBER($Q33)),$Q33<=0,NOT(ISNUMBER($R33)),$R33<=0)),"Dimensões ausentes ou inválidas",""),IF($V33<$AJ33,"Mídias abaixo do mínimo",""))) | X33: =IF(OR($A33="",$B33=""),"",IF($C33<>"Sim","Não selecionado",IF($W33="","Pronto para publicar","Bloqueado"))) | Z33: =IF(OR($A33="",$B33=""),"",IF($C33<>"Sim","Fora do feed",IF($X33="Bloqueado","Bloqueado",IF($Y33="Publicar","Liberado para feed",IF($Y33="Manter rascunho","Mantido em rascunho","Aguardando decisão"))))) | AA33: =IF(OR($A33="",$B33=""),"",$A33&"|"&$B33) | AB33: =IF($B33="","",IFERROR(INDEX('Regras por canal'!$B$5:$B$9,MATCH($B33,'Regras por canal'!$A$5:$A$9,0)),"")) | AC33: =IF($B33="","",IFERROR(INDEX('Regras por canal'!$C$5:$C$9,MATCH($B33,'Regras por canal'!$A$5:$A$9,0)),"")) | AD33: =IF($B33="","",IFERROR(INDEX('Regras por canal'!$D$5:$D$9,MATCH($B33,'Regras por canal'!$A$5:$A$9,0)),"")) | AE33: =IF($B33="","",IFERROR(INDEX('Regras por canal'!$E$5:$E$9,MATCH($B33,'Regras por canal'!$A$5:$A$9,0)),"")) | AF33: =IF($B33="","",IFERROR(INDEX('Regras por canal'!$F$5:$F$9,MATCH($B33,'Regras por canal'!$A$5:$A$9,0)),"")) | AG33: =IF($B33="","",IFERROR(INDEX('Regras por canal'!$G$5:$G$9,MATCH($B33,'Regras por canal'!$A$5:$A$9,0)),"")) | AH33: =IF($B33="","",IFERROR(INDEX('Regras por canal'!$H$5:$H$9,MATCH($B33,'Regras por canal'!$A$5:$A$9,0)),"")) | AI33: =IF($B33="","",IFERROR(INDEX('Regras por canal'!$I$5:$I$9,MATCH($B33,'Regras por canal'!$A$5:$A$9,0)),"")) | AJ33: =IF($B33="","",IFERROR(INDEX('Regras por canal'!$J$5:$J$9,MATCH($B33,'Regras por canal'!$A$5:$A$9,0)),"")) | AK33: =IF($B33="","",IFERROR(INDEX('Regras por canal'!$K$5:$K$9,MATCH($B33,'Regras por canal'!$A$5:$A$9,0)),"")) | AL33: =IF($B33="","",IFERROR(INDEX('Regras por canal'!$L$5:$L$9,MATCH($B33,'Regras por canal'!$A$5:$A$9,0)),"")) | AM33: =IF($B33="","",IFERROR(INDEX('Regras por canal'!$M$5:$M$9,MATCH($B33,'Regras por canal'!$A$5:$A$9,0)),"")) | AN33: =IF($B33="","",IFERROR(INDEX('Regras por canal'!$N$5:$N$9,MATCH($B33,'Regras por canal'!$A$5:$A$9,0)),"")) | AO33: =IF($A33="","",IFERROR(INDEX('Catálogo fonte'!$Q$5:$Q$104,MATCH($A33,'Catálogo fonte'!$A$5:$A$104,0)),"")) | AP33: =IF($B33="","",IFERROR(INDEX('Regras por canal'!$Q$5:$Q$9,MATCH($B33,'Regras por canal'!$A$5:$A$9,0)),""))
A34: =IF(OR(INDEX('Catálogo fonte'!$A$5:$A$104,INT((ROW()-5)/5)+1)="",INDEX('Regras por canal'!$A$5:$A$9,MOD(ROW()-5,5)+1)=""),"",INDEX('Catálogo fonte'!$A$5:$A$104,INT((ROW()-5)/5)+1)) | B34: =IF($A34="","",INDEX('Regras por canal'!$A$5:$A$9,MOD(ROW()-5,5)+1)) | G34: =IF(OR($A34="",$B34=""),"",IF($D34<>"",$D34,IFERROR(INDEX('Catálogo fonte'!$B$5:$B$104,MATCH($A34,'Catálogo fonte'!$A$5:$A$104,0)),""))) | H34: =IF(OR($A34="",$B34=""),"",IF($E34<>"",$E34,IFERROR(INDEX('Catálogo fonte'!$C$5:$C$104,MATCH($A34,'Catálogo fonte'!$A$5:$A$104,0)),""))) | I34: =IF(OR($A34="",$B34=""),"",IFERROR(INDEX('Catálogo fonte'!$E$5:$E$104,MATCH($A34,'Catálogo fonte'!$A$5:$A$104,0)),"")) | J34: =IF(OR($A34="",$B34=""),"",IFERROR(INDEX('Catálogo fonte'!$D$5:$D$104,MATCH($A34,'Catálogo fonte'!$A$5:$A$104,0)),"")) | K34: =IF(OR($A34="",$B34=""),"",IF($F34<>"",$F34,IFERROR(INDEX('Catálogo fonte'!$F$5:$F$104,MATCH($A34,'Catálogo fonte'!$A$5:$A$104,0)),""))) | L34: =IF(OR($A34="",$B34=""),"",IFERROR(INDEX('Catálogo fonte'!$G$5:$G$104,MATCH($A34,'Catálogo fonte'!$A$5:$A$104,0)),"")) | M34: =IF(OR($A34="",$B34=""),"",IFERROR(INDEX('Catálogo fonte'!$H$5:$H$104,MATCH($A34,'Catálogo fonte'!$A$5:$A$104,0)),"")) | N34: =IF(OR($A34="",$B34=""),"",IFERROR(INDEX('Catálogo fonte'!$I$5:$I$104,MATCH($A34,'Catálogo fonte'!$A$5:$A$104,0)),"")) | O34: =IF(OR($A34="",$B34=""),"",IFERROR(INDEX('Catálogo fonte'!$J$5:$J$104,MATCH($A34,'Catálogo fonte'!$A$5:$A$104,0)),"")) | P34: =IF(OR($A34="",$B34=""),"",IFERROR(INDEX('Catálogo fonte'!$K$5:$K$104,MATCH($A34,'Catálogo fonte'!$A$5:$A$104,0)),"")) | Q34: =IF(OR($A34="",$B34=""),"",IFERROR(INDEX('Catálogo fonte'!$L$5:$L$104,MATCH($A34,'Catálogo fonte'!$A$5:$A$104,0)),"")) | R34: =IF(OR($A34="",$B34=""),"",IFERROR(INDEX('Catálogo fonte'!$M$5:$M$104,MATCH($A34,'Catálogo fonte'!$A$5:$A$104,0)),"")) | S34: =IF(OR($A34="",$B34=""),"",IFERROR(INDEX('Catálogo fonte'!$N$5:$N$104,MATCH($A34,'Catálogo fonte'!$A$5:$A$104,0)),"")) | T34: =IF(OR($A34="",$B34=""),"",IFERROR(INDEX('Catálogo fonte'!$O$5:$O$104,MATCH($A34,'Catálogo fonte'!$A$5:$A$104,0)),"")) | U34: =IF(OR($A34="",$B34=""),"",IFERROR(INDEX('Catálogo fonte'!$P$5:$P$104,MATCH($A34,'Catálogo fonte'!$A$5:$A$104,0)),"")) | V34: =IF(OR($A34="",$B34=""),"",--($S34<>"")+--($T34<>"")+--($U34<>"")) | W34: =IF(OR($A34="",$B34="",$C34<>"Sim"),"",_xlfn.TEXTJOIN(" | ",TRUE,IF($AP34<>"Regra válida","Regra do canal inválida",""),IF(COUNTIF('Catálogo fonte'!$A$5:$A$104,$A34)>1,"SKU duplicado",""),IF($AO34<>"Sim","Produto inativo",""),IF($AB34<>"Sim","Canal inativo",""),IF($G34="","Título ausente",""),IF(AND($G34<>"",$AL34<>"",LEN($G34)>$AL34),"Título excede o limite",""),IF(AND($AC34="Sim",$H34=""),"Categoria ausente",""),IF(AND($AK34>0,LEN($I34)<$AK34),"Descrição abaixo do mínimo",""),IF(AND($AE34="Sim",$J34=""),"Marca ausente",""),IF(OR($K34="",NOT(ISNUMBER($K34)),$K34<=0),"Preço inválido",""),IF(AND(ISNUMBER($K34),$AM34<>"",$K34<$AM34),"Preço abaixo do mínimo",""),IF(AND(ISNUMBER($K34),$AN34<>"",$K34>$AN34),"Preço acima do máximo",""),IF(AND($AD34="Sim",$L34=""),"GTIN ausente",""),IF(AND($L34<>"",NOT(IFERROR(AND(LEN($L34)=13,ISNUMBER(VALUE($L34))),FALSE))),"GTIN inválido",""),IF(AND($AF34="Sim",$M34=""),"Cor ausente",""),IF(AND($AG34="Sim",$N34=""),"Tamanho/modelo ausente",""),IF(AND($AH34="Sim",OR(NOT(ISNUMBER($O34)),$O34<=0)),"Peso ausente ou inválido",""),IF(AND($AI34="Sim",OR(NOT(ISNUMBER($P34)),$P34<=0,NOT(ISNUMBER($Q34)),$Q34<=0,NOT(ISNUMBER($R34)),$R34<=0)),"Dimensões ausentes ou inválidas",""),IF($V34<$AJ34,"Mídias abaixo do mínimo",""))) | X34: =IF(OR($A34="",$B34=""),"",IF($C34<>"Sim","Não selecionado",IF($W34="","Pronto para publicar","Bloqueado"))) | Z34: =IF(OR($A34="",$B34=""),"",IF($C34<>"Sim","Fora do feed",IF($X34="Bloqueado","Bloqueado",IF($Y34="Publicar","Liberado para feed",IF($Y34="Manter rascunho","Mantido em rascunho","Aguardando decisão"))))) | AA34: =IF(OR($A34="",$B34=""),"",$A34&"|"&$B34) | AB34: =IF($B34="","",IFERROR(INDEX('Regras por canal'!$B$5:$B$9,MATCH($B34,'Regras por canal'!$A$5:$A$9,0)),"")) | AC34: =IF($B34="","",IFERROR(INDEX('Regras por canal'!$C$5:$C$9,MATCH($B34,'Regras por canal'!$A$5:$A$9,0)),"")) | AD34: =IF($B34="","",IFERROR(INDEX('Regras por canal'!$D$5:$D$9,MATCH($B34,'Regras por canal'!$A$5:$A$9,0)),"")) | AE34: =IF($B34="","",IFERROR(INDEX('Regras por canal'!$E$5:$E$9,MATCH($B34,'Regras por canal'!$A$5:$A$9,0)),"")) | AF34: =IF($B34="","",IFERROR(INDEX('Regras por canal'!$F$5:$F$9,MATCH($B34,'Regras por canal'!$A$5:$A$9,0)),"")) | AG34: =IF($B34="","",IFERROR(INDEX('Regras por canal'!$G$5:$G$9,MATCH($B34,'Regras por canal'!$A$5:$A$9,0)),"")) | AH34: =IF($B34="","",IFERROR(INDEX('Regras por canal'!$H$5:$H$9,MATCH($B34,'Regras por canal'!$A$5:$A$9,0)),"")) | AI34: =IF($B34="","",IFERROR(INDEX('Regras por canal'!$I$5:$I$9,MATCH($B34,'Regras por canal'!$A$5:$A$9,0)),"")) | AJ34: =IF($B34="","",IFERROR(INDEX('Regras por canal'!$J$5:$J$9,MATCH($B34,'Regras por canal'!$A$5:$A$9,0)),"")) | AK34: =IF($B34="","",IFERROR(INDEX('Regras por canal'!$K$5:$K$9,MATCH($B34,'Regras por canal'!$A$5:$A$9,0)),"")) | AL34: =IF($B34="","",IFERROR(INDEX('Regras por canal'!$L$5:$L$9,MATCH($B34,'Regras por canal'!$A$5:$A$9,0)),"")) | AM34: =IF($B34="","",IFERROR(INDEX('Regras por canal'!$M$5:$M$9,MATCH($B34,'Regras por canal'!$A$5:$A$9,0)),"")) | AN34: =IF($B34="","",IFERROR(INDEX('Regras por canal'!$N$5:$N$9,MATCH($B34,'Regras por canal'!$A$5:$A$9,0)),"")) | AO34: =IF($A34="","",IFERROR(INDEX('Catálogo fonte'!$Q$5:$Q$104,MATCH($A34,'Catálogo fonte'!$A$5:$A$104,0)),"")) | AP34: =IF($B34="","",IFERROR(INDEX('Regras por canal'!$Q$5:$Q$9,MATCH($B34,'Regras por canal'!$A$5:$A$9,0)),""))
