Workbook

Sheet Resumo
A1: Controle de Estoque por Lote
A2: Saldo, validade, localização e bloqueios por SKU/lote
A3: Data de referência | B3: ='Configurações'!$B$3 | D3: Alerta de vencimento | E3: ='Configurações'!$B$2 | F3: dias
A5: Saldo total | C5: Saldo disponível | E5: Saldo vencido | G5: Saldo bloqueado | I5: Lotes vencendo em breve | K5: Pendências de revisão
A6: =SUM(Lotes!$N$5:$N$204) | C6: =SUMIFS(Lotes!$N$5:$N$204,Lotes!$Q$5:$Q$204,"Disponível") | E6: =SUMIFS(Lotes!$N$5:$N$204,Lotes!$P$5:$P$204,"Vencido",Lotes!$N$5:$N$204,">0") | G6: =SUMIFS(Lotes!$N$5:$N$204,Lotes!$Q$5:$Q$204,"Bloqueado",Lotes!$N$5:$N$204,">0")+SUMIFS(Lotes!$N$5:$N$204,Lotes!$Q$5:$Q$204,"Bloqueado por validade",Lotes!$N$5:$N$204,">0") | I6: =COUNTIFS(Lotes!$P$5:$P$204,"Vence em breve",Lotes!$N$5:$N$204,">0") | K6: =COUNTIFS(Lotes!$R$5:$R$204,"<>OK",Lotes!$R$5:$R$204,"<>")+COUNTIFS('Movimentações'!$I$5:$I$304,"<>OK",'Movimentações'!$I$5:$I$304,"<>")
A8: Lotes com saldo | C8: Lotes vencidos | E8: Lotes bloqueados | G8: Movimentos a revisar
A9: =COUNTIFS(Lotes!$N$5:$N$204,">0") | C9: =COUNTIFS(Lotes!$P$5:$P$204,"Vencido",Lotes!$N$5:$N$204,">0") | E9: =COUNTIFS(Lotes!$Q$5:$Q$204,"Bloqueado",Lotes!$N$5:$N$204,">0")+COUNTIFS(Lotes!$Q$5:$Q$204,"Bloqueado por validade",Lotes!$N$5:$N$204,">0") | G9: =COUNTIFS('Movimentações'!$I$5:$I$304,"<>OK",'Movimentações'!$I$5:$I$304,"<>")
A12: Lotes que exigem atenção
A13: SKU | B13: Produto | C13: Lote | D13: Validade | E13: Dias para vencer | F13: Saldo atual | G13: Situação da validade | H13: Status operacional | K13: Status operacional | L13: Quantidade de lotes
A14: =IF($I14="","",INDEX(Lotes!$A:$A,$I14)) | B14: =IF($I14="","",INDEX(Lotes!$B:$B,$I14)) | C14: =IF($I14="","",INDEX(Lotes!$C:$C,$I14)) | D14: =IF($I14="","",IF(INDEX(Lotes!$F:$F,$I14)="","",INDEX(Lotes!$F:$F,$I14))) | E14: =IF($I14="","",IF(INDEX(Lotes!$O:$O,$I14)="","",INDEX(Lotes!$O:$O,$I14))) | F14: =IF($I14="","",INDEX(Lotes!$N:$N,$I14)) | G14: =IF($I14="","",INDEX(Lotes!$P:$P,$I14)) | H14: =IF($I14="","",INDEX(Lotes!$Q:$Q,$I14)) | I14: =IFERROR(AGGREGATE(15,6,ROW(Lotes!$A$5:$A$204)/((((Lotes!$N$5:$N$204>0)*((Lotes!$P$5:$P$204="Vencido")+(Lotes!$P$5:$P$204="Vence em breve")+(Lotes!$Q$5:$Q$204="Bloqueado")+(Lotes!$Q$5:$Q$204="Bloqueado por validade")))+(Lotes!$Q$5:$Q$204="Saldo negativo")+(Lotes!$Q$5:$Q$204="Revisar cadastro"))>0),ROWS($I$14:I14)),"") | K14: Disponível | L14: =COUNTIF(Lotes!$Q$5:$Q$204,K14)
A15: =IF($I15="","",INDEX(Lotes!$A:$A,$I15)) | B15: =IF($I15="","",INDEX(Lotes!$B:$B,$I15)) | C15: =IF($I15="","",INDEX(Lotes!$C:$C,$I15)) | D15: =IF($I15="","",IF(INDEX(Lotes!$F:$F,$I15)="","",INDEX(Lotes!$F:$F,$I15))) | E15: =IF($I15="","",IF(INDEX(Lotes!$O:$O,$I15)="","",INDEX(Lotes!$O:$O,$I15))) | F15: =IF($I15="","",INDEX(Lotes!$N:$N,$I15)) | G15: =IF($I15="","",INDEX(Lotes!$P:$P,$I15)) | H15: =IF($I15="","",INDEX(Lotes!$Q:$Q,$I15)) | I15: =IFERROR(AGGREGATE(15,6,ROW(Lotes!$A$5:$A$204)/((((Lotes!$N$5:$N$204>0)*((Lotes!$P$5:$P$204="Vencido")+(Lotes!$P$5:$P$204="Vence em breve")+(Lotes!$Q$5:$Q$204="Bloqueado")+(Lotes!$Q$5:$Q$204="Bloqueado por validade")))+(Lotes!$Q$5:$Q$204="Saldo negativo")+(Lotes!$Q$5:$Q$204="Revisar cadastro"))>0),ROWS($I$14:I15)),"") | K15: Bloqueado | L15: =COUNTIF(Lotes!$Q$5:$Q$204,K15)
A16: =IF($I16="","",INDEX(Lotes!$A:$A,$I16)) | B16: =IF($I16="","",INDEX(Lotes!$B:$B,$I16)) | C16: =IF($I16="","",INDEX(Lotes!$C:$C,$I16)) | D16: =IF($I16="","",IF(INDEX(Lotes!$F:$F,$I16)="","",INDEX(Lotes!$F:$F,$I16))) | E16: =IF($I16="","",IF(INDEX(Lotes!$O:$O,$I16)="","",INDEX(Lotes!$O:$O,$I16))) | F16: =IF($I16="","",INDEX(Lotes!$N:$N,$I16)) | G16: =IF($I16="","",INDEX(Lotes!$P:$P,$I16)) | H16: =IF($I16="","",INDEX(Lotes!$Q:$Q,$I16)) | I16: =IFERROR(AGGREGATE(15,6,ROW(Lotes!$A$5:$A$204)/((((Lotes!$N$5:$N$204>0)*((Lotes!$P$5:$P$204="Vencido")+(Lotes!$P$5:$P$204="Vence em breve")+(Lotes!$Q$5:$Q$204="Bloqueado")+(Lotes!$Q$5:$Q$204="Bloqueado por validade")))+(Lotes!$Q$5:$Q$204="Saldo negativo")+(Lotes!$Q$5:$Q$204="Revisar cadastro"))>0),ROWS($I$14:I16)),"") | K16: Bloqueado por validade | L16: =COUNTIF(Lotes!$Q$5:$Q$204,K16)
A17: =IF($I17="","",INDEX(Lotes!$A:$A,$I17)) | B17: =IF($I17="","",INDEX(Lotes!$B:$B,$I17)) | C17: =IF($I17="","",INDEX(Lotes!$C:$C,$I17)) | D17: =IF($I17="","",IF(INDEX(Lotes!$F:$F,$I17)="","",INDEX(Lotes!$F:$F,$I17))) | E17: =IF($I17="","",IF(INDEX(Lotes!$O:$O,$I17)="","",INDEX(Lotes!$O:$O,$I17))) | F17: =IF($I17="","",INDEX(Lotes!$N:$N,$I17)) | G17: =IF($I17="","",INDEX(Lotes!$P:$P,$I17)) | H17: =IF($I17="","",INDEX(Lotes!$Q:$Q,$I17)) | I17: =IFERROR(AGGREGATE(15,6,ROW(Lotes!$A$5:$A$204)/((((Lotes!$N$5:$N$204>0)*((Lotes!$P$5:$P$204="Vencido")+(Lotes!$P$5:$P$204="Vence em breve")+(Lotes!$Q$5:$Q$204="Bloqueado")+(Lotes!$Q$5:$Q$204="Bloqueado por validade")))+(Lotes!$Q$5:$Q$204="Saldo negativo")+(Lotes!$Q$5:$Q$204="Revisar cadastro"))>0),ROWS($I$14:I17)),"") | K17: Sem saldo | L17: =COUNTIF(Lotes!$Q$5:$Q$204,K17)
A18: =IF($I18="","",INDEX(Lotes!$A:$A,$I18)) | B18: =IF($I18="","",INDEX(Lotes!$B:$B,$I18)) | C18: =IF($I18="","",INDEX(Lotes!$C:$C,$I18)) | D18: =IF($I18="","",IF(INDEX(Lotes!$F:$F,$I18)="","",INDEX(Lotes!$F:$F,$I18))) | E18: =IF($I18="","",IF(INDEX(Lotes!$O:$O,$I18)="","",INDEX(Lotes!$O:$O,$I18))) | F18: =IF($I18="","",INDEX(Lotes!$N:$N,$I18)) | G18: =IF($I18="","",INDEX(Lotes!$P:$P,$I18)) | H18: =IF($I18="","",INDEX(Lotes!$Q:$Q,$I18)) | I18: =IFERROR(AGGREGATE(15,6,ROW(Lotes!$A$5:$A$204)/((((Lotes!$N$5:$N$204>0)*((Lotes!$P$5:$P$204="Vencido")+(Lotes!$P$5:$P$204="Vence em breve")+(Lotes!$Q$5:$Q$204="Bloqueado")+(Lotes!$Q$5:$Q$204="Bloqueado por validade")))+(Lotes!$Q$5:$Q$204="Saldo negativo")+(Lotes!$Q$5:$Q$204="Revisar cadastro"))>0),ROWS($I$14:I18)),"") | K18: Revisar cadastro | L18: =COUNTIF(Lotes!$Q$5:$Q$204,K18)
A19: =IF($I19="","",INDEX(Lotes!$A:$A,$I19)) | B19: =IF($I19="","",INDEX(Lotes!$B:$B,$I19)) | C19: =IF($I19="","",INDEX(Lotes!$C:$C,$I19)) | D19: =IF($I19="","",IF(INDEX(Lotes!$F:$F,$I19)="","",INDEX(Lotes!$F:$F,$I19))) | E19: =IF($I19="","",IF(INDEX(Lotes!$O:$O,$I19)="","",INDEX(Lotes!$O:$O,$I19))) | F19: =IF($I19="","",INDEX(Lotes!$N:$N,$I19)) | G19: =IF($I19="","",INDEX(Lotes!$P:$P,$I19)) | H19: =IF($I19="","",INDEX(Lotes!$Q:$Q,$I19)) | I19: =IFERROR(AGGREGATE(15,6,ROW(Lotes!$A$5:$A$204)/((((Lotes!$N$5:$N$204>0)*((Lotes!$P$5:$P$204="Vencido")+(Lotes!$P$5:$P$204="Vence em breve")+(Lotes!$Q$5:$Q$204="Bloqueado")+(Lotes!$Q$5:$Q$204="Bloqueado por validade")))+(Lotes!$Q$5:$Q$204="Saldo negativo")+(Lotes!$Q$5:$Q$204="Revisar cadastro"))>0),ROWS($I$14:I19)),"") | K19: Saldo negativo | L19: =COUNTIF(Lotes!$Q$5:$Q$204,K19)
A20: =IF($I20="","",INDEX(Lotes!$A:$A,$I20)) | B20: =IF($I20="","",INDEX(Lotes!$B:$B,$I20)) | C20: =IF($I20="","",INDEX(Lotes!$C:$C,$I20)) | D20: =IF($I20="","",IF(INDEX(Lotes!$F:$F,$I20)="","",INDEX(Lotes!$F:$F,$I20))) | E20: =IF($I20="","",IF(INDEX(Lotes!$O:$O,$I20)="","",INDEX(Lotes!$O:$O,$I20))) | F20: =IF($I20="","",INDEX(Lotes!$N:$N,$I20)) | G20: =IF($I20="","",INDEX(Lotes!$P:$P,$I20)) | H20: =IF($I20="","",INDEX(Lotes!$Q:$Q,$I20)) | I20: =IFERROR(AGGREGATE(15,6,ROW(Lotes!$A$5:$A$204)/((((Lotes!$N$5:$N$204>0)*((Lotes!$P$5:$P$204="Vencido")+(Lotes!$P$5:$P$204="Vence em breve")+(Lotes!$Q$5:$Q$204="Bloqueado")+(Lotes!$Q$5:$Q$204="Bloqueado por validade")))+(Lotes!$Q$5:$Q$204="Saldo negativo")+(Lotes!$Q$5:$Q$204="Revisar cadastro"))>0),ROWS($I$14:I20)),"")
A21: =IF($I21="","",INDEX(Lotes!$A:$A,$I21)) | B21: =IF($I21="","",INDEX(Lotes!$B:$B,$I21)) | C21: =IF($I21="","",INDEX(Lotes!$C:$C,$I21)) | D21: =IF($I21="","",IF(INDEX(Lotes!$F:$F,$I21)="","",INDEX(Lotes!$F:$F,$I21))) | E21: =IF($I21="","",IF(INDEX(Lotes!$O:$O,$I21)="","",INDEX(Lotes!$O:$O,$I21))) | F21: =IF($I21="","",INDEX(Lotes!$N:$N,$I21)) | G21: =IF($I21="","",INDEX(Lotes!$P:$P,$I21)) | H21: =IF($I21="","",INDEX(Lotes!$Q:$Q,$I21)) | I21: =IFERROR(AGGREGATE(15,6,ROW(Lotes!$A$5:$A$204)/((((Lotes!$N$5:$N$204>0)*((Lotes!$P$5:$P$204="Vencido")+(Lotes!$P$5:$P$204="Vence em breve")+(Lotes!$Q$5:$Q$204="Bloqueado")+(Lotes!$Q$5:$Q$204="Bloqueado por validade")))+(Lotes!$Q$5:$Q$204="Saldo negativo")+(Lotes!$Q$5:$Q$204="Revisar cadastro"))>0),ROWS($I$14:I21)),"")
A22: =IF($I22="","",INDEX(Lotes!$A:$A,$I22)) | B22: =IF($I22="","",INDEX(Lotes!$B:$B,$I22)) | C22: =IF($I22="","",INDEX(Lotes!$C:$C,$I22)) | D22: =IF($I22="","",IF(INDEX(Lotes!$F:$F,$I22)="","",INDEX(Lotes!$F:$F,$I22))) | E22: =IF($I22="","",IF(INDEX(Lotes!$O:$O,$I22)="","",INDEX(Lotes!$O:$O,$I22))) | F22: =IF($I22="","",INDEX(Lotes!$N:$N,$I22)) | G22: =IF($I22="","",INDEX(Lotes!$P:$P,$I22)) | H22: =IF($I22="","",INDEX(Lotes!$Q:$Q,$I22)) | I22: =IFERROR(AGGREGATE(15,6,ROW(Lotes!$A$5:$A$204)/((((Lotes!$N$5:$N$204>0)*((Lotes!$P$5:$P$204="Vencido")+(Lotes!$P$5:$P$204="Vence em breve")+(Lotes!$Q$5:$Q$204="Bloqueado")+(Lotes!$Q$5:$Q$204="Bloqueado por validade")))+(Lotes!$Q$5:$Q$204="Saldo negativo")+(Lotes!$Q$5:$Q$204="Revisar cadastro"))>0),ROWS($I$14:I22)),"")
A23: =IF($I23="","",INDEX(Lotes!$A:$A,$I23)) | B23: =IF($I23="","",INDEX(Lotes!$B:$B,$I23)) | C23: =IF($I23="","",INDEX(Lotes!$C:$C,$I23)) | D23: =IF($I23="","",IF(INDEX(Lotes!$F:$F,$I23)="","",INDEX(Lotes!$F:$F,$I23))) | E23: =IF($I23="","",IF(INDEX(Lotes!$O:$O,$I23)="","",INDEX(Lotes!$O:$O,$I23))) | F23: =IF($I23="","",INDEX(Lotes!$N:$N,$I23)) | G23: =IF($I23="","",INDEX(Lotes!$P:$P,$I23)) | H23: =IF($I23="","",INDEX(Lotes!$Q:$Q,$I23)) | I23: =IFERROR(AGGREGATE(15,6,ROW(Lotes!$A$5:$A$204)/((((Lotes!$N$5:$N$204>0)*((Lotes!$P$5:$P$204="Vencido")+(Lotes!$P$5:$P$204="Vence em breve")+(Lotes!$Q$5:$Q$204="Bloqueado")+(Lotes!$Q$5:$Q$204="Bloqueado por validade")))+(Lotes!$Q$5:$Q$204="Saldo negativo")+(Lotes!$Q$5:$Q$204="Revisar cadastro"))>0),ROWS($I$14:I23)),"")
A24: =IF($I24="","",INDEX(Lotes!$A:$A,$I24)) | B24: =IF($I24="","",INDEX(Lotes!$B:$B,$I24)) | C24: =IF($I24="","",INDEX(Lotes!$C:$C,$I24)) | D24: =IF($I24="","",IF(INDEX(Lotes!$F:$F,$I24)="","",INDEX(Lotes!$F:$F,$I24))) | E24: =IF($I24="","",IF(INDEX(Lotes!$O:$O,$I24)="","",INDEX(Lotes!$O:$O,$I24))) | F24: =IF($I24="","",INDEX(Lotes!$N:$N,$I24)) | G24: =IF($I24="","",INDEX(Lotes!$P:$P,$I24)) | H24: =IF($I24="","",INDEX(Lotes!$Q:$Q,$I24)) | I24: =IFERROR(AGGREGATE(15,6,ROW(Lotes!$A$5:$A$204)/((((Lotes!$N$5:$N$204>0)*((Lotes!$P$5:$P$204="Vencido")+(Lotes!$P$5:$P$204="Vence em breve")+(Lotes!$Q$5:$Q$204="Bloqueado")+(Lotes!$Q$5:$Q$204="Bloqueado por validade")))+(Lotes!$Q$5:$Q$204="Saldo negativo")+(Lotes!$Q$5:$Q$204="Revisar cadastro"))>0),ROWS($I$14:I24)),"")
A25: =IF($I25="","",INDEX(Lotes!$A:$A,$I25)) | B25: =IF($I25="","",INDEX(Lotes!$B:$B,$I25)) | C25: =IF($I25="","",INDEX(Lotes!$C:$C,$I25)) | D25: =IF($I25="","",IF(INDEX(Lotes!$F:$F,$I25)="","",INDEX(Lotes!$F:$F,$I25))) | E25: =IF($I25="","",IF(INDEX(Lotes!$O:$O,$I25)="","",INDEX(Lotes!$O:$O,$I25))) | F25: =IF($I25="","",INDEX(Lotes!$N:$N,$I25)) | G25: =IF($I25="","",INDEX(Lotes!$P:$P,$I25)) | H25: =IF($I25="","",INDEX(Lotes!$Q:$Q,$I25)) | I25: =IFERROR(AGGREGATE(15,6,ROW(Lotes!$A$5:$A$204)/((((Lotes!$N$5:$N$204>0)*((Lotes!$P$5:$P$204="Vencido")+(Lotes!$P$5:$P$204="Vence em breve")+(Lotes!$Q$5:$Q$204="Bloqueado")+(Lotes!$Q$5:$Q$204="Bloqueado por validade")))+(Lotes!$Q$5:$Q$204="Saldo negativo")+(Lotes!$Q$5:$Q$204="Revisar cadastro"))>0),ROWS($I$14:I25)),"")
A26: São exibidos até 12 itens. Use os filtros da aba Lotes para consultar a lista completa.
K27: Localização | L27: Saldo registrado
K28: =IF('Configurações'!D6="","",'Configurações'!D6) | L28: =IF(K28="","",SUMIF(Lotes!$H$5:$H$204,K28,Lotes!$N$5:$N$204))
K29: =IF('Configurações'!D7="","",'Configurações'!D7) | L29: =IF(K29="","",SUMIF(Lotes!$H$5:$H$204,K29,Lotes!$N$5:$N$204))
K30: =IF('Configurações'!D8="","",'Configurações'!D8) | L30: =IF(K30="","",SUMIF(Lotes!$H$5:$H$204,K30,Lotes!$N$5:$N$204))
K31: =IF('Configurações'!D9="","",'Configurações'!D9) | L31: =IF(K31="","",SUMIF(Lotes!$H$5:$H$204,K31,Lotes!$N$5:$N$204))
K32: =IF('Configurações'!D10="","",'Configurações'!D10) | L32: =IF(K32="","",SUMIF(Lotes!$H$5:$H$204,K32,Lotes!$N$5:$N$204))
K33: =IF('Configurações'!D11="","",'Configurações'!D11) | L33: =IF(K33="","",SUMIF(Lotes!$H$5:$H$204,K33,Lotes!$N$5:$N$204))
K34: =IF('Configurações'!D12="","",'Configurações'!D12) | L34: =IF(K34="","",SUMIF(Lotes!$H$5:$H$204,K34,Lotes!$N$5:$N$204))
K35: =IF('Configurações'!D13="","",'Configurações'!D13) | L35: =IF(K35="","",SUMIF(Lotes!$H$5:$H$204,K35,Lotes!$N$5:$N$204))
K36: =IF('Configurações'!D14="","",'Configurações'!D14) | L36: =IF(K36="","",SUMIF(Lotes!$H$5:$H$204,K36,Lotes!$N$5:$N$204))
K37: =IF('Configurações'!D15="","",'Configurações'!D15) | L37: =IF(K37="","",SUMIF(Lotes!$H$5:$H$204,K37,Lotes!$N$5:$N$204))

Sheet Lotes
A1: Cadastro e Saldo por Lote
A2: Preencha apenas as colunas amarelas. Entradas, saídas, saldo e status são calculados.
A4: SKU | B4: Produto | C4: Lote | D4: Chave SKU/Lote | E4: Fabricação | F4: Validade | G4: Quantidade inicial | H4: Localização | I4: Bloqueio manual | J4: Motivo do bloqueio | K4: Entradas | L4: Saídas | M4: Ajustes | N4: Saldo atual | O4: Dias para vencer | P4: Situação da validade | Q4: Status operacional | R4: Verificação
A5: FIC-CHA-001 | B5: =IF($A5="","",IFERROR(INDEX('Configurações'!$B$6:$B$105,MATCH($A5,'Configurações'!$A$6:$A$105,0)),"SKU não cadastrado")) | C5: LT-CHA-2601 | D5: =IF(OR($A5="",$C5=""),"",$A5&"|"&$C5) | E5: 46183 | F5: 46280 | G5: 120 | H5: A-01-01 | I5: Não | K5: =IF($D5="","",SUMIFS('Movimentações'!$F$5:$F$304,'Movimentações'!$H$5:$H$304,$D5,'Movimentações'!$B$5:$B$304,"Entrada")) | L5: =IF($D5="","",SUMIFS('Movimentações'!$F$5:$F$304,'Movimentações'!$H$5:$H$304,$D5,'Movimentações'!$B$5:$B$304,"Saída")) | M5: =IF($D5="","",SUMIFS('Movimentações'!$F$5:$F$304,'Movimentações'!$H$5:$H$304,$D5,'Movimentações'!$B$5:$B$304,"Ajuste")) | N5: =IF($D5="","",$G5+$K5-$L5+$M5) | O5: =IF(OR($D5="",$F5=""),"",$F5-'Configurações'!$B$3) | P5: =IF(OR($D5="",$E5="",$F5="",$F5<$E5),"",IF($F5<'Configurações'!$B$3,"Vencido",IF($F5<='Configurações'!$B$3+'Configurações'!$B$2,"Vence em breve","Dentro da validade"))) | Q5: =IF($D5="","",IF($R5="Saldo negativo","Saldo negativo",IF($R5<>"OK","Revisar cadastro",IF($I5="Sim","Bloqueado",IF($N5=0,"Sem saldo",IF($P5="Vencido","Bloqueado por validade","Disponível")))))) | R5: =IF(COUNTA($A5,$C5,$E5,$F5,$G5,$H5,$I5)=0,"",IF($A5="","Informar SKU",IF($C5="","Informar lote",IF($B5="SKU não cadastrado","SKU não cadastrado",IF($E5="","Informar fabricação",IF($F5="","Informar validade",IF($F5<$E5,"Validade anterior à fabricação",IF($G5="","Informar quantidade inicial",IF($H5="","Informar localização",IF($I5="","Informar bloqueio",IF(AND($I5="Sim",$J5=""),"Informar motivo do bloqueio",IF(COUNTIFS($A$5:$A$204,$A5,$C$5:$C$204,$C5)>1,"SKU/lote duplicado",IF($N5<0,"Saldo negativo","OK"))))))))))))) | T5: =IF('Configurações'!A6="","",'Configurações'!A6) | U5: =IF('Configurações'!D6="","",'Configurações'!D6)
A6: FIC-CAFE-002 | B6: =IF($A6="","",IFERROR(INDEX('Configurações'!$B$6:$B$105,MATCH($A6,'Configurações'!$A$6:$A$105,0)),"SKU não cadastrado")) | C6: LT-CAF-2602 | D6: =IF(OR($A6="",$C6=""),"",$A6&"|"&$C6) | E6: 46058 | F6: 46331 | G6: 80 | H6: A-01-02 | I6: Não | K6: =IF($D6="","",SUMIFS('Movimentações'!$F$5:$F$304,'Movimentações'!$H$5:$H$304,$D6,'Movimentações'!$B$5:$B$304,"Entrada")) | L6: =IF($D6="","",SUMIFS('Movimentações'!$F$5:$F$304,'Movimentações'!$H$5:$H$304,$D6,'Movimentações'!$B$5:$B$304,"Saída")) | M6: =IF($D6="","",SUMIFS('Movimentações'!$F$5:$F$304,'Movimentações'!$H$5:$H$304,$D6,'Movimentações'!$B$5:$B$304,"Ajuste")) | N6: =IF($D6="","",$G6+$K6-$L6+$M6) | O6: =IF(OR($D6="",$F6=""),"",$F6-'Configurações'!$B$3) | P6: =IF(OR($D6="",$E6="",$F6="",$F6<$E6),"",IF($F6<'Configurações'!$B$3,"Vencido",IF($F6<='Configurações'!$B$3+'Configurações'!$B$2,"Vence em breve","Dentro da validade"))) | Q6: =IF($D6="","",IF($R6="Saldo negativo","Saldo negativo",IF($R6<>"OK","Revisar cadastro",IF($I6="Sim","Bloqueado",IF($N6=0,"Sem saldo",IF($P6="Vencido","Bloqueado por validade","Disponível")))))) | R6: =IF(COUNTA($A6,$C6,$E6,$F6,$G6,$H6,$I6)=0,"",IF($A6="","Informar SKU",IF($C6="","Informar lote",IF($B6="SKU não cadastrado","SKU não cadastrado",IF($E6="","Informar fabricação",IF($F6="","Informar validade",IF($F6<$E6,"Validade anterior à fabricação",IF($G6="","Informar quantidade inicial",IF($H6="","Informar localização",IF($I6="","Informar bloqueio",IF(AND($I6="Sim",$J6=""),"Informar motivo do bloqueio",IF(COUNTIFS($A$5:$A$204,$A6,$C$5:$C$204,$C6)>1,"SKU/lote duplicado",IF($N6<0,"Saldo negativo","OK"))))))))))))) | T6: =IF('Configurações'!A7="","",'Configurações'!A7) | U6: =IF('Configurações'!D7="","",'Configurações'!D7)
A7: FIC-BISC-003 | B7: =IF($A7="","",IFERROR(INDEX('Configurações'!$B$6:$B$105,MATCH($A7,'Configurações'!$A$6:$A$105,0)),"SKU não cadastrado")) | C7: LT-BIS-2603 | D7: =IF(OR($A7="",$C7=""),"",$A7&"|"&$C7) | E7: 46082 | F7: 46265 | G7: 60 | H7: B-02-01 | I7: Não | K7: =IF($D7="","",SUMIFS('Movimentações'!$F$5:$F$304,'Movimentações'!$H$5:$H$304,$D7,'Movimentações'!$B$5:$B$304,"Entrada")) | L7: =IF($D7="","",SUMIFS('Movimentações'!$F$5:$F$304,'Movimentações'!$H$5:$H$304,$D7,'Movimentações'!$B$5:$B$304,"Saída")) | M7: =IF($D7="","",SUMIFS('Movimentações'!$F$5:$F$304,'Movimentações'!$H$5:$H$304,$D7,'Movimentações'!$B$5:$B$304,"Ajuste")) | N7: =IF($D7="","",$G7+$K7-$L7+$M7) | O7: =IF(OR($D7="",$F7=""),"",$F7-'Configurações'!$B$3) | P7: =IF(OR($D7="",$E7="",$F7="",$F7<$E7),"",IF($F7<'Configurações'!$B$3,"Vencido",IF($F7<='Configurações'!$B$3+'Configurações'!$B$2,"Vence em breve","Dentro da validade"))) | Q7: =IF($D7="","",IF($R7="Saldo negativo","Saldo negativo",IF($R7<>"OK","Revisar cadastro",IF($I7="Sim","Bloqueado",IF($N7=0,"Sem saldo",IF($P7="Vencido","Bloqueado por validade","Disponível")))))) | R7: =IF(COUNTA($A7,$C7,$E7,$F7,$G7,$H7,$I7)=0,"",IF($A7="","Informar SKU",IF($C7="","Informar lote",IF($B7="SKU não cadastrado","SKU não cadastrado",IF($E7="","Informar fabricação",IF($F7="","Informar validade",IF($F7<$E7,"Validade anterior à fabricação",IF($G7="","Informar quantidade inicial",IF($H7="","Informar localização",IF($I7="","Informar bloqueio",IF(AND($I7="Sim",$J7=""),"Informar motivo do bloqueio",IF(COUNTIFS($A$5:$A$204,$A7,$C$5:$C$204,$C7)>1,"SKU/lote duplicado",IF($N7<0,"Saldo negativo","OK"))))))))))))) | T7: =IF('Configurações'!A8="","",'Configurações'!A8) | U7: =IF('Configurações'!D8="","",'Configurações'!D8)
A8: FIC-GRAN-004 | B8: =IF($A8="","",IFERROR(INDEX('Configurações'!$B$6:$B$105,MATCH($A8,'Configurações'!$A$6:$A$105,0)),"SKU não cadastrado")) | C8: LT-GRA-2604 | D8: =IF(OR($A8="",$C8=""),"",$A8&"|"&$C8) | E8: 46223 | F8: 46376 | G8: 45 | H8: B-02-02 | I8: Sim | J8: Embalagens amassadas em inspeção interna | K8: =IF($D8="","",SUMIFS('Movimentações'!$F$5:$F$304,'Movimentações'!$H$5:$H$304,$D8,'Movimentações'!$B$5:$B$304,"Entrada")) | L8: =IF($D8="","",SUMIFS('Movimentações'!$F$5:$F$304,'Movimentações'!$H$5:$H$304,$D8,'Movimentações'!$B$5:$B$304,"Saída")) | M8: =IF($D8="","",SUMIFS('Movimentações'!$F$5:$F$304,'Movimentações'!$H$5:$H$304,$D8,'Movimentações'!$B$5:$B$304,"Ajuste")) | N8: =IF($D8="","",$G8+$K8-$L8+$M8) | O8: =IF(OR($D8="",$F8=""),"",$F8-'Configurações'!$B$3) | P8: =IF(OR($D8="",$E8="",$F8="",$F8<$E8),"",IF($F8<'Configurações'!$B$3,"Vencido",IF($F8<='Configurações'!$B$3+'Configurações'!$B$2,"Vence em breve","Dentro da validade"))) | Q8: =IF($D8="","",IF($R8="Saldo negativo","Saldo negativo",IF($R8<>"OK","Revisar cadastro",IF($I8="Sim","Bloqueado",IF($N8=0,"Sem saldo",IF($P8="Vencido","Bloqueado por validade","Disponível")))))) | R8: =IF(COUNTA($A8,$C8,$E8,$F8,$G8,$H8,$I8)=0,"",IF($A8="","Informar SKU",IF($C8="","Informar lote",IF($B8="SKU não cadastrado","SKU não cadastrado",IF($E8="","Informar fabricação",IF($F8="","Informar validade",IF($F8<$E8,"Validade anterior à fabricação",IF($G8="","Informar quantidade inicial",IF($H8="","Informar localização",IF($I8="","Informar bloqueio",IF(AND($I8="Sim",$J8=""),"Informar motivo do bloqueio",IF(COUNTIFS($A$5:$A$204,$A8,$C$5:$C$204,$C8)>1,"SKU/lote duplicado",IF($N8<0,"Saldo negativo","OK"))))))))))))) | T8: =IF('Configurações'!A9="","",'Configurações'!A9) | U8: =IF('Configurações'!D9="","",'Configurações'!D9)
A9: FIC-MOLH-005 | B9: =IF($A9="","",IFERROR(INDEX('Configurações'!$B$6:$B$105,MATCH($A9,'Configurações'!$A$6:$A$105,0)),"SKU não cadastrado")) | C9: LT-MOL-2605 | D9: =IF(OR($A9="",$C9=""),"",$A9&"|"&$C9) | E9: 46127 | F9: 46302 | G9: 100 | H9: C-03-01 | I9: Não | K9: =IF($D9="","",SUMIFS('Movimentações'!$F$5:$F$304,'Movimentações'!$H$5:$H$304,$D9,'Movimentações'!$B$5:$B$304,"Entrada")) | L9: =IF($D9="","",SUMIFS('Movimentações'!$F$5:$F$304,'Movimentações'!$H$5:$H$304,$D9,'Movimentações'!$B$5:$B$304,"Saída")) | M9: =IF($D9="","",SUMIFS('Movimentações'!$F$5:$F$304,'Movimentações'!$H$5:$H$304,$D9,'Movimentações'!$B$5:$B$304,"Ajuste")) | N9: =IF($D9="","",$G9+$K9-$L9+$M9) | O9: =IF(OR($D9="",$F9=""),"",$F9-'Configurações'!$B$3) | P9: =IF(OR($D9="",$E9="",$F9="",$F9<$E9),"",IF($F9<'Configurações'!$B$3,"Vencido",IF($F9<='Configurações'!$B$3+'Configurações'!$B$2,"Vence em breve","Dentro da validade"))) | Q9: =IF($D9="","",IF($R9="Saldo negativo","Saldo negativo",IF($R9<>"OK","Revisar cadastro",IF($I9="Sim","Bloqueado",IF($N9=0,"Sem saldo",IF($P9="Vencido","Bloqueado por validade","Disponível")))))) | R9: =IF(COUNTA($A9,$C9,$E9,$F9,$G9,$H9,$I9)=0,"",IF($A9="","Informar SKU",IF($C9="","Informar lote",IF($B9="SKU não cadastrado","SKU não cadastrado",IF($E9="","Informar fabricação",IF($F9="","Informar validade",IF($F9<$E9,"Validade anterior à fabricação",IF($G9="","Informar quantidade inicial",IF($H9="","Informar localização",IF($I9="","Informar bloqueio",IF(AND($I9="Sim",$J9=""),"Informar motivo do bloqueio",IF(COUNTIFS($A$5:$A$204,$A9,$C$5:$C$204,$C9)>1,"SKU/lote duplicado",IF($N9<0,"Saldo negativo","OK"))))))))))))) | T9: =IF('Configurações'!A10="","",'Configurações'!A10) | U9: =IF('Configurações'!D10="","",'Configurações'!D10)
A10: FIC-CHA-001 | B10: =IF($A10="","",IFERROR(INDEX('Configurações'!$B$6:$B$105,MATCH($A10,'Configurações'!$A$6:$A$105,0)),"SKU não cadastrado")) | C10: LT-CHA-2606 | D10: =IF(OR($A10="",$C10=""),"",$A10&"|"&$C10) | E10: 46244 | F10: 46428 | G10: 70 | H10: A-01-01 | I10: Não | K10: =IF($D10="","",SUMIFS('Movimentações'!$F$5:$F$304,'Movimentações'!$H$5:$H$304,$D10,'Movimentações'!$B$5:$B$304,"Entrada")) | L10: =IF($D10="","",SUMIFS('Movimentações'!$F$5:$F$304,'Movimentações'!$H$5:$H$304,$D10,'Movimentações'!$B$5:$B$304,"Saída")) | M10: =IF($D10="","",SUMIFS('Movimentações'!$F$5:$F$304,'Movimentações'!$H$5:$H$304,$D10,'Movimentações'!$B$5:$B$304,"Ajuste")) | N10: =IF($D10="","",$G10+$K10-$L10+$M10) | O10: =IF(OR($D10="",$F10=""),"",$F10-'Configurações'!$B$3) | P10: =IF(OR($D10="",$E10="",$F10="",$F10<$E10),"",IF($F10<'Configurações'!$B$3,"Vencido",IF($F10<='Configurações'!$B$3+'Configurações'!$B$2,"Vence em breve","Dentro da validade"))) | Q10: =IF($D10="","",IF($R10="Saldo negativo","Saldo negativo",IF($R10<>"OK","Revisar cadastro",IF($I10="Sim","Bloqueado",IF($N10=0,"Sem saldo",IF($P10="Vencido","Bloqueado por validade","Disponível")))))) | R10: =IF(COUNTA($A10,$C10,$E10,$F10,$G10,$H10,$I10)=0,"",IF($A10="","Informar SKU",IF($C10="","Informar lote",IF($B10="SKU não cadastrado","SKU não cadastrado",IF($E10="","Informar fabricação",IF($F10="","Informar validade",IF($F10<$E10,"Validade anterior à fabricação",IF($G10="","Informar quantidade inicial",IF($H10="","Informar localização",IF($I10="","Informar bloqueio",IF(AND($I10="Sim",$J10=""),"Informar motivo do bloqueio",IF(COUNTIFS($A$5:$A$204,$A10,$C$5:$C$204,$C10)>1,"SKU/lote duplicado",IF($N10<0,"Saldo negativo","OK"))))))))))))) | T10: =IF('Configurações'!A11="","",'Configurações'!A11) | U10: =IF('Configurações'!D11="","",'Configurações'!D11)
A11: FIC-CAFE-002 | B11: =IF($A11="","",IFERROR(INDEX('Configurações'!$B$6:$B$105,MATCH($A11,'Configurações'!$A$6:$A$105,0)),"SKU não cadastrado")) | C11: LT-CAF-2607 | D11: =IF(OR($A11="",$C11=""),"",$A11&"|"&$C11) | E11: 46193 | F11: 46285 | G11: 50 | H11: A-01-02 | I11: Não | K11: =IF($D11="","",SUMIFS('Movimentações'!$F$5:$F$304,'Movimentações'!$H$5:$H$304,$D11,'Movimentações'!$B$5:$B$304,"Entrada")) | L11: =IF($D11="","",SUMIFS('Movimentações'!$F$5:$F$304,'Movimentações'!$H$5:$H$304,$D11,'Movimentações'!$B$5:$B$304,"Saída")) | M11: =IF($D11="","",SUMIFS('Movimentações'!$F$5:$F$304,'Movimentações'!$H$5:$H$304,$D11,'Movimentações'!$B$5:$B$304,"Ajuste")) | N11: =IF($D11="","",$G11+$K11-$L11+$M11) | O11: =IF(OR($D11="",$F11=""),"",$F11-'Configurações'!$B$3) | P11: =IF(OR($D11="",$E11="",$F11="",$F11<$E11),"",IF($F11<'Configurações'!$B$3,"Vencido",IF($F11<='Configurações'!$B$3+'Configurações'!$B$2,"Vence em breve","Dentro da validade"))) | Q11: =IF($D11="","",IF($R11="Saldo negativo","Saldo negativo",IF($R11<>"OK","Revisar cadastro",IF($I11="Sim","Bloqueado",IF($N11=0,"Sem saldo",IF($P11="Vencido","Bloqueado por validade","Disponível")))))) | R11: =IF(COUNTA($A11,$C11,$E11,$F11,$G11,$H11,$I11)=0,"",IF($A11="","Informar SKU",IF($C11="","Informar lote",IF($B11="SKU não cadastrado","SKU não cadastrado",IF($E11="","Informar fabricação",IF($F11="","Informar validade",IF($F11<$E11,"Validade anterior à fabricação",IF($G11="","Informar quantidade inicial",IF($H11="","Informar localização",IF($I11="","Informar bloqueio",IF(AND($I11="Sim",$J11=""),"Informar motivo do bloqueio",IF(COUNTIFS($A$5:$A$204,$A11,$C$5:$C$204,$C11)>1,"SKU/lote duplicado",IF($N11<0,"Saldo negativo","OK"))))))))))))) | T11: =IF('Configurações'!A12="","",'Configurações'!A12) | U11: =IF('Configurações'!D12="","",'Configurações'!D12)
A12: FIC-BISC-003 | B12: =IF($A12="","",IFERROR(INDEX('Configurações'!$B$6:$B$105,MATCH($A12,'Configurações'!$A$6:$A$105,0)),"SKU não cadastrado")) | C12: LT-BIS-2608 | D12: =IF(OR($A12="",$C12=""),"",$A12&"|"&$C12) | E12: 46249 | F12: 46433 | G12: 90 | H12: B-02-01 | I12: Não | K12: =IF($D12="","",SUMIFS('Movimentações'!$F$5:$F$304,'Movimentações'!$H$5:$H$304,$D12,'Movimentações'!$B$5:$B$304,"Entrada")) | L12: =IF($D12="","",SUMIFS('Movimentações'!$F$5:$F$304,'Movimentações'!$H$5:$H$304,$D12,'Movimentações'!$B$5:$B$304,"Saída")) | M12: =IF($D12="","",SUMIFS('Movimentações'!$F$5:$F$304,'Movimentações'!$H$5:$H$304,$D12,'Movimentações'!$B$5:$B$304,"Ajuste")) | N12: =IF($D12="","",$G12+$K12-$L12+$M12) | O12: =IF(OR($D12="",$F12=""),"",$F12-'Configurações'!$B$3) | P12: =IF(OR($D12="",$E12="",$F12="",$F12<$E12),"",IF($F12<'Configurações'!$B$3,"Vencido",IF($F12<='Configurações'!$B$3+'Configurações'!$B$2,"Vence em breve","Dentro da validade"))) | Q12: =IF($D12="","",IF($R12="Saldo negativo","Saldo negativo",IF($R12<>"OK","Revisar cadastro",IF($I12="Sim","Bloqueado",IF($N12=0,"Sem saldo",IF($P12="Vencido","Bloqueado por validade","Disponível")))))) | R12: =IF(COUNTA($A12,$C12,$E12,$F12,$G12,$H12,$I12)=0,"",IF($A12="","Informar SKU",IF($C12="","Informar lote",IF($B12="SKU não cadastrado","SKU não cadastrado",IF($E12="","Informar fabricação",IF($F12="","Informar validade",IF($F12<$E12,"Validade anterior à fabricação",IF($G12="","Informar quantidade inicial",IF($H12="","Informar localização",IF($I12="","Informar bloqueio",IF(AND($I12="Sim",$J12=""),"Informar motivo do bloqueio",IF(COUNTIFS($A$5:$A$204,$A12,$C$5:$C$204,$C12)>1,"SKU/lote duplicado",IF($N12<0,"Saldo negativo","OK"))))))))))))) | T12: =IF('Configurações'!A13="","",'Configurações'!A13) | U12: =IF('Configurações'!D13="","",'Configurações'!D13)
A13: FIC-GRAN-004 | B13: =IF($A13="","",IFERROR(INDEX('Configurações'!$B$6:$B$105,MATCH($A13,'Configurações'!$A$6:$A$105,0)),"SKU não cadastrado")) | C13: LT-GRA-2609 | D13: =IF(OR($A13="",$C13=""),"",$A13&"|"&$C13) | E13: 46023 | F13: 46266 | G13: 35 | H13: B-02-02 | I13: Não | K13: =IF($D13="","",SUMIFS('Movimentações'!$F$5:$F$304,'Movimentações'!$H$5:$H$304,$D13,'Movimentações'!$B$5:$B$304,"Entrada")) | L13: =IF($D13="","",SUMIFS('Movimentações'!$F$5:$F$304,'Movimentações'!$H$5:$H$304,$D13,'Movimentações'!$B$5:$B$304,"Saída")) | M13: =IF($D13="","",SUMIFS('Movimentações'!$F$5:$F$304,'Movimentações'!$H$5:$H$304,$D13,'Movimentações'!$B$5:$B$304,"Ajuste")) | N13: =IF($D13="","",$G13+$K13-$L13+$M13) | O13: =IF(OR($D13="",$F13=""),"",$F13-'Configurações'!$B$3) | P13: =IF(OR($D13="",$E13="",$F13="",$F13<$E13),"",IF($F13<'Configurações'!$B$3,"Vencido",IF($F13<='Configurações'!$B$3+'Configurações'!$B$2,"Vence em breve","Dentro da validade"))) | Q13: =IF($D13="","",IF($R13="Saldo negativo","Saldo negativo",IF($R13<>"OK","Revisar cadastro",IF($I13="Sim","Bloqueado",IF($N13=0,"Sem saldo",IF($P13="Vencido","Bloqueado por validade","Disponível")))))) | R13: =IF(COUNTA($A13,$C13,$E13,$F13,$G13,$H13,$I13)=0,"",IF($A13="","Informar SKU",IF($C13="","Informar lote",IF($B13="SKU não cadastrado","SKU não cadastrado",IF($E13="","Informar fabricação",IF($F13="","Informar validade",IF($F13<$E13,"Validade anterior à fabricação",IF($G13="","Informar quantidade inicial",IF($H13="","Informar localização",IF($I13="","Informar bloqueio",IF(AND($I13="Sim",$J13=""),"Informar motivo do bloqueio",IF(COUNTIFS($A$5:$A$204,$A13,$C$5:$C$204,$C13)>1,"SKU/lote duplicado",IF($N13<0,"Saldo negativo","OK"))))))))))))) | T13: =IF('Configurações'!A14="","",'Configurações'!A14) | U13: =IF('Configurações'!D14="","",'Configurações'!D14)
A14: FIC-MOLH-005 | B14: =IF($A14="","",IFERROR(INDEX('Configurações'!$B$6:$B$105,MATCH($A14,'Configurações'!$A$6:$A$105,0)),"SKU não cadastrado")) | C14: LT-MOL-2610 | D14: =IF(OR($A14="",$C14=""),"",$A14&"|"&$C14) | E14: 46235 | F14: 46600 | G14: 40 | H14: C-03-01 | I14: Sim | J14: Aguardando conferência interna | K14: =IF($D14="","",SUMIFS('Movimentações'!$F$5:$F$304,'Movimentações'!$H$5:$H$304,$D14,'Movimentações'!$B$5:$B$304,"Entrada")) | L14: =IF($D14="","",SUMIFS('Movimentações'!$F$5:$F$304,'Movimentações'!$H$5:$H$304,$D14,'Movimentações'!$B$5:$B$304,"Saída")) | M14: =IF($D14="","",SUMIFS('Movimentações'!$F$5:$F$304,'Movimentações'!$H$5:$H$304,$D14,'Movimentações'!$B$5:$B$304,"Ajuste")) | N14: =IF($D14="","",$G14+$K14-$L14+$M14) | O14: =IF(OR($D14="",$F14=""),"",$F14-'Configurações'!$B$3) | P14: =IF(OR($D14="",$E14="",$F14="",$F14<$E14),"",IF($F14<'Configurações'!$B$3,"Vencido",IF($F14<='Configurações'!$B$3+'Configurações'!$B$2,"Vence em breve","Dentro da validade"))) | Q14: =IF($D14="","",IF($R14="Saldo negativo","Saldo negativo",IF($R14<>"OK","Revisar cadastro",IF($I14="Sim","Bloqueado",IF($N14=0,"Sem saldo",IF($P14="Vencido","Bloqueado por validade","Disponível")))))) | R14: =IF(COUNTA($A14,$C14,$E14,$F14,$G14,$H14,$I14)=0,"",IF($A14="","Informar SKU",IF($C14="","Informar lote",IF($B14="SKU não cadastrado","SKU não cadastrado",IF($E14="","Informar fabricação",IF($F14="","Informar validade",IF($F14<$E14,"Validade anterior à fabricação",IF($G14="","Informar quantidade inicial",IF($H14="","Informar localização",IF($I14="","Informar bloqueio",IF(AND($I14="Sim",$J14=""),"Informar motivo do bloqueio",IF(COUNTIFS($A$5:$A$204,$A14,$C$5:$C$204,$C14)>1,"SKU/lote duplicado",IF($N14<0,"Saldo negativo","OK"))))))))))))) | T14: =IF('Configurações'!A15="","",'Configurações'!A15) | U14: =IF('Configurações'!D15="","",'Configurações'!D15)
B15: =IF($A15="","",IFERROR(INDEX('Configurações'!$B$6:$B$105,MATCH($A15,'Configurações'!$A$6:$A$105,0)),"SKU não cadastrado")) | D15: =IF(OR($A15="",$C15=""),"",$A15&"|"&$C15) | K15: =IF($D15="","",SUMIFS('Movimentações'!$F$5:$F$304,'Movimentações'!$H$5:$H$304,$D15,'Movimentações'!$B$5:$B$304,"Entrada")) | L15: =IF($D15="","",SUMIFS('Movimentações'!$F$5:$F$304,'Movimentações'!$H$5:$H$304,$D15,'Movimentações'!$B$5:$B$304,"Saída")) | M15: =IF($D15="","",SUMIFS('Movimentações'!$F$5:$F$304,'Movimentações'!$H$5:$H$304,$D15,'Movimentações'!$B$5:$B$304,"Ajuste")) | N15: =IF($D15="","",$G15+$K15-$L15+$M15) | O15: =IF(OR($D15="",$F15=""),"",$F15-'Configurações'!$B$3) | P15: =IF(OR($D15="",$E15="",$F15="",$F15<$E15),"",IF($F15<'Configurações'!$B$3,"Vencido",IF($F15<='Configurações'!$B$3+'Configurações'!$B$2,"Vence em breve","Dentro da validade"))) | Q15: =IF($D15="","",IF($R15="Saldo negativo","Saldo negativo",IF($R15<>"OK","Revisar cadastro",IF($I15="Sim","Bloqueado",IF($N15=0,"Sem saldo",IF($P15="Vencido","Bloqueado por validade","Disponível")))))) | R15: =IF(COUNTA($A15,$C15,$E15,$F15,$G15,$H15,$I15)=0,"",IF($A15="","Informar SKU",IF($C15="","Informar lote",IF($B15="SKU não cadastrado","SKU não cadastrado",IF($E15="","Informar fabricação",IF($F15="","Informar validade",IF($F15<$E15,"Validade anterior à fabricação",IF($G15="","Informar quantidade inicial",IF($H15="","Informar localização",IF($I15="","Informar bloqueio",IF(AND($I15="Sim",$J15=""),"Informar motivo do bloqueio",IF(COUNTIFS($A$5:$A$204,$A15,$C$5:$C$204,$C15)>1,"SKU/lote duplicado",IF($N15<0,"Saldo negativo","OK"))))))))))))) | T15: =IF('Configurações'!A16="","",'Configurações'!A16) | U15: =IF('Configurações'!D16="","",'Configurações'!D16)
B16: =IF($A16="","",IFERROR(INDEX('Configurações'!$B$6:$B$105,MATCH($A16,'Configurações'!$A$6:$A$105,0)),"SKU não cadastrado")) | D16: =IF(OR($A16="",$C16=""),"",$A16&"|"&$C16) | K16: =IF($D16="","",SUMIFS('Movimentações'!$F$5:$F$304,'Movimentações'!$H$5:$H$304,$D16,'Movimentações'!$B$5:$B$304,"Entrada")) | L16: =IF($D16="","",SUMIFS('Movimentações'!$F$5:$F$304,'Movimentações'!$H$5:$H$304,$D16,'Movimentações'!$B$5:$B$304,"Saída")) | M16: =IF($D16="","",SUMIFS('Movimentações'!$F$5:$F$304,'Movimentações'!$H$5:$H$304,$D16,'Movimentações'!$B$5:$B$304,"Ajuste")) | N16: =IF($D16="","",$G16+$K16-$L16+$M16) | O16: =IF(OR($D16="",$F16=""),"",$F16-'Configurações'!$B$3) | P16: =IF(OR($D16="",$E16="",$F16="",$F16<$E16),"",IF($F16<'Configurações'!$B$3,"Vencido",IF($F16<='Configurações'!$B$3+'Configurações'!$B$2,"Vence em breve","Dentro da validade"))) | Q16: =IF($D16="","",IF($R16="Saldo negativo","Saldo negativo",IF($R16<>"OK","Revisar cadastro",IF($I16="Sim","Bloqueado",IF($N16=0,"Sem saldo",IF($P16="Vencido","Bloqueado por validade","Disponível")))))) | R16: =IF(COUNTA($A16,$C16,$E16,$F16,$G16,$H16,$I16)=0,"",IF($A16="","Informar SKU",IF($C16="","Informar lote",IF($B16="SKU não cadastrado","SKU não cadastrado",IF($E16="","Informar fabricação",IF($F16="","Informar validade",IF($F16<$E16,"Validade anterior à fabricação",IF($G16="","Informar quantidade inicial",IF($H16="","Informar localização",IF($I16="","Informar bloqueio",IF(AND($I16="Sim",$J16=""),"Informar motivo do bloqueio",IF(COUNTIFS($A$5:$A$204,$A16,$C$5:$C$204,$C16)>1,"SKU/lote duplicado",IF($N16<0,"Saldo negativo","OK"))))))))))))) | T16: =IF('Configurações'!A17="","",'Configurações'!A17) | U16: =IF('Configurações'!D17="","",'Configurações'!D17)
B17: =IF($A17="","",IFERROR(INDEX('Configurações'!$B$6:$B$105,MATCH($A17,'Configurações'!$A$6:$A$105,0)),"SKU não cadastrado")) | D17: =IF(OR($A17="",$C17=""),"",$A17&"|"&$C17) | K17: =IF($D17="","",SUMIFS('Movimentações'!$F$5:$F$304,'Movimentações'!$H$5:$H$304,$D17,'Movimentações'!$B$5:$B$304,"Entrada")) | L17: =IF($D17="","",SUMIFS('Movimentações'!$F$5:$F$304,'Movimentações'!$H$5:$H$304,$D17,'Movimentações'!$B$5:$B$304,"Saída")) | M17: =IF($D17="","",SUMIFS('Movimentações'!$F$5:$F$304,'Movimentações'!$H$5:$H$304,$D17,'Movimentações'!$B$5:$B$304,"Ajuste")) | N17: =IF($D17="","",$G17+$K17-$L17+$M17) | O17: =IF(OR($D17="",$F17=""),"",$F17-'Configurações'!$B$3) | P17: =IF(OR($D17="",$E17="",$F17="",$F17<$E17),"",IF($F17<'Configurações'!$B$3,"Vencido",IF($F17<='Configurações'!$B$3+'Configurações'!$B$2,"Vence em breve","Dentro da validade"))) | Q17: =IF($D17="","",IF($R17="Saldo negativo","Saldo negativo",IF($R17<>"OK","Revisar cadastro",IF($I17="Sim","Bloqueado",IF($N17=0,"Sem saldo",IF($P17="Vencido","Bloqueado por validade","Disponível")))))) | R17: =IF(COUNTA($A17,$C17,$E17,$F17,$G17,$H17,$I17)=0,"",IF($A17="","Informar SKU",IF($C17="","Informar lote",IF($B17="SKU não cadastrado","SKU não cadastrado",IF($E17="","Informar fabricação",IF($F17="","Informar validade",IF($F17<$E17,"Validade anterior à fabricação",IF($G17="","Informar quantidade inicial",IF($H17="","Informar localização",IF($I17="","Informar bloqueio",IF(AND($I17="Sim",$J17=""),"Informar motivo do bloqueio",IF(COUNTIFS($A$5:$A$204,$A17,$C$5:$C$204,$C17)>1,"SKU/lote duplicado",IF($N17<0,"Saldo negativo","OK"))))))))))))) | T17: =IF('Configurações'!A18="","",'Configurações'!A18) | U17: =IF('Configurações'!D18="","",'Configurações'!D18)
B18: =IF($A18="","",IFERROR(INDEX('Configurações'!$B$6:$B$105,MATCH($A18,'Configurações'!$A$6:$A$105,0)),"SKU não cadastrado")) | D18: =IF(OR($A18="",$C18=""),"",$A18&"|"&$C18) | K18: =IF($D18="","",SUMIFS('Movimentações'!$F$5:$F$304,'Movimentações'!$H$5:$H$304,$D18,'Movimentações'!$B$5:$B$304,"Entrada")) | L18: =IF($D18="","",SUMIFS('Movimentações'!$F$5:$F$304,'Movimentações'!$H$5:$H$304,$D18,'Movimentações'!$B$5:$B$304,"Saída")) | M18: =IF($D18="","",SUMIFS('Movimentações'!$F$5:$F$304,'Movimentações'!$H$5:$H$304,$D18,'Movimentações'!$B$5:$B$304,"Ajuste")) | N18: =IF($D18="","",$G18+$K18-$L18+$M18) | O18: =IF(OR($D18="",$F18=""),"",$F18-'Configurações'!$B$3) | P18: =IF(OR($D18="",$E18="",$F18="",$F18<$E18),"",IF($F18<'Configurações'!$B$3,"Vencido",IF($F18<='Configurações'!$B$3+'Configurações'!$B$2,"Vence em breve","Dentro da validade"))) | Q18: =IF($D18="","",IF($R18="Saldo negativo","Saldo negativo",IF($R18<>"OK","Revisar cadastro",IF($I18="Sim","Bloqueado",IF($N18=0,"Sem saldo",IF($P18="Vencido","Bloqueado por validade","Disponível")))))) | R18: =IF(COUNTA($A18,$C18,$E18,$F18,$G18,$H18,$I18)=0,"",IF($A18="","Informar SKU",IF($C18="","Informar lote",IF($B18="SKU não cadastrado","SKU não cadastrado",IF($E18="","Informar fabricação",IF($F18="","Informar validade",IF($F18<$E18,"Validade anterior à fabricação",IF($G18="","Informar quantidade inicial",IF($H18="","Informar localização",IF($I18="","Informar bloqueio",IF(AND($I18="Sim",$J18=""),"Informar motivo do bloqueio",IF(COUNTIFS($A$5:$A$204,$A18,$C$5:$C$204,$C18)>1,"SKU/lote duplicado",IF($N18<0,"Saldo negativo","OK"))))))))))))) | T18: =IF('Configurações'!A19="","",'Configurações'!A19) | U18: =IF('Configurações'!D19="","",'Configurações'!D19)
B19: =IF($A19="","",IFERROR(INDEX('Configurações'!$B$6:$B$105,MATCH($A19,'Configurações'!$A$6:$A$105,0)),"SKU não cadastrado")) | D19: =IF(OR($A19="",$C19=""),"",$A19&"|"&$C19) | K19: =IF($D19="","",SUMIFS('Movimentações'!$F$5:$F$304,'Movimentações'!$H$5:$H$304,$D19,'Movimentações'!$B$5:$B$304,"Entrada")) | L19: =IF($D19="","",SUMIFS('Movimentações'!$F$5:$F$304,'Movimentações'!$H$5:$H$304,$D19,'Movimentações'!$B$5:$B$304,"Saída")) | M19: =IF($D19="","",SUMIFS('Movimentações'!$F$5:$F$304,'Movimentações'!$H$5:$H$304,$D19,'Movimentações'!$B$5:$B$304,"Ajuste")) | N19: =IF($D19="","",$G19+$K19-$L19+$M19) | O19: =IF(OR($D19="",$F19=""),"",$F19-'Configurações'!$B$3) | P19: =IF(OR($D19="",$E19="",$F19="",$F19<$E19),"",IF($F19<'Configurações'!$B$3,"Vencido",IF($F19<='Configurações'!$B$3+'Configurações'!$B$2,"Vence em breve","Dentro da validade"))) | Q19: =IF($D19="","",IF($R19="Saldo negativo","Saldo negativo",IF($R19<>"OK","Revisar cadastro",IF($I19="Sim","Bloqueado",IF($N19=0,"Sem saldo",IF($P19="Vencido","Bloqueado por validade","Disponível")))))) | R19: =IF(COUNTA($A19,$C19,$E19,$F19,$G19,$H19,$I19)=0,"",IF($A19="","Informar SKU",IF($C19="","Informar lote",IF($B19="SKU não cadastrado","SKU não cadastrado",IF($E19="","Informar fabricação",IF($F19="","Informar validade",IF($F19<$E19,"Validade anterior à fabricação",IF($G19="","Informar quantidade inicial",IF($H19="","Informar localização",IF($I19="","Informar bloqueio",IF(AND($I19="Sim",$J19=""),"Informar motivo do bloqueio",IF(COUNTIFS($A$5:$A$204,$A19,$C$5:$C$204,$C19)>1,"SKU/lote duplicado",IF($N19<0,"Saldo negativo","OK"))))))))))))) | T19: =IF('Configurações'!A20="","",'Configurações'!A20) | U19: =IF('Configurações'!D20="","",'Configurações'!D20)
B20: =IF($A20="","",IFERROR(INDEX('Configurações'!$B$6:$B$105,MATCH($A20,'Configurações'!$A$6:$A$105,0)),"SKU não cadastrado")) | D20: =IF(OR($A20="",$C20=""),"",$A20&"|"&$C20) | K20: =IF($D20="","",SUMIFS('Movimentações'!$F$5:$F$304,'Movimentações'!$H$5:$H$304,$D20,'Movimentações'!$B$5:$B$304,"Entrada")) | L20: =IF($D20="","",SUMIFS('Movimentações'!$F$5:$F$304,'Movimentações'!$H$5:$H$304,$D20,'Movimentações'!$B$5:$B$304,"Saída")) | M20: =IF($D20="","",SUMIFS('Movimentações'!$F$5:$F$304,'Movimentações'!$H$5:$H$304,$D20,'Movimentações'!$B$5:$B$304,"Ajuste")) | N20: =IF($D20="","",$G20+$K20-$L20+$M20) | O20: =IF(OR($D20="",$F20=""),"",$F20-'Configurações'!$B$3) | P20: =IF(OR($D20="",$E20="",$F20="",$F20<$E20),"",IF($F20<'Configurações'!$B$3,"Vencido",IF($F20<='Configurações'!$B$3+'Configurações'!$B$2,"Vence em breve","Dentro da validade"))) | Q20: =IF($D20="","",IF($R20="Saldo negativo","Saldo negativo",IF($R20<>"OK","Revisar cadastro",IF($I20="Sim","Bloqueado",IF($N20=0,"Sem saldo",IF($P20="Vencido","Bloqueado por validade","Disponível")))))) | R20: =IF(COUNTA($A20,$C20,$E20,$F20,$G20,$H20,$I20)=0,"",IF($A20="","Informar SKU",IF($C20="","Informar lote",IF($B20="SKU não cadastrado","SKU não cadastrado",IF($E20="","Informar fabricação",IF($F20="","Informar validade",IF($F20<$E20,"Validade anterior à fabricação",IF($G20="","Informar quantidade inicial",IF($H20="","Informar localização",IF($I20="","Informar bloqueio",IF(AND($I20="Sim",$J20=""),"Informar motivo do bloqueio",IF(COUNTIFS($A$5:$A$204,$A20,$C$5:$C$204,$C20)>1,"SKU/lote duplicado",IF($N20<0,"Saldo negativo","OK"))))))))))))) | T20: =IF('Configurações'!A21="","",'Configurações'!A21) | U20: =IF('Configurações'!D21="","",'Configurações'!D21)
B21: =IF($A21="","",IFERROR(INDEX('Configurações'!$B$6:$B$105,MATCH($A21,'Configurações'!$A$6:$A$105,0)),"SKU não cadastrado")) | D21: =IF(OR($A21="",$C21=""),"",$A21&"|"&$C21) | K21: =IF($D21="","",SUMIFS('Movimentações'!$F$5:$F$304,'Movimentações'!$H$5:$H$304,$D21,'Movimentações'!$B$5:$B$304,"Entrada")) | L21: =IF($D21="","",SUMIFS('Movimentações'!$F$5:$F$304,'Movimentações'!$H$5:$H$304,$D21,'Movimentações'!$B$5:$B$304,"Saída")) | M21: =IF($D21="","",SUMIFS('Movimentações'!$F$5:$F$304,'Movimentações'!$H$5:$H$304,$D21,'Movimentações'!$B$5:$B$304,"Ajuste")) | N21: =IF($D21="","",$G21+$K21-$L21+$M21) | O21: =IF(OR($D21="",$F21=""),"",$F21-'Configurações'!$B$3) | P21: =IF(OR($D21="",$E21="",$F21="",$F21<$E21),"",IF($F21<'Configurações'!$B$3,"Vencido",IF($F21<='Configurações'!$B$3+'Configurações'!$B$2,"Vence em breve","Dentro da validade"))) | Q21: =IF($D21="","",IF($R21="Saldo negativo","Saldo negativo",IF($R21<>"OK","Revisar cadastro",IF($I21="Sim","Bloqueado",IF($N21=0,"Sem saldo",IF($P21="Vencido","Bloqueado por validade","Disponível")))))) | R21: =IF(COUNTA($A21,$C21,$E21,$F21,$G21,$H21,$I21)=0,"",IF($A21="","Informar SKU",IF($C21="","Informar lote",IF($B21="SKU não cadastrado","SKU não cadastrado",IF($E21="","Informar fabricação",IF($F21="","Informar validade",IF($F21<$E21,"Validade anterior à fabricação",IF($G21="","Informar quantidade inicial",IF($H21="","Informar localização",IF($I21="","Informar bloqueio",IF(AND($I21="Sim",$J21=""),"Informar motivo do bloqueio",IF(COUNTIFS($A$5:$A$204,$A21,$C$5:$C$204,$C21)>1,"SKU/lote duplicado",IF($N21<0,"Saldo negativo","OK"))))))))))))) | T21: =IF('Configurações'!A22="","",'Configurações'!A22) | U21: =IF('Configurações'!D22="","",'Configurações'!D22)
B22: =IF($A22="","",IFERROR(INDEX('Configurações'!$B$6:$B$105,MATCH($A22,'Configurações'!$A$6:$A$105,0)),"SKU não cadastrado")) | D22: =IF(OR($A22="",$C22=""),"",$A22&"|"&$C22) | K22: =IF($D22="","",SUMIFS('Movimentações'!$F$5:$F$304,'Movimentações'!$H$5:$H$304,$D22,'Movimentações'!$B$5:$B$304,"Entrada")) | L22: =IF($D22="","",SUMIFS('Movimentações'!$F$5:$F$304,'Movimentações'!$H$5:$H$304,$D22,'Movimentações'!$B$5:$B$304,"Saída")) | M22: =IF($D22="","",SUMIFS('Movimentações'!$F$5:$F$304,'Movimentações'!$H$5:$H$304,$D22,'Movimentações'!$B$5:$B$304,"Ajuste")) | N22: =IF($D22="","",$G22+$K22-$L22+$M22) | O22: =IF(OR($D22="",$F22=""),"",$F22-'Configurações'!$B$3) | P22: =IF(OR($D22="",$E22="",$F22="",$F22<$E22),"",IF($F22<'Configurações'!$B$3,"Vencido",IF($F22<='Configurações'!$B$3+'Configurações'!$B$2,"Vence em breve","Dentro da validade"))) | Q22: =IF($D22="","",IF($R22="Saldo negativo","Saldo negativo",IF($R22<>"OK","Revisar cadastro",IF($I22="Sim","Bloqueado",IF($N22=0,"Sem saldo",IF($P22="Vencido","Bloqueado por validade","Disponível")))))) | R22: =IF(COUNTA($A22,$C22,$E22,$F22,$G22,$H22,$I22)=0,"",IF($A22="","Informar SKU",IF($C22="","Informar lote",IF($B22="SKU não cadastrado","SKU não cadastrado",IF($E22="","Informar fabricação",IF($F22="","Informar validade",IF($F22<$E22,"Validade anterior à fabricação",IF($G22="","Informar quantidade inicial",IF($H22="","Informar localização",IF($I22="","Informar bloqueio",IF(AND($I22="Sim",$J22=""),"Informar motivo do bloqueio",IF(COUNTIFS($A$5:$A$204,$A22,$C$5:$C$204,$C22)>1,"SKU/lote duplicado",IF($N22<0,"Saldo negativo","OK"))))))))))))) | T22: =IF('Configurações'!A23="","",'Configurações'!A23) | U22: =IF('Configurações'!D23="","",'Configurações'!D23)
B23: =IF($A23="","",IFERROR(INDEX('Configurações'!$B$6:$B$105,MATCH($A23,'Configurações'!$A$6:$A$105,0)),"SKU não cadastrado")) | D23: =IF(OR($A23="",$C23=""),"",$A23&"|"&$C23) | K23: =IF($D23="","",SUMIFS('Movimentações'!$F$5:$F$304,'Movimentações'!$H$5:$H$304,$D23,'Movimentações'!$B$5:$B$304,"Entrada")) | L23: =IF($D23="","",SUMIFS('Movimentações'!$F$5:$F$304,'Movimentações'!$H$5:$H$304,$D23,'Movimentações'!$B$5:$B$304,"Saída")) | M23: =IF($D23="","",SUMIFS('Movimentações'!$F$5:$F$304,'Movimentações'!$H$5:$H$304,$D23,'Movimentações'!$B$5:$B$304,"Ajuste")) | N23: =IF($D23="","",$G23+$K23-$L23+$M23) | O23: =IF(OR($D23="",$F23=""),"",$F23-'Configurações'!$B$3) | P23: =IF(OR($D23="",$E23="",$F23="",$F23<$E23),"",IF($F23<'Configurações'!$B$3,"Vencido",IF($F23<='Configurações'!$B$3+'Configurações'!$B$2,"Vence em breve","Dentro da validade"))) | Q23: =IF($D23="","",IF($R23="Saldo negativo","Saldo negativo",IF($R23<>"OK","Revisar cadastro",IF($I23="Sim","Bloqueado",IF($N23=0,"Sem saldo",IF($P23="Vencido","Bloqueado por validade","Disponível")))))) | R23: =IF(COUNTA($A23,$C23,$E23,$F23,$G23,$H23,$I23)=0,"",IF($A23="","Informar SKU",IF($C23="","Informar lote",IF($B23="SKU não cadastrado","SKU não cadastrado",IF($E23="","Informar fabricação",IF($F23="","Informar validade",IF($F23<$E23,"Validade anterior à fabricação",IF($G23="","Informar quantidade inicial",IF($H23="","Informar localização",IF($I23="","Informar bloqueio",IF(AND($I23="Sim",$J23=""),"Informar motivo do bloqueio",IF(COUNTIFS($A$5:$A$204,$A23,$C$5:$C$204,$C23)>1,"SKU/lote duplicado",IF($N23<0,"Saldo negativo","OK"))))))))))))) | T23: =IF('Configurações'!A24="","",'Configurações'!A24) | U23: =IF('Configurações'!D24="","",'Configurações'!D24)
B24: =IF($A24="","",IFERROR(INDEX('Configurações'!$B$6:$B$105,MATCH($A24,'Configurações'!$A$6:$A$105,0)),"SKU não cadastrado")) | D24: =IF(OR($A24="",$C24=""),"",$A24&"|"&$C24) | K24: =IF($D24="","",SUMIFS('Movimentações'!$F$5:$F$304,'Movimentações'!$H$5:$H$304,$D24,'Movimentações'!$B$5:$B$304,"Entrada")) | L24: =IF($D24="","",SUMIFS('Movimentações'!$F$5:$F$304,'Movimentações'!$H$5:$H$304,$D24,'Movimentações'!$B$5:$B$304,"Saída")) | M24: =IF($D24="","",SUMIFS('Movimentações'!$F$5:$F$304,'Movimentações'!$H$5:$H$304,$D24,'Movimentações'!$B$5:$B$304,"Ajuste")) | N24: =IF($D24="","",$G24+$K24-$L24+$M24) | O24: =IF(OR($D24="",$F24=""),"",$F24-'Configurações'!$B$3) | P24: =IF(OR($D24="",$E24="",$F24="",$F24<$E24),"",IF($F24<'Configurações'!$B$3,"Vencido",IF($F24<='Configurações'!$B$3+'Configurações'!$B$2,"Vence em breve","Dentro da validade"))) | Q24: =IF($D24="","",IF($R24="Saldo negativo","Saldo negativo",IF($R24<>"OK","Revisar cadastro",IF($I24="Sim","Bloqueado",IF($N24=0,"Sem saldo",IF($P24="Vencido","Bloqueado por validade","Disponível")))))) | R24: =IF(COUNTA($A24,$C24,$E24,$F24,$G24,$H24,$I24)=0,"",IF($A24="","Informar SKU",IF($C24="","Informar lote",IF($B24="SKU não cadastrado","SKU não cadastrado",IF($E24="","Informar fabricação",IF($F24="","Informar validade",IF($F24<$E24,"Validade anterior à fabricação",IF($G24="","Informar quantidade inicial",IF($H24="","Informar localização",IF($I24="","Informar bloqueio",IF(AND($I24="Sim",$J24=""),"Informar motivo do bloqueio",IF(COUNTIFS($A$5:$A$204,$A24,$C$5:$C$204,$C24)>1,"SKU/lote duplicado",IF($N24<0,"Saldo negativo","OK"))))))))))))) | T24: =IF('Configurações'!A25="","",'Configurações'!A25) | U24: =IF('Configurações'!D25="","",'Configurações'!D25)
B25: =IF($A25="","",IFERROR(INDEX('Configurações'!$B$6:$B$105,MATCH($A25,'Configurações'!$A$6:$A$105,0)),"SKU não cadastrado")) | D25: =IF(OR($A25="",$C25=""),"",$A25&"|"&$C25) | K25: =IF($D25="","",SUMIFS('Movimentações'!$F$5:$F$304,'Movimentações'!$H$5:$H$304,$D25,'Movimentações'!$B$5:$B$304,"Entrada")) | L25: =IF($D25="","",SUMIFS('Movimentações'!$F$5:$F$304,'Movimentações'!$H$5:$H$304,$D25,'Movimentações'!$B$5:$B$304,"Saída")) | M25: =IF($D25="","",SUMIFS('Movimentações'!$F$5:$F$304,'Movimentações'!$H$5:$H$304,$D25,'Movimentações'!$B$5:$B$304,"Ajuste")) | N25: =IF($D25="","",$G25+$K25-$L25+$M25) | O25: =IF(OR($D25="",$F25=""),"",$F25-'Configurações'!$B$3) | P25: =IF(OR($D25="",$E25="",$F25="",$F25<$E25),"",IF($F25<'Configurações'!$B$3,"Vencido",IF($F25<='Configurações'!$B$3+'Configurações'!$B$2,"Vence em breve","Dentro da validade"))) | Q25: =IF($D25="","",IF($R25="Saldo negativo","Saldo negativo",IF($R25<>"OK","Revisar cadastro",IF($I25="Sim","Bloqueado",IF($N25=0,"Sem saldo",IF($P25="Vencido","Bloqueado por validade","Disponível")))))) | R25: =IF(COUNTA($A25,$C25,$E25,$F25,$G25,$H25,$I25)=0,"",IF($A25="","Informar SKU",IF($C25="","Informar lote",IF($B25="SKU não cadastrado","SKU não cadastrado",IF($E25="","Informar fabricação",IF($F25="","Informar validade",IF($F25<$E25,"Validade anterior à fabricação",IF($G25="","Informar quantidade inicial",IF($H25="","Informar localização",IF($I25="","Informar bloqueio",IF(AND($I25="Sim",$J25=""),"Informar motivo do bloqueio",IF(COUNTIFS($A$5:$A$204,$A25,$C$5:$C$204,$C25)>1,"SKU/lote duplicado",IF($N25<0,"Saldo negativo","OK"))))))))))))) | T25: =IF('Configurações'!A26="","",'Configurações'!A26) | U25: =IF('Configurações'!D26="","",'Configurações'!D26)
B26: =IF($A26="","",IFERROR(INDEX('Configurações'!$B$6:$B$105,MATCH($A26,'Configurações'!$A$6:$A$105,0)),"SKU não cadastrado")) | D26: =IF(OR($A26="",$C26=""),"",$A26&"|"&$C26) | K26: =IF($D26="","",SUMIFS('Movimentações'!$F$5:$F$304,'Movimentações'!$H$5:$H$304,$D26,'Movimentações'!$B$5:$B$304,"Entrada")) | L26: =IF($D26="","",SUMIFS('Movimentações'!$F$5:$F$304,'Movimentações'!$H$5:$H$304,$D26,'Movimentações'!$B$5:$B$304,"Saída")) | M26: =IF($D26="","",SUMIFS('Movimentações'!$F$5:$F$304,'Movimentações'!$H$5:$H$304,$D26,'Movimentações'!$B$5:$B$304,"Ajuste")) | N26: =IF($D26="","",$G26+$K26-$L26+$M26) | O26: =IF(OR($D26="",$F26=""),"",$F26-'Configurações'!$B$3) | P26: =IF(OR($D26="",$E26="",$F26="",$F26<$E26),"",IF($F26<'Configurações'!$B$3,"Vencido",IF($F26<='Configurações'!$B$3+'Configurações'!$B$2,"Vence em breve","Dentro da validade"))) | Q26: =IF($D26="","",IF($R26="Saldo negativo","Saldo negativo",IF($R26<>"OK","Revisar cadastro",IF($I26="Sim","Bloqueado",IF($N26=0,"Sem saldo",IF($P26="Vencido","Bloqueado por validade","Disponível")))))) | R26: =IF(COUNTA($A26,$C26,$E26,$F26,$G26,$H26,$I26)=0,"",IF($A26="","Informar SKU",IF($C26="","Informar lote",IF($B26="SKU não cadastrado","SKU não cadastrado",IF($E26="","Informar fabricação",IF($F26="","Informar validade",IF($F26<$E26,"Validade anterior à fabricação",IF($G26="","Informar quantidade inicial",IF($H26="","Informar localização",IF($I26="","Informar bloqueio",IF(AND($I26="Sim",$J26=""),"Informar motivo do bloqueio",IF(COUNTIFS($A$5:$A$204,$A26,$C$5:$C$204,$C26)>1,"SKU/lote duplicado",IF($N26<0,"Saldo negativo","OK"))))))))))))) | T26: =IF('Configurações'!A27="","",'Configurações'!A27) | U26: =IF('Configurações'!D27="","",'Configurações'!D27)
... B204: =IF($A204="","",IFERROR(INDEX('Configurações'!$B$6:$B$105,MATCH($A204,'Configurações'!$A$6:$A$105,0)),"SKU não cadastrado")) | D204: =IF(OR($A204="",$C204=""),"",$A204&"|"&$C204) | K204: =IF($D204="","",SUMIFS('Movimentações'!$F$5:$F$304,'Movimentações'!$H$5:$H$304,$D204,'Movimentações'!$B$5:$B$304,"Entrada")) | L204: =IF($D204="","",SUMIFS('Movimentações'!$F$5:$F$304,'Movimentações'!$H$5:$H$304,$D204,'Movimentações'!$B$5:$B$304,"Saída")) | M204: =IF($D204="","",SUMIFS('Movimentações'!$F$5:$F$304,'Movimentações'!$H$5:$H$304,$D204,'Movimentações'!$B$5:$B$304,"Ajuste")) | N204: =IF($D204="","",$G204+$K204-$L204+$M204) | O204: =IF(OR($D204="",$F204=""),"",$F204-'Configurações'!$B$3) | P204: =IF(OR($D204="",$E204="",$F204="",$F204<$E204),"",IF($F204<'Configurações'!$B$3,"Vencido",IF($F204<='Configurações'!$B$3+'Configurações'!$B$2,"Vence em breve","Dentro da validade"))) | Q204: =IF($D204="","",IF($R204="Saldo negativo","Saldo negativo",IF($R204<>"OK","Revisar cadastro",IF($I204="Sim","Bloqueado",IF($N204=0,"Sem saldo",IF($P204="Vencido","Bloqueado por validade","Disponível")))))) | R204: =IF(COUNTA($A204,$C204,$E204,$F204,$G204,$H204,$I204)=0,"",IF($A204="","Informar SKU",IF($C204="","Informar lote",IF($B204="SKU não cadastrado","SKU não cadastrado",IF($E204="","Informar fabricação",IF($F204="","Informar validade",IF($F204<$E204,"Validade anterior à fabricação",IF($G204="","Informar quantidade inicial",IF($H204="","Informar localização",IF($I204="","Informar bloqueio",IF(AND($I204="Sim",$J204=""),"Informar motivo do bloqueio",IF(COUNTIFS($A$5:$A$204,$A204,$C$5:$C$204,$C204)>1,"SKU/lote duplicado",IF($N204<0,"Saldo negativo","OK"))))))))))))) | T204: =IF('Configurações'!A205="","",'Configurações'!A205) | U204: =IF('Configurações'!D205="","",'Configurações'!D205)

Sheet Movimentações
A1: Movimentações por Lote
A2: Registre quantidades positivas para entradas e saídas; ajustes podem ser positivos ou negativos.
A4: Data | B4: Tipo | C4: Documento/Referência | D4: SKU | E4: Lote | F4: Quantidade | G4: Observação | H4: Chave SKU/Lote | I4: Verificação
A5: 46266 | B5: Saída | C5: PED-FIC-0001 | D5: FIC-CHA-001 | E5: LT-CHA-2601 | F5: 20 | G5: Separação fictícia | H5: =IF(OR($D5="",$E5=""),"",$D5&"|"&$E5) | I5: =IF(COUNTA($A5:$G5)=0,"",IF($A5="","Informar data",IF($B5="","Informar tipo",IF($D5="","Informar SKU",IF($E5="","Informar lote",IF($F5="","Informar quantidade",IF(COUNTIF(Lotes!$D$5:$D$204,$H5)=0,"SKU/lote não cadastrado",IF(COUNTIF(Lotes!$D$5:$D$204,$H5)>1,"SKU/lote duplicado no cadastro",IF($A5>'Configurações'!$B$3,"Data futura",IF($A5<IFERROR(INDEX(Lotes!$E$5:$E$204,MATCH($H5,Lotes!$D$5:$D$204,0)),$A5),"Data anterior à fabricação",IF(AND(OR($B5="Entrada",$B5="Saída"),$F5<=0),"Quantidade deve ser positiva",IF(AND($B5="Ajuste",$F5=0),"Ajuste não pode ser zero","OK")))))))))))) | K5: =IF('Configurações'!A6="","",'Configurações'!A6) | M5: =IF(Lotes!D5="","",Lotes!D5)
A6: 46096 | B6: Entrada | C6: REC-FIC-0002 | D6: FIC-CAFE-002 | E6: LT-CAF-2602 | F6: 20 | G6: Complemento fictício | H6: =IF(OR($D6="",$E6=""),"",$D6&"|"&$E6) | I6: =IF(COUNTA($A6:$G6)=0,"",IF($A6="","Informar data",IF($B6="","Informar tipo",IF($D6="","Informar SKU",IF($E6="","Informar lote",IF($F6="","Informar quantidade",IF(COUNTIF(Lotes!$D$5:$D$204,$H6)=0,"SKU/lote não cadastrado",IF(COUNTIF(Lotes!$D$5:$D$204,$H6)>1,"SKU/lote duplicado no cadastro",IF($A6>'Configurações'!$B$3,"Data futura",IF($A6<IFERROR(INDEX(Lotes!$E$5:$E$204,MATCH($H6,Lotes!$D$5:$D$204,0)),$A6),"Data anterior à fabricação",IF(AND(OR($B6="Entrada",$B6="Saída"),$F6<=0),"Quantidade deve ser positiva",IF(AND($B6="Ajuste",$F6=0),"Ajuste não pode ser zero","OK")))))))))))) | K6: =IF('Configurações'!A7="","",'Configurações'!A7) | M6: =IF(Lotes!D6="","",Lotes!D6)
A7: 46267 | B7: Saída | C7: PED-FIC-0003 | D7: FIC-CAFE-002 | E7: LT-CAF-2602 | F7: 15 | G7: Separação fictícia | H7: =IF(OR($D7="",$E7=""),"",$D7&"|"&$E7) | I7: =IF(COUNTA($A7:$G7)=0,"",IF($A7="","Informar data",IF($B7="","Informar tipo",IF($D7="","Informar SKU",IF($E7="","Informar lote",IF($F7="","Informar quantidade",IF(COUNTIF(Lotes!$D$5:$D$204,$H7)=0,"SKU/lote não cadastrado",IF(COUNTIF(Lotes!$D$5:$D$204,$H7)>1,"SKU/lote duplicado no cadastro",IF($A7>'Configurações'!$B$3,"Data futura",IF($A7<IFERROR(INDEX(Lotes!$E$5:$E$204,MATCH($H7,Lotes!$D$5:$D$204,0)),$A7),"Data anterior à fabricação",IF(AND(OR($B7="Entrada",$B7="Saída"),$F7<=0),"Quantidade deve ser positiva",IF(AND($B7="Ajuste",$F7=0),"Ajuste não pode ser zero","OK")))))))))))) | K7: =IF('Configurações'!A8="","",'Configurações'!A8) | M7: =IF(Lotes!D7="","",Lotes!D7)
A8: 46254 | B8: Saída | C8: PED-FIC-0004 | D8: FIC-BISC-003 | E8: LT-BIS-2603 | F8: 10 | G8: Separação fictícia | H8: =IF(OR($D8="",$E8=""),"",$D8&"|"&$E8) | I8: =IF(COUNTA($A8:$G8)=0,"",IF($A8="","Informar data",IF($B8="","Informar tipo",IF($D8="","Informar SKU",IF($E8="","Informar lote",IF($F8="","Informar quantidade",IF(COUNTIF(Lotes!$D$5:$D$204,$H8)=0,"SKU/lote não cadastrado",IF(COUNTIF(Lotes!$D$5:$D$204,$H8)>1,"SKU/lote duplicado no cadastro",IF($A8>'Configurações'!$B$3,"Data futura",IF($A8<IFERROR(INDEX(Lotes!$E$5:$E$204,MATCH($H8,Lotes!$D$5:$D$204,0)),$A8),"Data anterior à fabricação",IF(AND(OR($B8="Entrada",$B8="Saída"),$F8<=0),"Quantidade deve ser positiva",IF(AND($B8="Ajuste",$F8=0),"Ajuste não pode ser zero","OK")))))))))))) | K8: =IF('Configurações'!A9="","",'Configurações'!A9) | M8: =IF(Lotes!D8="","",Lotes!D8)
A9: 46259 | B9: Entrada | C9: REC-FIC-0005 | D9: FIC-GRAN-004 | E9: LT-GRA-2604 | F9: 5 | G9: Complemento fictício | H9: =IF(OR($D9="",$E9=""),"",$D9&"|"&$E9) | I9: =IF(COUNTA($A9:$G9)=0,"",IF($A9="","Informar data",IF($B9="","Informar tipo",IF($D9="","Informar SKU",IF($E9="","Informar lote",IF($F9="","Informar quantidade",IF(COUNTIF(Lotes!$D$5:$D$204,$H9)=0,"SKU/lote não cadastrado",IF(COUNTIF(Lotes!$D$5:$D$204,$H9)>1,"SKU/lote duplicado no cadastro",IF($A9>'Configurações'!$B$3,"Data futura",IF($A9<IFERROR(INDEX(Lotes!$E$5:$E$204,MATCH($H9,Lotes!$D$5:$D$204,0)),$A9),"Data anterior à fabricação",IF(AND(OR($B9="Entrada",$B9="Saída"),$F9<=0),"Quantidade deve ser positiva",IF(AND($B9="Ajuste",$F9=0),"Ajuste não pode ser zero","OK")))))))))))) | K9: =IF('Configurações'!A10="","",'Configurações'!A10) | M9: =IF(Lotes!D9="","",Lotes!D9)
A10: 46266 | B10: Saída | C10: PED-FIC-0006 | D10: FIC-MOLH-005 | E10: LT-MOL-2605 | F10: 40 | G10: Separação fictícia | H10: =IF(OR($D10="",$E10=""),"",$D10&"|"&$E10) | I10: =IF(COUNTA($A10:$G10)=0,"",IF($A10="","Informar data",IF($B10="","Informar tipo",IF($D10="","Informar SKU",IF($E10="","Informar lote",IF($F10="","Informar quantidade",IF(COUNTIF(Lotes!$D$5:$D$204,$H10)=0,"SKU/lote não cadastrado",IF(COUNTIF(Lotes!$D$5:$D$204,$H10)>1,"SKU/lote duplicado no cadastro",IF($A10>'Configurações'!$B$3,"Data futura",IF($A10<IFERROR(INDEX(Lotes!$E$5:$E$204,MATCH($H10,Lotes!$D$5:$D$204,0)),$A10),"Data anterior à fabricação",IF(AND(OR($B10="Entrada",$B10="Saída"),$F10<=0),"Quantidade deve ser positiva",IF(AND($B10="Ajuste",$F10=0),"Ajuste não pode ser zero","OK")))))))))))) | K10: =IF('Configurações'!A11="","",'Configurações'!A11) | M10: =IF(Lotes!D10="","",Lotes!D10)
A11: 46270 | B11: Saída | C11: PED-FIC-0007 | D11: FIC-CHA-001 | E11: LT-CHA-2606 | F11: 70 | G11: Esgotamento fictício do lote | H11: =IF(OR($D11="",$E11=""),"",$D11&"|"&$E11) | I11: =IF(COUNTA($A11:$G11)=0,"",IF($A11="","Informar data",IF($B11="","Informar tipo",IF($D11="","Informar SKU",IF($E11="","Informar lote",IF($F11="","Informar quantidade",IF(COUNTIF(Lotes!$D$5:$D$204,$H11)=0,"SKU/lote não cadastrado",IF(COUNTIF(Lotes!$D$5:$D$204,$H11)>1,"SKU/lote duplicado no cadastro",IF($A11>'Configurações'!$B$3,"Data futura",IF($A11<IFERROR(INDEX(Lotes!$E$5:$E$204,MATCH($H11,Lotes!$D$5:$D$204,0)),$A11),"Data anterior à fabricação",IF(AND(OR($B11="Entrada",$B11="Saída"),$F11<=0),"Quantidade deve ser positiva",IF(AND($B11="Ajuste",$F11=0),"Ajuste não pode ser zero","OK")))))))))))) | K11: =IF('Configurações'!A12="","",'Configurações'!A12) | M11: =IF(Lotes!D11="","",Lotes!D11)
