Workbook

Sheet Resumo
A1: Custo de Manutenção de Estoque
A3: Competência analisada | B3: 46266
A5: Estoque médio valorizado | C5: Custo de manutenção | E5: Taxa ponderada (% a.m.) | G5: SKUs analisados
A6: =IF(OR($B$3="",$G$6=0),"",SUMIFS('Custos de Estoque'!$E$6:$E$505,'Custos de Estoque'!$A$6:$A$505,$B$3,'Custos de Estoque'!$Y$6:$Y$505,1,'Custos de Estoque'!$U$6:$U$505,">=0")) | C6: =IF(OR($B$3="",$G$6=0),"",SUMIFS('Custos de Estoque'!$U$6:$U$505,'Custos de Estoque'!$A$6:$A$505,$B$3,'Custos de Estoque'!$Y$6:$Y$505,1)) | E6: =IFERROR($C$6/$A$6,"") | G6: =IF($B$3="","",COUNTIFS('Custos de Estoque'!$A$6:$A$505,$B$3,'Custos de Estoque'!$Y$6:$Y$505,1,'Custos de Estoque'!$U$6:$U$505,">=0"))
A8: Capital | C8: Armazenagem | E8: Seguro | G8: Obsolescência + perdas
A9: =IF(OR($B$3="",$G$6=0),"",SUMIFS('Custos de Estoque'!$P$6:$P$505,'Custos de Estoque'!$A$6:$A$505,$B$3,'Custos de Estoque'!$Y$6:$Y$505,1)) | C9: =IF(OR($B$3="",$G$6=0),"",SUMIFS('Custos de Estoque'!$Q$6:$Q$505,'Custos de Estoque'!$A$6:$A$505,$B$3,'Custos de Estoque'!$Y$6:$Y$505,1)) | E9: =IF(OR($B$3="",$G$6=0),"",SUMIFS('Custos de Estoque'!$R$6:$R$505,'Custos de Estoque'!$A$6:$A$505,$B$3,'Custos de Estoque'!$Y$6:$Y$505,1)) | G9: =IF(OR($B$3="",$G$6=0),"",SUMIFS('Custos de Estoque'!$S$6:$S$505,'Custos de Estoque'!$A$6:$A$505,$B$3,'Custos de Estoque'!$Y$6:$Y$505,1)+SUMIFS('Custos de Estoque'!$T$6:$T$505,'Custos de Estoque'!$A$6:$A$505,$B$3,'Custos de Estoque'!$Y$6:$Y$505,1))
A11: Linhas para revisão | C11: Acima da taxa limite | E11: Acima do estoque limite | G11: Maior direcionador
A12: =IF($B$3="","",COUNTIFS('Custos de Estoque'!$A$6:$A$505,$B$3,'Custos de Estoque'!$W$6:$W$505,"<>OK",'Custos de Estoque'!$W$6:$W$505,"<>")) | C12: =IF($B$3="","",COUNTIFS('Custos de Estoque'!$A$6:$A$505,$B$3,'Custos de Estoque'!$Y$6:$Y$505,1,'Custos de Estoque'!$V$6:$V$505,">"&'Parâmetros'!$B$8)) | E12: =IF($B$3="","",COUNTIFS('Custos de Estoque'!$A$6:$A$505,$B$3,'Custos de Estoque'!$Y$6:$Y$505,1,'Custos de Estoque'!$E$6:$E$505,">"&'Parâmetros'!$B$9)) | G12: =IF(SUM($B$16:$B$20)=0,"Sem dados",INDEX($A$16:$A$20,MATCH(MAX($B$16:$B$20),$B$16:$B$20,0)))
A13: =IF($B$3="","Selecione uma competência.",IF(OR(COUNT('Parâmetros'!$B$4:$B$9)<>6,MIN('Parâmetros'!$B$4:$B$8)<0,MAX('Parâmetros'!$B$4:$B$8)>1,'Parâmetros'!$B$9<0),"Revise os parâmetros padrão.",IF($G$6=0,"Nenhum registro apto para a competência selecionada.",IF($A$12>0,"Há linhas para revisão na competência selecionada.","Sem alertas de revisão na competência selecionada."))))
A15: Componente | B15: Custo | D15: SKU | E15: Produto | F15: Custo total | G15: Taxa
A16: Capital | B16: =A9 | D16: ='Análises'!B20 | E16: ='Análises'!C20 | F16: ='Análises'!F20 | G16: ='Análises'!G20
A17: Armazenagem | B17: =C9 | D17: ='Análises'!B21 | E17: ='Análises'!C21 | F17: ='Análises'!F21 | G17: ='Análises'!G21
A18: Seguro | B18: =E9 | D18: ='Análises'!B22 | E18: ='Análises'!C22 | F18: ='Análises'!F22 | G18: ='Análises'!G22
A19: Obsolescência | B19: =IF(OR($B$3="",$G$6=0),"",SUMIFS('Custos de Estoque'!$S$6:$S$505,'Custos de Estoque'!$A$6:$A$505,$B$3,'Custos de Estoque'!$Y$6:$Y$505,1)) | D19: ='Análises'!B23 | E19: ='Análises'!C23 | F19: ='Análises'!F23 | G19: ='Análises'!G23
A20: Perdas | B20: =IF(OR($B$3="",$G$6=0),"",SUMIFS('Custos de Estoque'!$T$6:$T$505,'Custos de Estoque'!$A$6:$A$505,$B$3,'Custos de Estoque'!$Y$6:$Y$505,1)) | D20: ='Análises'!B24 | E20: ='Análises'!C24 | F20: ='Análises'!F24 | G20: ='Análises'!G24

Sheet Custos de Estoque
A1: Apuração mensal do custo de manutenção de estoque
A3: Preencha somente as células amarelas. Uma linha deve representar um único SKU em uma única competência.
A5: Competência | B5: SKU | C5: Produto | D5: Categoria | E5: Estoque médio valorizado (R$) | F5: Taxa de capital personalizada (% a.m.) | G5: Armazenagem mensal (R$) | H5: Taxa de seguro personalizada (% a.m.) | I5: Taxa de obsolescência personalizada (% a.m.) | J5: Taxa de perdas personalizada (% a.m.) | K5: Observação | L5: Taxa de capital aplicada (% a.m.) | M5: Taxa de seguro aplicada (% a.m.) | N5: Taxa de obsolescência aplicada (% a.m.) | O5: Taxa de perdas aplicada (% a.m.) | P5: Custo de capital (R$) | Q5: Custo de armazenagem (R$) | R5: Custo de seguro (R$) | S5: Custo de obsolescência (R$) | T5: Custo de perdas (R$) | U5: Custo de manutenção total (R$) | V5: Taxa de manutenção (% a.m.) | W5: Situação | X5: Ordem no período selecionado | Y5: Linha apta para cálculo
A6: 46266 | B6: SKU-FIC-001 | C6: Luminária Nuvem 2.0 | D6: Casa e Cozinha | E6: 42000 | G6: 680 | K6: Exemplo fictício | L6: =IF($Y6<>1,"",IF($F6="",IF(AND(ISNUMBER('Parâmetros'!$B$4),'Parâmetros'!$B$4>=0,'Parâmetros'!$B$4<=1),'Parâmetros'!$B$4,""),$F6)) | M6: =IF($Y6<>1,"",IF($H6="",IF(AND(ISNUMBER('Parâmetros'!$B$5),'Parâmetros'!$B$5>=0,'Parâmetros'!$B$5<=1),'Parâmetros'!$B$5,""),$H6)) | N6: =IF($Y6<>1,"",IF($I6="",IF(AND(ISNUMBER('Parâmetros'!$B$6),'Parâmetros'!$B$6>=0,'Parâmetros'!$B$6<=1),'Parâmetros'!$B$6,""),$I6)) | O6: =IF($Y6<>1,"",IF($J6="",IF(AND(ISNUMBER('Parâmetros'!$B$7),'Parâmetros'!$B$7>=0,'Parâmetros'!$B$7<=1),'Parâmetros'!$B$7,""),$J6)) | P6: =IF(OR($Y6<>1,NOT(ISNUMBER($L6))),"",$E6*$L6) | Q6: =IF($Y6<>1,"",$G6) | R6: =IF(OR($Y6<>1,NOT(ISNUMBER($M6))),"",$E6*$M6) | S6: =IF(OR($Y6<>1,NOT(ISNUMBER($N6))),"",$E6*$N6) | T6: =IF(OR($Y6<>1,NOT(ISNUMBER($O6))),"",$E6*$O6) | U6: =IF(COUNT($P6:$T6)<>5,"",SUM($P6:$T6)) | V6: =IFERROR($U6/$E6,"") | W6: =IF(COUNTA($A6:$K6)=0,"",IF($A6="","Informar competência",IF($B6="","Informar SKU",IF($C6="","Informar produto",IF($D6="","Informar categoria",IF(COUNTIF('Parâmetros'!$D$4:$D$13,$D6)=0,"Categoria fora da lista",IF($E6="","Informar estoque médio",IF($G6="","Informar armazenagem",IF(COUNTIFS($A$6:$A$505,$A6,$B$6:$B$505,$B6)>1,"Duplicidade de competência e SKU",IF($Y6<>1,"Valor, taxa ou data inválida",IF($U6="","Revisar parâmetros padrão",IF($V6>'Parâmetros'!$B$8,"Taxa acima do limite",IF($E6>'Parâmetros'!$B$9,"Estoque acima do limite","OK"))))))))))))) | X6: =IF(OR($Y6<>1,$A6<>'Resumo'!$B$3,$U6=""),"",COUNTIFS($A$6:$A$505,'Resumo'!$B$3,$Y$6:$Y$505,1,$U$6:$U$505,">"&$U6)+COUNTIFS($A$6:$A6,'Resumo'!$B$3,$Y$6:$Y6,1,$U$6:$U6,$U6)) | Y6: =IF(COUNTA($A6:$K6)=0,"",IFERROR(IF(AND(ISNUMBER($A6),DAY($A6)=1,$A6>=DATE(2020,1,1),$A6<=DATE(2100,12,1),$B6<>"",$C6<>"",$D6<>"",COUNTIF('Parâmetros'!$D$4:$D$13,$D6)=1,ISNUMBER($E6),$E6>0,ISNUMBER($G6),$G6>=0,OR($F6="",AND(ISNUMBER($F6),$F6>=0,$F6<=1)),OR($H6="",AND(ISNUMBER($H6),$H6>=0,$H6<=1)),OR($I6="",AND(ISNUMBER($I6),$I6>=0,$I6<=1)),OR($J6="",AND(ISNUMBER($J6),$J6>=0,$J6<=1)),COUNTIFS($A$6:$A$505,$A6,$B$6:$B$505,$B6)=1),1,0),0))
A7: 46266 | B7: SKU-FIC-002 | C7: Fone Aurora Mini | D7: Eletrônicos | E7: 58500 | F7: 0.0135 | G7: 920 | H7: 0.0025 | I7: 0.008 | J7: 0.004 | K7: Exemplo fictício | L7: =IF($Y7<>1,"",IF($F7="",IF(AND(ISNUMBER('Parâmetros'!$B$4),'Parâmetros'!$B$4>=0,'Parâmetros'!$B$4<=1),'Parâmetros'!$B$4,""),$F7)) | M7: =IF($Y7<>1,"",IF($H7="",IF(AND(ISNUMBER('Parâmetros'!$B$5),'Parâmetros'!$B$5>=0,'Parâmetros'!$B$5<=1),'Parâmetros'!$B$5,""),$H7)) | N7: =IF($Y7<>1,"",IF($I7="",IF(AND(ISNUMBER('Parâmetros'!$B$6),'Parâmetros'!$B$6>=0,'Parâmetros'!$B$6<=1),'Parâmetros'!$B$6,""),$I7)) | O7: =IF($Y7<>1,"",IF($J7="",IF(AND(ISNUMBER('Parâmetros'!$B$7),'Parâmetros'!$B$7>=0,'Parâmetros'!$B$7<=1),'Parâmetros'!$B$7,""),$J7)) | P7: =IF(OR($Y7<>1,NOT(ISNUMBER($L7))),"",$E7*$L7) | Q7: =IF($Y7<>1,"",$G7) | R7: =IF(OR($Y7<>1,NOT(ISNUMBER($M7))),"",$E7*$M7) | S7: =IF(OR($Y7<>1,NOT(ISNUMBER($N7))),"",$E7*$N7) | T7: =IF(OR($Y7<>1,NOT(ISNUMBER($O7))),"",$E7*$O7) | U7: =IF(COUNT($P7:$T7)<>5,"",SUM($P7:$T7)) | V7: =IFERROR($U7/$E7,"") | W7: =IF(COUNTA($A7:$K7)=0,"",IF($A7="","Informar competência",IF($B7="","Informar SKU",IF($C7="","Informar produto",IF($D7="","Informar categoria",IF(COUNTIF('Parâmetros'!$D$4:$D$13,$D7)=0,"Categoria fora da lista",IF($E7="","Informar estoque médio",IF($G7="","Informar armazenagem",IF(COUNTIFS($A$6:$A$505,$A7,$B$6:$B$505,$B7)>1,"Duplicidade de competência e SKU",IF($Y7<>1,"Valor, taxa ou data inválida",IF($U7="","Revisar parâmetros padrão",IF($V7>'Parâmetros'!$B$8,"Taxa acima do limite",IF($E7>'Parâmetros'!$B$9,"Estoque acima do limite","OK"))))))))))))) | X7: =IF(OR($Y7<>1,$A7<>'Resumo'!$B$3,$U7=""),"",COUNTIFS($A$6:$A$505,'Resumo'!$B$3,$Y$6:$Y$505,1,$U$6:$U$505,">"&$U7)+COUNTIFS($A$6:$A7,'Resumo'!$B$3,$Y$6:$Y7,1,$U$6:$U7,$U7)) | Y7: =IF(COUNTA($A7:$K7)=0,"",IFERROR(IF(AND(ISNUMBER($A7),DAY($A7)=1,$A7>=DATE(2020,1,1),$A7<=DATE(2100,12,1),$B7<>"",$C7<>"",$D7<>"",COUNTIF('Parâmetros'!$D$4:$D$13,$D7)=1,ISNUMBER($E7),$E7>0,ISNUMBER($G7),$G7>=0,OR($F7="",AND(ISNUMBER($F7),$F7>=0,$F7<=1)),OR($H7="",AND(ISNUMBER($H7),$H7>=0,$H7<=1)),OR($I7="",AND(ISNUMBER($I7),$I7>=0,$I7<=1)),OR($J7="",AND(ISNUMBER($J7),$J7>=0,$J7<=1)),COUNTIFS($A$6:$A$505,$A7,$B$6:$B$505,$B7)=1),1,0),0))
A8: 46266 | B8: SKU-FIC-003 | C8: Caderno Órbita A5 | D8: Papelaria | E8: 18000 | G8: 320 | K8: Exemplo fictício | L8: =IF($Y8<>1,"",IF($F8="",IF(AND(ISNUMBER('Parâmetros'!$B$4),'Parâmetros'!$B$4>=0,'Parâmetros'!$B$4<=1),'Parâmetros'!$B$4,""),$F8)) | M8: =IF($Y8<>1,"",IF($H8="",IF(AND(ISNUMBER('Parâmetros'!$B$5),'Parâmetros'!$B$5>=0,'Parâmetros'!$B$5<=1),'Parâmetros'!$B$5,""),$H8)) | N8: =IF($Y8<>1,"",IF($I8="",IF(AND(ISNUMBER('Parâmetros'!$B$6),'Parâmetros'!$B$6>=0,'Parâmetros'!$B$6<=1),'Parâmetros'!$B$6,""),$I8)) | O8: =IF($Y8<>1,"",IF($J8="",IF(AND(ISNUMBER('Parâmetros'!$B$7),'Parâmetros'!$B$7>=0,'Parâmetros'!$B$7<=1),'Parâmetros'!$B$7,""),$J8)) | P8: =IF(OR($Y8<>1,NOT(ISNUMBER($L8))),"",$E8*$L8) | Q8: =IF($Y8<>1,"",$G8) | R8: =IF(OR($Y8<>1,NOT(ISNUMBER($M8))),"",$E8*$M8) | S8: =IF(OR($Y8<>1,NOT(ISNUMBER($N8))),"",$E8*$N8) | T8: =IF(OR($Y8<>1,NOT(ISNUMBER($O8))),"",$E8*$O8) | U8: =IF(COUNT($P8:$T8)<>5,"",SUM($P8:$T8)) | V8: =IFERROR($U8/$E8,"") | W8: =IF(COUNTA($A8:$K8)=0,"",IF($A8="","Informar competência",IF($B8="","Informar SKU",IF($C8="","Informar produto",IF($D8="","Informar categoria",IF(COUNTIF('Parâmetros'!$D$4:$D$13,$D8)=0,"Categoria fora da lista",IF($E8="","Informar estoque médio",IF($G8="","Informar armazenagem",IF(COUNTIFS($A$6:$A$505,$A8,$B$6:$B$505,$B8)>1,"Duplicidade de competência e SKU",IF($Y8<>1,"Valor, taxa ou data inválida",IF($U8="","Revisar parâmetros padrão",IF($V8>'Parâmetros'!$B$8,"Taxa acima do limite",IF($E8>'Parâmetros'!$B$9,"Estoque acima do limite","OK"))))))))))))) | X8: =IF(OR($Y8<>1,$A8<>'Resumo'!$B$3,$U8=""),"",COUNTIFS($A$6:$A$505,'Resumo'!$B$3,$Y$6:$Y$505,1,$U$6:$U$505,">"&$U8)+COUNTIFS($A$6:$A8,'Resumo'!$B$3,$Y$6:$Y8,1,$U$6:$U8,$U8)) | Y8: =IF(COUNTA($A8:$K8)=0,"",IFERROR(IF(AND(ISNUMBER($A8),DAY($A8)=1,$A8>=DATE(2020,1,1),$A8<=DATE(2100,12,1),$B8<>"",$C8<>"",$D8<>"",COUNTIF('Parâmetros'!$D$4:$D$13,$D8)=1,ISNUMBER($E8),$E8>0,ISNUMBER($G8),$G8>=0,OR($F8="",AND(ISNUMBER($F8),$F8>=0,$F8<=1)),OR($H8="",AND(ISNUMBER($H8),$H8>=0,$H8<=1)),OR($I8="",AND(ISNUMBER($I8),$I8>=0,$I8<=1)),OR($J8="",AND(ISNUMBER($J8),$J8>=0,$J8<=1)),COUNTIFS($A$6:$A$505,$A8,$B$6:$B$505,$B8)=1),1,0),0))
A9: 46266 | B9: SKU-FIC-004 | C9: Escova Brisa | D9: Beleza | E9: 26400 | G9: 390 | H9: 0.0018 | I9: 0.0045 | J9: 0.0025 | K9: Exemplo fictício | L9: =IF($Y9<>1,"",IF($F9="",IF(AND(ISNUMBER('Parâmetros'!$B$4),'Parâmetros'!$B$4>=0,'Parâmetros'!$B$4<=1),'Parâmetros'!$B$4,""),$F9)) | M9: =IF($Y9<>1,"",IF($H9="",IF(AND(ISNUMBER('Parâmetros'!$B$5),'Parâmetros'!$B$5>=0,'Parâmetros'!$B$5<=1),'Parâmetros'!$B$5,""),$H9)) | N9: =IF($Y9<>1,"",IF($I9="",IF(AND(ISNUMBER('Parâmetros'!$B$6),'Parâmetros'!$B$6>=0,'Parâmetros'!$B$6<=1),'Parâmetros'!$B$6,""),$I9)) | O9: =IF($Y9<>1,"",IF($J9="",IF(AND(ISNUMBER('Parâmetros'!$B$7),'Parâmetros'!$B$7>=0,'Parâmetros'!$B$7<=1),'Parâmetros'!$B$7,""),$J9)) | P9: =IF(OR($Y9<>1,NOT(ISNUMBER($L9))),"",$E9*$L9) | Q9: =IF($Y9<>1,"",$G9) | R9: =IF(OR($Y9<>1,NOT(ISNUMBER($M9))),"",$E9*$M9) | S9: =IF(OR($Y9<>1,NOT(ISNUMBER($N9))),"",$E9*$N9) | T9: =IF(OR($Y9<>1,NOT(ISNUMBER($O9))),"",$E9*$O9) | U9: =IF(COUNT($P9:$T9)<>5,"",SUM($P9:$T9)) | V9: =IFERROR($U9/$E9,"") | W9: =IF(COUNTA($A9:$K9)=0,"",IF($A9="","Informar competência",IF($B9="","Informar SKU",IF($C9="","Informar produto",IF($D9="","Informar categoria",IF(COUNTIF('Parâmetros'!$D$4:$D$13,$D9)=0,"Categoria fora da lista",IF($E9="","Informar estoque médio",IF($G9="","Informar armazenagem",IF(COUNTIFS($A$6:$A$505,$A9,$B$6:$B$505,$B9)>1,"Duplicidade de competência e SKU",IF($Y9<>1,"Valor, taxa ou data inválida",IF($U9="","Revisar parâmetros padrão",IF($V9>'Parâmetros'!$B$8,"Taxa acima do limite",IF($E9>'Parâmetros'!$B$9,"Estoque acima do limite","OK"))))))))))))) | X9: =IF(OR($Y9<>1,$A9<>'Resumo'!$B$3,$U9=""),"",COUNTIFS($A$6:$A$505,'Resumo'!$B$3,$Y$6:$Y$505,1,$U$6:$U$505,">"&$U9)+COUNTIFS($A$6:$A9,'Resumo'!$B$3,$Y$6:$Y9,1,$U$6:$U9,$U9)) | Y9: =IF(COUNTA($A9:$K9)=0,"",IFERROR(IF(AND(ISNUMBER($A9),DAY($A9)=1,$A9>=DATE(2020,1,1),$A9<=DATE(2100,12,1),$B9<>"",$C9<>"",$D9<>"",COUNTIF('Parâmetros'!$D$4:$D$13,$D9)=1,ISNUMBER($E9),$E9>0,ISNUMBER($G9),$G9>=0,OR($F9="",AND(ISNUMBER($F9),$F9>=0,$F9<=1)),OR($H9="",AND(ISNUMBER($H9),$H9>=0,$H9<=1)),OR($I9="",AND(ISNUMBER($I9),$I9>=0,$I9<=1)),OR($J9="",AND(ISNUMBER($J9),$J9>=0,$J9<=1)),COUNTIFS($A$6:$A$505,$A9,$B$6:$B$505,$B9)=1),1,0),0))
A10: 46266 | B10: SKU-FIC-005 | C10: Cama Pet Cometa M | D10: Pet Shop | E10: 33800 | F10: 0.011 | G10: 610 | K10: Exemplo fictício | L10: =IF($Y10<>1,"",IF($F10="",IF(AND(ISNUMBER('Parâmetros'!$B$4),'Parâmetros'!$B$4>=0,'Parâmetros'!$B$4<=1),'Parâmetros'!$B$4,""),$F10)) | M10: =IF($Y10<>1,"",IF($H10="",IF(AND(ISNUMBER('Parâmetros'!$B$5),'Parâmetros'!$B$5>=0,'Parâmetros'!$B$5<=1),'Parâmetros'!$B$5,""),$H10)) | N10: =IF($Y10<>1,"",IF($I10="",IF(AND(ISNUMBER('Parâmetros'!$B$6),'Parâmetros'!$B$6>=0,'Parâmetros'!$B$6<=1),'Parâmetros'!$B$6,""),$I10)) | O10: =IF($Y10<>1,"",IF($J10="",IF(AND(ISNUMBER('Parâmetros'!$B$7),'Parâmetros'!$B$7>=0,'Parâmetros'!$B$7<=1),'Parâmetros'!$B$7,""),$J10)) | P10: =IF(OR($Y10<>1,NOT(ISNUMBER($L10))),"",$E10*$L10) | Q10: =IF($Y10<>1,"",$G10) | R10: =IF(OR($Y10<>1,NOT(ISNUMBER($M10))),"",$E10*$M10) | S10: =IF(OR($Y10<>1,NOT(ISNUMBER($N10))),"",$E10*$N10) | T10: =IF(OR($Y10<>1,NOT(ISNUMBER($O10))),"",$E10*$O10) | U10: =IF(COUNT($P10:$T10)<>5,"",SUM($P10:$T10)) | V10: =IFERROR($U10/$E10,"") | W10: =IF(COUNTA($A10:$K10)=0,"",IF($A10="","Informar competência",IF($B10="","Informar SKU",IF($C10="","Informar produto",IF($D10="","Informar categoria",IF(COUNTIF('Parâmetros'!$D$4:$D$13,$D10)=0,"Categoria fora da lista",IF($E10="","Informar estoque médio",IF($G10="","Informar armazenagem",IF(COUNTIFS($A$6:$A$505,$A10,$B$6:$B$505,$B10)>1,"Duplicidade de competência e SKU",IF($Y10<>1,"Valor, taxa ou data inválida",IF($U10="","Revisar parâmetros padrão",IF($V10>'Parâmetros'!$B$8,"Taxa acima do limite",IF($E10>'Parâmetros'!$B$9,"Estoque acima do limite","OK"))))))))))))) | X10: =IF(OR($Y10<>1,$A10<>'Resumo'!$B$3,$U10=""),"",COUNTIFS($A$6:$A$505,'Resumo'!$B$3,$Y$6:$Y$505,1,$U$6:$U$505,">"&$U10)+COUNTIFS($A$6:$A10,'Resumo'!$B$3,$Y$6:$Y10,1,$U$6:$U10,$U10)) | Y10: =IF(COUNTA($A10:$K10)=0,"",IFERROR(IF(AND(ISNUMBER($A10),DAY($A10)=1,$A10>=DATE(2020,1,1),$A10<=DATE(2100,12,1),$B10<>"",$C10<>"",$D10<>"",COUNTIF('Parâmetros'!$D$4:$D$13,$D10)=1,ISNUMBER($E10),$E10>0,ISNUMBER($G10),$G10>=0,OR($F10="",AND(ISNUMBER($F10),$F10>=0,$F10<=1)),OR($H10="",AND(ISNUMBER($H10),$H10>=0,$H10<=1)),OR($I10="",AND(ISNUMBER($I10),$I10>=0,$I10<=1)),OR($J10="",AND(ISNUMBER($J10),$J10>=0,$J10<=1)),COUNTIFS($A$6:$A$505,$A10,$B$6:$B$505,$B10)=1),1,0),0))
A11: 46266 | B11: SKU-FIC-006 | C11: Garrafa Térmica Solis | D11: Esporte | E11: 47200 | G11: 740 | H11: 0.0022 | I11: 0.0035 | J11: 0.002 | K11: Exemplo fictício | L11: =IF($Y11<>1,"",IF($F11="",IF(AND(ISNUMBER('Parâmetros'!$B$4),'Parâmetros'!$B$4>=0,'Parâmetros'!$B$4<=1),'Parâmetros'!$B$4,""),$F11)) | M11: =IF($Y11<>1,"",IF($H11="",IF(AND(ISNUMBER('Parâmetros'!$B$5),'Parâmetros'!$B$5>=0,'Parâmetros'!$B$5<=1),'Parâmetros'!$B$5,""),$H11)) | N11: =IF($Y11<>1,"",IF($I11="",IF(AND(ISNUMBER('Parâmetros'!$B$6),'Parâmetros'!$B$6>=0,'Parâmetros'!$B$6<=1),'Parâmetros'!$B$6,""),$I11)) | O11: =IF($Y11<>1,"",IF($J11="",IF(AND(ISNUMBER('Parâmetros'!$B$7),'Parâmetros'!$B$7>=0,'Parâmetros'!$B$7<=1),'Parâmetros'!$B$7,""),$J11)) | P11: =IF(OR($Y11<>1,NOT(ISNUMBER($L11))),"",$E11*$L11) | Q11: =IF($Y11<>1,"",$G11) | R11: =IF(OR($Y11<>1,NOT(ISNUMBER($M11))),"",$E11*$M11) | S11: =IF(OR($Y11<>1,NOT(ISNUMBER($N11))),"",$E11*$N11) | T11: =IF(OR($Y11<>1,NOT(ISNUMBER($O11))),"",$E11*$O11) | U11: =IF(COUNT($P11:$T11)<>5,"",SUM($P11:$T11)) | V11: =IFERROR($U11/$E11,"") | W11: =IF(COUNTA($A11:$K11)=0,"",IF($A11="","Informar competência",IF($B11="","Informar SKU",IF($C11="","Informar produto",IF($D11="","Informar categoria",IF(COUNTIF('Parâmetros'!$D$4:$D$13,$D11)=0,"Categoria fora da lista",IF($E11="","Informar estoque médio",IF($G11="","Informar armazenagem",IF(COUNTIFS($A$6:$A$505,$A11,$B$6:$B$505,$B11)>1,"Duplicidade de competência e SKU",IF($Y11<>1,"Valor, taxa ou data inválida",IF($U11="","Revisar parâmetros padrão",IF($V11>'Parâmetros'!$B$8,"Taxa acima do limite",IF($E11>'Parâmetros'!$B$9,"Estoque acima do limite","OK"))))))))))))) | X11: =IF(OR($Y11<>1,$A11<>'Resumo'!$B$3,$U11=""),"",COUNTIFS($A$6:$A$505,'Resumo'!$B$3,$Y$6:$Y$505,1,$U$6:$U$505,">"&$U11)+COUNTIFS($A$6:$A11,'Resumo'!$B$3,$Y$6:$Y11,1,$U$6:$U11,$U11)) | Y11: =IF(COUNTA($A11:$K11)=0,"",IFERROR(IF(AND(ISNUMBER($A11),DAY($A11)=1,$A11>=DATE(2020,1,1),$A11<=DATE(2100,12,1),$B11<>"",$C11<>"",$D11<>"",COUNTIF('Parâmetros'!$D$4:$D$13,$D11)=1,ISNUMBER($E11),$E11>0,ISNUMBER($G11),$G11>=0,OR($F11="",AND(ISNUMBER($F11),$F11>=0,$F11<=1)),OR($H11="",AND(ISNUMBER($H11),$H11>=0,$H11<=1)),OR($I11="",AND(ISNUMBER($I11),$I11>=0,$I11<=1)),OR($J11="",AND(ISNUMBER($J11),$J11>=0,$J11<=1)),COUNTIFS($A$6:$A$505,$A11,$B$6:$B$505,$B11)=1),1,0),0))
A12: 46266 | B12: SKU-FIC-007 | C12: Mochila Vértice | D12: Moda | E12: 39600 | F12: 0.0125 | G12: 560 | I12: 0.006 | J12: 0.0035 | K12: Exemplo fictício | L12: =IF($Y12<>1,"",IF($F12="",IF(AND(ISNUMBER('Parâmetros'!$B$4),'Parâmetros'!$B$4>=0,'Parâmetros'!$B$4<=1),'Parâmetros'!$B$4,""),$F12)) | M12: =IF($Y12<>1,"",IF($H12="",IF(AND(ISNUMBER('Parâmetros'!$B$5),'Parâmetros'!$B$5>=0,'Parâmetros'!$B$5<=1),'Parâmetros'!$B$5,""),$H12)) | N12: =IF($Y12<>1,"",IF($I12="",IF(AND(ISNUMBER('Parâmetros'!$B$6),'Parâmetros'!$B$6>=0,'Parâmetros'!$B$6<=1),'Parâmetros'!$B$6,""),$I12)) | O12: =IF($Y12<>1,"",IF($J12="",IF(AND(ISNUMBER('Parâmetros'!$B$7),'Parâmetros'!$B$7>=0,'Parâmetros'!$B$7<=1),'Parâmetros'!$B$7,""),$J12)) | P12: =IF(OR($Y12<>1,NOT(ISNUMBER($L12))),"",$E12*$L12) | Q12: =IF($Y12<>1,"",$G12) | R12: =IF(OR($Y12<>1,NOT(ISNUMBER($M12))),"",$E12*$M12) | S12: =IF(OR($Y12<>1,NOT(ISNUMBER($N12))),"",$E12*$N12) | T12: =IF(OR($Y12<>1,NOT(ISNUMBER($O12))),"",$E12*$O12) | U12: =IF(COUNT($P12:$T12)<>5,"",SUM($P12:$T12)) | V12: =IFERROR($U12/$E12,"") | W12: =IF(COUNTA($A12:$K12)=0,"",IF($A12="","Informar competência",IF($B12="","Informar SKU",IF($C12="","Informar produto",IF($D12="","Informar categoria",IF(COUNTIF('Parâmetros'!$D$4:$D$13,$D12)=0,"Categoria fora da lista",IF($E12="","Informar estoque médio",IF($G12="","Informar armazenagem",IF(COUNTIFS($A$6:$A$505,$A12,$B$6:$B$505,$B12)>1,"Duplicidade de competência e SKU",IF($Y12<>1,"Valor, taxa ou data inválida",IF($U12="","Revisar parâmetros padrão",IF($V12>'Parâmetros'!$B$8,"Taxa acima do limite",IF($E12>'Parâmetros'!$B$9,"Estoque acima do limite","OK"))))))))))))) | X12: =IF(OR($Y12<>1,$A12<>'Resumo'!$B$3,$U12=""),"",COUNTIFS($A$6:$A$505,'Resumo'!$B$3,$Y$6:$Y$505,1,$U$6:$U$505,">"&$U12)+COUNTIFS($A$6:$A12,'Resumo'!$B$3,$Y$6:$Y12,1,$U$6:$U12,$U12)) | Y12: =IF(COUNTA($A12:$K12)=0,"",IFERROR(IF(AND(ISNUMBER($A12),DAY($A12)=1,$A12>=DATE(2020,1,1),$A12<=DATE(2100,12,1),$B12<>"",$C12<>"",$D12<>"",COUNTIF('Parâmetros'!$D$4:$D$13,$D12)=1,ISNUMBER($E12),$E12>0,ISNUMBER($G12),$G12>=0,OR($F12="",AND(ISNUMBER($F12),$F12>=0,$F12<=1)),OR($H12="",AND(ISNUMBER($H12),$H12>=0,$H12<=1)),OR($I12="",AND(ISNUMBER($I12),$I12>=0,$I12<=1)),OR($J12="",AND(ISNUMBER($J12),$J12>=0,$J12<=1)),COUNTIFS($A$6:$A$505,$A12,$B$6:$B$505,$B12)=1),1,0),0))
A13: 46266 | B13: SKU-FIC-008 | C13: Robô de Montar Astro | D13: Brinquedos | E13: 51300 | F13: 0.014 | G13: 870 | H13: 0.003 | I13: 0.011 | J13: 0.005 | K13: Exemplo fictício | L13: =IF($Y13<>1,"",IF($F13="",IF(AND(ISNUMBER('Parâmetros'!$B$4),'Parâmetros'!$B$4>=0,'Parâmetros'!$B$4<=1),'Parâmetros'!$B$4,""),$F13)) | M13: =IF($Y13<>1,"",IF($H13="",IF(AND(ISNUMBER('Parâmetros'!$B$5),'Parâmetros'!$B$5>=0,'Parâmetros'!$B$5<=1),'Parâmetros'!$B$5,""),$H13)) | N13: =IF($Y13<>1,"",IF($I13="",IF(AND(ISNUMBER('Parâmetros'!$B$6),'Parâmetros'!$B$6>=0,'Parâmetros'!$B$6<=1),'Parâmetros'!$B$6,""),$I13)) | O13: =IF($Y13<>1,"",IF($J13="",IF(AND(ISNUMBER('Parâmetros'!$B$7),'Parâmetros'!$B$7>=0,'Parâmetros'!$B$7<=1),'Parâmetros'!$B$7,""),$J13)) | P13: =IF(OR($Y13<>1,NOT(ISNUMBER($L13))),"",$E13*$L13) | Q13: =IF($Y13<>1,"",$G13) | R13: =IF(OR($Y13<>1,NOT(ISNUMBER($M13))),"",$E13*$M13) | S13: =IF(OR($Y13<>1,NOT(ISNUMBER($N13))),"",$E13*$N13) | T13: =IF(OR($Y13<>1,NOT(ISNUMBER($O13))),"",$E13*$O13) | U13: =IF(COUNT($P13:$T13)<>5,"",SUM($P13:$T13)) | V13: =IFERROR($U13/$E13,"") | W13: =IF(COUNTA($A13:$K13)=0,"",IF($A13="","Informar competência",IF($B13="","Informar SKU",IF($C13="","Informar produto",IF($D13="","Informar categoria",IF(COUNTIF('Parâmetros'!$D$4:$D$13,$D13)=0,"Categoria fora da lista",IF($E13="","Informar estoque médio",IF($G13="","Informar armazenagem",IF(COUNTIFS($A$6:$A$505,$A13,$B$6:$B$505,$B13)>1,"Duplicidade de competência e SKU",IF($Y13<>1,"Valor, taxa ou data inválida",IF($U13="","Revisar parâmetros padrão",IF($V13>'Parâmetros'!$B$8,"Taxa acima do limite",IF($E13>'Parâmetros'!$B$9,"Estoque acima do limite","OK"))))))))))))) | X13: =IF(OR($Y13<>1,$A13<>'Resumo'!$B$3,$U13=""),"",COUNTIFS($A$6:$A$505,'Resumo'!$B$3,$Y$6:$Y$505,1,$U$6:$U$505,">"&$U13)+COUNTIFS($A$6:$A13,'Resumo'!$B$3,$Y$6:$Y13,1,$U$6:$U13,$U13)) | Y13: =IF(COUNTA($A13:$K13)=0,"",IFERROR(IF(AND(ISNUMBER($A13),DAY($A13)=1,$A13>=DATE(2020,1,1),$A13<=DATE(2100,12,1),$B13<>"",$C13<>"",$D13<>"",COUNTIF('Parâmetros'!$D$4:$D$13,$D13)=1,ISNUMBER($E13),$E13>0,ISNUMBER($G13),$G13>=0,OR($F13="",AND(ISNUMBER($F13),$F13>=0,$F13<=1)),OR($H13="",AND(ISNUMBER($H13),$H13>=0,$H13<=1)),OR($I13="",AND(ISNUMBER($I13),$I13>=0,$I13<=1)),OR($J13="",AND(ISNUMBER($J13),$J13>=0,$J13<=1)),COUNTIFS($A$6:$A$505,$A13,$B$6:$B$505,$B13)=1),1,0),0))
A14: 46266 | B14: SKU-FIC-009 | C14: Kit Jardim Neblina | D14: Jardim | E14: 22700 | G14: 450 | I14: 0.007 | J14: 0.004 | K14: Exemplo fictício | L14: =IF($Y14<>1,"",IF($F14="",IF(AND(ISNUMBER('Parâmetros'!$B$4),'Parâmetros'!$B$4>=0,'Parâmetros'!$B$4<=1),'Parâmetros'!$B$4,""),$F14)) | M14: =IF($Y14<>1,"",IF($H14="",IF(AND(ISNUMBER('Parâmetros'!$B$5),'Parâmetros'!$B$5>=0,'Parâmetros'!$B$5<=1),'Parâmetros'!$B$5,""),$H14)) | N14: =IF($Y14<>1,"",IF($I14="",IF(AND(ISNUMBER('Parâmetros'!$B$6),'Parâmetros'!$B$6>=0,'Parâmetros'!$B$6<=1),'Parâmetros'!$B$6,""),$I14)) | O14: =IF($Y14<>1,"",IF($J14="",IF(AND(ISNUMBER('Parâmetros'!$B$7),'Parâmetros'!$B$7>=0,'Parâmetros'!$B$7<=1),'Parâmetros'!$B$7,""),$J14)) | P14: =IF(OR($Y14<>1,NOT(ISNUMBER($L14))),"",$E14*$L14) | Q14: =IF($Y14<>1,"",$G14) | R14: =IF(OR($Y14<>1,NOT(ISNUMBER($M14))),"",$E14*$M14) | S14: =IF(OR($Y14<>1,NOT(ISNUMBER($N14))),"",$E14*$N14) | T14: =IF(OR($Y14<>1,NOT(ISNUMBER($O14))),"",$E14*$O14) | U14: =IF(COUNT($P14:$T14)<>5,"",SUM($P14:$T14)) | V14: =IFERROR($U14/$E14,"") | W14: =IF(COUNTA($A14:$K14)=0,"",IF($A14="","Informar competência",IF($B14="","Informar SKU",IF($C14="","Informar produto",IF($D14="","Informar categoria",IF(COUNTIF('Parâmetros'!$D$4:$D$13,$D14)=0,"Categoria fora da lista",IF($E14="","Informar estoque médio",IF($G14="","Informar armazenagem",IF(COUNTIFS($A$6:$A$505,$A14,$B$6:$B$505,$B14)>1,"Duplicidade de competência e SKU",IF($Y14<>1,"Valor, taxa ou data inválida",IF($U14="","Revisar parâmetros padrão",IF($V14>'Parâmetros'!$B$8,"Taxa acima do limite",IF($E14>'Parâmetros'!$B$9,"Estoque acima do limite","OK"))))))))))))) | X14: =IF(OR($Y14<>1,$A14<>'Resumo'!$B$3,$U14=""),"",COUNTIFS($A$6:$A$505,'Resumo'!$B$3,$Y$6:$Y$505,1,$U$6:$U$505,">"&$U14)+COUNTIFS($A$6:$A14,'Resumo'!$B$3,$Y$6:$Y14,1,$U$6:$U14,$U14)) | Y14: =IF(COUNTA($A14:$K14)=0,"",IFERROR(IF(AND(ISNUMBER($A14),DAY($A14)=1,$A14>=DATE(2020,1,1),$A14<=DATE(2100,12,1),$B14<>"",$C14<>"",$D14<>"",COUNTIF('Parâmetros'!$D$4:$D$13,$D14)=1,ISNUMBER($E14),$E14>0,ISNUMBER($G14),$G14>=0,OR($F14="",AND(ISNUMBER($F14),$F14>=0,$F14<=1)),OR($H14="",AND(ISNUMBER($H14),$H14>=0,$H14<=1)),OR($I14="",AND(ISNUMBER($I14),$I14>=0,$I14<=1)),OR($J14="",AND(ISNUMBER($J14),$J14>=0,$J14<=1)),COUNTIFS($A$6:$A$505,$A14,$B$6:$B$505,$B14)=1),1,0),0))
A15: 46266 | B15: SKU-FIC-010 | C15: Cabo Trançado Prisma | D15: Acessórios | E15: 30500 | F15: 0.0115 | G15: 270 | H15: 0.0015 | I15: 0.004 | J15: 0.0025 | K15: Exemplo fictício | L15: =IF($Y15<>1,"",IF($F15="",IF(AND(ISNUMBER('Parâmetros'!$B$4),'Parâmetros'!$B$4>=0,'Parâmetros'!$B$4<=1),'Parâmetros'!$B$4,""),$F15)) | M15: =IF($Y15<>1,"",IF($H15="",IF(AND(ISNUMBER('Parâmetros'!$B$5),'Parâmetros'!$B$5>=0,'Parâmetros'!$B$5<=1),'Parâmetros'!$B$5,""),$H15)) | N15: =IF($Y15<>1,"",IF($I15="",IF(AND(ISNUMBER('Parâmetros'!$B$6),'Parâmetros'!$B$6>=0,'Parâmetros'!$B$6<=1),'Parâmetros'!$B$6,""),$I15)) | O15: =IF($Y15<>1,"",IF($J15="",IF(AND(ISNUMBER('Parâmetros'!$B$7),'Parâmetros'!$B$7>=0,'Parâmetros'!$B$7<=1),'Parâmetros'!$B$7,""),$J15)) | P15: =IF(OR($Y15<>1,NOT(ISNUMBER($L15))),"",$E15*$L15) | Q15: =IF($Y15<>1,"",$G15) | R15: =IF(OR($Y15<>1,NOT(ISNUMBER($M15))),"",$E15*$M15) | S15: =IF(OR($Y15<>1,NOT(ISNUMBER($N15))),"",$E15*$N15) | T15: =IF(OR($Y15<>1,NOT(ISNUMBER($O15))),"",$E15*$O15) | U15: =IF(COUNT($P15:$T15)<>5,"",SUM($P15:$T15)) | V15: =IFERROR($U15/$E15,"") | W15: =IF(COUNTA($A15:$K15)=0,"",IF($A15="","Informar competência",IF($B15="","Informar SKU",IF($C15="","Informar produto",IF($D15="","Informar categoria",IF(COUNTIF('Parâmetros'!$D$4:$D$13,$D15)=0,"Categoria fora da lista",IF($E15="","Informar estoque médio",IF($G15="","Informar armazenagem",IF(COUNTIFS($A$6:$A$505,$A15,$B$6:$B$505,$B15)>1,"Duplicidade de competência e SKU",IF($Y15<>1,"Valor, taxa ou data inválida",IF($U15="","Revisar parâmetros padrão",IF($V15>'Parâmetros'!$B$8,"Taxa acima do limite",IF($E15>'Parâmetros'!$B$9,"Estoque acima do limite","OK"))))))))))))) | X15: =IF(OR($Y15<>1,$A15<>'Resumo'!$B$3,$U15=""),"",COUNTIFS($A$6:$A$505,'Resumo'!$B$3,$Y$6:$Y$505,1,$U$6:$U$505,">"&$U15)+COUNTIFS($A$6:$A15,'Resumo'!$B$3,$Y$6:$Y15,1,$U$6:$U15,$U15)) | Y15: =IF(COUNTA($A15:$K15)=0,"",IFERROR(IF(AND(ISNUMBER($A15),DAY($A15)=1,$A15>=DATE(2020,1,1),$A15<=DATE(2100,12,1),$B15<>"",$C15<>"",$D15<>"",COUNTIF('Parâmetros'!$D$4:$D$13,$D15)=1,ISNUMBER($E15),$E15>0,ISNUMBER($G15),$G15>=0,OR($F15="",AND(ISNUMBER($F15),$F15>=0,$F15<=1)),OR($H15="",AND(ISNUMBER($H15),$H15>=0,$H15<=1)),OR($I15="",AND(ISNUMBER($I15),$I15>=0,$I15<=1)),OR($J15="",AND(ISNUMBER($J15),$J15>=0,$J15<=1)),COUNTIFS($A$6:$A$505,$A15,$B$6:$B$505,$B15)=1),1,0),0))
L16: =IF($Y16<>1,"",IF($F16="",IF(AND(ISNUMBER('Parâmetros'!$B$4),'Parâmetros'!$B$4>=0,'Parâmetros'!$B$4<=1),'Parâmetros'!$B$4,""),$F16)) | M16: =IF($Y16<>1,"",IF($H16="",IF(AND(ISNUMBER('Parâmetros'!$B$5),'Parâmetros'!$B$5>=0,'Parâmetros'!$B$5<=1),'Parâmetros'!$B$5,""),$H16)) | N16: =IF($Y16<>1,"",IF($I16="",IF(AND(ISNUMBER('Parâmetros'!$B$6),'Parâmetros'!$B$6>=0,'Parâmetros'!$B$6<=1),'Parâmetros'!$B$6,""),$I16)) | O16: =IF($Y16<>1,"",IF($J16="",IF(AND(ISNUMBER('Parâmetros'!$B$7),'Parâmetros'!$B$7>=0,'Parâmetros'!$B$7<=1),'Parâmetros'!$B$7,""),$J16)) | P16: =IF(OR($Y16<>1,NOT(ISNUMBER($L16))),"",$E16*$L16) | Q16: =IF($Y16<>1,"",$G16) | R16: =IF(OR($Y16<>1,NOT(ISNUMBER($M16))),"",$E16*$M16) | S16: =IF(OR($Y16<>1,NOT(ISNUMBER($N16))),"",$E16*$N16) | T16: =IF(OR($Y16<>1,NOT(ISNUMBER($O16))),"",$E16*$O16) | U16: =IF(COUNT($P16:$T16)<>5,"",SUM($P16:$T16)) | V16: =IFERROR($U16/$E16,"") | W16: =IF(COUNTA($A16:$K16)=0,"",IF($A16="","Informar competência",IF($B16="","Informar SKU",IF($C16="","Informar produto",IF($D16="","Informar categoria",IF(COUNTIF('Parâmetros'!$D$4:$D$13,$D16)=0,"Categoria fora da lista",IF($E16="","Informar estoque médio",IF($G16="","Informar armazenagem",IF(COUNTIFS($A$6:$A$505,$A16,$B$6:$B$505,$B16)>1,"Duplicidade de competência e SKU",IF($Y16<>1,"Valor, taxa ou data inválida",IF($U16="","Revisar parâmetros padrão",IF($V16>'Parâmetros'!$B$8,"Taxa acima do limite",IF($E16>'Parâmetros'!$B$9,"Estoque acima do limite","OK"))))))))))))) | X16: =IF(OR($Y16<>1,$A16<>'Resumo'!$B$3,$U16=""),"",COUNTIFS($A$6:$A$505,'Resumo'!$B$3,$Y$6:$Y$505,1,$U$6:$U$505,">"&$U16)+COUNTIFS($A$6:$A16,'Resumo'!$B$3,$Y$6:$Y16,1,$U$6:$U16,$U16)) | Y16: =IF(COUNTA($A16:$K16)=0,"",IFERROR(IF(AND(ISNUMBER($A16),DAY($A16)=1,$A16>=DATE(2020,1,1),$A16<=DATE(2100,12,1),$B16<>"",$C16<>"",$D16<>"",COUNTIF('Parâmetros'!$D$4:$D$13,$D16)=1,ISNUMBER($E16),$E16>0,ISNUMBER($G16),$G16>=0,OR($F16="",AND(ISNUMBER($F16),$F16>=0,$F16<=1)),OR($H16="",AND(ISNUMBER($H16),$H16>=0,$H16<=1)),OR($I16="",AND(ISNUMBER($I16),$I16>=0,$I16<=1)),OR($J16="",AND(ISNUMBER($J16),$J16>=0,$J16<=1)),COUNTIFS($A$6:$A$505,$A16,$B$6:$B$505,$B16)=1),1,0),0))
L17: =IF($Y17<>1,"",IF($F17="",IF(AND(ISNUMBER('Parâmetros'!$B$4),'Parâmetros'!$B$4>=0,'Parâmetros'!$B$4<=1),'Parâmetros'!$B$4,""),$F17)) | M17: =IF($Y17<>1,"",IF($H17="",IF(AND(ISNUMBER('Parâmetros'!$B$5),'Parâmetros'!$B$5>=0,'Parâmetros'!$B$5<=1),'Parâmetros'!$B$5,""),$H17)) | N17: =IF($Y17<>1,"",IF($I17="",IF(AND(ISNUMBER('Parâmetros'!$B$6),'Parâmetros'!$B$6>=0,'Parâmetros'!$B$6<=1),'Parâmetros'!$B$6,""),$I17)) | O17: =IF($Y17<>1,"",IF($J17="",IF(AND(ISNUMBER('Parâmetros'!$B$7),'Parâmetros'!$B$7>=0,'Parâmetros'!$B$7<=1),'Parâmetros'!$B$7,""),$J17)) | P17: =IF(OR($Y17<>1,NOT(ISNUMBER($L17))),"",$E17*$L17) | Q17: =IF($Y17<>1,"",$G17) | R17: =IF(OR($Y17<>1,NOT(ISNUMBER($M17))),"",$E17*$M17) | S17: =IF(OR($Y17<>1,NOT(ISNUMBER($N17))),"",$E17*$N17) | T17: =IF(OR($Y17<>1,NOT(ISNUMBER($O17))),"",$E17*$O17) | U17: =IF(COUNT($P17:$T17)<>5,"",SUM($P17:$T17)) | V17: =IFERROR($U17/$E17,"") | W17: =IF(COUNTA($A17:$K17)=0,"",IF($A17="","Informar competência",IF($B17="","Informar SKU",IF($C17="","Informar produto",IF($D17="","Informar categoria",IF(COUNTIF('Parâmetros'!$D$4:$D$13,$D17)=0,"Categoria fora da lista",IF($E17="","Informar estoque médio",IF($G17="","Informar armazenagem",IF(COUNTIFS($A$6:$A$505,$A17,$B$6:$B$505,$B17)>1,"Duplicidade de competência e SKU",IF($Y17<>1,"Valor, taxa ou data inválida",IF($U17="","Revisar parâmetros padrão",IF($V17>'Parâmetros'!$B$8,"Taxa acima do limite",IF($E17>'Parâmetros'!$B$9,"Estoque acima do limite","OK"))))))))))))) | X17: =IF(OR($Y17<>1,$A17<>'Resumo'!$B$3,$U17=""),"",COUNTIFS($A$6:$A$505,'Resumo'!$B$3,$Y$6:$Y$505,1,$U$6:$U$505,">"&$U17)+COUNTIFS($A$6:$A17,'Resumo'!$B$3,$Y$6:$Y17,1,$U$6:$U17,$U17)) | Y17: =IF(COUNTA($A17:$K17)=0,"",IFERROR(IF(AND(ISNUMBER($A17),DAY($A17)=1,$A17>=DATE(2020,1,1),$A17<=DATE(2100,12,1),$B17<>"",$C17<>"",$D17<>"",COUNTIF('Parâmetros'!$D$4:$D$13,$D17)=1,ISNUMBER($E17),$E17>0,ISNUMBER($G17),$G17>=0,OR($F17="",AND(ISNUMBER($F17),$F17>=0,$F17<=1)),OR($H17="",AND(ISNUMBER($H17),$H17>=0,$H17<=1)),OR($I17="",AND(ISNUMBER($I17),$I17>=0,$I17<=1)),OR($J17="",AND(ISNUMBER($J17),$J17>=0,$J17<=1)),COUNTIFS($A$6:$A$505,$A17,$B$6:$B$505,$B17)=1),1,0),0))
L18: =IF($Y18<>1,"",IF($F18="",IF(AND(ISNUMBER('Parâmetros'!$B$4),'Parâmetros'!$B$4>=0,'Parâmetros'!$B$4<=1),'Parâmetros'!$B$4,""),$F18)) | M18: =IF($Y18<>1,"",IF($H18="",IF(AND(ISNUMBER('Parâmetros'!$B$5),'Parâmetros'!$B$5>=0,'Parâmetros'!$B$5<=1),'Parâmetros'!$B$5,""),$H18)) | N18: =IF($Y18<>1,"",IF($I18="",IF(AND(ISNUMBER('Parâmetros'!$B$6),'Parâmetros'!$B$6>=0,'Parâmetros'!$B$6<=1),'Parâmetros'!$B$6,""),$I18)) | O18: =IF($Y18<>1,"",IF($J18="",IF(AND(ISNUMBER('Parâmetros'!$B$7),'Parâmetros'!$B$7>=0,'Parâmetros'!$B$7<=1),'Parâmetros'!$B$7,""),$J18)) | P18: =IF(OR($Y18<>1,NOT(ISNUMBER($L18))),"",$E18*$L18) | Q18: =IF($Y18<>1,"",$G18) | R18: =IF(OR($Y18<>1,NOT(ISNUMBER($M18))),"",$E18*$M18) | S18: =IF(OR($Y18<>1,NOT(ISNUMBER($N18))),"",$E18*$N18) | T18: =IF(OR($Y18<>1,NOT(ISNUMBER($O18))),"",$E18*$O18) | U18: =IF(COUNT($P18:$T18)<>5,"",SUM($P18:$T18)) | V18: =IFERROR($U18/$E18,"") | W18: =IF(COUNTA($A18:$K18)=0,"",IF($A18="","Informar competência",IF($B18="","Informar SKU",IF($C18="","Informar produto",IF($D18="","Informar categoria",IF(COUNTIF('Parâmetros'!$D$4:$D$13,$D18)=0,"Categoria fora da lista",IF($E18="","Informar estoque médio",IF($G18="","Informar armazenagem",IF(COUNTIFS($A$6:$A$505,$A18,$B$6:$B$505,$B18)>1,"Duplicidade de competência e SKU",IF($Y18<>1,"Valor, taxa ou data inválida",IF($U18="","Revisar parâmetros padrão",IF($V18>'Parâmetros'!$B$8,"Taxa acima do limite",IF($E18>'Parâmetros'!$B$9,"Estoque acima do limite","OK"))))))))))))) | X18: =IF(OR($Y18<>1,$A18<>'Resumo'!$B$3,$U18=""),"",COUNTIFS($A$6:$A$505,'Resumo'!$B$3,$Y$6:$Y$505,1,$U$6:$U$505,">"&$U18)+COUNTIFS($A$6:$A18,'Resumo'!$B$3,$Y$6:$Y18,1,$U$6:$U18,$U18)) | Y18: =IF(COUNTA($A18:$K18)=0,"",IFERROR(IF(AND(ISNUMBER($A18),DAY($A18)=1,$A18>=DATE(2020,1,1),$A18<=DATE(2100,12,1),$B18<>"",$C18<>"",$D18<>"",COUNTIF('Parâmetros'!$D$4:$D$13,$D18)=1,ISNUMBER($E18),$E18>0,ISNUMBER($G18),$G18>=0,OR($F18="",AND(ISNUMBER($F18),$F18>=0,$F18<=1)),OR($H18="",AND(ISNUMBER($H18),$H18>=0,$H18<=1)),OR($I18="",AND(ISNUMBER($I18),$I18>=0,$I18<=1)),OR($J18="",AND(ISNUMBER($J18),$J18>=0,$J18<=1)),COUNTIFS($A$6:$A$505,$A18,$B$6:$B$505,$B18)=1),1,0),0))
L19: =IF($Y19<>1,"",IF($F19="",IF(AND(ISNUMBER('Parâmetros'!$B$4),'Parâmetros'!$B$4>=0,'Parâmetros'!$B$4<=1),'Parâmetros'!$B$4,""),$F19)) | M19: =IF($Y19<>1,"",IF($H19="",IF(AND(ISNUMBER('Parâmetros'!$B$5),'Parâmetros'!$B$5>=0,'Parâmetros'!$B$5<=1),'Parâmetros'!$B$5,""),$H19)) | N19: =IF($Y19<>1,"",IF($I19="",IF(AND(ISNUMBER('Parâmetros'!$B$6),'Parâmetros'!$B$6>=0,'Parâmetros'!$B$6<=1),'Parâmetros'!$B$6,""),$I19)) | O19: =IF($Y19<>1,"",IF($J19="",IF(AND(ISNUMBER('Parâmetros'!$B$7),'Parâmetros'!$B$7>=0,'Parâmetros'!$B$7<=1),'Parâmetros'!$B$7,""),$J19)) | P19: =IF(OR($Y19<>1,NOT(ISNUMBER($L19))),"",$E19*$L19) | Q19: =IF($Y19<>1,"",$G19) | R19: =IF(OR($Y19<>1,NOT(ISNUMBER($M19))),"",$E19*$M19) | S19: =IF(OR($Y19<>1,NOT(ISNUMBER($N19))),"",$E19*$N19) | T19: =IF(OR($Y19<>1,NOT(ISNUMBER($O19))),"",$E19*$O19) | U19: =IF(COUNT($P19:$T19)<>5,"",SUM($P19:$T19)) | V19: =IFERROR($U19/$E19,"") | W19: =IF(COUNTA($A19:$K19)=0,"",IF($A19="","Informar competência",IF($B19="","Informar SKU",IF($C19="","Informar produto",IF($D19="","Informar categoria",IF(COUNTIF('Parâmetros'!$D$4:$D$13,$D19)=0,"Categoria fora da lista",IF($E19="","Informar estoque médio",IF($G19="","Informar armazenagem",IF(COUNTIFS($A$6:$A$505,$A19,$B$6:$B$505,$B19)>1,"Duplicidade de competência e SKU",IF($Y19<>1,"Valor, taxa ou data inválida",IF($U19="","Revisar parâmetros padrão",IF($V19>'Parâmetros'!$B$8,"Taxa acima do limite",IF($E19>'Parâmetros'!$B$9,"Estoque acima do limite","OK"))))))))))))) | X19: =IF(OR($Y19<>1,$A19<>'Resumo'!$B$3,$U19=""),"",COUNTIFS($A$6:$A$505,'Resumo'!$B$3,$Y$6:$Y$505,1,$U$6:$U$505,">"&$U19)+COUNTIFS($A$6:$A19,'Resumo'!$B$3,$Y$6:$Y19,1,$U$6:$U19,$U19)) | Y19: =IF(COUNTA($A19:$K19)=0,"",IFERROR(IF(AND(ISNUMBER($A19),DAY($A19)=1,$A19>=DATE(2020,1,1),$A19<=DATE(2100,12,1),$B19<>"",$C19<>"",$D19<>"",COUNTIF('Parâmetros'!$D$4:$D$13,$D19)=1,ISNUMBER($E19),$E19>0,ISNUMBER($G19),$G19>=0,OR($F19="",AND(ISNUMBER($F19),$F19>=0,$F19<=1)),OR($H19="",AND(ISNUMBER($H19),$H19>=0,$H19<=1)),OR($I19="",AND(ISNUMBER($I19),$I19>=0,$I19<=1)),OR($J19="",AND(ISNUMBER($J19),$J19>=0,$J19<=1)),COUNTIFS($A$6:$A$505,$A19,$B$6:$B$505,$B19)=1),1,0),0))
L20: =IF($Y20<>1,"",IF($F20="",IF(AND(ISNUMBER('Parâmetros'!$B$4),'Parâmetros'!$B$4>=0,'Parâmetros'!$B$4<=1),'Parâmetros'!$B$4,""),$F20)) | M20: =IF($Y20<>1,"",IF($H20="",IF(AND(ISNUMBER('Parâmetros'!$B$5),'Parâmetros'!$B$5>=0,'Parâmetros'!$B$5<=1),'Parâmetros'!$B$5,""),$H20)) | N20: =IF($Y20<>1,"",IF($I20="",IF(AND(ISNUMBER('Parâmetros'!$B$6),'Parâmetros'!$B$6>=0,'Parâmetros'!$B$6<=1),'Parâmetros'!$B$6,""),$I20)) | O20: =IF($Y20<>1,"",IF($J20="",IF(AND(ISNUMBER('Parâmetros'!$B$7),'Parâmetros'!$B$7>=0,'Parâmetros'!$B$7<=1),'Parâmetros'!$B$7,""),$J20)) | P20: =IF(OR($Y20<>1,NOT(ISNUMBER($L20))),"",$E20*$L20) | Q20: =IF($Y20<>1,"",$G20) | R20: =IF(OR($Y20<>1,NOT(ISNUMBER($M20))),"",$E20*$M20) | S20: =IF(OR($Y20<>1,NOT(ISNUMBER($N20))),"",$E20*$N20) | T20: =IF(OR($Y20<>1,NOT(ISNUMBER($O20))),"",$E20*$O20) | U20: =IF(COUNT($P20:$T20)<>5,"",SUM($P20:$T20)) | V20: =IFERROR($U20/$E20,"") | W20: =IF(COUNTA($A20:$K20)=0,"",IF($A20="","Informar competência",IF($B20="","Informar SKU",IF($C20="","Informar produto",IF($D20="","Informar categoria",IF(COUNTIF('Parâmetros'!$D$4:$D$13,$D20)=0,"Categoria fora da lista",IF($E20="","Informar estoque médio",IF($G20="","Informar armazenagem",IF(COUNTIFS($A$6:$A$505,$A20,$B$6:$B$505,$B20)>1,"Duplicidade de competência e SKU",IF($Y20<>1,"Valor, taxa ou data inválida",IF($U20="","Revisar parâmetros padrão",IF($V20>'Parâmetros'!$B$8,"Taxa acima do limite",IF($E20>'Parâmetros'!$B$9,"Estoque acima do limite","OK"))))))))))))) | X20: =IF(OR($Y20<>1,$A20<>'Resumo'!$B$3,$U20=""),"",COUNTIFS($A$6:$A$505,'Resumo'!$B$3,$Y$6:$Y$505,1,$U$6:$U$505,">"&$U20)+COUNTIFS($A$6:$A20,'Resumo'!$B$3,$Y$6:$Y20,1,$U$6:$U20,$U20)) | Y20: =IF(COUNTA($A20:$K20)=0,"",IFERROR(IF(AND(ISNUMBER($A20),DAY($A20)=1,$A20>=DATE(2020,1,1),$A20<=DATE(2100,12,1),$B20<>"",$C20<>"",$D20<>"",COUNTIF('Parâmetros'!$D$4:$D$13,$D20)=1,ISNUMBER($E20),$E20>0,ISNUMBER($G20),$G20>=0,OR($F20="",AND(ISNUMBER($F20),$F20>=0,$F20<=1)),OR($H20="",AND(ISNUMBER($H20),$H20>=0,$H20<=1)),OR($I20="",AND(ISNUMBER($I20),$I20>=0,$I20<=1)),OR($J20="",AND(ISNUMBER($J20),$J20>=0,$J20<=1)),COUNTIFS($A$6:$A$505,$A20,$B$6:$B$505,$B20)=1),1,0),0))
L21: =IF($Y21<>1,"",IF($F21="",IF(AND(ISNUMBER('Parâmetros'!$B$4),'Parâmetros'!$B$4>=0,'Parâmetros'!$B$4<=1),'Parâmetros'!$B$4,""),$F21)) | M21: =IF($Y21<>1,"",IF($H21="",IF(AND(ISNUMBER('Parâmetros'!$B$5),'Parâmetros'!$B$5>=0,'Parâmetros'!$B$5<=1),'Parâmetros'!$B$5,""),$H21)) | N21: =IF($Y21<>1,"",IF($I21="",IF(AND(ISNUMBER('Parâmetros'!$B$6),'Parâmetros'!$B$6>=0,'Parâmetros'!$B$6<=1),'Parâmetros'!$B$6,""),$I21)) | O21: =IF($Y21<>1,"",IF($J21="",IF(AND(ISNUMBER('Parâmetros'!$B$7),'Parâmetros'!$B$7>=0,'Parâmetros'!$B$7<=1),'Parâmetros'!$B$7,""),$J21)) | P21: =IF(OR($Y21<>1,NOT(ISNUMBER($L21))),"",$E21*$L21) | Q21: =IF($Y21<>1,"",$G21) | R21: =IF(OR($Y21<>1,NOT(ISNUMBER($M21))),"",$E21*$M21) | S21: =IF(OR($Y21<>1,NOT(ISNUMBER($N21))),"",$E21*$N21) | T21: =IF(OR($Y21<>1,NOT(ISNUMBER($O21))),"",$E21*$O21) | U21: =IF(COUNT($P21:$T21)<>5,"",SUM($P21:$T21)) | V21: =IFERROR($U21/$E21,"") | W21: =IF(COUNTA($A21:$K21)=0,"",IF($A21="","Informar competência",IF($B21="","Informar SKU",IF($C21="","Informar produto",IF($D21="","Informar categoria",IF(COUNTIF('Parâmetros'!$D$4:$D$13,$D21)=0,"Categoria fora da lista",IF($E21="","Informar estoque médio",IF($G21="","Informar armazenagem",IF(COUNTIFS($A$6:$A$505,$A21,$B$6:$B$505,$B21)>1,"Duplicidade de competência e SKU",IF($Y21<>1,"Valor, taxa ou data inválida",IF($U21="","Revisar parâmetros padrão",IF($V21>'Parâmetros'!$B$8,"Taxa acima do limite",IF($E21>'Parâmetros'!$B$9,"Estoque acima do limite","OK"))))))))))))) | X21: =IF(OR($Y21<>1,$A21<>'Resumo'!$B$3,$U21=""),"",COUNTIFS($A$6:$A$505,'Resumo'!$B$3,$Y$6:$Y$505,1,$U$6:$U$505,">"&$U21)+COUNTIFS($A$6:$A21,'Resumo'!$B$3,$Y$6:$Y21,1,$U$6:$U21,$U21)) | Y21: =IF(COUNTA($A21:$K21)=0,"",IFERROR(IF(AND(ISNUMBER($A21),DAY($A21)=1,$A21>=DATE(2020,1,1),$A21<=DATE(2100,12,1),$B21<>"",$C21<>"",$D21<>"",COUNTIF('Parâmetros'!$D$4:$D$13,$D21)=1,ISNUMBER($E21),$E21>0,ISNUMBER($G21),$G21>=0,OR($F21="",AND(ISNUMBER($F21),$F21>=0,$F21<=1)),OR($H21="",AND(ISNUMBER($H21),$H21>=0,$H21<=1)),OR($I21="",AND(ISNUMBER($I21),$I21>=0,$I21<=1)),OR($J21="",AND(ISNUMBER($J21),$J21>=0,$J21<=1)),COUNTIFS($A$6:$A$505,$A21,$B$6:$B$505,$B21)=1),1,0),0))
L22: =IF($Y22<>1,"",IF($F22="",IF(AND(ISNUMBER('Parâmetros'!$B$4),'Parâmetros'!$B$4>=0,'Parâmetros'!$B$4<=1),'Parâmetros'!$B$4,""),$F22)) | M22: =IF($Y22<>1,"",IF($H22="",IF(AND(ISNUMBER('Parâmetros'!$B$5),'Parâmetros'!$B$5>=0,'Parâmetros'!$B$5<=1),'Parâmetros'!$B$5,""),$H22)) | N22: =IF($Y22<>1,"",IF($I22="",IF(AND(ISNUMBER('Parâmetros'!$B$6),'Parâmetros'!$B$6>=0,'Parâmetros'!$B$6<=1),'Parâmetros'!$B$6,""),$I22)) | O22: =IF($Y22<>1,"",IF($J22="",IF(AND(ISNUMBER('Parâmetros'!$B$7),'Parâmetros'!$B$7>=0,'Parâmetros'!$B$7<=1),'Parâmetros'!$B$7,""),$J22)) | P22: =IF(OR($Y22<>1,NOT(ISNUMBER($L22))),"",$E22*$L22) | Q22: =IF($Y22<>1,"",$G22) | R22: =IF(OR($Y22<>1,NOT(ISNUMBER($M22))),"",$E22*$M22) | S22: =IF(OR($Y22<>1,NOT(ISNUMBER($N22))),"",$E22*$N22) | T22: =IF(OR($Y22<>1,NOT(ISNUMBER($O22))),"",$E22*$O22) | U22: =IF(COUNT($P22:$T22)<>5,"",SUM($P22:$T22)) | V22: =IFERROR($U22/$E22,"") | W22: =IF(COUNTA($A22:$K22)=0,"",IF($A22="","Informar competência",IF($B22="","Informar SKU",IF($C22="","Informar produto",IF($D22="","Informar categoria",IF(COUNTIF('Parâmetros'!$D$4:$D$13,$D22)=0,"Categoria fora da lista",IF($E22="","Informar estoque médio",IF($G22="","Informar armazenagem",IF(COUNTIFS($A$6:$A$505,$A22,$B$6:$B$505,$B22)>1,"Duplicidade de competência e SKU",IF($Y22<>1,"Valor, taxa ou data inválida",IF($U22="","Revisar parâmetros padrão",IF($V22>'Parâmetros'!$B$8,"Taxa acima do limite",IF($E22>'Parâmetros'!$B$9,"Estoque acima do limite","OK"))))))))))))) | X22: =IF(OR($Y22<>1,$A22<>'Resumo'!$B$3,$U22=""),"",COUNTIFS($A$6:$A$505,'Resumo'!$B$3,$Y$6:$Y$505,1,$U$6:$U$505,">"&$U22)+COUNTIFS($A$6:$A22,'Resumo'!$B$3,$Y$6:$Y22,1,$U$6:$U22,$U22)) | Y22: =IF(COUNTA($A22:$K22)=0,"",IFERROR(IF(AND(ISNUMBER($A22),DAY($A22)=1,$A22>=DATE(2020,1,1),$A22<=DATE(2100,12,1),$B22<>"",$C22<>"",$D22<>"",COUNTIF('Parâmetros'!$D$4:$D$13,$D22)=1,ISNUMBER($E22),$E22>0,ISNUMBER($G22),$G22>=0,OR($F22="",AND(ISNUMBER($F22),$F22>=0,$F22<=1)),OR($H22="",AND(ISNUMBER($H22),$H22>=0,$H22<=1)),OR($I22="",AND(ISNUMBER($I22),$I22>=0,$I22<=1)),OR($J22="",AND(ISNUMBER($J22),$J22>=0,$J22<=1)),COUNTIFS($A$6:$A$505,$A22,$B$6:$B$505,$B22)=1),1,0),0))
L23: =IF($Y23<>1,"",IF($F23="",IF(AND(ISNUMBER('Parâmetros'!$B$4),'Parâmetros'!$B$4>=0,'Parâmetros'!$B$4<=1),'Parâmetros'!$B$4,""),$F23)) | M23: =IF($Y23<>1,"",IF($H23="",IF(AND(ISNUMBER('Parâmetros'!$B$5),'Parâmetros'!$B$5>=0,'Parâmetros'!$B$5<=1),'Parâmetros'!$B$5,""),$H23)) | N23: =IF($Y23<>1,"",IF($I23="",IF(AND(ISNUMBER('Parâmetros'!$B$6),'Parâmetros'!$B$6>=0,'Parâmetros'!$B$6<=1),'Parâmetros'!$B$6,""),$I23)) | O23: =IF($Y23<>1,"",IF($J23="",IF(AND(ISNUMBER('Parâmetros'!$B$7),'Parâmetros'!$B$7>=0,'Parâmetros'!$B$7<=1),'Parâmetros'!$B$7,""),$J23)) | P23: =IF(OR($Y23<>1,NOT(ISNUMBER($L23))),"",$E23*$L23) | Q23: =IF($Y23<>1,"",$G23) | R23: =IF(OR($Y23<>1,NOT(ISNUMBER($M23))),"",$E23*$M23) | S23: =IF(OR($Y23<>1,NOT(ISNUMBER($N23))),"",$E23*$N23) | T23: =IF(OR($Y23<>1,NOT(ISNUMBER($O23))),"",$E23*$O23) | U23: =IF(COUNT($P23:$T23)<>5,"",SUM($P23:$T23)) | V23: =IFERROR($U23/$E23,"") | W23: =IF(COUNTA($A23:$K23)=0,"",IF($A23="","Informar competência",IF($B23="","Informar SKU",IF($C23="","Informar produto",IF($D23="","Informar categoria",IF(COUNTIF('Parâmetros'!$D$4:$D$13,$D23)=0,"Categoria fora da lista",IF($E23="","Informar estoque médio",IF($G23="","Informar armazenagem",IF(COUNTIFS($A$6:$A$505,$A23,$B$6:$B$505,$B23)>1,"Duplicidade de competência e SKU",IF($Y23<>1,"Valor, taxa ou data inválida",IF($U23="","Revisar parâmetros padrão",IF($V23>'Parâmetros'!$B$8,"Taxa acima do limite",IF($E23>'Parâmetros'!$B$9,"Estoque acima do limite","OK"))))))))))))) | X23: =IF(OR($Y23<>1,$A23<>'Resumo'!$B$3,$U23=""),"",COUNTIFS($A$6:$A$505,'Resumo'!$B$3,$Y$6:$Y$505,1,$U$6:$U$505,">"&$U23)+COUNTIFS($A$6:$A23,'Resumo'!$B$3,$Y$6:$Y23,1,$U$6:$U23,$U23)) | Y23: =IF(COUNTA($A23:$K23)=0,"",IFERROR(IF(AND(ISNUMBER($A23),DAY($A23)=1,$A23>=DATE(2020,1,1),$A23<=DATE(2100,12,1),$B23<>"",$C23<>"",$D23<>"",COUNTIF('Parâmetros'!$D$4:$D$13,$D23)=1,ISNUMBER($E23),$E23>0,ISNUMBER($G23),$G23>=0,OR($F23="",AND(ISNUMBER($F23),$F23>=0,$F23<=1)),OR($H23="",AND(ISNUMBER($H23),$H23>=0,$H23<=1)),OR($I23="",AND(ISNUMBER($I23),$I23>=0,$I23<=1)),OR($J23="",AND(ISNUMBER($J23),$J23>=0,$J23<=1)),COUNTIFS($A$6:$A$505,$A23,$B$6:$B$505,$B23)=1),1,0),0))
L24: =IF($Y24<>1,"",IF($F24="",IF(AND(ISNUMBER('Parâmetros'!$B$4),'Parâmetros'!$B$4>=0,'Parâmetros'!$B$4<=1),'Parâmetros'!$B$4,""),$F24)) | M24: =IF($Y24<>1,"",IF($H24="",IF(AND(ISNUMBER('Parâmetros'!$B$5),'Parâmetros'!$B$5>=0,'Parâmetros'!$B$5<=1),'Parâmetros'!$B$5,""),$H24)) | N24: =IF($Y24<>1,"",IF($I24="",IF(AND(ISNUMBER('Parâmetros'!$B$6),'Parâmetros'!$B$6>=0,'Parâmetros'!$B$6<=1),'Parâmetros'!$B$6,""),$I24)) | O24: =IF($Y24<>1,"",IF($J24="",IF(AND(ISNUMBER('Parâmetros'!$B$7),'Parâmetros'!$B$7>=0,'Parâmetros'!$B$7<=1),'Parâmetros'!$B$7,""),$J24)) | P24: =IF(OR($Y24<>1,NOT(ISNUMBER($L24))),"",$E24*$L24) | Q24: =IF($Y24<>1,"",$G24) | R24: =IF(OR($Y24<>1,NOT(ISNUMBER($M24))),"",$E24*$M24) | S24: =IF(OR($Y24<>1,NOT(ISNUMBER($N24))),"",$E24*$N24) | T24: =IF(OR($Y24<>1,NOT(ISNUMBER($O24))),"",$E24*$O24) | U24: =IF(COUNT($P24:$T24)<>5,"",SUM($P24:$T24)) | V24: =IFERROR($U24/$E24,"") | W24: =IF(COUNTA($A24:$K24)=0,"",IF($A24="","Informar competência",IF($B24="","Informar SKU",IF($C24="","Informar produto",IF($D24="","Informar categoria",IF(COUNTIF('Parâmetros'!$D$4:$D$13,$D24)=0,"Categoria fora da lista",IF($E24="","Informar estoque médio",IF($G24="","Informar armazenagem",IF(COUNTIFS($A$6:$A$505,$A24,$B$6:$B$505,$B24)>1,"Duplicidade de competência e SKU",IF($Y24<>1,"Valor, taxa ou data inválida",IF($U24="","Revisar parâmetros padrão",IF($V24>'Parâmetros'!$B$8,"Taxa acima do limite",IF($E24>'Parâmetros'!$B$9,"Estoque acima do limite","OK"))))))))))))) | X24: =IF(OR($Y24<>1,$A24<>'Resumo'!$B$3,$U24=""),"",COUNTIFS($A$6:$A$505,'Resumo'!$B$3,$Y$6:$Y$505,1,$U$6:$U$505,">"&$U24)+COUNTIFS($A$6:$A24,'Resumo'!$B$3,$Y$6:$Y24,1,$U$6:$U24,$U24)) | Y24: =IF(COUNTA($A24:$K24)=0,"",IFERROR(IF(AND(ISNUMBER($A24),DAY($A24)=1,$A24>=DATE(2020,1,1),$A24<=DATE(2100,12,1),$B24<>"",$C24<>"",$D24<>"",COUNTIF('Parâmetros'!$D$4:$D$13,$D24)=1,ISNUMBER($E24),$E24>0,ISNUMBER($G24),$G24>=0,OR($F24="",AND(ISNUMBER($F24),$F24>=0,$F24<=1)),OR($H24="",AND(ISNUMBER($H24),$H24>=0,$H24<=1)),OR($I24="",AND(ISNUMBER($I24),$I24>=0,$I24<=1)),OR($J24="",AND(ISNUMBER($J24),$J24>=0,$J24<=1)),COUNTIFS($A$6:$A$505,$A24,$B$6:$B$505,$B24)=1),1,0),0))
L25: =IF($Y25<>1,"",IF($F25="",IF(AND(ISNUMBER('Parâmetros'!$B$4),'Parâmetros'!$B$4>=0,'Parâmetros'!$B$4<=1),'Parâmetros'!$B$4,""),$F25)) | M25: =IF($Y25<>1,"",IF($H25="",IF(AND(ISNUMBER('Parâmetros'!$B$5),'Parâmetros'!$B$5>=0,'Parâmetros'!$B$5<=1),'Parâmetros'!$B$5,""),$H25)) | N25: =IF($Y25<>1,"",IF($I25="",IF(AND(ISNUMBER('Parâmetros'!$B$6),'Parâmetros'!$B$6>=0,'Parâmetros'!$B$6<=1),'Parâmetros'!$B$6,""),$I25)) | O25: =IF($Y25<>1,"",IF($J25="",IF(AND(ISNUMBER('Parâmetros'!$B$7),'Parâmetros'!$B$7>=0,'Parâmetros'!$B$7<=1),'Parâmetros'!$B$7,""),$J25)) | P25: =IF(OR($Y25<>1,NOT(ISNUMBER($L25))),"",$E25*$L25) | Q25: =IF($Y25<>1,"",$G25) | R25: =IF(OR($Y25<>1,NOT(ISNUMBER($M25))),"",$E25*$M25) | S25: =IF(OR($Y25<>1,NOT(ISNUMBER($N25))),"",$E25*$N25) | T25: =IF(OR($Y25<>1,NOT(ISNUMBER($O25))),"",$E25*$O25) | U25: =IF(COUNT($P25:$T25)<>5,"",SUM($P25:$T25)) | V25: =IFERROR($U25/$E25,"") | W25: =IF(COUNTA($A25:$K25)=0,"",IF($A25="","Informar competência",IF($B25="","Informar SKU",IF($C25="","Informar produto",IF($D25="","Informar categoria",IF(COUNTIF('Parâmetros'!$D$4:$D$13,$D25)=0,"Categoria fora da lista",IF($E25="","Informar estoque médio",IF($G25="","Informar armazenagem",IF(COUNTIFS($A$6:$A$505,$A25,$B$6:$B$505,$B25)>1,"Duplicidade de competência e SKU",IF($Y25<>1,"Valor, taxa ou data inválida",IF($U25="","Revisar parâmetros padrão",IF($V25>'Parâmetros'!$B$8,"Taxa acima do limite",IF($E25>'Parâmetros'!$B$9,"Estoque acima do limite","OK"))))))))))))) | X25: =IF(OR($Y25<>1,$A25<>'Resumo'!$B$3,$U25=""),"",COUNTIFS($A$6:$A$505,'Resumo'!$B$3,$Y$6:$Y$505,1,$U$6:$U$505,">"&$U25)+COUNTIFS($A$6:$A25,'Resumo'!$B$3,$Y$6:$Y25,1,$U$6:$U25,$U25)) | Y25: =IF(COUNTA($A25:$K25)=0,"",IFERROR(IF(AND(ISNUMBER($A25),DAY($A25)=1,$A25>=DATE(2020,1,1),$A25<=DATE(2100,12,1),$B25<>"",$C25<>"",$D25<>"",COUNTIF('Parâmetros'!$D$4:$D$13,$D25)=1,ISNUMBER($E25),$E25>0,ISNUMBER($G25),$G25>=0,OR($F25="",AND(ISNUMBER($F25),$F25>=0,$F25<=1)),OR($H25="",AND(ISNUMBER($H25),$H25>=0,$H25<=1)),OR($I25="",AND(ISNUMBER($I25),$I25>=0,$I25<=1)),OR($J25="",AND(ISNUMBER($J25),$J25>=0,$J25<=1)),COUNTIFS($A$6:$A$505,$A25,$B$6:$B$505,$B25)=1),1,0),0))
L26: =IF($Y26<>1,"",IF($F26="",IF(AND(ISNUMBER('Parâmetros'!$B$4),'Parâmetros'!$B$4>=0,'Parâmetros'!$B$4<=1),'Parâmetros'!$B$4,""),$F26)) | M26: =IF($Y26<>1,"",IF($H26="",IF(AND(ISNUMBER('Parâmetros'!$B$5),'Parâmetros'!$B$5>=0,'Parâmetros'!$B$5<=1),'Parâmetros'!$B$5,""),$H26)) | N26: =IF($Y26<>1,"",IF($I26="",IF(AND(ISNUMBER('Parâmetros'!$B$6),'Parâmetros'!$B$6>=0,'Parâmetros'!$B$6<=1),'Parâmetros'!$B$6,""),$I26)) | O26: =IF($Y26<>1,"",IF($J26="",IF(AND(ISNUMBER('Parâmetros'!$B$7),'Parâmetros'!$B$7>=0,'Parâmetros'!$B$7<=1),'Parâmetros'!$B$7,""),$J26)) | P26: =IF(OR($Y26<>1,NOT(ISNUMBER($L26))),"",$E26*$L26) | Q26: =IF($Y26<>1,"",$G26) | R26: =IF(OR($Y26<>1,NOT(ISNUMBER($M26))),"",$E26*$M26) | S26: =IF(OR($Y26<>1,NOT(ISNUMBER($N26))),"",$E26*$N26) | T26: =IF(OR($Y26<>1,NOT(ISNUMBER($O26))),"",$E26*$O26) | U26: =IF(COUNT($P26:$T26)<>5,"",SUM($P26:$T26)) | V26: =IFERROR($U26/$E26,"") | W26: =IF(COUNTA($A26:$K26)=0,"",IF($A26="","Informar competência",IF($B26="","Informar SKU",IF($C26="","Informar produto",IF($D26="","Informar categoria",IF(COUNTIF('Parâmetros'!$D$4:$D$13,$D26)=0,"Categoria fora da lista",IF($E26="","Informar estoque médio",IF($G26="","Informar armazenagem",IF(COUNTIFS($A$6:$A$505,$A26,$B$6:$B$505,$B26)>1,"Duplicidade de competência e SKU",IF($Y26<>1,"Valor, taxa ou data inválida",IF($U26="","Revisar parâmetros padrão",IF($V26>'Parâmetros'!$B$8,"Taxa acima do limite",IF($E26>'Parâmetros'!$B$9,"Estoque acima do limite","OK"))))))))))))) | X26: =IF(OR($Y26<>1,$A26<>'Resumo'!$B$3,$U26=""),"",COUNTIFS($A$6:$A$505,'Resumo'!$B$3,$Y$6:$Y$505,1,$U$6:$U$505,">"&$U26)+COUNTIFS($A$6:$A26,'Resumo'!$B$3,$Y$6:$Y26,1,$U$6:$U26,$U26)) | Y26: =IF(COUNTA($A26:$K26)=0,"",IFERROR(IF(AND(ISNUMBER($A26),DAY($A26)=1,$A26>=DATE(2020,1,1),$A26<=DATE(2100,12,1),$B26<>"",$C26<>"",$D26<>"",COUNTIF('Parâmetros'!$D$4:$D$13,$D26)=1,ISNUMBER($E26),$E26>0,ISNUMBER($G26),$G26>=0,OR($F26="",AND(ISNUMBER($F26),$F26>=0,$F26<=1)),OR($H26="",AND(ISNUMBER($H26),$H26>=0,$H26<=1)),OR($I26="",AND(ISNUMBER($I26),$I26>=0,$I26<=1)),OR($J26="",AND(ISNUMBER($J26),$J26>=0,$J26<=1)),COUNTIFS($A$6:$A$505,$A26,$B$6:$B$505,$B26)=1),1,0),0))
L27: =IF($Y27<>1,"",IF($F27="",IF(AND(ISNUMBER('Parâmetros'!$B$4),'Parâmetros'!$B$4>=0,'Parâmetros'!$B$4<=1),'Parâmetros'!$B$4,""),$F27)) | M27: =IF($Y27<>1,"",IF($H27="",IF(AND(ISNUMBER('Parâmetros'!$B$5),'Parâmetros'!$B$5>=0,'Parâmetros'!$B$5<=1),'Parâmetros'!$B$5,""),$H27)) | N27: =IF($Y27<>1,"",IF($I27="",IF(AND(ISNUMBER('Parâmetros'!$B$6),'Parâmetros'!$B$6>=0,'Parâmetros'!$B$6<=1),'Parâmetros'!$B$6,""),$I27)) | O27: =IF($Y27<>1,"",IF($J27="",IF(AND(ISNUMBER('Parâmetros'!$B$7),'Parâmetros'!$B$7>=0,'Parâmetros'!$B$7<=1),'Parâmetros'!$B$7,""),$J27)) | P27: =IF(OR($Y27<>1,NOT(ISNUMBER($L27))),"",$E27*$L27) | Q27: =IF($Y27<>1,"",$G27) | R27: =IF(OR($Y27<>1,NOT(ISNUMBER($M27))),"",$E27*$M27) | S27: =IF(OR($Y27<>1,NOT(ISNUMBER($N27))),"",$E27*$N27) | T27: =IF(OR($Y27<>1,NOT(ISNUMBER($O27))),"",$E27*$O27) | U27: =IF(COUNT($P27:$T27)<>5,"",SUM($P27:$T27)) | V27: =IFERROR($U27/$E27,"") | W27: =IF(COUNTA($A27:$K27)=0,"",IF($A27="","Informar competência",IF($B27="","Informar SKU",IF($C27="","Informar produto",IF($D27="","Informar categoria",IF(COUNTIF('Parâmetros'!$D$4:$D$13,$D27)=0,"Categoria fora da lista",IF($E27="","Informar estoque médio",IF($G27="","Informar armazenagem",IF(COUNTIFS($A$6:$A$505,$A27,$B$6:$B$505,$B27)>1,"Duplicidade de competência e SKU",IF($Y27<>1,"Valor, taxa ou data inválida",IF($U27="","Revisar parâmetros padrão",IF($V27>'Parâmetros'!$B$8,"Taxa acima do limite",IF($E27>'Parâmetros'!$B$9,"Estoque acima do limite","OK"))))))))))))) | X27: =IF(OR($Y27<>1,$A27<>'Resumo'!$B$3,$U27=""),"",COUNTIFS($A$6:$A$505,'Resumo'!$B$3,$Y$6:$Y$505,1,$U$6:$U$505,">"&$U27)+COUNTIFS($A$6:$A27,'Resumo'!$B$3,$Y$6:$Y27,1,$U$6:$U27,$U27)) | Y27: =IF(COUNTA($A27:$K27)=0,"",IFERROR(IF(AND(ISNUMBER($A27),DAY($A27)=1,$A27>=DATE(2020,1,1),$A27<=DATE(2100,12,1),$B27<>"",$C27<>"",$D27<>"",COUNTIF('Parâmetros'!$D$4:$D$13,$D27)=1,ISNUMBER($E27),$E27>0,ISNUMBER($G27),$G27>=0,OR($F27="",AND(ISNUMBER($F27),$F27>=0,$F27<=1)),OR($H27="",AND(ISNUMBER($H27),$H27>=0,$H27<=1)),OR($I27="",AND(ISNUMBER($I27),$I27>=0,$I27<=1)),OR($J27="",AND(ISNUMBER($J27),$J27>=0,$J27<=1)),COUNTIFS($A$6:$A$505,$A27,$B$6:$B$505,$B27)=1),1,0),0))
... L505: =IF($Y505<>1,"",IF($F505="",IF(AND(ISNUMBER('Parâmetros'!$B$4),'Parâmetros'!$B$4>=0,'Parâmetros'!$B$4<=1),'Parâmetros'!$B$4,""),$F505)) | M505: =IF($Y505<>1,"",IF($H505="",IF(AND(ISNUMBER('Parâmetros'!$B$5),'Parâmetros'!$B$5>=0,'Parâmetros'!$B$5<=1),'Parâmetros'!$B$5,""),$H505)) | N505: =IF($Y505<>1,"",IF($I505="",IF(AND(ISNUMBER('Parâmetros'!$B$6),'Parâmetros'!$B$6>=0,'Parâmetros'!$B$6<=1),'Parâmetros'!$B$6,""),$I505)) | O505: =IF($Y505<>1,"",IF($J505="",IF(AND(ISNUMBER('Parâmetros'!$B$7),'Parâmetros'!$B$7>=0,'Parâmetros'!$B$7<=1),'Parâmetros'!$B$7,""),$J505)) | P505: =IF(OR($Y505<>1,NOT(ISNUMBER($L505))),"",$E505*$L505) | Q505: =IF($Y505<>1,"",$G505) | R505: =IF(OR($Y505<>1,NOT(ISNUMBER($M505))),"",$E505*$M505) | S505: =IF(OR($Y505<>1,NOT(ISNUMBER($N505))),"",$E505*$N505) | T505: =IF(OR($Y505<>1,NOT(ISNUMBER($O505))),"",$E505*$O505) | U505: =IF(COUNT($P505:$T505)<>5,"",SUM($P505:$T505)) | V505: =IFERROR($U505/$E505,"") | W505: =IF(COUNTA($A505:$K505)=0,"",IF($A505="","Informar competência",IF($B505="","Informar SKU",IF($C505="","Informar produto",IF($D505="","Informar categoria",IF(COUNTIF('Parâmetros'!$D$4:$D$13,$D505)=0,"Categoria fora da lista",IF($E505="","Informar estoque médio",IF($G505="","Informar armazenagem",IF(COUNTIFS($A$6:$A$505,$A505,$B$6:$B$505,$B505)>1,"Duplicidade de competência e SKU",IF($Y505<>1,"Valor, taxa ou data inválida",IF($U505="","Revisar parâmetros padrão",IF($V505>'Parâmetros'!$B$8,"Taxa acima do limite",IF($E505>'Parâmetros'!$B$9,"Estoque acima do limite","OK"))))))))))))) | X505: =IF(OR($Y505<>1,$A505<>'Resumo'!$B$3,$U505=""),"",COUNTIFS($A$6:$A$505,'Resumo'!$B$3,$Y$6:$Y$505,1,$U$6:$U$505,">"&$U505)+COUNTIFS($A$6:$A505,'Resumo'!$B$3,$Y$6:$Y505,1,$U$6:$U505,$U505)) | Y505: =IF(COUNTA($A505:$K505)=0,"",IFERROR(IF(AND(ISNUMBER($A505),DAY($A505)=1,$A505>=DATE(2020,1,1),$A505<=DATE(2100,12,1),$B505<>"",$C505<>"",$D505<>"",COUNTIF('Parâmetros'!$D$4:$D$13,$D505)=1,ISNUMBER($E505),$E505>0,ISNUMBER($G505),$G505>=0,OR($F505="",AND(ISNUMBER($F505),$F505>=0,$F505<=1)),OR($H505="",AND(ISNUMBER($H505),$H505>=0,$H505<=1)),OR($I505="",AND(ISNUMBER($I505),$I505>=0,$I505<=1)),OR($J505="",AND(ISNUMBER($J505),$J505>=0,$J505<=1)),COUNTIFS($A$6:$A$505,$A505,$B$6:$B$505,$B505)=1),1,0),0))

Sheet Análises
A1: Análises por categoria e SKU
A2: Competência | B2: ='Resumo'!B3
A4: Categoria | B4: SKUs | C4: Estoque médio valorizado | D4: Capital | E4: Armazenagem | F4: Seguro | G4: Obsolescência | H4: Perdas | I4: Custo total | J4: Taxa ponderada | K4: Participação no custo
A5: ='Parâmetros'!D4 | B5: =IF(OR($A5="",'Resumo'!$B$3=""),"",COUNTIFS('Custos de Estoque'!$A$6:$A$505,'Resumo'!$B$3,'Custos de Estoque'!$D$6:$D$505,$A5,'Custos de Estoque'!$Y$6:$Y$505,1,'Custos de Estoque'!$U$6:$U$505,">=0")) | C5: =IF($B5=0,"",SUMIFS('Custos de Estoque'!$E$6:$E$505,'Custos de Estoque'!$A$6:$A$505,'Resumo'!$B$3,'Custos de Estoque'!$D$6:$D$505,$A5,'Custos de Estoque'!$Y$6:$Y$505,1,'Custos de Estoque'!$U$6:$U$505,">=0")) | D5: =IF($B5=0,"",SUMIFS('Custos de Estoque'!$P$6:$P$505,'Custos de Estoque'!$A$6:$A$505,'Resumo'!$B$3,'Custos de Estoque'!$D$6:$D$505,$A5,'Custos de Estoque'!$Y$6:$Y$505,1)) | E5: =IF($B5=0,"",SUMIFS('Custos de Estoque'!$Q$6:$Q$505,'Custos de Estoque'!$A$6:$A$505,'Resumo'!$B$3,'Custos de Estoque'!$D$6:$D$505,$A5,'Custos de Estoque'!$Y$6:$Y$505,1)) | F5: =IF($B5=0,"",SUMIFS('Custos de Estoque'!$R$6:$R$505,'Custos de Estoque'!$A$6:$A$505,'Resumo'!$B$3,'Custos de Estoque'!$D$6:$D$505,$A5,'Custos de Estoque'!$Y$6:$Y$505,1)) | G5: =IF($B5=0,"",SUMIFS('Custos de Estoque'!$S$6:$S$505,'Custos de Estoque'!$A$6:$A$505,'Resumo'!$B$3,'Custos de Estoque'!$D$6:$D$505,$A5,'Custos de Estoque'!$Y$6:$Y$505,1)) | H5: =IF($B5=0,"",SUMIFS('Custos de Estoque'!$T$6:$T$505,'Custos de Estoque'!$A$6:$A$505,'Resumo'!$B$3,'Custos de Estoque'!$D$6:$D$505,$A5,'Custos de Estoque'!$Y$6:$Y$505,1)) | I5: =IF($B5=0,"",SUMIFS('Custos de Estoque'!$U$6:$U$505,'Custos de Estoque'!$A$6:$A$505,'Resumo'!$B$3,'Custos de Estoque'!$D$6:$D$505,$A5,'Custos de Estoque'!$Y$6:$Y$505,1)) | J5: =IFERROR($I5/$C5,"") | K5: =IFERROR($I5/'Resumo'!$C$6,"")
A6: ='Parâmetros'!D5 | B6: =IF(OR($A6="",'Resumo'!$B$3=""),"",COUNTIFS('Custos de Estoque'!$A$6:$A$505,'Resumo'!$B$3,'Custos de Estoque'!$D$6:$D$505,$A6,'Custos de Estoque'!$Y$6:$Y$505,1,'Custos de Estoque'!$U$6:$U$505,">=0")) | C6: =IF($B6=0,"",SUMIFS('Custos de Estoque'!$E$6:$E$505,'Custos de Estoque'!$A$6:$A$505,'Resumo'!$B$3,'Custos de Estoque'!$D$6:$D$505,$A6,'Custos de Estoque'!$Y$6:$Y$505,1,'Custos de Estoque'!$U$6:$U$505,">=0")) | D6: =IF($B6=0,"",SUMIFS('Custos de Estoque'!$P$6:$P$505,'Custos de Estoque'!$A$6:$A$505,'Resumo'!$B$3,'Custos de Estoque'!$D$6:$D$505,$A6,'Custos de Estoque'!$Y$6:$Y$505,1)) | E6: =IF($B6=0,"",SUMIFS('Custos de Estoque'!$Q$6:$Q$505,'Custos de Estoque'!$A$6:$A$505,'Resumo'!$B$3,'Custos de Estoque'!$D$6:$D$505,$A6,'Custos de Estoque'!$Y$6:$Y$505,1)) | F6: =IF($B6=0,"",SUMIFS('Custos de Estoque'!$R$6:$R$505,'Custos de Estoque'!$A$6:$A$505,'Resumo'!$B$3,'Custos de Estoque'!$D$6:$D$505,$A6,'Custos de Estoque'!$Y$6:$Y$505,1)) | G6: =IF($B6=0,"",SUMIFS('Custos de Estoque'!$S$6:$S$505,'Custos de Estoque'!$A$6:$A$505,'Resumo'!$B$3,'Custos de Estoque'!$D$6:$D$505,$A6,'Custos de Estoque'!$Y$6:$Y$505,1)) | H6: =IF($B6=0,"",SUMIFS('Custos de Estoque'!$T$6:$T$505,'Custos de Estoque'!$A$6:$A$505,'Resumo'!$B$3,'Custos de Estoque'!$D$6:$D$505,$A6,'Custos de Estoque'!$Y$6:$Y$505,1)) | I6: =IF($B6=0,"",SUMIFS('Custos de Estoque'!$U$6:$U$505,'Custos de Estoque'!$A$6:$A$505,'Resumo'!$B$3,'Custos de Estoque'!$D$6:$D$505,$A6,'Custos de Estoque'!$Y$6:$Y$505,1)) | J6: =IFERROR($I6/$C6,"") | K6: =IFERROR($I6/'Resumo'!$C$6,"")
A7: ='Parâmetros'!D6 | B7: =IF(OR($A7="",'Resumo'!$B$3=""),"",COUNTIFS('Custos de Estoque'!$A$6:$A$505,'Resumo'!$B$3,'Custos de Estoque'!$D$6:$D$505,$A7,'Custos de Estoque'!$Y$6:$Y$505,1,'Custos de Estoque'!$U$6:$U$505,">=0")) | C7: =IF($B7=0,"",SUMIFS('Custos de Estoque'!$E$6:$E$505,'Custos de Estoque'!$A$6:$A$505,'Resumo'!$B$3,'Custos de Estoque'!$D$6:$D$505,$A7,'Custos de Estoque'!$Y$6:$Y$505,1,'Custos de Estoque'!$U$6:$U$505,">=0")) | D7: =IF($B7=0,"",SUMIFS('Custos de Estoque'!$P$6:$P$505,'Custos de Estoque'!$A$6:$A$505,'Resumo'!$B$3,'Custos de Estoque'!$D$6:$D$505,$A7,'Custos de Estoque'!$Y$6:$Y$505,1)) | E7: =IF($B7=0,"",SUMIFS('Custos de Estoque'!$Q$6:$Q$505,'Custos de Estoque'!$A$6:$A$505,'Resumo'!$B$3,'Custos de Estoque'!$D$6:$D$505,$A7,'Custos de Estoque'!$Y$6:$Y$505,1)) | F7: =IF($B7=0,"",SUMIFS('Custos de Estoque'!$R$6:$R$505,'Custos de Estoque'!$A$6:$A$505,'Resumo'!$B$3,'Custos de Estoque'!$D$6:$D$505,$A7,'Custos de Estoque'!$Y$6:$Y$505,1)) | G7: =IF($B7=0,"",SUMIFS('Custos de Estoque'!$S$6:$S$505,'Custos de Estoque'!$A$6:$A$505,'Resumo'!$B$3,'Custos de Estoque'!$D$6:$D$505,$A7,'Custos de Estoque'!$Y$6:$Y$505,1)) | H7: =IF($B7=0,"",SUMIFS('Custos de Estoque'!$T$6:$T$505,'Custos de Estoque'!$A$6:$A$505,'Resumo'!$B$3,'Custos de Estoque'!$D$6:$D$505,$A7,'Custos de Estoque'!$Y$6:$Y$505,1)) | I7: =IF($B7=0,"",SUMIFS('Custos de Estoque'!$U$6:$U$505,'Custos de Estoque'!$A$6:$A$505,'Resumo'!$B$3,'Custos de Estoque'!$D$6:$D$505,$A7,'Custos de Estoque'!$Y$6:$Y$505,1)) | J7: =IFERROR($I7/$C7,"") | K7: =IFERROR($I7/'Resumo'!$C$6,"")
