Workbook

Sheet Resumo
A1: Painel de endereçamento de estoque
A2: Visão da ocupação atual por posição física | N2: Situação | O2: Quantidade
A3: Endereços ativos válidos | C3: Posições ocupadas | E3: Posições vazias | G3: Ocupação das posições | N3: Ocupadas | O3: =C4
A4: =COUNTIFS('Mapa de Endereços'!$K$6:$K$205,"OK",'Mapa de Endereços'!$G$6:$G$205,"Sim") | C4: =COUNTIF('Mapa de Endereços'!$J$6:$J$205,"OCUPADA") | E4: =COUNTIF('Mapa de Endereços'!$J$6:$J$205,"VAZIA") | G4: =IFERROR(C4/(C4+E4),0) | N4: Vazias | O4: =E4
A6: Unidades endereçadas válidas | C6: SKUs distintos válidos | E6: SKUs espalhados | G6: Linhas para revisar
A7: =SUMIFS('Ocupação'!$I$6:$I$505,'Ocupação'!$M$6:$M$505,"Sim") | C7: =SUM('Ocupação'!$N$6:$N$505) | E7: =COUNTIFS('Ocupação'!$N$6:$N$505,1,'Ocupação'!$O$6:$O$505,">1") | G7: =COUNTIFS('Ocupação'!$P$6:$P$505,"<>",'Ocupação'!$P$6:$P$505,"<>OK",'Ocupação'!$P$6:$P$505,"<>SKU ESPALHADO")
A10: Código do endereço | B10: Depósito | C10: Zona | D10: Rua | E10: Módulo | F10: Nível | H10: SKU | I10: Produto | J10: Posições | K10: Unidades
A11: =IFERROR(INDEX('Mapa de Endereços'!$F$6:$F$205,AGGREGATE(15,6,(ROW('Mapa de Endereços'!$F$6:$F$205)-ROW('Mapa de Endereços'!$F$6)+1)/(('Mapa de Endereços'!$J$6:$J$205="VAZIA")*('Mapa de Endereços'!$K$6:$K$205="OK")),ROWS($A$11:A11))),"") | B11: =IFERROR(INDEX('Mapa de Endereços'!$A$6:$A$205,AGGREGATE(15,6,(ROW('Mapa de Endereços'!$F$6:$F$205)-ROW('Mapa de Endereços'!$F$6)+1)/(('Mapa de Endereços'!$J$6:$J$205="VAZIA")*('Mapa de Endereços'!$K$6:$K$205="OK")),ROWS($A$11:A11))),"") | C11: =IFERROR(INDEX('Mapa de Endereços'!$B$6:$B$205,AGGREGATE(15,6,(ROW('Mapa de Endereços'!$F$6:$F$205)-ROW('Mapa de Endereços'!$F$6)+1)/(('Mapa de Endereços'!$J$6:$J$205="VAZIA")*('Mapa de Endereços'!$K$6:$K$205="OK")),ROWS($A$11:A11))),"") | D11: =IFERROR(INDEX('Mapa de Endereços'!$C$6:$C$205,AGGREGATE(15,6,(ROW('Mapa de Endereços'!$F$6:$F$205)-ROW('Mapa de Endereços'!$F$6)+1)/(('Mapa de Endereços'!$J$6:$J$205="VAZIA")*('Mapa de Endereços'!$K$6:$K$205="OK")),ROWS($A$11:A11))),"") | E11: =IFERROR(INDEX('Mapa de Endereços'!$D$6:$D$205,AGGREGATE(15,6,(ROW('Mapa de Endereços'!$F$6:$F$205)-ROW('Mapa de Endereços'!$F$6)+1)/(('Mapa de Endereços'!$J$6:$J$205="VAZIA")*('Mapa de Endereços'!$K$6:$K$205="OK")),ROWS($A$11:A11))),"") | F11: =IFERROR(INDEX('Mapa de Endereços'!$E$6:$E$205,AGGREGATE(15,6,(ROW('Mapa de Endereços'!$F$6:$F$205)-ROW('Mapa de Endereços'!$F$6)+1)/(('Mapa de Endereços'!$J$6:$J$205="VAZIA")*('Mapa de Endereços'!$K$6:$K$205="OK")),ROWS($A$11:A11))),"") | H11: =IFERROR(INDEX('Ocupação'!$G$6:$G$505,AGGREGATE(15,6,(ROW('Ocupação'!$G$6:$G$505)-ROW('Ocupação'!$G$6)+1)/(('Ocupação'!$N$6:$N$505=1)*('Ocupação'!$O$6:$O$505>1)),ROWS($H$11:H11))),"") | I11: =IFERROR(INDEX('Ocupação'!$H$6:$H$505,AGGREGATE(15,6,(ROW('Ocupação'!$G$6:$G$505)-ROW('Ocupação'!$G$6)+1)/(('Ocupação'!$N$6:$N$505=1)*('Ocupação'!$O$6:$O$505>1)),ROWS($H$11:H11))),"") | J11: =IF(H11="","",COUNTIFS('Ocupação'!$G$6:$G$505,H11,'Ocupação'!$M$6:$M$505,"Sim")) | K11: =IF(H11="","",SUMIFS('Ocupação'!$I$6:$I$505,'Ocupação'!$G$6:$G$505,H11,'Ocupação'!$M$6:$M$505,"Sim"))
A12: =IFERROR(INDEX('Mapa de Endereços'!$F$6:$F$205,AGGREGATE(15,6,(ROW('Mapa de Endereços'!$F$6:$F$205)-ROW('Mapa de Endereços'!$F$6)+1)/(('Mapa de Endereços'!$J$6:$J$205="VAZIA")*('Mapa de Endereços'!$K$6:$K$205="OK")),ROWS($A$11:A12))),"") | B12: =IFERROR(INDEX('Mapa de Endereços'!$A$6:$A$205,AGGREGATE(15,6,(ROW('Mapa de Endereços'!$F$6:$F$205)-ROW('Mapa de Endereços'!$F$6)+1)/(('Mapa de Endereços'!$J$6:$J$205="VAZIA")*('Mapa de Endereços'!$K$6:$K$205="OK")),ROWS($A$11:A12))),"") | C12: =IFERROR(INDEX('Mapa de Endereços'!$B$6:$B$205,AGGREGATE(15,6,(ROW('Mapa de Endereços'!$F$6:$F$205)-ROW('Mapa de Endereços'!$F$6)+1)/(('Mapa de Endereços'!$J$6:$J$205="VAZIA")*('Mapa de Endereços'!$K$6:$K$205="OK")),ROWS($A$11:A12))),"") | D12: =IFERROR(INDEX('Mapa de Endereços'!$C$6:$C$205,AGGREGATE(15,6,(ROW('Mapa de Endereços'!$F$6:$F$205)-ROW('Mapa de Endereços'!$F$6)+1)/(('Mapa de Endereços'!$J$6:$J$205="VAZIA")*('Mapa de Endereços'!$K$6:$K$205="OK")),ROWS($A$11:A12))),"") | E12: =IFERROR(INDEX('Mapa de Endereços'!$D$6:$D$205,AGGREGATE(15,6,(ROW('Mapa de Endereços'!$F$6:$F$205)-ROW('Mapa de Endereços'!$F$6)+1)/(('Mapa de Endereços'!$J$6:$J$205="VAZIA")*('Mapa de Endereços'!$K$6:$K$205="OK")),ROWS($A$11:A12))),"") | F12: =IFERROR(INDEX('Mapa de Endereços'!$E$6:$E$205,AGGREGATE(15,6,(ROW('Mapa de Endereços'!$F$6:$F$205)-ROW('Mapa de Endereços'!$F$6)+1)/(('Mapa de Endereços'!$J$6:$J$205="VAZIA")*('Mapa de Endereços'!$K$6:$K$205="OK")),ROWS($A$11:A12))),"") | H12: =IFERROR(INDEX('Ocupação'!$G$6:$G$505,AGGREGATE(15,6,(ROW('Ocupação'!$G$6:$G$505)-ROW('Ocupação'!$G$6)+1)/(('Ocupação'!$N$6:$N$505=1)*('Ocupação'!$O$6:$O$505>1)),ROWS($H$11:H12))),"") | I12: =IFERROR(INDEX('Ocupação'!$H$6:$H$505,AGGREGATE(15,6,(ROW('Ocupação'!$G$6:$G$505)-ROW('Ocupação'!$G$6)+1)/(('Ocupação'!$N$6:$N$505=1)*('Ocupação'!$O$6:$O$505>1)),ROWS($H$11:H12))),"") | J12: =IF(H12="","",COUNTIFS('Ocupação'!$G$6:$G$505,H12,'Ocupação'!$M$6:$M$505,"Sim")) | K12: =IF(H12="","",SUMIFS('Ocupação'!$I$6:$I$505,'Ocupação'!$G$6:$G$505,H12,'Ocupação'!$M$6:$M$505,"Sim"))
A13: =IFERROR(INDEX('Mapa de Endereços'!$F$6:$F$205,AGGREGATE(15,6,(ROW('Mapa de Endereços'!$F$6:$F$205)-ROW('Mapa de Endereços'!$F$6)+1)/(('Mapa de Endereços'!$J$6:$J$205="VAZIA")*('Mapa de Endereços'!$K$6:$K$205="OK")),ROWS($A$11:A13))),"") | B13: =IFERROR(INDEX('Mapa de Endereços'!$A$6:$A$205,AGGREGATE(15,6,(ROW('Mapa de Endereços'!$F$6:$F$205)-ROW('Mapa de Endereços'!$F$6)+1)/(('Mapa de Endereços'!$J$6:$J$205="VAZIA")*('Mapa de Endereços'!$K$6:$K$205="OK")),ROWS($A$11:A13))),"") | C13: =IFERROR(INDEX('Mapa de Endereços'!$B$6:$B$205,AGGREGATE(15,6,(ROW('Mapa de Endereços'!$F$6:$F$205)-ROW('Mapa de Endereços'!$F$6)+1)/(('Mapa de Endereços'!$J$6:$J$205="VAZIA")*('Mapa de Endereços'!$K$6:$K$205="OK")),ROWS($A$11:A13))),"") | D13: =IFERROR(INDEX('Mapa de Endereços'!$C$6:$C$205,AGGREGATE(15,6,(ROW('Mapa de Endereços'!$F$6:$F$205)-ROW('Mapa de Endereços'!$F$6)+1)/(('Mapa de Endereços'!$J$6:$J$205="VAZIA")*('Mapa de Endereços'!$K$6:$K$205="OK")),ROWS($A$11:A13))),"") | E13: =IFERROR(INDEX('Mapa de Endereços'!$D$6:$D$205,AGGREGATE(15,6,(ROW('Mapa de Endereços'!$F$6:$F$205)-ROW('Mapa de Endereços'!$F$6)+1)/(('Mapa de Endereços'!$J$6:$J$205="VAZIA")*('Mapa de Endereços'!$K$6:$K$205="OK")),ROWS($A$11:A13))),"") | F13: =IFERROR(INDEX('Mapa de Endereços'!$E$6:$E$205,AGGREGATE(15,6,(ROW('Mapa de Endereços'!$F$6:$F$205)-ROW('Mapa de Endereços'!$F$6)+1)/(('Mapa de Endereços'!$J$6:$J$205="VAZIA")*('Mapa de Endereços'!$K$6:$K$205="OK")),ROWS($A$11:A13))),"") | H13: =IFERROR(INDEX('Ocupação'!$G$6:$G$505,AGGREGATE(15,6,(ROW('Ocupação'!$G$6:$G$505)-ROW('Ocupação'!$G$6)+1)/(('Ocupação'!$N$6:$N$505=1)*('Ocupação'!$O$6:$O$505>1)),ROWS($H$11:H13))),"") | I13: =IFERROR(INDEX('Ocupação'!$H$6:$H$505,AGGREGATE(15,6,(ROW('Ocupação'!$G$6:$G$505)-ROW('Ocupação'!$G$6)+1)/(('Ocupação'!$N$6:$N$505=1)*('Ocupação'!$O$6:$O$505>1)),ROWS($H$11:H13))),"") | J13: =IF(H13="","",COUNTIFS('Ocupação'!$G$6:$G$505,H13,'Ocupação'!$M$6:$M$505,"Sim")) | K13: =IF(H13="","",SUMIFS('Ocupação'!$I$6:$I$505,'Ocupação'!$G$6:$G$505,H13,'Ocupação'!$M$6:$M$505,"Sim"))
A14: =IFERROR(INDEX('Mapa de Endereços'!$F$6:$F$205,AGGREGATE(15,6,(ROW('Mapa de Endereços'!$F$6:$F$205)-ROW('Mapa de Endereços'!$F$6)+1)/(('Mapa de Endereços'!$J$6:$J$205="VAZIA")*('Mapa de Endereços'!$K$6:$K$205="OK")),ROWS($A$11:A14))),"") | B14: =IFERROR(INDEX('Mapa de Endereços'!$A$6:$A$205,AGGREGATE(15,6,(ROW('Mapa de Endereços'!$F$6:$F$205)-ROW('Mapa de Endereços'!$F$6)+1)/(('Mapa de Endereços'!$J$6:$J$205="VAZIA")*('Mapa de Endereços'!$K$6:$K$205="OK")),ROWS($A$11:A14))),"") | C14: =IFERROR(INDEX('Mapa de Endereços'!$B$6:$B$205,AGGREGATE(15,6,(ROW('Mapa de Endereços'!$F$6:$F$205)-ROW('Mapa de Endereços'!$F$6)+1)/(('Mapa de Endereços'!$J$6:$J$205="VAZIA")*('Mapa de Endereços'!$K$6:$K$205="OK")),ROWS($A$11:A14))),"") | D14: =IFERROR(INDEX('Mapa de Endereços'!$C$6:$C$205,AGGREGATE(15,6,(ROW('Mapa de Endereços'!$F$6:$F$205)-ROW('Mapa de Endereços'!$F$6)+1)/(('Mapa de Endereços'!$J$6:$J$205="VAZIA")*('Mapa de Endereços'!$K$6:$K$205="OK")),ROWS($A$11:A14))),"") | E14: =IFERROR(INDEX('Mapa de Endereços'!$D$6:$D$205,AGGREGATE(15,6,(ROW('Mapa de Endereços'!$F$6:$F$205)-ROW('Mapa de Endereços'!$F$6)+1)/(('Mapa de Endereços'!$J$6:$J$205="VAZIA")*('Mapa de Endereços'!$K$6:$K$205="OK")),ROWS($A$11:A14))),"") | F14: =IFERROR(INDEX('Mapa de Endereços'!$E$6:$E$205,AGGREGATE(15,6,(ROW('Mapa de Endereços'!$F$6:$F$205)-ROW('Mapa de Endereços'!$F$6)+1)/(('Mapa de Endereços'!$J$6:$J$205="VAZIA")*('Mapa de Endereços'!$K$6:$K$205="OK")),ROWS($A$11:A14))),"") | H14: =IFERROR(INDEX('Ocupação'!$G$6:$G$505,AGGREGATE(15,6,(ROW('Ocupação'!$G$6:$G$505)-ROW('Ocupação'!$G$6)+1)/(('Ocupação'!$N$6:$N$505=1)*('Ocupação'!$O$6:$O$505>1)),ROWS($H$11:H14))),"") | I14: =IFERROR(INDEX('Ocupação'!$H$6:$H$505,AGGREGATE(15,6,(ROW('Ocupação'!$G$6:$G$505)-ROW('Ocupação'!$G$6)+1)/(('Ocupação'!$N$6:$N$505=1)*('Ocupação'!$O$6:$O$505>1)),ROWS($H$11:H14))),"") | J14: =IF(H14="","",COUNTIFS('Ocupação'!$G$6:$G$505,H14,'Ocupação'!$M$6:$M$505,"Sim")) | K14: =IF(H14="","",SUMIFS('Ocupação'!$I$6:$I$505,'Ocupação'!$G$6:$G$505,H14,'Ocupação'!$M$6:$M$505,"Sim"))
A15: =IFERROR(INDEX('Mapa de Endereços'!$F$6:$F$205,AGGREGATE(15,6,(ROW('Mapa de Endereços'!$F$6:$F$205)-ROW('Mapa de Endereços'!$F$6)+1)/(('Mapa de Endereços'!$J$6:$J$205="VAZIA")*('Mapa de Endereços'!$K$6:$K$205="OK")),ROWS($A$11:A15))),"") | B15: =IFERROR(INDEX('Mapa de Endereços'!$A$6:$A$205,AGGREGATE(15,6,(ROW('Mapa de Endereços'!$F$6:$F$205)-ROW('Mapa de Endereços'!$F$6)+1)/(('Mapa de Endereços'!$J$6:$J$205="VAZIA")*('Mapa de Endereços'!$K$6:$K$205="OK")),ROWS($A$11:A15))),"") | C15: =IFERROR(INDEX('Mapa de Endereços'!$B$6:$B$205,AGGREGATE(15,6,(ROW('Mapa de Endereços'!$F$6:$F$205)-ROW('Mapa de Endereços'!$F$6)+1)/(('Mapa de Endereços'!$J$6:$J$205="VAZIA")*('Mapa de Endereços'!$K$6:$K$205="OK")),ROWS($A$11:A15))),"") | D15: =IFERROR(INDEX('Mapa de Endereços'!$C$6:$C$205,AGGREGATE(15,6,(ROW('Mapa de Endereços'!$F$6:$F$205)-ROW('Mapa de Endereços'!$F$6)+1)/(('Mapa de Endereços'!$J$6:$J$205="VAZIA")*('Mapa de Endereços'!$K$6:$K$205="OK")),ROWS($A$11:A15))),"") | E15: =IFERROR(INDEX('Mapa de Endereços'!$D$6:$D$205,AGGREGATE(15,6,(ROW('Mapa de Endereços'!$F$6:$F$205)-ROW('Mapa de Endereços'!$F$6)+1)/(('Mapa de Endereços'!$J$6:$J$205="VAZIA")*('Mapa de Endereços'!$K$6:$K$205="OK")),ROWS($A$11:A15))),"") | F15: =IFERROR(INDEX('Mapa de Endereços'!$E$6:$E$205,AGGREGATE(15,6,(ROW('Mapa de Endereços'!$F$6:$F$205)-ROW('Mapa de Endereços'!$F$6)+1)/(('Mapa de Endereços'!$J$6:$J$205="VAZIA")*('Mapa de Endereços'!$K$6:$K$205="OK")),ROWS($A$11:A15))),"") | H15: =IFERROR(INDEX('Ocupação'!$G$6:$G$505,AGGREGATE(15,6,(ROW('Ocupação'!$G$6:$G$505)-ROW('Ocupação'!$G$6)+1)/(('Ocupação'!$N$6:$N$505=1)*('Ocupação'!$O$6:$O$505>1)),ROWS($H$11:H15))),"") | I15: =IFERROR(INDEX('Ocupação'!$H$6:$H$505,AGGREGATE(15,6,(ROW('Ocupação'!$G$6:$G$505)-ROW('Ocupação'!$G$6)+1)/(('Ocupação'!$N$6:$N$505=1)*('Ocupação'!$O$6:$O$505>1)),ROWS($H$11:H15))),"") | J15: =IF(H15="","",COUNTIFS('Ocupação'!$G$6:$G$505,H15,'Ocupação'!$M$6:$M$505,"Sim")) | K15: =IF(H15="","",SUMIFS('Ocupação'!$I$6:$I$505,'Ocupação'!$G$6:$G$505,H15,'Ocupação'!$M$6:$M$505,"Sim"))
A16: =IFERROR(INDEX('Mapa de Endereços'!$F$6:$F$205,AGGREGATE(15,6,(ROW('Mapa de Endereços'!$F$6:$F$205)-ROW('Mapa de Endereços'!$F$6)+1)/(('Mapa de Endereços'!$J$6:$J$205="VAZIA")*('Mapa de Endereços'!$K$6:$K$205="OK")),ROWS($A$11:A16))),"") | B16: =IFERROR(INDEX('Mapa de Endereços'!$A$6:$A$205,AGGREGATE(15,6,(ROW('Mapa de Endereços'!$F$6:$F$205)-ROW('Mapa de Endereços'!$F$6)+1)/(('Mapa de Endereços'!$J$6:$J$205="VAZIA")*('Mapa de Endereços'!$K$6:$K$205="OK")),ROWS($A$11:A16))),"") | C16: =IFERROR(INDEX('Mapa de Endereços'!$B$6:$B$205,AGGREGATE(15,6,(ROW('Mapa de Endereços'!$F$6:$F$205)-ROW('Mapa de Endereços'!$F$6)+1)/(('Mapa de Endereços'!$J$6:$J$205="VAZIA")*('Mapa de Endereços'!$K$6:$K$205="OK")),ROWS($A$11:A16))),"") | D16: =IFERROR(INDEX('Mapa de Endereços'!$C$6:$C$205,AGGREGATE(15,6,(ROW('Mapa de Endereços'!$F$6:$F$205)-ROW('Mapa de Endereços'!$F$6)+1)/(('Mapa de Endereços'!$J$6:$J$205="VAZIA")*('Mapa de Endereços'!$K$6:$K$205="OK")),ROWS($A$11:A16))),"") | E16: =IFERROR(INDEX('Mapa de Endereços'!$D$6:$D$205,AGGREGATE(15,6,(ROW('Mapa de Endereços'!$F$6:$F$205)-ROW('Mapa de Endereços'!$F$6)+1)/(('Mapa de Endereços'!$J$6:$J$205="VAZIA")*('Mapa de Endereços'!$K$6:$K$205="OK")),ROWS($A$11:A16))),"") | F16: =IFERROR(INDEX('Mapa de Endereços'!$E$6:$E$205,AGGREGATE(15,6,(ROW('Mapa de Endereços'!$F$6:$F$205)-ROW('Mapa de Endereços'!$F$6)+1)/(('Mapa de Endereços'!$J$6:$J$205="VAZIA")*('Mapa de Endereços'!$K$6:$K$205="OK")),ROWS($A$11:A16))),"") | H16: =IFERROR(INDEX('Ocupação'!$G$6:$G$505,AGGREGATE(15,6,(ROW('Ocupação'!$G$6:$G$505)-ROW('Ocupação'!$G$6)+1)/(('Ocupação'!$N$6:$N$505=1)*('Ocupação'!$O$6:$O$505>1)),ROWS($H$11:H16))),"") | I16: =IFERROR(INDEX('Ocupação'!$H$6:$H$505,AGGREGATE(15,6,(ROW('Ocupação'!$G$6:$G$505)-ROW('Ocupação'!$G$6)+1)/(('Ocupação'!$N$6:$N$505=1)*('Ocupação'!$O$6:$O$505>1)),ROWS($H$11:H16))),"") | J16: =IF(H16="","",COUNTIFS('Ocupação'!$G$6:$G$505,H16,'Ocupação'!$M$6:$M$505,"Sim")) | K16: =IF(H16="","",SUMIFS('Ocupação'!$I$6:$I$505,'Ocupação'!$G$6:$G$505,H16,'Ocupação'!$M$6:$M$505,"Sim"))
A17: =IFERROR(INDEX('Mapa de Endereços'!$F$6:$F$205,AGGREGATE(15,6,(ROW('Mapa de Endereços'!$F$6:$F$205)-ROW('Mapa de Endereços'!$F$6)+1)/(('Mapa de Endereços'!$J$6:$J$205="VAZIA")*('Mapa de Endereços'!$K$6:$K$205="OK")),ROWS($A$11:A17))),"") | B17: =IFERROR(INDEX('Mapa de Endereços'!$A$6:$A$205,AGGREGATE(15,6,(ROW('Mapa de Endereços'!$F$6:$F$205)-ROW('Mapa de Endereços'!$F$6)+1)/(('Mapa de Endereços'!$J$6:$J$205="VAZIA")*('Mapa de Endereços'!$K$6:$K$205="OK")),ROWS($A$11:A17))),"") | C17: =IFERROR(INDEX('Mapa de Endereços'!$B$6:$B$205,AGGREGATE(15,6,(ROW('Mapa de Endereços'!$F$6:$F$205)-ROW('Mapa de Endereços'!$F$6)+1)/(('Mapa de Endereços'!$J$6:$J$205="VAZIA")*('Mapa de Endereços'!$K$6:$K$205="OK")),ROWS($A$11:A17))),"") | D17: =IFERROR(INDEX('Mapa de Endereços'!$C$6:$C$205,AGGREGATE(15,6,(ROW('Mapa de Endereços'!$F$6:$F$205)-ROW('Mapa de Endereços'!$F$6)+1)/(('Mapa de Endereços'!$J$6:$J$205="VAZIA")*('Mapa de Endereços'!$K$6:$K$205="OK")),ROWS($A$11:A17))),"") | E17: =IFERROR(INDEX('Mapa de Endereços'!$D$6:$D$205,AGGREGATE(15,6,(ROW('Mapa de Endereços'!$F$6:$F$205)-ROW('Mapa de Endereços'!$F$6)+1)/(('Mapa de Endereços'!$J$6:$J$205="VAZIA")*('Mapa de Endereços'!$K$6:$K$205="OK")),ROWS($A$11:A17))),"") | F17: =IFERROR(INDEX('Mapa de Endereços'!$E$6:$E$205,AGGREGATE(15,6,(ROW('Mapa de Endereços'!$F$6:$F$205)-ROW('Mapa de Endereços'!$F$6)+1)/(('Mapa de Endereços'!$J$6:$J$205="VAZIA")*('Mapa de Endereços'!$K$6:$K$205="OK")),ROWS($A$11:A17))),"") | H17: =IFERROR(INDEX('Ocupação'!$G$6:$G$505,AGGREGATE(15,6,(ROW('Ocupação'!$G$6:$G$505)-ROW('Ocupação'!$G$6)+1)/(('Ocupação'!$N$6:$N$505=1)*('Ocupação'!$O$6:$O$505>1)),ROWS($H$11:H17))),"") | I17: =IFERROR(INDEX('Ocupação'!$H$6:$H$505,AGGREGATE(15,6,(ROW('Ocupação'!$G$6:$G$505)-ROW('Ocupação'!$G$6)+1)/(('Ocupação'!$N$6:$N$505=1)*('Ocupação'!$O$6:$O$505>1)),ROWS($H$11:H17))),"") | J17: =IF(H17="","",COUNTIFS('Ocupação'!$G$6:$G$505,H17,'Ocupação'!$M$6:$M$505,"Sim")) | K17: =IF(H17="","",SUMIFS('Ocupação'!$I$6:$I$505,'Ocupação'!$G$6:$G$505,H17,'Ocupação'!$M$6:$M$505,"Sim"))
A18: =IFERROR(INDEX('Mapa de Endereços'!$F$6:$F$205,AGGREGATE(15,6,(ROW('Mapa de Endereços'!$F$6:$F$205)-ROW('Mapa de Endereços'!$F$6)+1)/(('Mapa de Endereços'!$J$6:$J$205="VAZIA")*('Mapa de Endereços'!$K$6:$K$205="OK")),ROWS($A$11:A18))),"") | B18: =IFERROR(INDEX('Mapa de Endereços'!$A$6:$A$205,AGGREGATE(15,6,(ROW('Mapa de Endereços'!$F$6:$F$205)-ROW('Mapa de Endereços'!$F$6)+1)/(('Mapa de Endereços'!$J$6:$J$205="VAZIA")*('Mapa de Endereços'!$K$6:$K$205="OK")),ROWS($A$11:A18))),"") | C18: =IFERROR(INDEX('Mapa de Endereços'!$B$6:$B$205,AGGREGATE(15,6,(ROW('Mapa de Endereços'!$F$6:$F$205)-ROW('Mapa de Endereços'!$F$6)+1)/(('Mapa de Endereços'!$J$6:$J$205="VAZIA")*('Mapa de Endereços'!$K$6:$K$205="OK")),ROWS($A$11:A18))),"") | D18: =IFERROR(INDEX('Mapa de Endereços'!$C$6:$C$205,AGGREGATE(15,6,(ROW('Mapa de Endereços'!$F$6:$F$205)-ROW('Mapa de Endereços'!$F$6)+1)/(('Mapa de Endereços'!$J$6:$J$205="VAZIA")*('Mapa de Endereços'!$K$6:$K$205="OK")),ROWS($A$11:A18))),"") | E18: =IFERROR(INDEX('Mapa de Endereços'!$D$6:$D$205,AGGREGATE(15,6,(ROW('Mapa de Endereços'!$F$6:$F$205)-ROW('Mapa de Endereços'!$F$6)+1)/(('Mapa de Endereços'!$J$6:$J$205="VAZIA")*('Mapa de Endereços'!$K$6:$K$205="OK")),ROWS($A$11:A18))),"") | F18: =IFERROR(INDEX('Mapa de Endereços'!$E$6:$E$205,AGGREGATE(15,6,(ROW('Mapa de Endereços'!$F$6:$F$205)-ROW('Mapa de Endereços'!$F$6)+1)/(('Mapa de Endereços'!$J$6:$J$205="VAZIA")*('Mapa de Endereços'!$K$6:$K$205="OK")),ROWS($A$11:A18))),"") | H18: =IFERROR(INDEX('Ocupação'!$G$6:$G$505,AGGREGATE(15,6,(ROW('Ocupação'!$G$6:$G$505)-ROW('Ocupação'!$G$6)+1)/(('Ocupação'!$N$6:$N$505=1)*('Ocupação'!$O$6:$O$505>1)),ROWS($H$11:H18))),"") | I18: =IFERROR(INDEX('Ocupação'!$H$6:$H$505,AGGREGATE(15,6,(ROW('Ocupação'!$G$6:$G$505)-ROW('Ocupação'!$G$6)+1)/(('Ocupação'!$N$6:$N$505=1)*('Ocupação'!$O$6:$O$505>1)),ROWS($H$11:H18))),"") | J18: =IF(H18="","",COUNTIFS('Ocupação'!$G$6:$G$505,H18,'Ocupação'!$M$6:$M$505,"Sim")) | K18: =IF(H18="","",SUMIFS('Ocupação'!$I$6:$I$505,'Ocupação'!$G$6:$G$505,H18,'Ocupação'!$M$6:$M$505,"Sim"))
A19: =IFERROR(INDEX('Mapa de Endereços'!$F$6:$F$205,AGGREGATE(15,6,(ROW('Mapa de Endereços'!$F$6:$F$205)-ROW('Mapa de Endereços'!$F$6)+1)/(('Mapa de Endereços'!$J$6:$J$205="VAZIA")*('Mapa de Endereços'!$K$6:$K$205="OK")),ROWS($A$11:A19))),"") | B19: =IFERROR(INDEX('Mapa de Endereços'!$A$6:$A$205,AGGREGATE(15,6,(ROW('Mapa de Endereços'!$F$6:$F$205)-ROW('Mapa de Endereços'!$F$6)+1)/(('Mapa de Endereços'!$J$6:$J$205="VAZIA")*('Mapa de Endereços'!$K$6:$K$205="OK")),ROWS($A$11:A19))),"") | C19: =IFERROR(INDEX('Mapa de Endereços'!$B$6:$B$205,AGGREGATE(15,6,(ROW('Mapa de Endereços'!$F$6:$F$205)-ROW('Mapa de Endereços'!$F$6)+1)/(('Mapa de Endereços'!$J$6:$J$205="VAZIA")*('Mapa de Endereços'!$K$6:$K$205="OK")),ROWS($A$11:A19))),"") | D19: =IFERROR(INDEX('Mapa de Endereços'!$C$6:$C$205,AGGREGATE(15,6,(ROW('Mapa de Endereços'!$F$6:$F$205)-ROW('Mapa de Endereços'!$F$6)+1)/(('Mapa de Endereços'!$J$6:$J$205="VAZIA")*('Mapa de Endereços'!$K$6:$K$205="OK")),ROWS($A$11:A19))),"") | E19: =IFERROR(INDEX('Mapa de Endereços'!$D$6:$D$205,AGGREGATE(15,6,(ROW('Mapa de Endereços'!$F$6:$F$205)-ROW('Mapa de Endereços'!$F$6)+1)/(('Mapa de Endereços'!$J$6:$J$205="VAZIA")*('Mapa de Endereços'!$K$6:$K$205="OK")),ROWS($A$11:A19))),"") | F19: =IFERROR(INDEX('Mapa de Endereços'!$E$6:$E$205,AGGREGATE(15,6,(ROW('Mapa de Endereços'!$F$6:$F$205)-ROW('Mapa de Endereços'!$F$6)+1)/(('Mapa de Endereços'!$J$6:$J$205="VAZIA")*('Mapa de Endereços'!$K$6:$K$205="OK")),ROWS($A$11:A19))),"") | H19: =IFERROR(INDEX('Ocupação'!$G$6:$G$505,AGGREGATE(15,6,(ROW('Ocupação'!$G$6:$G$505)-ROW('Ocupação'!$G$6)+1)/(('Ocupação'!$N$6:$N$505=1)*('Ocupação'!$O$6:$O$505>1)),ROWS($H$11:H19))),"") | I19: =IFERROR(INDEX('Ocupação'!$H$6:$H$505,AGGREGATE(15,6,(ROW('Ocupação'!$G$6:$G$505)-ROW('Ocupação'!$G$6)+1)/(('Ocupação'!$N$6:$N$505=1)*('Ocupação'!$O$6:$O$505>1)),ROWS($H$11:H19))),"") | J19: =IF(H19="","",COUNTIFS('Ocupação'!$G$6:$G$505,H19,'Ocupação'!$M$6:$M$505,"Sim")) | K19: =IF(H19="","",SUMIFS('Ocupação'!$I$6:$I$505,'Ocupação'!$G$6:$G$505,H19,'Ocupação'!$M$6:$M$505,"Sim"))
A20: =IFERROR(INDEX('Mapa de Endereços'!$F$6:$F$205,AGGREGATE(15,6,(ROW('Mapa de Endereços'!$F$6:$F$205)-ROW('Mapa de Endereços'!$F$6)+1)/(('Mapa de Endereços'!$J$6:$J$205="VAZIA")*('Mapa de Endereços'!$K$6:$K$205="OK")),ROWS($A$11:A20))),"") | B20: =IFERROR(INDEX('Mapa de Endereços'!$A$6:$A$205,AGGREGATE(15,6,(ROW('Mapa de Endereços'!$F$6:$F$205)-ROW('Mapa de Endereços'!$F$6)+1)/(('Mapa de Endereços'!$J$6:$J$205="VAZIA")*('Mapa de Endereços'!$K$6:$K$205="OK")),ROWS($A$11:A20))),"") | C20: =IFERROR(INDEX('Mapa de Endereços'!$B$6:$B$205,AGGREGATE(15,6,(ROW('Mapa de Endereços'!$F$6:$F$205)-ROW('Mapa de Endereços'!$F$6)+1)/(('Mapa de Endereços'!$J$6:$J$205="VAZIA")*('Mapa de Endereços'!$K$6:$K$205="OK")),ROWS($A$11:A20))),"") | D20: =IFERROR(INDEX('Mapa de Endereços'!$C$6:$C$205,AGGREGATE(15,6,(ROW('Mapa de Endereços'!$F$6:$F$205)-ROW('Mapa de Endereços'!$F$6)+1)/(('Mapa de Endereços'!$J$6:$J$205="VAZIA")*('Mapa de Endereços'!$K$6:$K$205="OK")),ROWS($A$11:A20))),"") | E20: =IFERROR(INDEX('Mapa de Endereços'!$D$6:$D$205,AGGREGATE(15,6,(ROW('Mapa de Endereços'!$F$6:$F$205)-ROW('Mapa de Endereços'!$F$6)+1)/(('Mapa de Endereços'!$J$6:$J$205="VAZIA")*('Mapa de Endereços'!$K$6:$K$205="OK")),ROWS($A$11:A20))),"") | F20: =IFERROR(INDEX('Mapa de Endereços'!$E$6:$E$205,AGGREGATE(15,6,(ROW('Mapa de Endereços'!$F$6:$F$205)-ROW('Mapa de Endereços'!$F$6)+1)/(('Mapa de Endereços'!$J$6:$J$205="VAZIA")*('Mapa de Endereços'!$K$6:$K$205="OK")),ROWS($A$11:A20))),"") | H20: =IFERROR(INDEX('Ocupação'!$G$6:$G$505,AGGREGATE(15,6,(ROW('Ocupação'!$G$6:$G$505)-ROW('Ocupação'!$G$6)+1)/(('Ocupação'!$N$6:$N$505=1)*('Ocupação'!$O$6:$O$505>1)),ROWS($H$11:H20))),"") | I20: =IFERROR(INDEX('Ocupação'!$H$6:$H$505,AGGREGATE(15,6,(ROW('Ocupação'!$G$6:$G$505)-ROW('Ocupação'!$G$6)+1)/(('Ocupação'!$N$6:$N$505=1)*('Ocupação'!$O$6:$O$505>1)),ROWS($H$11:H20))),"") | J20: =IF(H20="","",COUNTIFS('Ocupação'!$G$6:$G$505,H20,'Ocupação'!$M$6:$M$505,"Sim")) | K20: =IF(H20="","",SUMIFS('Ocupação'!$I$6:$I$505,'Ocupação'!$G$6:$G$505,H20,'Ocupação'!$M$6:$M$505,"Sim"))

Sheet Mapa de Endereços
A1: Mapa de endereços físicos
A2: Preencha depósito, zona, rua, módulo, nível e situação ativa. As demais colunas são calculadas.
A3: Todos os registros de exemplo são fictícios.
A5: Depósito | B5: Zona | C5: Rua | D5: Módulo | E5: Nível | F5: Código do endereço | G5: Ativo? | H5: Saldo na posição | I5: SKUs distintos | J5: Situação | K5: Verificação
A6: CD Aurora Fictício | B6: A | C6: 01 | D6: 01 | E6: 01 | F6: =IF(COUNTA(A6:E6)=0,"",IF(COUNTBLANK(A6:E6)>0,"INCOMPLETO",A6&"|"&B6&"|"&C6&"|"&D6&"|"&E6)) | G6: Sim | H6: =IF(K6="","",IF(K6<>"OK","",SUMIFS('Ocupação'!$I$6:$I$505,'Ocupação'!$A$6:$A$505,F6,'Ocupação'!$M$6:$M$505,"Sim"))) | I6: =IF(K6="","",IF(K6<>"OK","",COUNTIFS('Ocupação'!$A$6:$A$505,F6,'Ocupação'!$M$6:$M$505,"Sim"))) | J6: =IF(K6="","",IF(K6<>"OK","REVISAR",IF(G6="Não","INATIVA",IF(H6>0,"OCUPADA","VAZIA")))) | K6: =IF(AND(A6="",B6="",C6="",D6="",E6="",G6=""),"",IF(COUNTBLANK(A6:E6)>0,"ENDEREÇO INCOMPLETO",IF(COUNTIF($F$6:$F$205,F6)>1,"ENDEREÇO DUPLICADO",IF(OR(G6="Sim",G6="Não"),"OK","REVISAR ATIVO"))))
A7: CD Aurora Fictício | B7: A | C7: 01 | D7: 01 | E7: 02 | F7: =IF(COUNTA(A7:E7)=0,"",IF(COUNTBLANK(A7:E7)>0,"INCOMPLETO",A7&"|"&B7&"|"&C7&"|"&D7&"|"&E7)) | G7: Sim | H7: =IF(K7="","",IF(K7<>"OK","",SUMIFS('Ocupação'!$I$6:$I$505,'Ocupação'!$A$6:$A$505,F7,'Ocupação'!$M$6:$M$505,"Sim"))) | I7: =IF(K7="","",IF(K7<>"OK","",COUNTIFS('Ocupação'!$A$6:$A$505,F7,'Ocupação'!$M$6:$M$505,"Sim"))) | J7: =IF(K7="","",IF(K7<>"OK","REVISAR",IF(G7="Não","INATIVA",IF(H7>0,"OCUPADA","VAZIA")))) | K7: =IF(AND(A7="",B7="",C7="",D7="",E7="",G7=""),"",IF(COUNTBLANK(A7:E7)>0,"ENDEREÇO INCOMPLETO",IF(COUNTIF($F$6:$F$205,F7)>1,"ENDEREÇO DUPLICADO",IF(OR(G7="Sim",G7="Não"),"OK","REVISAR ATIVO"))))
A8: CD Aurora Fictício | B8: A | C8: 01 | D8: 02 | E8: 01 | F8: =IF(COUNTA(A8:E8)=0,"",IF(COUNTBLANK(A8:E8)>0,"INCOMPLETO",A8&"|"&B8&"|"&C8&"|"&D8&"|"&E8)) | G8: Sim | H8: =IF(K8="","",IF(K8<>"OK","",SUMIFS('Ocupação'!$I$6:$I$505,'Ocupação'!$A$6:$A$505,F8,'Ocupação'!$M$6:$M$505,"Sim"))) | I8: =IF(K8="","",IF(K8<>"OK","",COUNTIFS('Ocupação'!$A$6:$A$505,F8,'Ocupação'!$M$6:$M$505,"Sim"))) | J8: =IF(K8="","",IF(K8<>"OK","REVISAR",IF(G8="Não","INATIVA",IF(H8>0,"OCUPADA","VAZIA")))) | K8: =IF(AND(A8="",B8="",C8="",D8="",E8="",G8=""),"",IF(COUNTBLANK(A8:E8)>0,"ENDEREÇO INCOMPLETO",IF(COUNTIF($F$6:$F$205,F8)>1,"ENDEREÇO DUPLICADO",IF(OR(G8="Sim",G8="Não"),"OK","REVISAR ATIVO"))))
A9: CD Aurora Fictício | B9: A | C9: 01 | D9: 02 | E9: 02 | F9: =IF(COUNTA(A9:E9)=0,"",IF(COUNTBLANK(A9:E9)>0,"INCOMPLETO",A9&"|"&B9&"|"&C9&"|"&D9&"|"&E9)) | G9: Sim | H9: =IF(K9="","",IF(K9<>"OK","",SUMIFS('Ocupação'!$I$6:$I$505,'Ocupação'!$A$6:$A$505,F9,'Ocupação'!$M$6:$M$505,"Sim"))) | I9: =IF(K9="","",IF(K9<>"OK","",COUNTIFS('Ocupação'!$A$6:$A$505,F9,'Ocupação'!$M$6:$M$505,"Sim"))) | J9: =IF(K9="","",IF(K9<>"OK","REVISAR",IF(G9="Não","INATIVA",IF(H9>0,"OCUPADA","VAZIA")))) | K9: =IF(AND(A9="",B9="",C9="",D9="",E9="",G9=""),"",IF(COUNTBLANK(A9:E9)>0,"ENDEREÇO INCOMPLETO",IF(COUNTIF($F$6:$F$205,F9)>1,"ENDEREÇO DUPLICADO",IF(OR(G9="Sim",G9="Não"),"OK","REVISAR ATIVO"))))
A10: CD Aurora Fictício | B10: B | C10: 02 | D10: 01 | E10: 01 | F10: =IF(COUNTA(A10:E10)=0,"",IF(COUNTBLANK(A10:E10)>0,"INCOMPLETO",A10&"|"&B10&"|"&C10&"|"&D10&"|"&E10)) | G10: Sim | H10: =IF(K10="","",IF(K10<>"OK","",SUMIFS('Ocupação'!$I$6:$I$505,'Ocupação'!$A$6:$A$505,F10,'Ocupação'!$M$6:$M$505,"Sim"))) | I10: =IF(K10="","",IF(K10<>"OK","",COUNTIFS('Ocupação'!$A$6:$A$505,F10,'Ocupação'!$M$6:$M$505,"Sim"))) | J10: =IF(K10="","",IF(K10<>"OK","REVISAR",IF(G10="Não","INATIVA",IF(H10>0,"OCUPADA","VAZIA")))) | K10: =IF(AND(A10="",B10="",C10="",D10="",E10="",G10=""),"",IF(COUNTBLANK(A10:E10)>0,"ENDEREÇO INCOMPLETO",IF(COUNTIF($F$6:$F$205,F10)>1,"ENDEREÇO DUPLICADO",IF(OR(G10="Sim",G10="Não"),"OK","REVISAR ATIVO"))))
A11: CD Aurora Fictício | B11: B | C11: 02 | D11: 01 | E11: 02 | F11: =IF(COUNTA(A11:E11)=0,"",IF(COUNTBLANK(A11:E11)>0,"INCOMPLETO",A11&"|"&B11&"|"&C11&"|"&D11&"|"&E11)) | G11: Sim | H11: =IF(K11="","",IF(K11<>"OK","",SUMIFS('Ocupação'!$I$6:$I$505,'Ocupação'!$A$6:$A$505,F11,'Ocupação'!$M$6:$M$505,"Sim"))) | I11: =IF(K11="","",IF(K11<>"OK","",COUNTIFS('Ocupação'!$A$6:$A$505,F11,'Ocupação'!$M$6:$M$505,"Sim"))) | J11: =IF(K11="","",IF(K11<>"OK","REVISAR",IF(G11="Não","INATIVA",IF(H11>0,"OCUPADA","VAZIA")))) | K11: =IF(AND(A11="",B11="",C11="",D11="",E11="",G11=""),"",IF(COUNTBLANK(A11:E11)>0,"ENDEREÇO INCOMPLETO",IF(COUNTIF($F$6:$F$205,F11)>1,"ENDEREÇO DUPLICADO",IF(OR(G11="Sim",G11="Não"),"OK","REVISAR ATIVO"))))
A12: CD Aurora Fictício | B12: B | C12: 02 | D12: 02 | E12: 01 | F12: =IF(COUNTA(A12:E12)=0,"",IF(COUNTBLANK(A12:E12)>0,"INCOMPLETO",A12&"|"&B12&"|"&C12&"|"&D12&"|"&E12)) | G12: Sim | H12: =IF(K12="","",IF(K12<>"OK","",SUMIFS('Ocupação'!$I$6:$I$505,'Ocupação'!$A$6:$A$505,F12,'Ocupação'!$M$6:$M$505,"Sim"))) | I12: =IF(K12="","",IF(K12<>"OK","",COUNTIFS('Ocupação'!$A$6:$A$505,F12,'Ocupação'!$M$6:$M$505,"Sim"))) | J12: =IF(K12="","",IF(K12<>"OK","REVISAR",IF(G12="Não","INATIVA",IF(H12>0,"OCUPADA","VAZIA")))) | K12: =IF(AND(A12="",B12="",C12="",D12="",E12="",G12=""),"",IF(COUNTBLANK(A12:E12)>0,"ENDEREÇO INCOMPLETO",IF(COUNTIF($F$6:$F$205,F12)>1,"ENDEREÇO DUPLICADO",IF(OR(G12="Sim",G12="Não"),"OK","REVISAR ATIVO"))))
A13: CD Aurora Fictício | B13: B | C13: 02 | D13: 02 | E13: 02 | F13: =IF(COUNTA(A13:E13)=0,"",IF(COUNTBLANK(A13:E13)>0,"INCOMPLETO",A13&"|"&B13&"|"&C13&"|"&D13&"|"&E13)) | G13: Sim | H13: =IF(K13="","",IF(K13<>"OK","",SUMIFS('Ocupação'!$I$6:$I$505,'Ocupação'!$A$6:$A$505,F13,'Ocupação'!$M$6:$M$505,"Sim"))) | I13: =IF(K13="","",IF(K13<>"OK","",COUNTIFS('Ocupação'!$A$6:$A$505,F13,'Ocupação'!$M$6:$M$505,"Sim"))) | J13: =IF(K13="","",IF(K13<>"OK","REVISAR",IF(G13="Não","INATIVA",IF(H13>0,"OCUPADA","VAZIA")))) | K13: =IF(AND(A13="",B13="",C13="",D13="",E13="",G13=""),"",IF(COUNTBLANK(A13:E13)>0,"ENDEREÇO INCOMPLETO",IF(COUNTIF($F$6:$F$205,F13)>1,"ENDEREÇO DUPLICADO",IF(OR(G13="Sim",G13="Não"),"OK","REVISAR ATIVO"))))
A14: Hub Neblina Fictício | B14: C | C14: 01 | D14: 01 | E14: 01 | F14: =IF(COUNTA(A14:E14)=0,"",IF(COUNTBLANK(A14:E14)>0,"INCOMPLETO",A14&"|"&B14&"|"&C14&"|"&D14&"|"&E14)) | G14: Sim | H14: =IF(K14="","",IF(K14<>"OK","",SUMIFS('Ocupação'!$I$6:$I$505,'Ocupação'!$A$6:$A$505,F14,'Ocupação'!$M$6:$M$505,"Sim"))) | I14: =IF(K14="","",IF(K14<>"OK","",COUNTIFS('Ocupação'!$A$6:$A$505,F14,'Ocupação'!$M$6:$M$505,"Sim"))) | J14: =IF(K14="","",IF(K14<>"OK","REVISAR",IF(G14="Não","INATIVA",IF(H14>0,"OCUPADA","VAZIA")))) | K14: =IF(AND(A14="",B14="",C14="",D14="",E14="",G14=""),"",IF(COUNTBLANK(A14:E14)>0,"ENDEREÇO INCOMPLETO",IF(COUNTIF($F$6:$F$205,F14)>1,"ENDEREÇO DUPLICADO",IF(OR(G14="Sim",G14="Não"),"OK","REVISAR ATIVO"))))
A15: Hub Neblina Fictício | B15: C | C15: 01 | D15: 01 | E15: 02 | F15: =IF(COUNTA(A15:E15)=0,"",IF(COUNTBLANK(A15:E15)>0,"INCOMPLETO",A15&"|"&B15&"|"&C15&"|"&D15&"|"&E15)) | G15: Sim | H15: =IF(K15="","",IF(K15<>"OK","",SUMIFS('Ocupação'!$I$6:$I$505,'Ocupação'!$A$6:$A$505,F15,'Ocupação'!$M$6:$M$505,"Sim"))) | I15: =IF(K15="","",IF(K15<>"OK","",COUNTIFS('Ocupação'!$A$6:$A$505,F15,'Ocupação'!$M$6:$M$505,"Sim"))) | J15: =IF(K15="","",IF(K15<>"OK","REVISAR",IF(G15="Não","INATIVA",IF(H15>0,"OCUPADA","VAZIA")))) | K15: =IF(AND(A15="",B15="",C15="",D15="",E15="",G15=""),"",IF(COUNTBLANK(A15:E15)>0,"ENDEREÇO INCOMPLETO",IF(COUNTIF($F$6:$F$205,F15)>1,"ENDEREÇO DUPLICADO",IF(OR(G15="Sim",G15="Não"),"OK","REVISAR ATIVO"))))
F16: =IF(COUNTA(A16:E16)=0,"",IF(COUNTBLANK(A16:E16)>0,"INCOMPLETO",A16&"|"&B16&"|"&C16&"|"&D16&"|"&E16)) | H16: =IF(K16="","",IF(K16<>"OK","",SUMIFS('Ocupação'!$I$6:$I$505,'Ocupação'!$A$6:$A$505,F16,'Ocupação'!$M$6:$M$505,"Sim"))) | I16: =IF(K16="","",IF(K16<>"OK","",COUNTIFS('Ocupação'!$A$6:$A$505,F16,'Ocupação'!$M$6:$M$505,"Sim"))) | J16: =IF(K16="","",IF(K16<>"OK","REVISAR",IF(G16="Não","INATIVA",IF(H16>0,"OCUPADA","VAZIA")))) | K16: =IF(AND(A16="",B16="",C16="",D16="",E16="",G16=""),"",IF(COUNTBLANK(A16:E16)>0,"ENDEREÇO INCOMPLETO",IF(COUNTIF($F$6:$F$205,F16)>1,"ENDEREÇO DUPLICADO",IF(OR(G16="Sim",G16="Não"),"OK","REVISAR ATIVO"))))
F17: =IF(COUNTA(A17:E17)=0,"",IF(COUNTBLANK(A17:E17)>0,"INCOMPLETO",A17&"|"&B17&"|"&C17&"|"&D17&"|"&E17)) | H17: =IF(K17="","",IF(K17<>"OK","",SUMIFS('Ocupação'!$I$6:$I$505,'Ocupação'!$A$6:$A$505,F17,'Ocupação'!$M$6:$M$505,"Sim"))) | I17: =IF(K17="","",IF(K17<>"OK","",COUNTIFS('Ocupação'!$A$6:$A$505,F17,'Ocupação'!$M$6:$M$505,"Sim"))) | J17: =IF(K17="","",IF(K17<>"OK","REVISAR",IF(G17="Não","INATIVA",IF(H17>0,"OCUPADA","VAZIA")))) | K17: =IF(AND(A17="",B17="",C17="",D17="",E17="",G17=""),"",IF(COUNTBLANK(A17:E17)>0,"ENDEREÇO INCOMPLETO",IF(COUNTIF($F$6:$F$205,F17)>1,"ENDEREÇO DUPLICADO",IF(OR(G17="Sim",G17="Não"),"OK","REVISAR ATIVO"))))
F18: =IF(COUNTA(A18:E18)=0,"",IF(COUNTBLANK(A18:E18)>0,"INCOMPLETO",A18&"|"&B18&"|"&C18&"|"&D18&"|"&E18)) | H18: =IF(K18="","",IF(K18<>"OK","",SUMIFS('Ocupação'!$I$6:$I$505,'Ocupação'!$A$6:$A$505,F18,'Ocupação'!$M$6:$M$505,"Sim"))) | I18: =IF(K18="","",IF(K18<>"OK","",COUNTIFS('Ocupação'!$A$6:$A$505,F18,'Ocupação'!$M$6:$M$505,"Sim"))) | J18: =IF(K18="","",IF(K18<>"OK","REVISAR",IF(G18="Não","INATIVA",IF(H18>0,"OCUPADA","VAZIA")))) | K18: =IF(AND(A18="",B18="",C18="",D18="",E18="",G18=""),"",IF(COUNTBLANK(A18:E18)>0,"ENDEREÇO INCOMPLETO",IF(COUNTIF($F$6:$F$205,F18)>1,"ENDEREÇO DUPLICADO",IF(OR(G18="Sim",G18="Não"),"OK","REVISAR ATIVO"))))
F19: =IF(COUNTA(A19:E19)=0,"",IF(COUNTBLANK(A19:E19)>0,"INCOMPLETO",A19&"|"&B19&"|"&C19&"|"&D19&"|"&E19)) | H19: =IF(K19="","",IF(K19<>"OK","",SUMIFS('Ocupação'!$I$6:$I$505,'Ocupação'!$A$6:$A$505,F19,'Ocupação'!$M$6:$M$505,"Sim"))) | I19: =IF(K19="","",IF(K19<>"OK","",COUNTIFS('Ocupação'!$A$6:$A$505,F19,'Ocupação'!$M$6:$M$505,"Sim"))) | J19: =IF(K19="","",IF(K19<>"OK","REVISAR",IF(G19="Não","INATIVA",IF(H19>0,"OCUPADA","VAZIA")))) | K19: =IF(AND(A19="",B19="",C19="",D19="",E19="",G19=""),"",IF(COUNTBLANK(A19:E19)>0,"ENDEREÇO INCOMPLETO",IF(COUNTIF($F$6:$F$205,F19)>1,"ENDEREÇO DUPLICADO",IF(OR(G19="Sim",G19="Não"),"OK","REVISAR ATIVO"))))
F20: =IF(COUNTA(A20:E20)=0,"",IF(COUNTBLANK(A20:E20)>0,"INCOMPLETO",A20&"|"&B20&"|"&C20&"|"&D20&"|"&E20)) | H20: =IF(K20="","",IF(K20<>"OK","",SUMIFS('Ocupação'!$I$6:$I$505,'Ocupação'!$A$6:$A$505,F20,'Ocupação'!$M$6:$M$505,"Sim"))) | I20: =IF(K20="","",IF(K20<>"OK","",COUNTIFS('Ocupação'!$A$6:$A$505,F20,'Ocupação'!$M$6:$M$505,"Sim"))) | J20: =IF(K20="","",IF(K20<>"OK","REVISAR",IF(G20="Não","INATIVA",IF(H20>0,"OCUPADA","VAZIA")))) | K20: =IF(AND(A20="",B20="",C20="",D20="",E20="",G20=""),"",IF(COUNTBLANK(A20:E20)>0,"ENDEREÇO INCOMPLETO",IF(COUNTIF($F$6:$F$205,F20)>1,"ENDEREÇO DUPLICADO",IF(OR(G20="Sim",G20="Não"),"OK","REVISAR ATIVO"))))
F21: =IF(COUNTA(A21:E21)=0,"",IF(COUNTBLANK(A21:E21)>0,"INCOMPLETO",A21&"|"&B21&"|"&C21&"|"&D21&"|"&E21)) | H21: =IF(K21="","",IF(K21<>"OK","",SUMIFS('Ocupação'!$I$6:$I$505,'Ocupação'!$A$6:$A$505,F21,'Ocupação'!$M$6:$M$505,"Sim"))) | I21: =IF(K21="","",IF(K21<>"OK","",COUNTIFS('Ocupação'!$A$6:$A$505,F21,'Ocupação'!$M$6:$M$505,"Sim"))) | J21: =IF(K21="","",IF(K21<>"OK","REVISAR",IF(G21="Não","INATIVA",IF(H21>0,"OCUPADA","VAZIA")))) | K21: =IF(AND(A21="",B21="",C21="",D21="",E21="",G21=""),"",IF(COUNTBLANK(A21:E21)>0,"ENDEREÇO INCOMPLETO",IF(COUNTIF($F$6:$F$205,F21)>1,"ENDEREÇO DUPLICADO",IF(OR(G21="Sim",G21="Não"),"OK","REVISAR ATIVO"))))
F22: =IF(COUNTA(A22:E22)=0,"",IF(COUNTBLANK(A22:E22)>0,"INCOMPLETO",A22&"|"&B22&"|"&C22&"|"&D22&"|"&E22)) | H22: =IF(K22="","",IF(K22<>"OK","",SUMIFS('Ocupação'!$I$6:$I$505,'Ocupação'!$A$6:$A$505,F22,'Ocupação'!$M$6:$M$505,"Sim"))) | I22: =IF(K22="","",IF(K22<>"OK","",COUNTIFS('Ocupação'!$A$6:$A$505,F22,'Ocupação'!$M$6:$M$505,"Sim"))) | J22: =IF(K22="","",IF(K22<>"OK","REVISAR",IF(G22="Não","INATIVA",IF(H22>0,"OCUPADA","VAZIA")))) | K22: =IF(AND(A22="",B22="",C22="",D22="",E22="",G22=""),"",IF(COUNTBLANK(A22:E22)>0,"ENDEREÇO INCOMPLETO",IF(COUNTIF($F$6:$F$205,F22)>1,"ENDEREÇO DUPLICADO",IF(OR(G22="Sim",G22="Não"),"OK","REVISAR ATIVO"))))
F23: =IF(COUNTA(A23:E23)=0,"",IF(COUNTBLANK(A23:E23)>0,"INCOMPLETO",A23&"|"&B23&"|"&C23&"|"&D23&"|"&E23)) | H23: =IF(K23="","",IF(K23<>"OK","",SUMIFS('Ocupação'!$I$6:$I$505,'Ocupação'!$A$6:$A$505,F23,'Ocupação'!$M$6:$M$505,"Sim"))) | I23: =IF(K23="","",IF(K23<>"OK","",COUNTIFS('Ocupação'!$A$6:$A$505,F23,'Ocupação'!$M$6:$M$505,"Sim"))) | J23: =IF(K23="","",IF(K23<>"OK","REVISAR",IF(G23="Não","INATIVA",IF(H23>0,"OCUPADA","VAZIA")))) | K23: =IF(AND(A23="",B23="",C23="",D23="",E23="",G23=""),"",IF(COUNTBLANK(A23:E23)>0,"ENDEREÇO INCOMPLETO",IF(COUNTIF($F$6:$F$205,F23)>1,"ENDEREÇO DUPLICADO",IF(OR(G23="Sim",G23="Não"),"OK","REVISAR ATIVO"))))
F24: =IF(COUNTA(A24:E24)=0,"",IF(COUNTBLANK(A24:E24)>0,"INCOMPLETO",A24&"|"&B24&"|"&C24&"|"&D24&"|"&E24)) | H24: =IF(K24="","",IF(K24<>"OK","",SUMIFS('Ocupação'!$I$6:$I$505,'Ocupação'!$A$6:$A$505,F24,'Ocupação'!$M$6:$M$505,"Sim"))) | I24: =IF(K24="","",IF(K24<>"OK","",COUNTIFS('Ocupação'!$A$6:$A$505,F24,'Ocupação'!$M$6:$M$505,"Sim"))) | J24: =IF(K24="","",IF(K24<>"OK","REVISAR",IF(G24="Não","INATIVA",IF(H24>0,"OCUPADA","VAZIA")))) | K24: =IF(AND(A24="",B24="",C24="",D24="",E24="",G24=""),"",IF(COUNTBLANK(A24:E24)>0,"ENDEREÇO INCOMPLETO",IF(COUNTIF($F$6:$F$205,F24)>1,"ENDEREÇO DUPLICADO",IF(OR(G24="Sim",G24="Não"),"OK","REVISAR ATIVO"))))
F25: =IF(COUNTA(A25:E25)=0,"",IF(COUNTBLANK(A25:E25)>0,"INCOMPLETO",A25&"|"&B25&"|"&C25&"|"&D25&"|"&E25)) | H25: =IF(K25="","",IF(K25<>"OK","",SUMIFS('Ocupação'!$I$6:$I$505,'Ocupação'!$A$6:$A$505,F25,'Ocupação'!$M$6:$M$505,"Sim"))) | I25: =IF(K25="","",IF(K25<>"OK","",COUNTIFS('Ocupação'!$A$6:$A$505,F25,'Ocupação'!$M$6:$M$505,"Sim"))) | J25: =IF(K25="","",IF(K25<>"OK","REVISAR",IF(G25="Não","INATIVA",IF(H25>0,"OCUPADA","VAZIA")))) | K25: =IF(AND(A25="",B25="",C25="",D25="",E25="",G25=""),"",IF(COUNTBLANK(A25:E25)>0,"ENDEREÇO INCOMPLETO",IF(COUNTIF($F$6:$F$205,F25)>1,"ENDEREÇO DUPLICADO",IF(OR(G25="Sim",G25="Não"),"OK","REVISAR ATIVO"))))
F26: =IF(COUNTA(A26:E26)=0,"",IF(COUNTBLANK(A26:E26)>0,"INCOMPLETO",A26&"|"&B26&"|"&C26&"|"&D26&"|"&E26)) | H26: =IF(K26="","",IF(K26<>"OK","",SUMIFS('Ocupação'!$I$6:$I$505,'Ocupação'!$A$6:$A$505,F26,'Ocupação'!$M$6:$M$505,"Sim"))) | I26: =IF(K26="","",IF(K26<>"OK","",COUNTIFS('Ocupação'!$A$6:$A$505,F26,'Ocupação'!$M$6:$M$505,"Sim"))) | J26: =IF(K26="","",IF(K26<>"OK","REVISAR",IF(G26="Não","INATIVA",IF(H26>0,"OCUPADA","VAZIA")))) | K26: =IF(AND(A26="",B26="",C26="",D26="",E26="",G26=""),"",IF(COUNTBLANK(A26:E26)>0,"ENDEREÇO INCOMPLETO",IF(COUNTIF($F$6:$F$205,F26)>1,"ENDEREÇO DUPLICADO",IF(OR(G26="Sim",G26="Não"),"OK","REVISAR ATIVO"))))
F27: =IF(COUNTA(A27:E27)=0,"",IF(COUNTBLANK(A27:E27)>0,"INCOMPLETO",A27&"|"&B27&"|"&C27&"|"&D27&"|"&E27)) | H27: =IF(K27="","",IF(K27<>"OK","",SUMIFS('Ocupação'!$I$6:$I$505,'Ocupação'!$A$6:$A$505,F27,'Ocupação'!$M$6:$M$505,"Sim"))) | I27: =IF(K27="","",IF(K27<>"OK","",COUNTIFS('Ocupação'!$A$6:$A$505,F27,'Ocupação'!$M$6:$M$505,"Sim"))) | J27: =IF(K27="","",IF(K27<>"OK","REVISAR",IF(G27="Não","INATIVA",IF(H27>0,"OCUPADA","VAZIA")))) | K27: =IF(AND(A27="",B27="",C27="",D27="",E27="",G27=""),"",IF(COUNTBLANK(A27:E27)>0,"ENDEREÇO INCOMPLETO",IF(COUNTIF($F$6:$F$205,F27)>1,"ENDEREÇO DUPLICADO",IF(OR(G27="Sim",G27="Não"),"OK","REVISAR ATIVO"))))
... F205: =IF(COUNTA(A205:E205)=0,"",IF(COUNTBLANK(A205:E205)>0,"INCOMPLETO",A205&"|"&B205&"|"&C205&"|"&D205&"|"&E205)) | H205: =IF(K205="","",IF(K205<>"OK","",SUMIFS('Ocupação'!$I$6:$I$505,'Ocupação'!$A$6:$A$505,F205,'Ocupação'!$M$6:$M$505,"Sim"))) | I205: =IF(K205="","",IF(K205<>"OK","",COUNTIFS('Ocupação'!$A$6:$A$505,F205,'Ocupação'!$M$6:$M$505,"Sim"))) | J205: =IF(K205="","",IF(K205<>"OK","REVISAR",IF(G205="Não","INATIVA",IF(H205>0,"OCUPADA","VAZIA")))) | K205: =IF(AND(A205="",B205="",C205="",D205="",E205="",G205=""),"",IF(COUNTBLANK(A205:E205)>0,"ENDEREÇO INCOMPLETO",IF(COUNTIF($F$6:$F$205,F205)>1,"ENDEREÇO DUPLICADO",IF(OR(G205="Sim",G205="Não"),"OK","REVISAR ATIVO"))))

Sheet Ocupação
A1: Ocupação atual por endereço
A2: Selecione um endereço cadastrado e informe o SKU e a quantidade atual.
A3: Todos os SKUs, produtos e endereços de exemplo são fictícios.
A5: Código do endereço | B5: Depósito | C5: Zona | D5: Rua | E5: Módulo | F5: Nível | G5: SKU | H5: Produto | I5: Quantidade | J5: Chave SKU-endereço | K5: Reservado para expansão técnica | L5: Validade do endereço | M5: Registro válido? | N5: Primeira ocorrência de SKU válido | O5: Posições válidas do SKU | P5: Alerta
A6: CD Aurora Fictício|A|01|01|01 | B6: =IFERROR(IF(OR(A6="",L6<>"OK"),"",INDEX('Mapa de Endereços'!$A$6:$A$205,MATCH(A6,'Mapa de Endereços'!$F$6:$F$205,0))),"") | C6: =IFERROR(IF(OR(A6="",L6<>"OK"),"",INDEX('Mapa de Endereços'!$B$6:$B$205,MATCH(A6,'Mapa de Endereços'!$F$6:$F$205,0))),"") | D6: =IFERROR(IF(OR(A6="",L6<>"OK"),"",INDEX('Mapa de Endereços'!$C$6:$C$205,MATCH(A6,'Mapa de Endereços'!$F$6:$F$205,0))),"") | E6: =IFERROR(IF(OR(A6="",L6<>"OK"),"",INDEX('Mapa de Endereços'!$D$6:$D$205,MATCH(A6,'Mapa de Endereços'!$F$6:$F$205,0))),"") | F6: =IFERROR(IF(OR(A6="",L6<>"OK"),"",INDEX('Mapa de Endereços'!$E$6:$E$205,MATCH(A6,'Mapa de Endereços'!$F$6:$F$205,0))),"") | G6: SKU-FIC-001 | H6: Cafeteira Lume 220 V | I6: 18 | J6: =IF(OR(A6="",G6=""),"",A6&"|"&G6) | L6: =IFERROR(IF(A6="","",IF(COUNTIF('Mapa de Endereços'!$F$6:$F$205,A6)=0,"NÃO CADASTRADO",IF(COUNTIF('Mapa de Endereços'!$F$6:$F$205,A6)>1,"ENDEREÇO DUPLICADO",IF(INDEX('Mapa de Endereços'!$G$6:$G$205,MATCH(A6,'Mapa de Endereços'!$F$6:$F$205,0))="Sim","OK",IF(INDEX('Mapa de Endereços'!$G$6:$G$205,MATCH(A6,'Mapa de Endereços'!$F$6:$F$205,0))="Não","INATIVO","ATIVO INVÁLIDO"))))),"NÃO CADASTRADO") | M6: =IF(AND(A6="",G6="",H6="",I6=""),"",IF(OR(L6<>"OK",G6="",NOT(ISNUMBER(I6))),"Não",IF(AND(I6>0,I6=INT(I6),COUNTIFS($A$6:$A$505,A6,$G$6:$G$505,G6)=1),"Sim","Não"))) | N6: =IF(M6<>"Sim","",--(COUNTIFS($G$6:G6,G6,$M$6:M6,"Sim")=1)) | O6: =IF(G6="","",COUNTIFS($G$6:$G$505,G6,$M$6:$M$505,"Sim")) | P6: =IF(AND(A6="",G6="",H6="",I6=""),"",IF(A6="","INFORME ENDEREÇO",IF(L6<>"OK",L6,IF(G6="","INFORME SKU",IF(I6="","INFORME QUANTIDADE",IF(NOT(ISNUMBER(I6)),"QUANTIDADE INVÁLIDA",IF(OR(I6<=0,I6<>INT(I6)),"QUANTIDADE INVÁLIDA",IF(COUNTIFS($A$6:$A$505,A6,$G$6:$G$505,G6)>1,"SKU/ENDEREÇO REPETIDO",IF(O6>1,"SKU ESPALHADO","OK")))))))))
A7: CD Aurora Fictício|A|01|01|02 | B7: =IFERROR(IF(OR(A7="",L7<>"OK"),"",INDEX('Mapa de Endereços'!$A$6:$A$205,MATCH(A7,'Mapa de Endereços'!$F$6:$F$205,0))),"") | C7: =IFERROR(IF(OR(A7="",L7<>"OK"),"",INDEX('Mapa de Endereços'!$B$6:$B$205,MATCH(A7,'Mapa de Endereços'!$F$6:$F$205,0))),"") | D7: =IFERROR(IF(OR(A7="",L7<>"OK"),"",INDEX('Mapa de Endereços'!$C$6:$C$205,MATCH(A7,'Mapa de Endereços'!$F$6:$F$205,0))),"") | E7: =IFERROR(IF(OR(A7="",L7<>"OK"),"",INDEX('Mapa de Endereços'!$D$6:$D$205,MATCH(A7,'Mapa de Endereços'!$F$6:$F$205,0))),"") | F7: =IFERROR(IF(OR(A7="",L7<>"OK"),"",INDEX('Mapa de Endereços'!$E$6:$E$205,MATCH(A7,'Mapa de Endereços'!$F$6:$F$205,0))),"") | G7: SKU-FIC-002 | H7: Caneca Neblina | I7: 32 | J7: =IF(OR(A7="",G7=""),"",A7&"|"&G7) | L7: =IFERROR(IF(A7="","",IF(COUNTIF('Mapa de Endereços'!$F$6:$F$205,A7)=0,"NÃO CADASTRADO",IF(COUNTIF('Mapa de Endereços'!$F$6:$F$205,A7)>1,"ENDEREÇO DUPLICADO",IF(INDEX('Mapa de Endereços'!$G$6:$G$205,MATCH(A7,'Mapa de Endereços'!$F$6:$F$205,0))="Sim","OK",IF(INDEX('Mapa de Endereços'!$G$6:$G$205,MATCH(A7,'Mapa de Endereços'!$F$6:$F$205,0))="Não","INATIVO","ATIVO INVÁLIDO"))))),"NÃO CADASTRADO") | M7: =IF(AND(A7="",G7="",H7="",I7=""),"",IF(OR(L7<>"OK",G7="",NOT(ISNUMBER(I7))),"Não",IF(AND(I7>0,I7=INT(I7),COUNTIFS($A$6:$A$505,A7,$G$6:$G$505,G7)=1),"Sim","Não"))) | N7: =IF(M7<>"Sim","",--(COUNTIFS($G$6:G7,G7,$M$6:M7,"Sim")=1)) | O7: =IF(G7="","",COUNTIFS($G$6:$G$505,G7,$M$6:$M$505,"Sim")) | P7: =IF(AND(A7="",G7="",H7="",I7=""),"",IF(A7="","INFORME ENDEREÇO",IF(L7<>"OK",L7,IF(G7="","INFORME SKU",IF(I7="","INFORME QUANTIDADE",IF(NOT(ISNUMBER(I7)),"QUANTIDADE INVÁLIDA",IF(OR(I7<=0,I7<>INT(I7)),"QUANTIDADE INVÁLIDA",IF(COUNTIFS($A$6:$A$505,A7,$G$6:$G$505,G7)>1,"SKU/ENDEREÇO REPETIDO",IF(O7>1,"SKU ESPALHADO","OK")))))))))
A8: CD Aurora Fictício|A|01|02|01 | B8: =IFERROR(IF(OR(A8="",L8<>"OK"),"",INDEX('Mapa de Endereços'!$A$6:$A$205,MATCH(A8,'Mapa de Endereços'!$F$6:$F$205,0))),"") | C8: =IFERROR(IF(OR(A8="",L8<>"OK"),"",INDEX('Mapa de Endereços'!$B$6:$B$205,MATCH(A8,'Mapa de Endereços'!$F$6:$F$205,0))),"") | D8: =IFERROR(IF(OR(A8="",L8<>"OK"),"",INDEX('Mapa de Endereços'!$C$6:$C$205,MATCH(A8,'Mapa de Endereços'!$F$6:$F$205,0))),"") | E8: =IFERROR(IF(OR(A8="",L8<>"OK"),"",INDEX('Mapa de Endereços'!$D$6:$D$205,MATCH(A8,'Mapa de Endereços'!$F$6:$F$205,0))),"") | F8: =IFERROR(IF(OR(A8="",L8<>"OK"),"",INDEX('Mapa de Endereços'!$E$6:$E$205,MATCH(A8,'Mapa de Endereços'!$F$6:$F$205,0))),"") | G8: SKU-FIC-003 | H8: Fone Horizonte | I8: 15 | J8: =IF(OR(A8="",G8=""),"",A8&"|"&G8) | L8: =IFERROR(IF(A8="","",IF(COUNTIF('Mapa de Endereços'!$F$6:$F$205,A8)=0,"NÃO CADASTRADO",IF(COUNTIF('Mapa de Endereços'!$F$6:$F$205,A8)>1,"ENDEREÇO DUPLICADO",IF(INDEX('Mapa de Endereços'!$G$6:$G$205,MATCH(A8,'Mapa de Endereços'!$F$6:$F$205,0))="Sim","OK",IF(INDEX('Mapa de Endereços'!$G$6:$G$205,MATCH(A8,'Mapa de Endereços'!$F$6:$F$205,0))="Não","INATIVO","ATIVO INVÁLIDO"))))),"NÃO CADASTRADO") | M8: =IF(AND(A8="",G8="",H8="",I8=""),"",IF(OR(L8<>"OK",G8="",NOT(ISNUMBER(I8))),"Não",IF(AND(I8>0,I8=INT(I8),COUNTIFS($A$6:$A$505,A8,$G$6:$G$505,G8)=1),"Sim","Não"))) | N8: =IF(M8<>"Sim","",--(COUNTIFS($G$6:G8,G8,$M$6:M8,"Sim")=1)) | O8: =IF(G8="","",COUNTIFS($G$6:$G$505,G8,$M$6:$M$505,"Sim")) | P8: =IF(AND(A8="",G8="",H8="",I8=""),"",IF(A8="","INFORME ENDEREÇO",IF(L8<>"OK",L8,IF(G8="","INFORME SKU",IF(I8="","INFORME QUANTIDADE",IF(NOT(ISNUMBER(I8)),"QUANTIDADE INVÁLIDA",IF(OR(I8<=0,I8<>INT(I8)),"QUANTIDADE INVÁLIDA",IF(COUNTIFS($A$6:$A$505,A8,$G$6:$G$505,G8)>1,"SKU/ENDEREÇO REPETIDO",IF(O8>1,"SKU ESPALHADO","OK")))))))))
A9: CD Aurora Fictício|A|01|02|02 | B9: =IFERROR(IF(OR(A9="",L9<>"OK"),"",INDEX('Mapa de Endereços'!$A$6:$A$205,MATCH(A9,'Mapa de Endereços'!$F$6:$F$205,0))),"") | C9: =IFERROR(IF(OR(A9="",L9<>"OK"),"",INDEX('Mapa de Endereços'!$B$6:$B$205,MATCH(A9,'Mapa de Endereços'!$F$6:$F$205,0))),"") | D9: =IFERROR(IF(OR(A9="",L9<>"OK"),"",INDEX('Mapa de Endereços'!$C$6:$C$205,MATCH(A9,'Mapa de Endereços'!$F$6:$F$205,0))),"") | E9: =IFERROR(IF(OR(A9="",L9<>"OK"),"",INDEX('Mapa de Endereços'!$D$6:$D$205,MATCH(A9,'Mapa de Endereços'!$F$6:$F$205,0))),"") | F9: =IFERROR(IF(OR(A9="",L9<>"OK"),"",INDEX('Mapa de Endereços'!$E$6:$E$205,MATCH(A9,'Mapa de Endereços'!$F$6:$F$205,0))),"") | G9: SKU-FIC-001 | H9: Cafeteira Lume 220 V | I9: 7 | J9: =IF(OR(A9="",G9=""),"",A9&"|"&G9) | L9: =IFERROR(IF(A9="","",IF(COUNTIF('Mapa de Endereços'!$F$6:$F$205,A9)=0,"NÃO CADASTRADO",IF(COUNTIF('Mapa de Endereços'!$F$6:$F$205,A9)>1,"ENDEREÇO DUPLICADO",IF(INDEX('Mapa de Endereços'!$G$6:$G$205,MATCH(A9,'Mapa de Endereços'!$F$6:$F$205,0))="Sim","OK",IF(INDEX('Mapa de Endereços'!$G$6:$G$205,MATCH(A9,'Mapa de Endereços'!$F$6:$F$205,0))="Não","INATIVO","ATIVO INVÁLIDO"))))),"NÃO CADASTRADO") | M9: =IF(AND(A9="",G9="",H9="",I9=""),"",IF(OR(L9<>"OK",G9="",NOT(ISNUMBER(I9))),"Não",IF(AND(I9>0,I9=INT(I9),COUNTIFS($A$6:$A$505,A9,$G$6:$G$505,G9)=1),"Sim","Não"))) | N9: =IF(M9<>"Sim","",--(COUNTIFS($G$6:G9,G9,$M$6:M9,"Sim")=1)) | O9: =IF(G9="","",COUNTIFS($G$6:$G$505,G9,$M$6:$M$505,"Sim")) | P9: =IF(AND(A9="",G9="",H9="",I9=""),"",IF(A9="","INFORME ENDEREÇO",IF(L9<>"OK",L9,IF(G9="","INFORME SKU",IF(I9="","INFORME QUANTIDADE",IF(NOT(ISNUMBER(I9)),"QUANTIDADE INVÁLIDA",IF(OR(I9<=0,I9<>INT(I9)),"QUANTIDADE INVÁLIDA",IF(COUNTIFS($A$6:$A$505,A9,$G$6:$G$505,G9)>1,"SKU/ENDEREÇO REPETIDO",IF(O9>1,"SKU ESPALHADO","OK")))))))))
A10: CD Aurora Fictício|B|02|01|01 | B10: =IFERROR(IF(OR(A10="",L10<>"OK"),"",INDEX('Mapa de Endereços'!$A$6:$A$205,MATCH(A10,'Mapa de Endereços'!$F$6:$F$205,0))),"") | C10: =IFERROR(IF(OR(A10="",L10<>"OK"),"",INDEX('Mapa de Endereços'!$B$6:$B$205,MATCH(A10,'Mapa de Endereços'!$F$6:$F$205,0))),"") | D10: =IFERROR(IF(OR(A10="",L10<>"OK"),"",INDEX('Mapa de Endereços'!$C$6:$C$205,MATCH(A10,'Mapa de Endereços'!$F$6:$F$205,0))),"") | E10: =IFERROR(IF(OR(A10="",L10<>"OK"),"",INDEX('Mapa de Endereços'!$D$6:$D$205,MATCH(A10,'Mapa de Endereços'!$F$6:$F$205,0))),"") | F10: =IFERROR(IF(OR(A10="",L10<>"OK"),"",INDEX('Mapa de Endereços'!$E$6:$E$205,MATCH(A10,'Mapa de Endereços'!$F$6:$F$205,0))),"") | G10: SKU-FIC-004 | H10: Luminária Brisa | I10: 12 | J10: =IF(OR(A10="",G10=""),"",A10&"|"&G10) | L10: =IFERROR(IF(A10="","",IF(COUNTIF('Mapa de Endereços'!$F$6:$F$205,A10)=0,"NÃO CADASTRADO",IF(COUNTIF('Mapa de Endereços'!$F$6:$F$205,A10)>1,"ENDEREÇO DUPLICADO",IF(INDEX('Mapa de Endereços'!$G$6:$G$205,MATCH(A10,'Mapa de Endereços'!$F$6:$F$205,0))="Sim","OK",IF(INDEX('Mapa de Endereços'!$G$6:$G$205,MATCH(A10,'Mapa de Endereços'!$F$6:$F$205,0))="Não","INATIVO","ATIVO INVÁLIDO"))))),"NÃO CADASTRADO") | M10: =IF(AND(A10="",G10="",H10="",I10=""),"",IF(OR(L10<>"OK",G10="",NOT(ISNUMBER(I10))),"Não",IF(AND(I10>0,I10=INT(I10),COUNTIFS($A$6:$A$505,A10,$G$6:$G$505,G10)=1),"Sim","Não"))) | N10: =IF(M10<>"Sim","",--(COUNTIFS($G$6:G10,G10,$M$6:M10,"Sim")=1)) | O10: =IF(G10="","",COUNTIFS($G$6:$G$505,G10,$M$6:$M$505,"Sim")) | P10: =IF(AND(A10="",G10="",H10="",I10=""),"",IF(A10="","INFORME ENDEREÇO",IF(L10<>"OK",L10,IF(G10="","INFORME SKU",IF(I10="","INFORME QUANTIDADE",IF(NOT(ISNUMBER(I10)),"QUANTIDADE INVÁLIDA",IF(OR(I10<=0,I10<>INT(I10)),"QUANTIDADE INVÁLIDA",IF(COUNTIFS($A$6:$A$505,A10,$G$6:$G$505,G10)>1,"SKU/ENDEREÇO REPETIDO",IF(O10>1,"SKU ESPALHADO","OK")))))))))
A11: CD Aurora Fictício|B|02|01|01 | B11: =IFERROR(IF(OR(A11="",L11<>"OK"),"",INDEX('Mapa de Endereços'!$A$6:$A$205,MATCH(A11,'Mapa de Endereços'!$F$6:$F$205,0))),"") | C11: =IFERROR(IF(OR(A11="",L11<>"OK"),"",INDEX('Mapa de Endereços'!$B$6:$B$205,MATCH(A11,'Mapa de Endereços'!$F$6:$F$205,0))),"") | D11: =IFERROR(IF(OR(A11="",L11<>"OK"),"",INDEX('Mapa de Endereços'!$C$6:$C$205,MATCH(A11,'Mapa de Endereços'!$F$6:$F$205,0))),"") | E11: =IFERROR(IF(OR(A11="",L11<>"OK"),"",INDEX('Mapa de Endereços'!$D$6:$D$205,MATCH(A11,'Mapa de Endereços'!$F$6:$F$205,0))),"") | F11: =IFERROR(IF(OR(A11="",L11<>"OK"),"",INDEX('Mapa de Endereços'!$E$6:$E$205,MATCH(A11,'Mapa de Endereços'!$F$6:$F$205,0))),"") | G11: SKU-FIC-005 | H11: Organizador Prisma | I11: 20 | J11: =IF(OR(A11="",G11=""),"",A11&"|"&G11) | L11: =IFERROR(IF(A11="","",IF(COUNTIF('Mapa de Endereços'!$F$6:$F$205,A11)=0,"NÃO CADASTRADO",IF(COUNTIF('Mapa de Endereços'!$F$6:$F$205,A11)>1,"ENDEREÇO DUPLICADO",IF(INDEX('Mapa de Endereços'!$G$6:$G$205,MATCH(A11,'Mapa de Endereços'!$F$6:$F$205,0))="Sim","OK",IF(INDEX('Mapa de Endereços'!$G$6:$G$205,MATCH(A11,'Mapa de Endereços'!$F$6:$F$205,0))="Não","INATIVO","ATIVO INVÁLIDO"))))),"NÃO CADASTRADO") | M11: =IF(AND(A11="",G11="",H11="",I11=""),"",IF(OR(L11<>"OK",G11="",NOT(ISNUMBER(I11))),"Não",IF(AND(I11>0,I11=INT(I11),COUNTIFS($A$6:$A$505,A11,$G$6:$G$505,G11)=1),"Sim","Não"))) | N11: =IF(M11<>"Sim","",--(COUNTIFS($G$6:G11,G11,$M$6:M11,"Sim")=1)) | O11: =IF(G11="","",COUNTIFS($G$6:$G$505,G11,$M$6:$M$505,"Sim")) | P11: =IF(AND(A11="",G11="",H11="",I11=""),"",IF(A11="","INFORME ENDEREÇO",IF(L11<>"OK",L11,IF(G11="","INFORME SKU",IF(I11="","INFORME QUANTIDADE",IF(NOT(ISNUMBER(I11)),"QUANTIDADE INVÁLIDA",IF(OR(I11<=0,I11<>INT(I11)),"QUANTIDADE INVÁLIDA",IF(COUNTIFS($A$6:$A$505,A11,$G$6:$G$505,G11)>1,"SKU/ENDEREÇO REPETIDO",IF(O11>1,"SKU ESPALHADO","OK")))))))))
A12: CD Aurora Fictício|B|02|01|02 | B12: =IFERROR(IF(OR(A12="",L12<>"OK"),"",INDEX('Mapa de Endereços'!$A$6:$A$205,MATCH(A12,'Mapa de Endereços'!$F$6:$F$205,0))),"") | C12: =IFERROR(IF(OR(A12="",L12<>"OK"),"",INDEX('Mapa de Endereços'!$B$6:$B$205,MATCH(A12,'Mapa de Endereços'!$F$6:$F$205,0))),"") | D12: =IFERROR(IF(OR(A12="",L12<>"OK"),"",INDEX('Mapa de Endereços'!$C$6:$C$205,MATCH(A12,'Mapa de Endereços'!$F$6:$F$205,0))),"") | E12: =IFERROR(IF(OR(A12="",L12<>"OK"),"",INDEX('Mapa de Endereços'!$D$6:$D$205,MATCH(A12,'Mapa de Endereços'!$F$6:$F$205,0))),"") | F12: =IFERROR(IF(OR(A12="",L12<>"OK"),"",INDEX('Mapa de Endereços'!$E$6:$E$205,MATCH(A12,'Mapa de Endereços'!$F$6:$F$205,0))),"") | G12: SKU-FIC-006 | H12: Garrafa Solar | I12: 25 | J12: =IF(OR(A12="",G12=""),"",A12&"|"&G12) | L12: =IFERROR(IF(A12="","",IF(COUNTIF('Mapa de Endereços'!$F$6:$F$205,A12)=0,"NÃO CADASTRADO",IF(COUNTIF('Mapa de Endereços'!$F$6:$F$205,A12)>1,"ENDEREÇO DUPLICADO",IF(INDEX('Mapa de Endereços'!$G$6:$G$205,MATCH(A12,'Mapa de Endereços'!$F$6:$F$205,0))="Sim","OK",IF(INDEX('Mapa de Endereços'!$G$6:$G$205,MATCH(A12,'Mapa de Endereços'!$F$6:$F$205,0))="Não","INATIVO","ATIVO INVÁLIDO"))))),"NÃO CADASTRADO") | M12: =IF(AND(A12="",G12="",H12="",I12=""),"",IF(OR(L12<>"OK",G12="",NOT(ISNUMBER(I12))),"Não",IF(AND(I12>0,I12=INT(I12),COUNTIFS($A$6:$A$505,A12,$G$6:$G$505,G12)=1),"Sim","Não"))) | N12: =IF(M12<>"Sim","",--(COUNTIFS($G$6:G12,G12,$M$6:M12,"Sim")=1)) | O12: =IF(G12="","",COUNTIFS($G$6:$G$505,G12,$M$6:$M$505,"Sim")) | P12: =IF(AND(A12="",G12="",H12="",I12=""),"",IF(A12="","INFORME ENDEREÇO",IF(L12<>"OK",L12,IF(G12="","INFORME SKU",IF(I12="","INFORME QUANTIDADE",IF(NOT(ISNUMBER(I12)),"QUANTIDADE INVÁLIDA",IF(OR(I12<=0,I12<>INT(I12)),"QUANTIDADE INVÁLIDA",IF(COUNTIFS($A$6:$A$505,A12,$G$6:$G$505,G12)>1,"SKU/ENDEREÇO REPETIDO",IF(O12>1,"SKU ESPALHADO","OK")))))))))
A13: CD Aurora Fictício|B|02|02|01 | B13: =IFERROR(IF(OR(A13="",L13<>"OK"),"",INDEX('Mapa de Endereços'!$A$6:$A$205,MATCH(A13,'Mapa de Endereços'!$F$6:$F$205,0))),"") | C13: =IFERROR(IF(OR(A13="",L13<>"OK"),"",INDEX('Mapa de Endereços'!$B$6:$B$205,MATCH(A13,'Mapa de Endereços'!$F$6:$F$205,0))),"") | D13: =IFERROR(IF(OR(A13="",L13<>"OK"),"",INDEX('Mapa de Endereços'!$C$6:$C$205,MATCH(A13,'Mapa de Endereços'!$F$6:$F$205,0))),"") | E13: =IFERROR(IF(OR(A13="",L13<>"OK"),"",INDEX('Mapa de Endereços'!$D$6:$D$205,MATCH(A13,'Mapa de Endereços'!$F$6:$F$205,0))),"") | F13: =IFERROR(IF(OR(A13="",L13<>"OK"),"",INDEX('Mapa de Endereços'!$E$6:$E$205,MATCH(A13,'Mapa de Endereços'!$F$6:$F$205,0))),"") | G13: SKU-FIC-007 | H13: Caderno Órbita | I13: 40 | J13: =IF(OR(A13="",G13=""),"",A13&"|"&G13) | L13: =IFERROR(IF(A13="","",IF(COUNTIF('Mapa de Endereços'!$F$6:$F$205,A13)=0,"NÃO CADASTRADO",IF(COUNTIF('Mapa de Endereços'!$F$6:$F$205,A13)>1,"ENDEREÇO DUPLICADO",IF(INDEX('Mapa de Endereços'!$G$6:$G$205,MATCH(A13,'Mapa de Endereços'!$F$6:$F$205,0))="Sim","OK",IF(INDEX('Mapa de Endereços'!$G$6:$G$205,MATCH(A13,'Mapa de Endereços'!$F$6:$F$205,0))="Não","INATIVO","ATIVO INVÁLIDO"))))),"NÃO CADASTRADO") | M13: =IF(AND(A13="",G13="",H13="",I13=""),"",IF(OR(L13<>"OK",G13="",NOT(ISNUMBER(I13))),"Não",IF(AND(I13>0,I13=INT(I13),COUNTIFS($A$6:$A$505,A13,$G$6:$G$505,G13)=1),"Sim","Não"))) | N13: =IF(M13<>"Sim","",--(COUNTIFS($G$6:G13,G13,$M$6:M13,"Sim")=1)) | O13: =IF(G13="","",COUNTIFS($G$6:$G$505,G13,$M$6:$M$505,"Sim")) | P13: =IF(AND(A13="",G13="",H13="",I13=""),"",IF(A13="","INFORME ENDEREÇO",IF(L13<>"OK",L13,IF(G13="","INFORME SKU",IF(I13="","INFORME QUANTIDADE",IF(NOT(ISNUMBER(I13)),"QUANTIDADE INVÁLIDA",IF(OR(I13<=0,I13<>INT(I13)),"QUANTIDADE INVÁLIDA",IF(COUNTIFS($A$6:$A$505,A13,$G$6:$G$505,G13)>1,"SKU/ENDEREÇO REPETIDO",IF(O13>1,"SKU ESPALHADO","OK")))))))))
A14: CD Aurora Fictício|B|02|01|02 | B14: =IFERROR(IF(OR(A14="",L14<>"OK"),"",INDEX('Mapa de Endereços'!$A$6:$A$205,MATCH(A14,'Mapa de Endereços'!$F$6:$F$205,0))),"") | C14: =IFERROR(IF(OR(A14="",L14<>"OK"),"",INDEX('Mapa de Endereços'!$B$6:$B$205,MATCH(A14,'Mapa de Endereços'!$F$6:$F$205,0))),"") | D14: =IFERROR(IF(OR(A14="",L14<>"OK"),"",INDEX('Mapa de Endereços'!$C$6:$C$205,MATCH(A14,'Mapa de Endereços'!$F$6:$F$205,0))),"") | E14: =IFERROR(IF(OR(A14="",L14<>"OK"),"",INDEX('Mapa de Endereços'!$D$6:$D$205,MATCH(A14,'Mapa de Endereços'!$F$6:$F$205,0))),"") | F14: =IFERROR(IF(OR(A14="",L14<>"OK"),"",INDEX('Mapa de Endereços'!$E$6:$E$205,MATCH(A14,'Mapa de Endereços'!$F$6:$F$205,0))),"") | G14: SKU-FIC-008 | H14: Cabo Cometa USB-C | I14: 9 | J14: =IF(OR(A14="",G14=""),"",A14&"|"&G14) | L14: =IFERROR(IF(A14="","",IF(COUNTIF('Mapa de Endereços'!$F$6:$F$205,A14)=0,"NÃO CADASTRADO",IF(COUNTIF('Mapa de Endereços'!$F$6:$F$205,A14)>1,"ENDEREÇO DUPLICADO",IF(INDEX('Mapa de Endereços'!$G$6:$G$205,MATCH(A14,'Mapa de Endereços'!$F$6:$F$205,0))="Sim","OK",IF(INDEX('Mapa de Endereços'!$G$6:$G$205,MATCH(A14,'Mapa de Endereços'!$F$6:$F$205,0))="Não","INATIVO","ATIVO INVÁLIDO"))))),"NÃO CADASTRADO") | M14: =IF(AND(A14="",G14="",H14="",I14=""),"",IF(OR(L14<>"OK",G14="",NOT(ISNUMBER(I14))),"Não",IF(AND(I14>0,I14=INT(I14),COUNTIFS($A$6:$A$505,A14,$G$6:$G$505,G14)=1),"Sim","Não"))) | N14: =IF(M14<>"Sim","",--(COUNTIFS($G$6:G14,G14,$M$6:M14,"Sim")=1)) | O14: =IF(G14="","",COUNTIFS($G$6:$G$505,G14,$M$6:$M$505,"Sim")) | P14: =IF(AND(A14="",G14="",H14="",I14=""),"",IF(A14="","INFORME ENDEREÇO",IF(L14<>"OK",L14,IF(G14="","INFORME SKU",IF(I14="","INFORME QUANTIDADE",IF(NOT(ISNUMBER(I14)),"QUANTIDADE INVÁLIDA",IF(OR(I14<=0,I14<>INT(I14)),"QUANTIDADE INVÁLIDA",IF(COUNTIFS($A$6:$A$505,A14,$G$6:$G$505,G14)>1,"SKU/ENDEREÇO REPETIDO",IF(O14>1,"SKU ESPALHADO","OK")))))))))
A15: CD Aurora Fictício|A|01|01|02 | B15: =IFERROR(IF(OR(A15="",L15<>"OK"),"",INDEX('Mapa de Endereços'!$A$6:$A$205,MATCH(A15,'Mapa de Endereços'!$F$6:$F$205,0))),"") | C15: =IFERROR(IF(OR(A15="",L15<>"OK"),"",INDEX('Mapa de Endereços'!$B$6:$B$205,MATCH(A15,'Mapa de Endereços'!$F$6:$F$205,0))),"") | D15: =IFERROR(IF(OR(A15="",L15<>"OK"),"",INDEX('Mapa de Endereços'!$C$6:$C$205,MATCH(A15,'Mapa de Endereços'!$F$6:$F$205,0))),"") | E15: =IFERROR(IF(OR(A15="",L15<>"OK"),"",INDEX('Mapa de Endereços'!$D$6:$D$205,MATCH(A15,'Mapa de Endereços'!$F$6:$F$205,0))),"") | F15: =IFERROR(IF(OR(A15="",L15<>"OK"),"",INDEX('Mapa de Endereços'!$E$6:$E$205,MATCH(A15,'Mapa de Endereços'!$F$6:$F$205,0))),"") | G15: SKU-FIC-009 | H15: Suporte Atlas | I15: 14 | J15: =IF(OR(A15="",G15=""),"",A15&"|"&G15) | L15: =IFERROR(IF(A15="","",IF(COUNTIF('Mapa de Endereços'!$F$6:$F$205,A15)=0,"NÃO CADASTRADO",IF(COUNTIF('Mapa de Endereços'!$F$6:$F$205,A15)>1,"ENDEREÇO DUPLICADO",IF(INDEX('Mapa de Endereços'!$G$6:$G$205,MATCH(A15,'Mapa de Endereços'!$F$6:$F$205,0))="Sim","OK",IF(INDEX('Mapa de Endereços'!$G$6:$G$205,MATCH(A15,'Mapa de Endereços'!$F$6:$F$205,0))="Não","INATIVO","ATIVO INVÁLIDO"))))),"NÃO CADASTRADO") | M15: =IF(AND(A15="",G15="",H15="",I15=""),"",IF(OR(L15<>"OK",G15="",NOT(ISNUMBER(I15))),"Não",IF(AND(I15>0,I15=INT(I15),COUNTIFS($A$6:$A$505,A15,$G$6:$G$505,G15)=1),"Sim","Não"))) | N15: =IF(M15<>"Sim","",--(COUNTIFS($G$6:G15,G15,$M$6:M15,"Sim")=1)) | O15: =IF(G15="","",COUNTIFS($G$6:$G$505,G15,$M$6:$M$505,"Sim")) | P15: =IF(AND(A15="",G15="",H15="",I15=""),"",IF(A15="","INFORME ENDEREÇO",IF(L15<>"OK",L15,IF(G15="","INFORME SKU",IF(I15="","INFORME QUANTIDADE",IF(NOT(ISNUMBER(I15)),"QUANTIDADE INVÁLIDA",IF(OR(I15<=0,I15<>INT(I15)),"QUANTIDADE INVÁLIDA",IF(COUNTIFS($A$6:$A$505,A15,$G$6:$G$505,G15)>1,"SKU/ENDEREÇO REPETIDO",IF(O15>1,"SKU ESPALHADO","OK")))))))))
B16: =IFERROR(IF(OR(A16="",L16<>"OK"),"",INDEX('Mapa de Endereços'!$A$6:$A$205,MATCH(A16,'Mapa de Endereços'!$F$6:$F$205,0))),"") | C16: =IFERROR(IF(OR(A16="",L16<>"OK"),"",INDEX('Mapa de Endereços'!$B$6:$B$205,MATCH(A16,'Mapa de Endereços'!$F$6:$F$205,0))),"") | D16: =IFERROR(IF(OR(A16="",L16<>"OK"),"",INDEX('Mapa de Endereços'!$C$6:$C$205,MATCH(A16,'Mapa de Endereços'!$F$6:$F$205,0))),"") | E16: =IFERROR(IF(OR(A16="",L16<>"OK"),"",INDEX('Mapa de Endereços'!$D$6:$D$205,MATCH(A16,'Mapa de Endereços'!$F$6:$F$205,0))),"") | F16: =IFERROR(IF(OR(A16="",L16<>"OK"),"",INDEX('Mapa de Endereços'!$E$6:$E$205,MATCH(A16,'Mapa de Endereços'!$F$6:$F$205,0))),"") | J16: =IF(OR(A16="",G16=""),"",A16&"|"&G16) | L16: =IFERROR(IF(A16="","",IF(COUNTIF('Mapa de Endereços'!$F$6:$F$205,A16)=0,"NÃO CADASTRADO",IF(COUNTIF('Mapa de Endereços'!$F$6:$F$205,A16)>1,"ENDEREÇO DUPLICADO",IF(INDEX('Mapa de Endereços'!$G$6:$G$205,MATCH(A16,'Mapa de Endereços'!$F$6:$F$205,0))="Sim","OK",IF(INDEX('Mapa de Endereços'!$G$6:$G$205,MATCH(A16,'Mapa de Endereços'!$F$6:$F$205,0))="Não","INATIVO","ATIVO INVÁLIDO"))))),"NÃO CADASTRADO") | M16: =IF(AND(A16="",G16="",H16="",I16=""),"",IF(OR(L16<>"OK",G16="",NOT(ISNUMBER(I16))),"Não",IF(AND(I16>0,I16=INT(I16),COUNTIFS($A$6:$A$505,A16,$G$6:$G$505,G16)=1),"Sim","Não"))) | N16: =IF(M16<>"Sim","",--(COUNTIFS($G$6:G16,G16,$M$6:M16,"Sim")=1)) | O16: =IF(G16="","",COUNTIFS($G$6:$G$505,G16,$M$6:$M$505,"Sim")) | P16: =IF(AND(A16="",G16="",H16="",I16=""),"",IF(A16="","INFORME ENDEREÇO",IF(L16<>"OK",L16,IF(G16="","INFORME SKU",IF(I16="","INFORME QUANTIDADE",IF(NOT(ISNUMBER(I16)),"QUANTIDADE INVÁLIDA",IF(OR(I16<=0,I16<>INT(I16)),"QUANTIDADE INVÁLIDA",IF(COUNTIFS($A$6:$A$505,A16,$G$6:$G$505,G16)>1,"SKU/ENDEREÇO REPETIDO",IF(O16>1,"SKU ESPALHADO","OK")))))))))
B17: =IFERROR(IF(OR(A17="",L17<>"OK"),"",INDEX('Mapa de Endereços'!$A$6:$A$205,MATCH(A17,'Mapa de Endereços'!$F$6:$F$205,0))),"") | C17: =IFERROR(IF(OR(A17="",L17<>"OK"),"",INDEX('Mapa de Endereços'!$B$6:$B$205,MATCH(A17,'Mapa de Endereços'!$F$6:$F$205,0))),"") | D17: =IFERROR(IF(OR(A17="",L17<>"OK"),"",INDEX('Mapa de Endereços'!$C$6:$C$205,MATCH(A17,'Mapa de Endereços'!$F$6:$F$205,0))),"") | E17: =IFERROR(IF(OR(A17="",L17<>"OK"),"",INDEX('Mapa de Endereços'!$D$6:$D$205,MATCH(A17,'Mapa de Endereços'!$F$6:$F$205,0))),"") | F17: =IFERROR(IF(OR(A17="",L17<>"OK"),"",INDEX('Mapa de Endereços'!$E$6:$E$205,MATCH(A17,'Mapa de Endereços'!$F$6:$F$205,0))),"") | J17: =IF(OR(A17="",G17=""),"",A17&"|"&G17) | L17: =IFERROR(IF(A17="","",IF(COUNTIF('Mapa de Endereços'!$F$6:$F$205,A17)=0,"NÃO CADASTRADO",IF(COUNTIF('Mapa de Endereços'!$F$6:$F$205,A17)>1,"ENDEREÇO DUPLICADO",IF(INDEX('Mapa de Endereços'!$G$6:$G$205,MATCH(A17,'Mapa de Endereços'!$F$6:$F$205,0))="Sim","OK",IF(INDEX('Mapa de Endereços'!$G$6:$G$205,MATCH(A17,'Mapa de Endereços'!$F$6:$F$205,0))="Não","INATIVO","ATIVO INVÁLIDO"))))),"NÃO CADASTRADO") | M17: =IF(AND(A17="",G17="",H17="",I17=""),"",IF(OR(L17<>"OK",G17="",NOT(ISNUMBER(I17))),"Não",IF(AND(I17>0,I17=INT(I17),COUNTIFS($A$6:$A$505,A17,$G$6:$G$505,G17)=1),"Sim","Não"))) | N17: =IF(M17<>"Sim","",--(COUNTIFS($G$6:G17,G17,$M$6:M17,"Sim")=1)) | O17: =IF(G17="","",COUNTIFS($G$6:$G$505,G17,$M$6:$M$505,"Sim")) | P17: =IF(AND(A17="",G17="",H17="",I17=""),"",IF(A17="","INFORME ENDEREÇO",IF(L17<>"OK",L17,IF(G17="","INFORME SKU",IF(I17="","INFORME QUANTIDADE",IF(NOT(ISNUMBER(I17)),"QUANTIDADE INVÁLIDA",IF(OR(I17<=0,I17<>INT(I17)),"QUANTIDADE INVÁLIDA",IF(COUNTIFS($A$6:$A$505,A17,$G$6:$G$505,G17)>1,"SKU/ENDEREÇO REPETIDO",IF(O17>1,"SKU ESPALHADO","OK")))))))))
