Workbook

Sheet Resumo
A1: Controle de Estoque Multicanal
A3: Data de referência | B3: ='Configurações'!$B$5
A5: SKUs ativos válidos | B5: =COUNTIFS('Estoque Central'!$A$6:$A$205,"<>",'Estoque Central'!$C$6:$C$205,"Ativo",'Estoque Central'!$M$6:$M$205,"OK") | D5: Saldo físico total | E5: =IFERROR(SUMIFS('Estoque Central'!$D$6:$D$205,'Estoque Central'!$C$6:$C$205,"Ativo",'Estoque Central'!$M$6:$M$205,"OK"),0) | G5: Disponível global | H5: =IFERROR(SUMIFS('Estoque Central'!$I$6:$I$205,'Estoque Central'!$C$6:$C$205,"Ativo",'Estoque Central'!$M$6:$M$205,"OK"),0) | J5: Publicações para sincronizar | K5: =COUNTIF('Conciliação'!$O$6:$O$305,"AUMENTAR")+COUNTIF('Conciliação'!$O$6:$O$305,"REDUZIR")
A8: Linhas com risco alto | B8: =COUNTIFS('Conciliação'!$P$6:$P$305,"ALTO",'Conciliação'!$S$6:$S$305,"OK") | D8: Unidades a reduzir | E8: =IFERROR(-SUMIFS('Conciliação'!$N$6:$N$305,'Conciliação'!$N$6:$N$305,"<0",'Conciliação'!$S$6:$S$305,"OK"),0) | G8: Unidades a aumentar | H8: =IFERROR(SUMIFS('Conciliação'!$N$6:$N$305,'Conciliação'!$N$6:$N$305,">0",'Conciliação'!$S$6:$S$305,"OK"),0) | J8: Cadastros a revisar | K8: =COUNTIFS('Conciliação'!$S$6:$S$305,"<>",'Conciliação'!$S$6:$S$305,"<>OK")
A12: Resumo por canal | F12: Resumo de risco
A13: Canal | B13: Unidades a aumentar | C13: Unidades a reduzir | D13: Linhas para sincronizar | F13: Classificação | G13: Quantidade
A14: ='Configurações'!A11 | B14: =IF($A14="","",SUMIFS('Conciliação'!$N$6:$N$305,'Conciliação'!$E$6:$E$305,$A14,'Conciliação'!$N$6:$N$305,">0",'Conciliação'!$S$6:$S$305,"OK")) | C14: =IF($A14="","",-SUMIFS('Conciliação'!$N$6:$N$305,'Conciliação'!$E$6:$E$305,$A14,'Conciliação'!$N$6:$N$305,"<0",'Conciliação'!$S$6:$S$305,"OK")) | D14: =IF($A14="","",COUNTIFS('Conciliação'!$E$6:$E$305,$A14,'Conciliação'!$O$6:$O$305,"AUMENTAR")+COUNTIFS('Conciliação'!$E$6:$E$305,$A14,'Conciliação'!$O$6:$O$305,"REDUZIR")) | F14: ALTO | G14: =COUNTIFS('Conciliação'!$P$6:$P$305,$F14,'Conciliação'!$S$6:$S$305,"OK")
A15: ='Configurações'!A12 | B15: =IF($A15="","",SUMIFS('Conciliação'!$N$6:$N$305,'Conciliação'!$E$6:$E$305,$A15,'Conciliação'!$N$6:$N$305,">0",'Conciliação'!$S$6:$S$305,"OK")) | C15: =IF($A15="","",-SUMIFS('Conciliação'!$N$6:$N$305,'Conciliação'!$E$6:$E$305,$A15,'Conciliação'!$N$6:$N$305,"<0",'Conciliação'!$S$6:$S$305,"OK")) | D15: =IF($A15="","",COUNTIFS('Conciliação'!$E$6:$E$305,$A15,'Conciliação'!$O$6:$O$305,"AUMENTAR")+COUNTIFS('Conciliação'!$E$6:$E$305,$A15,'Conciliação'!$O$6:$O$305,"REDUZIR")) | F15: MÉDIO | G15: =COUNTIFS('Conciliação'!$P$6:$P$305,$F15,'Conciliação'!$S$6:$S$305,"OK")
A16: ='Configurações'!A13 | B16: =IF($A16="","",SUMIFS('Conciliação'!$N$6:$N$305,'Conciliação'!$E$6:$E$305,$A16,'Conciliação'!$N$6:$N$305,">0",'Conciliação'!$S$6:$S$305,"OK")) | C16: =IF($A16="","",-SUMIFS('Conciliação'!$N$6:$N$305,'Conciliação'!$E$6:$E$305,$A16,'Conciliação'!$N$6:$N$305,"<0",'Conciliação'!$S$6:$S$305,"OK")) | D16: =IF($A16="","",COUNTIFS('Conciliação'!$E$6:$E$305,$A16,'Conciliação'!$O$6:$O$305,"AUMENTAR")+COUNTIFS('Conciliação'!$E$6:$E$305,$A16,'Conciliação'!$O$6:$O$305,"REDUZIR")) | F16: BAIXO | G16: =COUNTIFS('Conciliação'!$P$6:$P$305,$F16,'Conciliação'!$S$6:$S$305,"OK")
A17: ='Configurações'!A14 | B17: =IF($A17="","",SUMIFS('Conciliação'!$N$6:$N$305,'Conciliação'!$E$6:$E$305,$A17,'Conciliação'!$N$6:$N$305,">0",'Conciliação'!$S$6:$S$305,"OK")) | C17: =IF($A17="","",-SUMIFS('Conciliação'!$N$6:$N$305,'Conciliação'!$E$6:$E$305,$A17,'Conciliação'!$N$6:$N$305,"<0",'Conciliação'!$S$6:$S$305,"OK")) | D17: =IF($A17="","",COUNTIFS('Conciliação'!$E$6:$E$305,$A17,'Conciliação'!$O$6:$O$305,"AUMENTAR")+COUNTIFS('Conciliação'!$E$6:$E$305,$A17,'Conciliação'!$O$6:$O$305,"REDUZIR")) | F17: SEM EXPOSIÇÃO | G17: =COUNTIFS('Conciliação'!$P$6:$P$305,$F17,'Conciliação'!$S$6:$S$305,"OK")
A18: ='Configurações'!A15 | B18: =IF($A18="","",SUMIFS('Conciliação'!$N$6:$N$305,'Conciliação'!$E$6:$E$305,$A18,'Conciliação'!$N$6:$N$305,">0",'Conciliação'!$S$6:$S$305,"OK")) | C18: =IF($A18="","",-SUMIFS('Conciliação'!$N$6:$N$305,'Conciliação'!$E$6:$E$305,$A18,'Conciliação'!$N$6:$N$305,"<0",'Conciliação'!$S$6:$S$305,"OK")) | D18: =IF($A18="","",COUNTIFS('Conciliação'!$E$6:$E$305,$A18,'Conciliação'!$O$6:$O$305,"AUMENTAR")+COUNTIFS('Conciliação'!$E$6:$E$305,$A18,'Conciliação'!$O$6:$O$305,"REDUZIR"))
A19: ='Configurações'!A16 | B19: =IF($A19="","",SUMIFS('Conciliação'!$N$6:$N$305,'Conciliação'!$E$6:$E$305,$A19,'Conciliação'!$N$6:$N$305,">0",'Conciliação'!$S$6:$S$305,"OK")) | C19: =IF($A19="","",-SUMIFS('Conciliação'!$N$6:$N$305,'Conciliação'!$E$6:$E$305,$A19,'Conciliação'!$N$6:$N$305,"<0",'Conciliação'!$S$6:$S$305,"OK")) | D19: =IF($A19="","",COUNTIFS('Conciliação'!$E$6:$E$305,$A19,'Conciliação'!$O$6:$O$305,"AUMENTAR")+COUNTIFS('Conciliação'!$E$6:$E$305,$A19,'Conciliação'!$O$6:$O$305,"REDUZIR"))
A20: ='Configurações'!A17 | B20: =IF($A20="","",SUMIFS('Conciliação'!$N$6:$N$305,'Conciliação'!$E$6:$E$305,$A20,'Conciliação'!$N$6:$N$305,">0",'Conciliação'!$S$6:$S$305,"OK")) | C20: =IF($A20="","",-SUMIFS('Conciliação'!$N$6:$N$305,'Conciliação'!$E$6:$E$305,$A20,'Conciliação'!$N$6:$N$305,"<0",'Conciliação'!$S$6:$S$305,"OK")) | D20: =IF($A20="","",COUNTIFS('Conciliação'!$E$6:$E$305,$A20,'Conciliação'!$O$6:$O$305,"AUMENTAR")+COUNTIFS('Conciliação'!$E$6:$E$305,$A20,'Conciliação'!$O$6:$O$305,"REDUZIR"))
A21: ='Configurações'!A18 | B21: =IF($A21="","",SUMIFS('Conciliação'!$N$6:$N$305,'Conciliação'!$E$6:$E$305,$A21,'Conciliação'!$N$6:$N$305,">0",'Conciliação'!$S$6:$S$305,"OK")) | C21: =IF($A21="","",-SUMIFS('Conciliação'!$N$6:$N$305,'Conciliação'!$E$6:$E$305,$A21,'Conciliação'!$N$6:$N$305,"<0",'Conciliação'!$S$6:$S$305,"OK")) | D21: =IF($A21="","",COUNTIFS('Conciliação'!$E$6:$E$305,$A21,'Conciliação'!$O$6:$O$305,"AUMENTAR")+COUNTIFS('Conciliação'!$E$6:$E$305,$A21,'Conciliação'!$O$6:$O$305,"REDUZIR"))
A22: ='Configurações'!A19 | B22: =IF($A22="","",SUMIFS('Conciliação'!$N$6:$N$305,'Conciliação'!$E$6:$E$305,$A22,'Conciliação'!$N$6:$N$305,">0",'Conciliação'!$S$6:$S$305,"OK")) | C22: =IF($A22="","",-SUMIFS('Conciliação'!$N$6:$N$305,'Conciliação'!$E$6:$E$305,$A22,'Conciliação'!$N$6:$N$305,"<0",'Conciliação'!$S$6:$S$305,"OK")) | D22: =IF($A22="","",COUNTIFS('Conciliação'!$E$6:$E$305,$A22,'Conciliação'!$O$6:$O$305,"AUMENTAR")+COUNTIFS('Conciliação'!$E$6:$E$305,$A22,'Conciliação'!$O$6:$O$305,"REDUZIR"))
A23: ='Configurações'!A20 | B23: =IF($A23="","",SUMIFS('Conciliação'!$N$6:$N$305,'Conciliação'!$E$6:$E$305,$A23,'Conciliação'!$N$6:$N$305,">0",'Conciliação'!$S$6:$S$305,"OK")) | C23: =IF($A23="","",-SUMIFS('Conciliação'!$N$6:$N$305,'Conciliação'!$E$6:$E$305,$A23,'Conciliação'!$N$6:$N$305,"<0",'Conciliação'!$S$6:$S$305,"OK")) | D23: =IF($A23="","",COUNTIFS('Conciliação'!$E$6:$E$305,$A23,'Conciliação'!$O$6:$O$305,"AUMENTAR")+COUNTIFS('Conciliação'!$E$6:$E$305,$A23,'Conciliação'!$O$6:$O$305,"REDUZIR"))
A41: Alertas de controle
A42: Configuração dos canais | B42: ='Configurações'!$B$7
A43: Data de referência | B43: ='Configurações'!$B$8
A44: SKUs com checagem pendente | B44: =COUNTIFS('Estoque Central'!$A$6:$A$205,"<>",'Estoque Central'!$M$6:$M$205,"<>OK")
A45: Canais com checagem pendente | B45: =COUNTIFS('Configurações'!$F$11:$F$20,"<>",'Configurações'!$F$11:$F$20,"<>OK")
A46: Conciliações vencidas | B46: =COUNTIFS('Conciliação'!$S$6:$S$305,"OK",'Conciliação'!$R$6:$R$305,"<"&'Configurações'!$B$5-'Configurações'!$B$4)
A47: Situação dos dados | B47: =IF(COUNTIFS('Conciliação'!$S$6:$S$305,"OK")=0,"SEM DADOS VÁLIDOS PARA O PAINEL","OK")

Sheet Estoque Central
A1: Estoque Central
A3: Uma linha por SKU. Preencha as células amarelas; as células cinza são calculadas.
A5: SKU | B5: Produto | C5: Status do SKU | D5: Saldo físico | E5: Reservas | F5: Estoque de segurança | G5: Última atualização | H5: Pedidos pendentes | I5: Disponível global | J5: Saldo publicado total | K5: Exposição excedente | L5: Alerta do SKU | M5: Checagem
A6: FIC-CAN-001 | B6: Caneca Aurora Fosca | C6: Ativo | D6: 40 | E6: 3 | F6: 2 | G6: 46270 | H6: =IF($A6="","",IFERROR(SUMIFS('Conciliação'!$G$6:$G$305,'Conciliação'!$B$6:$B$305,$A6,'Conciliação'!$S$6:$S$305,"OK"),0)) | I6: =IF($A6="","",IF(OR(NOT(ISNUMBER($D6)),NOT(ISNUMBER($E6)),AND($F6<>"",NOT(ISNUMBER($F6)))),"",MAX(0,$D6-$E6-$H6-IF($F6="",'Configurações'!$B$2,$F6)))) | J6: =IF($A6="","",IFERROR(SUMIFS('Conciliação'!$F$6:$F$305,'Conciliação'!$B$6:$B$305,$A6,'Conciliação'!$S$6:$S$305,"OK"),0)) | K6: =IF(OR($I6="",$J6=""),"",MAX(0,$J6-$I6)) | L6: =IF($A6="","",IF($C6="Inativo",IF($J6>0,"INATIVO COM PUBLICAÇÃO","INATIVO"),IF($I6="","REVISAR DADOS",IF($K6>0,"EXPOSIÇÃO ACIMA DO DISPONÍVEL",IF($I6=0,"SEM SALDO DISPONÍVEL",IF($G6="","SEM DATA",IF('Configurações'!$B$5-$G6>'Configurações'!$B$4,"ATUALIZAÇÃO VENCIDA","OK"))))))) | M6: =IF(COUNTA($A6:$G6)=0,"",IF($A6="","SKU AUSENTE",IF(COUNTIF($A$6:$A$205,$A6)>1,"SKU DUPLICADO",IF($B6="","PRODUTO AUSENTE",IF(AND($C6<>"Ativo",$C6<>"Inativo"),"STATUS INVÁLIDO",IF(IFERROR(OR(NOT(ISNUMBER($D6)),$D6<0,MOD($D6,1)<>0),TRUE),"SALDO FÍSICO INVÁLIDO",IF(IFERROR(OR(NOT(ISNUMBER($E6)),$E6<0,MOD($E6,1)<>0),TRUE),"RESERVAS INVÁLIDAS",IF(AND($F6<>"",IFERROR(OR(NOT(ISNUMBER($F6)),$F6<0,MOD($F6,1)<>0),TRUE)),"ESTOQUE DE SEGURANÇA INVÁLIDO",IF(IFERROR(OR(NOT(ISNUMBER($G6)),$G6>'Configurações'!$B$5),TRUE),"DATA INVÁLIDA",IF($E6>$D6,"RESERVAS MAIORES QUE O SALDO","OK"))))))))))
A7: FIC-CAD-002 | B7: Caderno Neblina A5 | C7: Ativo | D7: 18 | E7: 2 | F7: 1 | G7: 46271 | H7: =IF($A7="","",IFERROR(SUMIFS('Conciliação'!$G$6:$G$305,'Conciliação'!$B$6:$B$305,$A7,'Conciliação'!$S$6:$S$305,"OK"),0)) | I7: =IF($A7="","",IF(OR(NOT(ISNUMBER($D7)),NOT(ISNUMBER($E7)),AND($F7<>"",NOT(ISNUMBER($F7)))),"",MAX(0,$D7-$E7-$H7-IF($F7="",'Configurações'!$B$2,$F7)))) | J7: =IF($A7="","",IFERROR(SUMIFS('Conciliação'!$F$6:$F$305,'Conciliação'!$B$6:$B$305,$A7,'Conciliação'!$S$6:$S$305,"OK"),0)) | K7: =IF(OR($I7="",$J7=""),"",MAX(0,$J7-$I7)) | L7: =IF($A7="","",IF($C7="Inativo",IF($J7>0,"INATIVO COM PUBLICAÇÃO","INATIVO"),IF($I7="","REVISAR DADOS",IF($K7>0,"EXPOSIÇÃO ACIMA DO DISPONÍVEL",IF($I7=0,"SEM SALDO DISPONÍVEL",IF($G7="","SEM DATA",IF('Configurações'!$B$5-$G7>'Configurações'!$B$4,"ATUALIZAÇÃO VENCIDA","OK"))))))) | M7: =IF(COUNTA($A7:$G7)=0,"",IF($A7="","SKU AUSENTE",IF(COUNTIF($A$6:$A$205,$A7)>1,"SKU DUPLICADO",IF($B7="","PRODUTO AUSENTE",IF(AND($C7<>"Ativo",$C7<>"Inativo"),"STATUS INVÁLIDO",IF(IFERROR(OR(NOT(ISNUMBER($D7)),$D7<0,MOD($D7,1)<>0),TRUE),"SALDO FÍSICO INVÁLIDO",IF(IFERROR(OR(NOT(ISNUMBER($E7)),$E7<0,MOD($E7,1)<>0),TRUE),"RESERVAS INVÁLIDAS",IF(AND($F7<>"",IFERROR(OR(NOT(ISNUMBER($F7)),$F7<0,MOD($F7,1)<>0),TRUE)),"ESTOQUE DE SEGURANÇA INVÁLIDO",IF(IFERROR(OR(NOT(ISNUMBER($G7)),$G7>'Configurações'!$B$5),TRUE),"DATA INVÁLIDA",IF($E7>$D7,"RESERVAS MAIORES QUE O SALDO","OK"))))))))))
A8: FIC-ECO-003 | B8: Ecobag Horizonte Cru | C8: Ativo | D8: 7 | E8: 1 | F8: 2 | G8: 46269 | H8: =IF($A8="","",IFERROR(SUMIFS('Conciliação'!$G$6:$G$305,'Conciliação'!$B$6:$B$305,$A8,'Conciliação'!$S$6:$S$305,"OK"),0)) | I8: =IF($A8="","",IF(OR(NOT(ISNUMBER($D8)),NOT(ISNUMBER($E8)),AND($F8<>"",NOT(ISNUMBER($F8)))),"",MAX(0,$D8-$E8-$H8-IF($F8="",'Configurações'!$B$2,$F8)))) | J8: =IF($A8="","",IFERROR(SUMIFS('Conciliação'!$F$6:$F$305,'Conciliação'!$B$6:$B$305,$A8,'Conciliação'!$S$6:$S$305,"OK"),0)) | K8: =IF(OR($I8="",$J8=""),"",MAX(0,$J8-$I8)) | L8: =IF($A8="","",IF($C8="Inativo",IF($J8>0,"INATIVO COM PUBLICAÇÃO","INATIVO"),IF($I8="","REVISAR DADOS",IF($K8>0,"EXPOSIÇÃO ACIMA DO DISPONÍVEL",IF($I8=0,"SEM SALDO DISPONÍVEL",IF($G8="","SEM DATA",IF('Configurações'!$B$5-$G8>'Configurações'!$B$4,"ATUALIZAÇÃO VENCIDA","OK"))))))) | M8: =IF(COUNTA($A8:$G8)=0,"",IF($A8="","SKU AUSENTE",IF(COUNTIF($A$6:$A$205,$A8)>1,"SKU DUPLICADO",IF($B8="","PRODUTO AUSENTE",IF(AND($C8<>"Ativo",$C8<>"Inativo"),"STATUS INVÁLIDO",IF(IFERROR(OR(NOT(ISNUMBER($D8)),$D8<0,MOD($D8,1)<>0),TRUE),"SALDO FÍSICO INVÁLIDO",IF(IFERROR(OR(NOT(ISNUMBER($E8)),$E8<0,MOD($E8,1)<>0),TRUE),"RESERVAS INVÁLIDAS",IF(AND($F8<>"",IFERROR(OR(NOT(ISNUMBER($F8)),$F8<0,MOD($F8,1)<>0),TRUE)),"ESTOQUE DE SEGURANÇA INVÁLIDO",IF(IFERROR(OR(NOT(ISNUMBER($G8)),$G8>'Configurações'!$B$5),TRUE),"DATA INVÁLIDA",IF($E8>$D8,"RESERVAS MAIORES QUE O SALDO","OK"))))))))))
A9: FIC-LUM-004 | B9: Luminária Brisa USB | C9: Ativo | D9: 0 | E9: 0 | F9: 1 | G9: 46271 | H9: =IF($A9="","",IFERROR(SUMIFS('Conciliação'!$G$6:$G$305,'Conciliação'!$B$6:$B$305,$A9,'Conciliação'!$S$6:$S$305,"OK"),0)) | I9: =IF($A9="","",IF(OR(NOT(ISNUMBER($D9)),NOT(ISNUMBER($E9)),AND($F9<>"",NOT(ISNUMBER($F9)))),"",MAX(0,$D9-$E9-$H9-IF($F9="",'Configurações'!$B$2,$F9)))) | J9: =IF($A9="","",IFERROR(SUMIFS('Conciliação'!$F$6:$F$305,'Conciliação'!$B$6:$B$305,$A9,'Conciliação'!$S$6:$S$305,"OK"),0)) | K9: =IF(OR($I9="",$J9=""),"",MAX(0,$J9-$I9)) | L9: =IF($A9="","",IF($C9="Inativo",IF($J9>0,"INATIVO COM PUBLICAÇÃO","INATIVO"),IF($I9="","REVISAR DADOS",IF($K9>0,"EXPOSIÇÃO ACIMA DO DISPONÍVEL",IF($I9=0,"SEM SALDO DISPONÍVEL",IF($G9="","SEM DATA",IF('Configurações'!$B$5-$G9>'Configurações'!$B$4,"ATUALIZAÇÃO VENCIDA","OK"))))))) | M9: =IF(COUNTA($A9:$G9)=0,"",IF($A9="","SKU AUSENTE",IF(COUNTIF($A$6:$A$205,$A9)>1,"SKU DUPLICADO",IF($B9="","PRODUTO AUSENTE",IF(AND($C9<>"Ativo",$C9<>"Inativo"),"STATUS INVÁLIDO",IF(IFERROR(OR(NOT(ISNUMBER($D9)),$D9<0,MOD($D9,1)<>0),TRUE),"SALDO FÍSICO INVÁLIDO",IF(IFERROR(OR(NOT(ISNUMBER($E9)),$E9<0,MOD($E9,1)<>0),TRUE),"RESERVAS INVÁLIDAS",IF(AND($F9<>"",IFERROR(OR(NOT(ISNUMBER($F9)),$F9<0,MOD($F9,1)<>0),TRUE)),"ESTOQUE DE SEGURANÇA INVÁLIDO",IF(IFERROR(OR(NOT(ISNUMBER($G9)),$G9>'Configurações'!$B$5),TRUE),"DATA INVÁLIDA",IF($E9>$D9,"RESERVAS MAIORES QUE O SALDO","OK"))))))))))
A10: FIC-ORG-005 | B10: Organizador Prisma P | C10: Ativo | D10: 22 | E10: 5 | F10: 2 | G10: 46268 | H10: =IF($A10="","",IFERROR(SUMIFS('Conciliação'!$G$6:$G$305,'Conciliação'!$B$6:$B$305,$A10,'Conciliação'!$S$6:$S$305,"OK"),0)) | I10: =IF($A10="","",IF(OR(NOT(ISNUMBER($D10)),NOT(ISNUMBER($E10)),AND($F10<>"",NOT(ISNUMBER($F10)))),"",MAX(0,$D10-$E10-$H10-IF($F10="",'Configurações'!$B$2,$F10)))) | J10: =IF($A10="","",IFERROR(SUMIFS('Conciliação'!$F$6:$F$305,'Conciliação'!$B$6:$B$305,$A10,'Conciliação'!$S$6:$S$305,"OK"),0)) | K10: =IF(OR($I10="",$J10=""),"",MAX(0,$J10-$I10)) | L10: =IF($A10="","",IF($C10="Inativo",IF($J10>0,"INATIVO COM PUBLICAÇÃO","INATIVO"),IF($I10="","REVISAR DADOS",IF($K10>0,"EXPOSIÇÃO ACIMA DO DISPONÍVEL",IF($I10=0,"SEM SALDO DISPONÍVEL",IF($G10="","SEM DATA",IF('Configurações'!$B$5-$G10>'Configurações'!$B$4,"ATUALIZAÇÃO VENCIDA","OK"))))))) | M10: =IF(COUNTA($A10:$G10)=0,"",IF($A10="","SKU AUSENTE",IF(COUNTIF($A$6:$A$205,$A10)>1,"SKU DUPLICADO",IF($B10="","PRODUTO AUSENTE",IF(AND($C10<>"Ativo",$C10<>"Inativo"),"STATUS INVÁLIDO",IF(IFERROR(OR(NOT(ISNUMBER($D10)),$D10<0,MOD($D10,1)<>0),TRUE),"SALDO FÍSICO INVÁLIDO",IF(IFERROR(OR(NOT(ISNUMBER($E10)),$E10<0,MOD($E10,1)<>0),TRUE),"RESERVAS INVÁLIDAS",IF(AND($F10<>"",IFERROR(OR(NOT(ISNUMBER($F10)),$F10<0,MOD($F10,1)<>0),TRUE)),"ESTOQUE DE SEGURANÇA INVÁLIDO",IF(IFERROR(OR(NOT(ISNUMBER($G10)),$G10>'Configurações'!$B$5),TRUE),"DATA INVÁLIDA",IF($E10>$D10,"RESERVAS MAIORES QUE O SALDO","OK"))))))))))
A11: FIC-GAR-006 | B11: Garrafa Vale 600 ml | C11: Ativo | D11: 12 | E11: 1 | G11: 46270 | H11: =IF($A11="","",IFERROR(SUMIFS('Conciliação'!$G$6:$G$305,'Conciliação'!$B$6:$B$305,$A11,'Conciliação'!$S$6:$S$305,"OK"),0)) | I11: =IF($A11="","",IF(OR(NOT(ISNUMBER($D11)),NOT(ISNUMBER($E11)),AND($F11<>"",NOT(ISNUMBER($F11)))),"",MAX(0,$D11-$E11-$H11-IF($F11="",'Configurações'!$B$2,$F11)))) | J11: =IF($A11="","",IFERROR(SUMIFS('Conciliação'!$F$6:$F$305,'Conciliação'!$B$6:$B$305,$A11,'Conciliação'!$S$6:$S$305,"OK"),0)) | K11: =IF(OR($I11="",$J11=""),"",MAX(0,$J11-$I11)) | L11: =IF($A11="","",IF($C11="Inativo",IF($J11>0,"INATIVO COM PUBLICAÇÃO","INATIVO"),IF($I11="","REVISAR DADOS",IF($K11>0,"EXPOSIÇÃO ACIMA DO DISPONÍVEL",IF($I11=0,"SEM SALDO DISPONÍVEL",IF($G11="","SEM DATA",IF('Configurações'!$B$5-$G11>'Configurações'!$B$4,"ATUALIZAÇÃO VENCIDA","OK"))))))) | M11: =IF(COUNTA($A11:$G11)=0,"",IF($A11="","SKU AUSENTE",IF(COUNTIF($A$6:$A$205,$A11)>1,"SKU DUPLICADO",IF($B11="","PRODUTO AUSENTE",IF(AND($C11<>"Ativo",$C11<>"Inativo"),"STATUS INVÁLIDO",IF(IFERROR(OR(NOT(ISNUMBER($D11)),$D11<0,MOD($D11,1)<>0),TRUE),"SALDO FÍSICO INVÁLIDO",IF(IFERROR(OR(NOT(ISNUMBER($E11)),$E11<0,MOD($E11,1)<>0),TRUE),"RESERVAS INVÁLIDAS",IF(AND($F11<>"",IFERROR(OR(NOT(ISNUMBER($F11)),$F11<0,MOD($F11,1)<>0),TRUE)),"ESTOQUE DE SEGURANÇA INVÁLIDO",IF(IFERROR(OR(NOT(ISNUMBER($G11)),$G11>'Configurações'!$B$5),TRUE),"DATA INVÁLIDA",IF($E11>$D11,"RESERVAS MAIORES QUE O SALDO","OK"))))))))))
A12: FIC-ALM-007 | B12: Almofada Nuvem 40 cm | C12: Ativo | D12: 5 | E12: 0 | F12: 1 | G12: 46271 | H12: =IF($A12="","",IFERROR(SUMIFS('Conciliação'!$G$6:$G$305,'Conciliação'!$B$6:$B$305,$A12,'Conciliação'!$S$6:$S$305,"OK"),0)) | I12: =IF($A12="","",IF(OR(NOT(ISNUMBER($D12)),NOT(ISNUMBER($E12)),AND($F12<>"",NOT(ISNUMBER($F12)))),"",MAX(0,$D12-$E12-$H12-IF($F12="",'Configurações'!$B$2,$F12)))) | J12: =IF($A12="","",IFERROR(SUMIFS('Conciliação'!$F$6:$F$305,'Conciliação'!$B$6:$B$305,$A12,'Conciliação'!$S$6:$S$305,"OK"),0)) | K12: =IF(OR($I12="",$J12=""),"",MAX(0,$J12-$I12)) | L12: =IF($A12="","",IF($C12="Inativo",IF($J12>0,"INATIVO COM PUBLICAÇÃO","INATIVO"),IF($I12="","REVISAR DADOS",IF($K12>0,"EXPOSIÇÃO ACIMA DO DISPONÍVEL",IF($I12=0,"SEM SALDO DISPONÍVEL",IF($G12="","SEM DATA",IF('Configurações'!$B$5-$G12>'Configurações'!$B$4,"ATUALIZAÇÃO VENCIDA","OK"))))))) | M12: =IF(COUNTA($A12:$G12)=0,"",IF($A12="","SKU AUSENTE",IF(COUNTIF($A$6:$A$205,$A12)>1,"SKU DUPLICADO",IF($B12="","PRODUTO AUSENTE",IF(AND($C12<>"Ativo",$C12<>"Inativo"),"STATUS INVÁLIDO",IF(IFERROR(OR(NOT(ISNUMBER($D12)),$D12<0,MOD($D12,1)<>0),TRUE),"SALDO FÍSICO INVÁLIDO",IF(IFERROR(OR(NOT(ISNUMBER($E12)),$E12<0,MOD($E12,1)<>0),TRUE),"RESERVAS INVÁLIDAS",IF(AND($F12<>"",IFERROR(OR(NOT(ISNUMBER($F12)),$F12<0,MOD($F12,1)<>0),TRUE)),"ESTOQUE DE SEGURANÇA INVÁLIDO",IF(IFERROR(OR(NOT(ISNUMBER($G12)),$G12>'Configurações'!$B$5),TRUE),"DATA INVÁLIDA",IF($E12>$D12,"RESERVAS MAIORES QUE O SALDO","OK"))))))))))
A13: FIC-KIT-008 | B13: Kit Mesa Orvalho | C13: Ativo | D13: 30 | E13: 4 | F13: 3 | G13: 46270 | H13: =IF($A13="","",IFERROR(SUMIFS('Conciliação'!$G$6:$G$305,'Conciliação'!$B$6:$B$305,$A13,'Conciliação'!$S$6:$S$305,"OK"),0)) | I13: =IF($A13="","",IF(OR(NOT(ISNUMBER($D13)),NOT(ISNUMBER($E13)),AND($F13<>"",NOT(ISNUMBER($F13)))),"",MAX(0,$D13-$E13-$H13-IF($F13="",'Configurações'!$B$2,$F13)))) | J13: =IF($A13="","",IFERROR(SUMIFS('Conciliação'!$F$6:$F$305,'Conciliação'!$B$6:$B$305,$A13,'Conciliação'!$S$6:$S$305,"OK"),0)) | K13: =IF(OR($I13="",$J13=""),"",MAX(0,$J13-$I13)) | L13: =IF($A13="","",IF($C13="Inativo",IF($J13>0,"INATIVO COM PUBLICAÇÃO","INATIVO"),IF($I13="","REVISAR DADOS",IF($K13>0,"EXPOSIÇÃO ACIMA DO DISPONÍVEL",IF($I13=0,"SEM SALDO DISPONÍVEL",IF($G13="","SEM DATA",IF('Configurações'!$B$5-$G13>'Configurações'!$B$4,"ATUALIZAÇÃO VENCIDA","OK"))))))) | M13: =IF(COUNTA($A13:$G13)=0,"",IF($A13="","SKU AUSENTE",IF(COUNTIF($A$6:$A$205,$A13)>1,"SKU DUPLICADO",IF($B13="","PRODUTO AUSENTE",IF(AND($C13<>"Ativo",$C13<>"Inativo"),"STATUS INVÁLIDO",IF(IFERROR(OR(NOT(ISNUMBER($D13)),$D13<0,MOD($D13,1)<>0),TRUE),"SALDO FÍSICO INVÁLIDO",IF(IFERROR(OR(NOT(ISNUMBER($E13)),$E13<0,MOD($E13,1)<>0),TRUE),"RESERVAS INVÁLIDAS",IF(AND($F13<>"",IFERROR(OR(NOT(ISNUMBER($F13)),$F13<0,MOD($F13,1)<>0),TRUE)),"ESTOQUE DE SEGURANÇA INVÁLIDO",IF(IFERROR(OR(NOT(ISNUMBER($G13)),$G13>'Configurações'!$B$5),TRUE),"DATA INVÁLIDA",IF($E13>$D13,"RESERVAS MAIORES QUE O SALDO","OK"))))))))))
A14: FIC-POR-009 | B14: Porta-cabos Faísca | C14: Inativo | D14: 9 | E14: 0 | F14: 1 | G14: 46271 | H14: =IF($A14="","",IFERROR(SUMIFS('Conciliação'!$G$6:$G$305,'Conciliação'!$B$6:$B$305,$A14,'Conciliação'!$S$6:$S$305,"OK"),0)) | I14: =IF($A14="","",IF(OR(NOT(ISNUMBER($D14)),NOT(ISNUMBER($E14)),AND($F14<>"",NOT(ISNUMBER($F14)))),"",MAX(0,$D14-$E14-$H14-IF($F14="",'Configurações'!$B$2,$F14)))) | J14: =IF($A14="","",IFERROR(SUMIFS('Conciliação'!$F$6:$F$305,'Conciliação'!$B$6:$B$305,$A14,'Conciliação'!$S$6:$S$305,"OK"),0)) | K14: =IF(OR($I14="",$J14=""),"",MAX(0,$J14-$I14)) | L14: =IF($A14="","",IF($C14="Inativo",IF($J14>0,"INATIVO COM PUBLICAÇÃO","INATIVO"),IF($I14="","REVISAR DADOS",IF($K14>0,"EXPOSIÇÃO ACIMA DO DISPONÍVEL",IF($I14=0,"SEM SALDO DISPONÍVEL",IF($G14="","SEM DATA",IF('Configurações'!$B$5-$G14>'Configurações'!$B$4,"ATUALIZAÇÃO VENCIDA","OK"))))))) | M14: =IF(COUNTA($A14:$G14)=0,"",IF($A14="","SKU AUSENTE",IF(COUNTIF($A$6:$A$205,$A14)>1,"SKU DUPLICADO",IF($B14="","PRODUTO AUSENTE",IF(AND($C14<>"Ativo",$C14<>"Inativo"),"STATUS INVÁLIDO",IF(IFERROR(OR(NOT(ISNUMBER($D14)),$D14<0,MOD($D14,1)<>0),TRUE),"SALDO FÍSICO INVÁLIDO",IF(IFERROR(OR(NOT(ISNUMBER($E14)),$E14<0,MOD($E14,1)<>0),TRUE),"RESERVAS INVÁLIDAS",IF(AND($F14<>"",IFERROR(OR(NOT(ISNUMBER($F14)),$F14<0,MOD($F14,1)<>0),TRUE)),"ESTOQUE DE SEGURANÇA INVÁLIDO",IF(IFERROR(OR(NOT(ISNUMBER($G14)),$G14>'Configurações'!$B$5),TRUE),"DATA INVÁLIDA",IF($E14>$D14,"RESERVAS MAIORES QUE O SALDO","OK"))))))))))
A15: FIC-SUP-010 | B15: Suporte Cedro Mini | C15: Ativo | D15: 15 | E15: 2 | F15: 2 | G15: 46269 | H15: =IF($A15="","",IFERROR(SUMIFS('Conciliação'!$G$6:$G$305,'Conciliação'!$B$6:$B$305,$A15,'Conciliação'!$S$6:$S$305,"OK"),0)) | I15: =IF($A15="","",IF(OR(NOT(ISNUMBER($D15)),NOT(ISNUMBER($E15)),AND($F15<>"",NOT(ISNUMBER($F15)))),"",MAX(0,$D15-$E15-$H15-IF($F15="",'Configurações'!$B$2,$F15)))) | J15: =IF($A15="","",IFERROR(SUMIFS('Conciliação'!$F$6:$F$305,'Conciliação'!$B$6:$B$305,$A15,'Conciliação'!$S$6:$S$305,"OK"),0)) | K15: =IF(OR($I15="",$J15=""),"",MAX(0,$J15-$I15)) | L15: =IF($A15="","",IF($C15="Inativo",IF($J15>0,"INATIVO COM PUBLICAÇÃO","INATIVO"),IF($I15="","REVISAR DADOS",IF($K15>0,"EXPOSIÇÃO ACIMA DO DISPONÍVEL",IF($I15=0,"SEM SALDO DISPONÍVEL",IF($G15="","SEM DATA",IF('Configurações'!$B$5-$G15>'Configurações'!$B$4,"ATUALIZAÇÃO VENCIDA","OK"))))))) | M15: =IF(COUNTA($A15:$G15)=0,"",IF($A15="","SKU AUSENTE",IF(COUNTIF($A$6:$A$205,$A15)>1,"SKU DUPLICADO",IF($B15="","PRODUTO AUSENTE",IF(AND($C15<>"Ativo",$C15<>"Inativo"),"STATUS INVÁLIDO",IF(IFERROR(OR(NOT(ISNUMBER($D15)),$D15<0,MOD($D15,1)<>0),TRUE),"SALDO FÍSICO INVÁLIDO",IF(IFERROR(OR(NOT(ISNUMBER($E15)),$E15<0,MOD($E15,1)<>0),TRUE),"RESERVAS INVÁLIDAS",IF(AND($F15<>"",IFERROR(OR(NOT(ISNUMBER($F15)),$F15<0,MOD($F15,1)<>0),TRUE)),"ESTOQUE DE SEGURANÇA INVÁLIDO",IF(IFERROR(OR(NOT(ISNUMBER($G15)),$G15>'Configurações'!$B$5),TRUE),"DATA INVÁLIDA",IF($E15>$D15,"RESERVAS MAIORES QUE O SALDO","OK"))))))))))
H16: =IF($A16="","",IFERROR(SUMIFS('Conciliação'!$G$6:$G$305,'Conciliação'!$B$6:$B$305,$A16,'Conciliação'!$S$6:$S$305,"OK"),0)) | I16: =IF($A16="","",IF(OR(NOT(ISNUMBER($D16)),NOT(ISNUMBER($E16)),AND($F16<>"",NOT(ISNUMBER($F16)))),"",MAX(0,$D16-$E16-$H16-IF($F16="",'Configurações'!$B$2,$F16)))) | J16: =IF($A16="","",IFERROR(SUMIFS('Conciliação'!$F$6:$F$305,'Conciliação'!$B$6:$B$305,$A16,'Conciliação'!$S$6:$S$305,"OK"),0)) | K16: =IF(OR($I16="",$J16=""),"",MAX(0,$J16-$I16)) | L16: =IF($A16="","",IF($C16="Inativo",IF($J16>0,"INATIVO COM PUBLICAÇÃO","INATIVO"),IF($I16="","REVISAR DADOS",IF($K16>0,"EXPOSIÇÃO ACIMA DO DISPONÍVEL",IF($I16=0,"SEM SALDO DISPONÍVEL",IF($G16="","SEM DATA",IF('Configurações'!$B$5-$G16>'Configurações'!$B$4,"ATUALIZAÇÃO VENCIDA","OK"))))))) | M16: =IF(COUNTA($A16:$G16)=0,"",IF($A16="","SKU AUSENTE",IF(COUNTIF($A$6:$A$205,$A16)>1,"SKU DUPLICADO",IF($B16="","PRODUTO AUSENTE",IF(AND($C16<>"Ativo",$C16<>"Inativo"),"STATUS INVÁLIDO",IF(IFERROR(OR(NOT(ISNUMBER($D16)),$D16<0,MOD($D16,1)<>0),TRUE),"SALDO FÍSICO INVÁLIDO",IF(IFERROR(OR(NOT(ISNUMBER($E16)),$E16<0,MOD($E16,1)<>0),TRUE),"RESERVAS INVÁLIDAS",IF(AND($F16<>"",IFERROR(OR(NOT(ISNUMBER($F16)),$F16<0,MOD($F16,1)<>0),TRUE)),"ESTOQUE DE SEGURANÇA INVÁLIDO",IF(IFERROR(OR(NOT(ISNUMBER($G16)),$G16>'Configurações'!$B$5),TRUE),"DATA INVÁLIDA",IF($E16>$D16,"RESERVAS MAIORES QUE O SALDO","OK"))))))))))
H17: =IF($A17="","",IFERROR(SUMIFS('Conciliação'!$G$6:$G$305,'Conciliação'!$B$6:$B$305,$A17,'Conciliação'!$S$6:$S$305,"OK"),0)) | I17: =IF($A17="","",IF(OR(NOT(ISNUMBER($D17)),NOT(ISNUMBER($E17)),AND($F17<>"",NOT(ISNUMBER($F17)))),"",MAX(0,$D17-$E17-$H17-IF($F17="",'Configurações'!$B$2,$F17)))) | J17: =IF($A17="","",IFERROR(SUMIFS('Conciliação'!$F$6:$F$305,'Conciliação'!$B$6:$B$305,$A17,'Conciliação'!$S$6:$S$305,"OK"),0)) | K17: =IF(OR($I17="",$J17=""),"",MAX(0,$J17-$I17)) | L17: =IF($A17="","",IF($C17="Inativo",IF($J17>0,"INATIVO COM PUBLICAÇÃO","INATIVO"),IF($I17="","REVISAR DADOS",IF($K17>0,"EXPOSIÇÃO ACIMA DO DISPONÍVEL",IF($I17=0,"SEM SALDO DISPONÍVEL",IF($G17="","SEM DATA",IF('Configurações'!$B$5-$G17>'Configurações'!$B$4,"ATUALIZAÇÃO VENCIDA","OK"))))))) | M17: =IF(COUNTA($A17:$G17)=0,"",IF($A17="","SKU AUSENTE",IF(COUNTIF($A$6:$A$205,$A17)>1,"SKU DUPLICADO",IF($B17="","PRODUTO AUSENTE",IF(AND($C17<>"Ativo",$C17<>"Inativo"),"STATUS INVÁLIDO",IF(IFERROR(OR(NOT(ISNUMBER($D17)),$D17<0,MOD($D17,1)<>0),TRUE),"SALDO FÍSICO INVÁLIDO",IF(IFERROR(OR(NOT(ISNUMBER($E17)),$E17<0,MOD($E17,1)<>0),TRUE),"RESERVAS INVÁLIDAS",IF(AND($F17<>"",IFERROR(OR(NOT(ISNUMBER($F17)),$F17<0,MOD($F17,1)<>0),TRUE)),"ESTOQUE DE SEGURANÇA INVÁLIDO",IF(IFERROR(OR(NOT(ISNUMBER($G17)),$G17>'Configurações'!$B$5),TRUE),"DATA INVÁLIDA",IF($E17>$D17,"RESERVAS MAIORES QUE O SALDO","OK"))))))))))
H18: =IF($A18="","",IFERROR(SUMIFS('Conciliação'!$G$6:$G$305,'Conciliação'!$B$6:$B$305,$A18,'Conciliação'!$S$6:$S$305,"OK"),0)) | I18: =IF($A18="","",IF(OR(NOT(ISNUMBER($D18)),NOT(ISNUMBER($E18)),AND($F18<>"",NOT(ISNUMBER($F18)))),"",MAX(0,$D18-$E18-$H18-IF($F18="",'Configurações'!$B$2,$F18)))) | J18: =IF($A18="","",IFERROR(SUMIFS('Conciliação'!$F$6:$F$305,'Conciliação'!$B$6:$B$305,$A18,'Conciliação'!$S$6:$S$305,"OK"),0)) | K18: =IF(OR($I18="",$J18=""),"",MAX(0,$J18-$I18)) | L18: =IF($A18="","",IF($C18="Inativo",IF($J18>0,"INATIVO COM PUBLICAÇÃO","INATIVO"),IF($I18="","REVISAR DADOS",IF($K18>0,"EXPOSIÇÃO ACIMA DO DISPONÍVEL",IF($I18=0,"SEM SALDO DISPONÍVEL",IF($G18="","SEM DATA",IF('Configurações'!$B$5-$G18>'Configurações'!$B$4,"ATUALIZAÇÃO VENCIDA","OK"))))))) | M18: =IF(COUNTA($A18:$G18)=0,"",IF($A18="","SKU AUSENTE",IF(COUNTIF($A$6:$A$205,$A18)>1,"SKU DUPLICADO",IF($B18="","PRODUTO AUSENTE",IF(AND($C18<>"Ativo",$C18<>"Inativo"),"STATUS INVÁLIDO",IF(IFERROR(OR(NOT(ISNUMBER($D18)),$D18<0,MOD($D18,1)<>0),TRUE),"SALDO FÍSICO INVÁLIDO",IF(IFERROR(OR(NOT(ISNUMBER($E18)),$E18<0,MOD($E18,1)<>0),TRUE),"RESERVAS INVÁLIDAS",IF(AND($F18<>"",IFERROR(OR(NOT(ISNUMBER($F18)),$F18<0,MOD($F18,1)<>0),TRUE)),"ESTOQUE DE SEGURANÇA INVÁLIDO",IF(IFERROR(OR(NOT(ISNUMBER($G18)),$G18>'Configurações'!$B$5),TRUE),"DATA INVÁLIDA",IF($E18>$D18,"RESERVAS MAIORES QUE O SALDO","OK"))))))))))
H19: =IF($A19="","",IFERROR(SUMIFS('Conciliação'!$G$6:$G$305,'Conciliação'!$B$6:$B$305,$A19,'Conciliação'!$S$6:$S$305,"OK"),0)) | I19: =IF($A19="","",IF(OR(NOT(ISNUMBER($D19)),NOT(ISNUMBER($E19)),AND($F19<>"",NOT(ISNUMBER($F19)))),"",MAX(0,$D19-$E19-$H19-IF($F19="",'Configurações'!$B$2,$F19)))) | J19: =IF($A19="","",IFERROR(SUMIFS('Conciliação'!$F$6:$F$305,'Conciliação'!$B$6:$B$305,$A19,'Conciliação'!$S$6:$S$305,"OK"),0)) | K19: =IF(OR($I19="",$J19=""),"",MAX(0,$J19-$I19)) | L19: =IF($A19="","",IF($C19="Inativo",IF($J19>0,"INATIVO COM PUBLICAÇÃO","INATIVO"),IF($I19="","REVISAR DADOS",IF($K19>0,"EXPOSIÇÃO ACIMA DO DISPONÍVEL",IF($I19=0,"SEM SALDO DISPONÍVEL",IF($G19="","SEM DATA",IF('Configurações'!$B$5-$G19>'Configurações'!$B$4,"ATUALIZAÇÃO VENCIDA","OK"))))))) | M19: =IF(COUNTA($A19:$G19)=0,"",IF($A19="","SKU AUSENTE",IF(COUNTIF($A$6:$A$205,$A19)>1,"SKU DUPLICADO",IF($B19="","PRODUTO AUSENTE",IF(AND($C19<>"Ativo",$C19<>"Inativo"),"STATUS INVÁLIDO",IF(IFERROR(OR(NOT(ISNUMBER($D19)),$D19<0,MOD($D19,1)<>0),TRUE),"SALDO FÍSICO INVÁLIDO",IF(IFERROR(OR(NOT(ISNUMBER($E19)),$E19<0,MOD($E19,1)<>0),TRUE),"RESERVAS INVÁLIDAS",IF(AND($F19<>"",IFERROR(OR(NOT(ISNUMBER($F19)),$F19<0,MOD($F19,1)<>0),TRUE)),"ESTOQUE DE SEGURANÇA INVÁLIDO",IF(IFERROR(OR(NOT(ISNUMBER($G19)),$G19>'Configurações'!$B$5),TRUE),"DATA INVÁLIDA",IF($E19>$D19,"RESERVAS MAIORES QUE O SALDO","OK"))))))))))
H20: =IF($A20="","",IFERROR(SUMIFS('Conciliação'!$G$6:$G$305,'Conciliação'!$B$6:$B$305,$A20,'Conciliação'!$S$6:$S$305,"OK"),0)) | I20: =IF($A20="","",IF(OR(NOT(ISNUMBER($D20)),NOT(ISNUMBER($E20)),AND($F20<>"",NOT(ISNUMBER($F20)))),"",MAX(0,$D20-$E20-$H20-IF($F20="",'Configurações'!$B$2,$F20)))) | J20: =IF($A20="","",IFERROR(SUMIFS('Conciliação'!$F$6:$F$305,'Conciliação'!$B$6:$B$305,$A20,'Conciliação'!$S$6:$S$305,"OK"),0)) | K20: =IF(OR($I20="",$J20=""),"",MAX(0,$J20-$I20)) | L20: =IF($A20="","",IF($C20="Inativo",IF($J20>0,"INATIVO COM PUBLICAÇÃO","INATIVO"),IF($I20="","REVISAR DADOS",IF($K20>0,"EXPOSIÇÃO ACIMA DO DISPONÍVEL",IF($I20=0,"SEM SALDO DISPONÍVEL",IF($G20="","SEM DATA",IF('Configurações'!$B$5-$G20>'Configurações'!$B$4,"ATUALIZAÇÃO VENCIDA","OK"))))))) | M20: =IF(COUNTA($A20:$G20)=0,"",IF($A20="","SKU AUSENTE",IF(COUNTIF($A$6:$A$205,$A20)>1,"SKU DUPLICADO",IF($B20="","PRODUTO AUSENTE",IF(AND($C20<>"Ativo",$C20<>"Inativo"),"STATUS INVÁLIDO",IF(IFERROR(OR(NOT(ISNUMBER($D20)),$D20<0,MOD($D20,1)<>0),TRUE),"SALDO FÍSICO INVÁLIDO",IF(IFERROR(OR(NOT(ISNUMBER($E20)),$E20<0,MOD($E20,1)<>0),TRUE),"RESERVAS INVÁLIDAS",IF(AND($F20<>"",IFERROR(OR(NOT(ISNUMBER($F20)),$F20<0,MOD($F20,1)<>0),TRUE)),"ESTOQUE DE SEGURANÇA INVÁLIDO",IF(IFERROR(OR(NOT(ISNUMBER($G20)),$G20>'Configurações'!$B$5),TRUE),"DATA INVÁLIDA",IF($E20>$D20,"RESERVAS MAIORES QUE O SALDO","OK"))))))))))
H21: =IF($A21="","",IFERROR(SUMIFS('Conciliação'!$G$6:$G$305,'Conciliação'!$B$6:$B$305,$A21,'Conciliação'!$S$6:$S$305,"OK"),0)) | I21: =IF($A21="","",IF(OR(NOT(ISNUMBER($D21)),NOT(ISNUMBER($E21)),AND($F21<>"",NOT(ISNUMBER($F21)))),"",MAX(0,$D21-$E21-$H21-IF($F21="",'Configurações'!$B$2,$F21)))) | J21: =IF($A21="","",IFERROR(SUMIFS('Conciliação'!$F$6:$F$305,'Conciliação'!$B$6:$B$305,$A21,'Conciliação'!$S$6:$S$305,"OK"),0)) | K21: =IF(OR($I21="",$J21=""),"",MAX(0,$J21-$I21)) | L21: =IF($A21="","",IF($C21="Inativo",IF($J21>0,"INATIVO COM PUBLICAÇÃO","INATIVO"),IF($I21="","REVISAR DADOS",IF($K21>0,"EXPOSIÇÃO ACIMA DO DISPONÍVEL",IF($I21=0,"SEM SALDO DISPONÍVEL",IF($G21="","SEM DATA",IF('Configurações'!$B$5-$G21>'Configurações'!$B$4,"ATUALIZAÇÃO VENCIDA","OK"))))))) | M21: =IF(COUNTA($A21:$G21)=0,"",IF($A21="","SKU AUSENTE",IF(COUNTIF($A$6:$A$205,$A21)>1,"SKU DUPLICADO",IF($B21="","PRODUTO AUSENTE",IF(AND($C21<>"Ativo",$C21<>"Inativo"),"STATUS INVÁLIDO",IF(IFERROR(OR(NOT(ISNUMBER($D21)),$D21<0,MOD($D21,1)<>0),TRUE),"SALDO FÍSICO INVÁLIDO",IF(IFERROR(OR(NOT(ISNUMBER($E21)),$E21<0,MOD($E21,1)<>0),TRUE),"RESERVAS INVÁLIDAS",IF(AND($F21<>"",IFERROR(OR(NOT(ISNUMBER($F21)),$F21<0,MOD($F21,1)<>0),TRUE)),"ESTOQUE DE SEGURANÇA INVÁLIDO",IF(IFERROR(OR(NOT(ISNUMBER($G21)),$G21>'Configurações'!$B$5),TRUE),"DATA INVÁLIDA",IF($E21>$D21,"RESERVAS MAIORES QUE O SALDO","OK"))))))))))
H22: =IF($A22="","",IFERROR(SUMIFS('Conciliação'!$G$6:$G$305,'Conciliação'!$B$6:$B$305,$A22,'Conciliação'!$S$6:$S$305,"OK"),0)) | I22: =IF($A22="","",IF(OR(NOT(ISNUMBER($D22)),NOT(ISNUMBER($E22)),AND($F22<>"",NOT(ISNUMBER($F22)))),"",MAX(0,$D22-$E22-$H22-IF($F22="",'Configurações'!$B$2,$F22)))) | J22: =IF($A22="","",IFERROR(SUMIFS('Conciliação'!$F$6:$F$305,'Conciliação'!$B$6:$B$305,$A22,'Conciliação'!$S$6:$S$305,"OK"),0)) | K22: =IF(OR($I22="",$J22=""),"",MAX(0,$J22-$I22)) | L22: =IF($A22="","",IF($C22="Inativo",IF($J22>0,"INATIVO COM PUBLICAÇÃO","INATIVO"),IF($I22="","REVISAR DADOS",IF($K22>0,"EXPOSIÇÃO ACIMA DO DISPONÍVEL",IF($I22=0,"SEM SALDO DISPONÍVEL",IF($G22="","SEM DATA",IF('Configurações'!$B$5-$G22>'Configurações'!$B$4,"ATUALIZAÇÃO VENCIDA","OK"))))))) | M22: =IF(COUNTA($A22:$G22)=0,"",IF($A22="","SKU AUSENTE",IF(COUNTIF($A$6:$A$205,$A22)>1,"SKU DUPLICADO",IF($B22="","PRODUTO AUSENTE",IF(AND($C22<>"Ativo",$C22<>"Inativo"),"STATUS INVÁLIDO",IF(IFERROR(OR(NOT(ISNUMBER($D22)),$D22<0,MOD($D22,1)<>0),TRUE),"SALDO FÍSICO INVÁLIDO",IF(IFERROR(OR(NOT(ISNUMBER($E22)),$E22<0,MOD($E22,1)<>0),TRUE),"RESERVAS INVÁLIDAS",IF(AND($F22<>"",IFERROR(OR(NOT(ISNUMBER($F22)),$F22<0,MOD($F22,1)<>0),TRUE)),"ESTOQUE DE SEGURANÇA INVÁLIDO",IF(IFERROR(OR(NOT(ISNUMBER($G22)),$G22>'Configurações'!$B$5),TRUE),"DATA INVÁLIDA",IF($E22>$D22,"RESERVAS MAIORES QUE O SALDO","OK"))))))))))
H23: =IF($A23="","",IFERROR(SUMIFS('Conciliação'!$G$6:$G$305,'Conciliação'!$B$6:$B$305,$A23,'Conciliação'!$S$6:$S$305,"OK"),0)) | I23: =IF($A23="","",IF(OR(NOT(ISNUMBER($D23)),NOT(ISNUMBER($E23)),AND($F23<>"",NOT(ISNUMBER($F23)))),"",MAX(0,$D23-$E23-$H23-IF($F23="",'Configurações'!$B$2,$F23)))) | J23: =IF($A23="","",IFERROR(SUMIFS('Conciliação'!$F$6:$F$305,'Conciliação'!$B$6:$B$305,$A23,'Conciliação'!$S$6:$S$305,"OK"),0)) | K23: =IF(OR($I23="",$J23=""),"",MAX(0,$J23-$I23)) | L23: =IF($A23="","",IF($C23="Inativo",IF($J23>0,"INATIVO COM PUBLICAÇÃO","INATIVO"),IF($I23="","REVISAR DADOS",IF($K23>0,"EXPOSIÇÃO ACIMA DO DISPONÍVEL",IF($I23=0,"SEM SALDO DISPONÍVEL",IF($G23="","SEM DATA",IF('Configurações'!$B$5-$G23>'Configurações'!$B$4,"ATUALIZAÇÃO VENCIDA","OK"))))))) | M23: =IF(COUNTA($A23:$G23)=0,"",IF($A23="","SKU AUSENTE",IF(COUNTIF($A$6:$A$205,$A23)>1,"SKU DUPLICADO",IF($B23="","PRODUTO AUSENTE",IF(AND($C23<>"Ativo",$C23<>"Inativo"),"STATUS INVÁLIDO",IF(IFERROR(OR(NOT(ISNUMBER($D23)),$D23<0,MOD($D23,1)<>0),TRUE),"SALDO FÍSICO INVÁLIDO",IF(IFERROR(OR(NOT(ISNUMBER($E23)),$E23<0,MOD($E23,1)<>0),TRUE),"RESERVAS INVÁLIDAS",IF(AND($F23<>"",IFERROR(OR(NOT(ISNUMBER($F23)),$F23<0,MOD($F23,1)<>0),TRUE)),"ESTOQUE DE SEGURANÇA INVÁLIDO",IF(IFERROR(OR(NOT(ISNUMBER($G23)),$G23>'Configurações'!$B$5),TRUE),"DATA INVÁLIDA",IF($E23>$D23,"RESERVAS MAIORES QUE O SALDO","OK"))))))))))
H24: =IF($A24="","",IFERROR(SUMIFS('Conciliação'!$G$6:$G$305,'Conciliação'!$B$6:$B$305,$A24,'Conciliação'!$S$6:$S$305,"OK"),0)) | I24: =IF($A24="","",IF(OR(NOT(ISNUMBER($D24)),NOT(ISNUMBER($E24)),AND($F24<>"",NOT(ISNUMBER($F24)))),"",MAX(0,$D24-$E24-$H24-IF($F24="",'Configurações'!$B$2,$F24)))) | J24: =IF($A24="","",IFERROR(SUMIFS('Conciliação'!$F$6:$F$305,'Conciliação'!$B$6:$B$305,$A24,'Conciliação'!$S$6:$S$305,"OK"),0)) | K24: =IF(OR($I24="",$J24=""),"",MAX(0,$J24-$I24)) | L24: =IF($A24="","",IF($C24="Inativo",IF($J24>0,"INATIVO COM PUBLICAÇÃO","INATIVO"),IF($I24="","REVISAR DADOS",IF($K24>0,"EXPOSIÇÃO ACIMA DO DISPONÍVEL",IF($I24=0,"SEM SALDO DISPONÍVEL",IF($G24="","SEM DATA",IF('Configurações'!$B$5-$G24>'Configurações'!$B$4,"ATUALIZAÇÃO VENCIDA","OK"))))))) | M24: =IF(COUNTA($A24:$G24)=0,"",IF($A24="","SKU AUSENTE",IF(COUNTIF($A$6:$A$205,$A24)>1,"SKU DUPLICADO",IF($B24="","PRODUTO AUSENTE",IF(AND($C24<>"Ativo",$C24<>"Inativo"),"STATUS INVÁLIDO",IF(IFERROR(OR(NOT(ISNUMBER($D24)),$D24<0,MOD($D24,1)<>0),TRUE),"SALDO FÍSICO INVÁLIDO",IF(IFERROR(OR(NOT(ISNUMBER($E24)),$E24<0,MOD($E24,1)<>0),TRUE),"RESERVAS INVÁLIDAS",IF(AND($F24<>"",IFERROR(OR(NOT(ISNUMBER($F24)),$F24<0,MOD($F24,1)<>0),TRUE)),"ESTOQUE DE SEGURANÇA INVÁLIDO",IF(IFERROR(OR(NOT(ISNUMBER($G24)),$G24>'Configurações'!$B$5),TRUE),"DATA INVÁLIDA",IF($E24>$D24,"RESERVAS MAIORES QUE O SALDO","OK"))))))))))
H25: =IF($A25="","",IFERROR(SUMIFS('Conciliação'!$G$6:$G$305,'Conciliação'!$B$6:$B$305,$A25,'Conciliação'!$S$6:$S$305,"OK"),0)) | I25: =IF($A25="","",IF(OR(NOT(ISNUMBER($D25)),NOT(ISNUMBER($E25)),AND($F25<>"",NOT(ISNUMBER($F25)))),"",MAX(0,$D25-$E25-$H25-IF($F25="",'Configurações'!$B$2,$F25)))) | J25: =IF($A25="","",IFERROR(SUMIFS('Conciliação'!$F$6:$F$305,'Conciliação'!$B$6:$B$305,$A25,'Conciliação'!$S$6:$S$305,"OK"),0)) | K25: =IF(OR($I25="",$J25=""),"",MAX(0,$J25-$I25)) | L25: =IF($A25="","",IF($C25="Inativo",IF($J25>0,"INATIVO COM PUBLICAÇÃO","INATIVO"),IF($I25="","REVISAR DADOS",IF($K25>0,"EXPOSIÇÃO ACIMA DO DISPONÍVEL",IF($I25=0,"SEM SALDO DISPONÍVEL",IF($G25="","SEM DATA",IF('Configurações'!$B$5-$G25>'Configurações'!$B$4,"ATUALIZAÇÃO VENCIDA","OK"))))))) | M25: =IF(COUNTA($A25:$G25)=0,"",IF($A25="","SKU AUSENTE",IF(COUNTIF($A$6:$A$205,$A25)>1,"SKU DUPLICADO",IF($B25="","PRODUTO AUSENTE",IF(AND($C25<>"Ativo",$C25<>"Inativo"),"STATUS INVÁLIDO",IF(IFERROR(OR(NOT(ISNUMBER($D25)),$D25<0,MOD($D25,1)<>0),TRUE),"SALDO FÍSICO INVÁLIDO",IF(IFERROR(OR(NOT(ISNUMBER($E25)),$E25<0,MOD($E25,1)<>0),TRUE),"RESERVAS INVÁLIDAS",IF(AND($F25<>"",IFERROR(OR(NOT(ISNUMBER($F25)),$F25<0,MOD($F25,1)<>0),TRUE)),"ESTOQUE DE SEGURANÇA INVÁLIDO",IF(IFERROR(OR(NOT(ISNUMBER($G25)),$G25>'Configurações'!$B$5),TRUE),"DATA INVÁLIDA",IF($E25>$D25,"RESERVAS MAIORES QUE O SALDO","OK"))))))))))
H26: =IF($A26="","",IFERROR(SUMIFS('Conciliação'!$G$6:$G$305,'Conciliação'!$B$6:$B$305,$A26,'Conciliação'!$S$6:$S$305,"OK"),0)) | I26: =IF($A26="","",IF(OR(NOT(ISNUMBER($D26)),NOT(ISNUMBER($E26)),AND($F26<>"",NOT(ISNUMBER($F26)))),"",MAX(0,$D26-$E26-$H26-IF($F26="",'Configurações'!$B$2,$F26)))) | J26: =IF($A26="","",IFERROR(SUMIFS('Conciliação'!$F$6:$F$305,'Conciliação'!$B$6:$B$305,$A26,'Conciliação'!$S$6:$S$305,"OK"),0)) | K26: =IF(OR($I26="",$J26=""),"",MAX(0,$J26-$I26)) | L26: =IF($A26="","",IF($C26="Inativo",IF($J26>0,"INATIVO COM PUBLICAÇÃO","INATIVO"),IF($I26="","REVISAR DADOS",IF($K26>0,"EXPOSIÇÃO ACIMA DO DISPONÍVEL",IF($I26=0,"SEM SALDO DISPONÍVEL",IF($G26="","SEM DATA",IF('Configurações'!$B$5-$G26>'Configurações'!$B$4,"ATUALIZAÇÃO VENCIDA","OK"))))))) | M26: =IF(COUNTA($A26:$G26)=0,"",IF($A26="","SKU AUSENTE",IF(COUNTIF($A$6:$A$205,$A26)>1,"SKU DUPLICADO",IF($B26="","PRODUTO AUSENTE",IF(AND($C26<>"Ativo",$C26<>"Inativo"),"STATUS INVÁLIDO",IF(IFERROR(OR(NOT(ISNUMBER($D26)),$D26<0,MOD($D26,1)<>0),TRUE),"SALDO FÍSICO INVÁLIDO",IF(IFERROR(OR(NOT(ISNUMBER($E26)),$E26<0,MOD($E26,1)<>0),TRUE),"RESERVAS INVÁLIDAS",IF(AND($F26<>"",IFERROR(OR(NOT(ISNUMBER($F26)),$F26<0,MOD($F26,1)<>0),TRUE)),"ESTOQUE DE SEGURANÇA INVÁLIDO",IF(IFERROR(OR(NOT(ISNUMBER($G26)),$G26>'Configurações'!$B$5),TRUE),"DATA INVÁLIDA",IF($E26>$D26,"RESERVAS MAIORES QUE O SALDO","OK"))))))))))
H27: =IF($A27="","",IFERROR(SUMIFS('Conciliação'!$G$6:$G$305,'Conciliação'!$B$6:$B$305,$A27,'Conciliação'!$S$6:$S$305,"OK"),0)) | I27: =IF($A27="","",IF(OR(NOT(ISNUMBER($D27)),NOT(ISNUMBER($E27)),AND($F27<>"",NOT(ISNUMBER($F27)))),"",MAX(0,$D27-$E27-$H27-IF($F27="",'Configurações'!$B$2,$F27)))) | J27: =IF($A27="","",IFERROR(SUMIFS('Conciliação'!$F$6:$F$305,'Conciliação'!$B$6:$B$305,$A27,'Conciliação'!$S$6:$S$305,"OK"),0)) | K27: =IF(OR($I27="",$J27=""),"",MAX(0,$J27-$I27)) | L27: =IF($A27="","",IF($C27="Inativo",IF($J27>0,"INATIVO COM PUBLICAÇÃO","INATIVO"),IF($I27="","REVISAR DADOS",IF($K27>0,"EXPOSIÇÃO ACIMA DO DISPONÍVEL",IF($I27=0,"SEM SALDO DISPONÍVEL",IF($G27="","SEM DATA",IF('Configurações'!$B$5-$G27>'Configurações'!$B$4,"ATUALIZAÇÃO VENCIDA","OK"))))))) | M27: =IF(COUNTA($A27:$G27)=0,"",IF($A27="","SKU AUSENTE",IF(COUNTIF($A$6:$A$205,$A27)>1,"SKU DUPLICADO",IF($B27="","PRODUTO AUSENTE",IF(AND($C27<>"Ativo",$C27<>"Inativo"),"STATUS INVÁLIDO",IF(IFERROR(OR(NOT(ISNUMBER($D27)),$D27<0,MOD($D27,1)<>0),TRUE),"SALDO FÍSICO INVÁLIDO",IF(IFERROR(OR(NOT(ISNUMBER($E27)),$E27<0,MOD($E27,1)<>0),TRUE),"RESERVAS INVÁLIDAS",IF(AND($F27<>"",IFERROR(OR(NOT(ISNUMBER($F27)),$F27<0,MOD($F27,1)<>0),TRUE)),"ESTOQUE DE SEGURANÇA INVÁLIDO",IF(IFERROR(OR(NOT(ISNUMBER($G27)),$G27>'Configurações'!$B$5),TRUE),"DATA INVÁLIDA",IF($E27>$D27,"RESERVAS MAIORES QUE O SALDO","OK"))))))))))
... H205: =IF($A205="","",IFERROR(SUMIFS('Conciliação'!$G$6:$G$305,'Conciliação'!$B$6:$B$305,$A205,'Conciliação'!$S$6:$S$305,"OK"),0)) | I205: =IF($A205="","",IF(OR(NOT(ISNUMBER($D205)),NOT(ISNUMBER($E205)),AND($F205<>"",NOT(ISNUMBER($F205)))),"",MAX(0,$D205-$E205-$H205-IF($F205="",'Configurações'!$B$2,$F205)))) | J205: =IF($A205="","",IFERROR(SUMIFS('Conciliação'!$F$6:$F$305,'Conciliação'!$B$6:$B$305,$A205,'Conciliação'!$S$6:$S$305,"OK"),0)) | K205: =IF(OR($I205="",$J205=""),"",MAX(0,$J205-$I205)) | L205: =IF($A205="","",IF($C205="Inativo",IF($J205>0,"INATIVO COM PUBLICAÇÃO","INATIVO"),IF($I205="","REVISAR DADOS",IF($K205>0,"EXPOSIÇÃO ACIMA DO DISPONÍVEL",IF($I205=0,"SEM SALDO DISPONÍVEL",IF($G205="","SEM DATA",IF('Configurações'!$B$5-$G205>'Configurações'!$B$4,"ATUALIZAÇÃO VENCIDA","OK"))))))) | M205: =IF(COUNTA($A205:$G205)=0,"",IF($A205="","SKU AUSENTE",IF(COUNTIF($A$6:$A$205,$A205)>1,"SKU DUPLICADO",IF($B205="","PRODUTO AUSENTE",IF(AND($C205<>"Ativo",$C205<>"Inativo"),"STATUS INVÁLIDO",IF(IFERROR(OR(NOT(ISNUMBER($D205)),$D205<0,MOD($D205,1)<>0),TRUE),"SALDO FÍSICO INVÁLIDO",IF(IFERROR(OR(NOT(ISNUMBER($E205)),$E205<0,MOD($E205,1)<>0),TRUE),"RESERVAS INVÁLIDAS",IF(AND($F205<>"",IFERROR(OR(NOT(ISNUMBER($F205)),$F205<0,MOD($F205,1)<>0),TRUE)),"ESTOQUE DE SEGURANÇA INVÁLIDO",IF(IFERROR(OR(NOT(ISNUMBER($G205)),$G205>'Configurações'!$B$5),TRUE),"DATA INVÁLIDA",IF($E205>$D205,"RESERVAS MAIORES QUE O SALDO","OK"))))))))))

Sheet Conciliação
A1: Conciliação e Fila de Sincronização
A3: Uma linha por combinação única de SKU e canal. Use os filtros da tabela para executar a sincronização.
A5: ID do registro | B5: SKU | C5: Produto | D5: Status do SKU | E5: Canal | F5: Saldo publicado | G5: Pedidos pendentes | H5: Canal ativo | I5: Alocação do canal | J5: Máximo por SKU | K5: Limiar crítico | L5: Disponível global | M5: Saldo publicável | N5: Diferença | O5: Ação de sincronização | P5: Risco de overselling | Q5: Prioridade | R5: Última conferência | S5: Checagem
A6: PUB-FIC-0001 | B6: FIC-CAN-001 | C6: =IFERROR(VLOOKUP($B6,'Estoque Central'!$A$6:$M$205,2,FALSE),"") | D6: =IFERROR(VLOOKUP($B6,'Estoque Central'!$A$6:$M$205,3,FALSE),"") | E6: Loja própria | F6: 10 | G6: 2 | H6: =IFERROR(VLOOKUP($E6,'Configurações'!$A$11:$F$20,2,FALSE),"") | I6: =IFERROR(VLOOKUP($E6,'Configurações'!$A$11:$F$20,3,FALSE),"") | J6: =IFERROR(VLOOKUP($E6,'Configurações'!$A$11:$F$20,4,FALSE),"") | K6: =IFERROR(VLOOKUP($E6,'Configurações'!$A$11:$F$20,5,FALSE),"") | L6: =IFERROR(VLOOKUP($B6,'Estoque Central'!$A$6:$M$205,9,FALSE),"") | M6: =IF(COUNTA($A6:$B6,$E6:$G6,$R6)=0,"",IFERROR(IF(OR($C6="",$H6=""),"",IF(OR($D6<>"Ativo",$H6<>"Sim"),0,MIN(IF($J6="",$L6,$J6),ROUNDDOWN($L6*$I6,0)))),"")) | N6: =IF(OR($M6="",NOT(ISNUMBER($F6))),"",$M6-$F6) | O6: =IF(COUNTA($A6:$B6,$E6:$G6,$R6)=0,"",IF($S6<>"OK","REVISAR CADASTRO",IF($N6>0,"AUMENTAR",IF($N6<0,"REDUZIR","SEM AÇÃO")))) | P6: =IF(COUNTA($A6:$B6,$E6:$G6,$R6)=0,"",IF($S6<>"OK","REVISAR",IF(OR($D6<>"Ativo",$H6<>"Sim"),IF($F6>0,"ALTO","SEM EXPOSIÇÃO"),IF(OR($F6>$M6,SUMIFS($F$6:$F$305,$B$6:$B$305,$B6,$S$6:$S$305,"OK")>$L6),"ALTO",IF(AND($F6>0,$L6<=$K6),"MÉDIO","BAIXO"))))) | Q6: =IF(COUNTA($A6:$B6,$E6:$G6,$R6)=0,"",IF($S6<>"OK","REVISAR",IF($O6="SEM AÇÃO","BAIXA",IF(OR($P6="ALTO",ABS($N6)>='Configurações'!$B$3),"URGENTE",IF(OR($P6="MÉDIO",'Configurações'!$B$5-$R6>'Configurações'!$B$4),"ALTA","NORMAL"))))) | R6: 46271 | S6: =IF(COUNTA($A6:$B6,$E6:$G6,$R6)=0,"",IF($A6="","ID AUSENTE",IF(COUNTIF($A$6:$A$305,$A6)>1,"ID DUPLICADO",IF($B6="","SKU AUSENTE",IF(COUNTIF('Estoque Central'!$A$6:$A$205,$B6)=0,"SKU NÃO CADASTRADO",IF(IFERROR(VLOOKUP($B6,'Estoque Central'!$A$6:$M$205,13,FALSE),"")<>"OK","ESTOQUE CENTRAL COM PENDÊNCIA",IF($E6="","CANAL AUSENTE",IF(COUNTIF('Configurações'!$A$11:$A$20,$E6)=0,"CANAL NÃO CONFIGURADO",IF(IFERROR(VLOOKUP($E6,'Configurações'!$A$11:$F$20,6,FALSE),"")<>"OK","CANAL COM PENDÊNCIA",IF(COUNTIFS($B$6:$B$305,$B6,$E$6:$E$305,$E6)>1,"SKU/CANAL DUPLICADO",IF(IFERROR(OR(NOT(ISNUMBER($F6)),$F6<0,MOD($F6,1)<>0),TRUE),"SALDO PUBLICADO INVÁLIDO",IF(IFERROR(OR(NOT(ISNUMBER($G6)),$G6<0,MOD($G6,1)<>0),TRUE),"PEDIDOS PENDENTES INVÁLIDOS",IF(IFERROR(OR(NOT(ISNUMBER($R6)),$R6>'Configurações'!$B$5),TRUE),"DATA INVÁLIDA","OK")))))))))))))
A7: PUB-FIC-0002 | B7: FIC-CAN-001 | C7: =IFERROR(VLOOKUP($B7,'Estoque Central'!$A$6:$M$205,2,FALSE),"") | D7: =IFERROR(VLOOKUP($B7,'Estoque Central'!$A$6:$M$205,3,FALSE),"") | E7: Mercado Alfa | F7: 15 | G7: 1 | H7: =IFERROR(VLOOKUP($E7,'Configurações'!$A$11:$F$20,2,FALSE),"") | I7: =IFERROR(VLOOKUP($E7,'Configurações'!$A$11:$F$20,3,FALSE),"") | J7: =IFERROR(VLOOKUP($E7,'Configurações'!$A$11:$F$20,4,FALSE),"") | K7: =IFERROR(VLOOKUP($E7,'Configurações'!$A$11:$F$20,5,FALSE),"") | L7: =IFERROR(VLOOKUP($B7,'Estoque Central'!$A$6:$M$205,9,FALSE),"") | M7: =IF(COUNTA($A7:$B7,$E7:$G7,$R7)=0,"",IFERROR(IF(OR($C7="",$H7=""),"",IF(OR($D7<>"Ativo",$H7<>"Sim"),0,MIN(IF($J7="",$L7,$J7),ROUNDDOWN($L7*$I7,0)))),"")) | N7: =IF(OR($M7="",NOT(ISNUMBER($F7))),"",$M7-$F7) | O7: =IF(COUNTA($A7:$B7,$E7:$G7,$R7)=0,"",IF($S7<>"OK","REVISAR CADASTRO",IF($N7>0,"AUMENTAR",IF($N7<0,"REDUZIR","SEM AÇÃO")))) | P7: =IF(COUNTA($A7:$B7,$E7:$G7,$R7)=0,"",IF($S7<>"OK","REVISAR",IF(OR($D7<>"Ativo",$H7<>"Sim"),IF($F7>0,"ALTO","SEM EXPOSIÇÃO"),IF(OR($F7>$M7,SUMIFS($F$6:$F$305,$B$6:$B$305,$B7,$S$6:$S$305,"OK")>$L7),"ALTO",IF(AND($F7>0,$L7<=$K7),"MÉDIO","BAIXO"))))) | Q7: =IF(COUNTA($A7:$B7,$E7:$G7,$R7)=0,"",IF($S7<>"OK","REVISAR",IF($O7="SEM AÇÃO","BAIXA",IF(OR($P7="ALTO",ABS($N7)>='Configurações'!$B$3),"URGENTE",IF(OR($P7="MÉDIO",'Configurações'!$B$5-$R7>'Configurações'!$B$4),"ALTA","NORMAL"))))) | R7: 46270 | S7: =IF(COUNTA($A7:$B7,$E7:$G7,$R7)=0,"",IF($A7="","ID AUSENTE",IF(COUNTIF($A$6:$A$305,$A7)>1,"ID DUPLICADO",IF($B7="","SKU AUSENTE",IF(COUNTIF('Estoque Central'!$A$6:$A$205,$B7)=0,"SKU NÃO CADASTRADO",IF(IFERROR(VLOOKUP($B7,'Estoque Central'!$A$6:$M$205,13,FALSE),"")<>"OK","ESTOQUE CENTRAL COM PENDÊNCIA",IF($E7="","CANAL AUSENTE",IF(COUNTIF('Configurações'!$A$11:$A$20,$E7)=0,"CANAL NÃO CONFIGURADO",IF(IFERROR(VLOOKUP($E7,'Configurações'!$A$11:$F$20,6,FALSE),"")<>"OK","CANAL COM PENDÊNCIA",IF(COUNTIFS($B$6:$B$305,$B7,$E$6:$E$305,$E7)>1,"SKU/CANAL DUPLICADO",IF(IFERROR(OR(NOT(ISNUMBER($F7)),$F7<0,MOD($F7,1)<>0),TRUE),"SALDO PUBLICADO INVÁLIDO",IF(IFERROR(OR(NOT(ISNUMBER($G7)),$G7<0,MOD($G7,1)<>0),TRUE),"PEDIDOS PENDENTES INVÁLIDOS",IF(IFERROR(OR(NOT(ISNUMBER($R7)),$R7>'Configurações'!$B$5),TRUE),"DATA INVÁLIDA","OK")))))))))))))
A8: PUB-FIC-0003 | B8: FIC-CAD-002 | C8: =IFERROR(VLOOKUP($B8,'Estoque Central'!$A$6:$M$205,2,FALSE),"") | D8: =IFERROR(VLOOKUP($B8,'Estoque Central'!$A$6:$M$205,3,FALSE),"") | E8: Loja própria | F8: 5 | G8: 1 | H8: =IFERROR(VLOOKUP($E8,'Configurações'!$A$11:$F$20,2,FALSE),"") | I8: =IFERROR(VLOOKUP($E8,'Configurações'!$A$11:$F$20,3,FALSE),"") | J8: =IFERROR(VLOOKUP($E8,'Configurações'!$A$11:$F$20,4,FALSE),"") | K8: =IFERROR(VLOOKUP($E8,'Configurações'!$A$11:$F$20,5,FALSE),"") | L8: =IFERROR(VLOOKUP($B8,'Estoque Central'!$A$6:$M$205,9,FALSE),"") | M8: =IF(COUNTA($A8:$B8,$E8:$G8,$R8)=0,"",IFERROR(IF(OR($C8="",$H8=""),"",IF(OR($D8<>"Ativo",$H8<>"Sim"),0,MIN(IF($J8="",$L8,$J8),ROUNDDOWN($L8*$I8,0)))),"")) | N8: =IF(OR($M8="",NOT(ISNUMBER($F8))),"",$M8-$F8) | O8: =IF(COUNTA($A8:$B8,$E8:$G8,$R8)=0,"",IF($S8<>"OK","REVISAR CADASTRO",IF($N8>0,"AUMENTAR",IF($N8<0,"REDUZIR","SEM AÇÃO")))) | P8: =IF(COUNTA($A8:$B8,$E8:$G8,$R8)=0,"",IF($S8<>"OK","REVISAR",IF(OR($D8<>"Ativo",$H8<>"Sim"),IF($F8>0,"ALTO","SEM EXPOSIÇÃO"),IF(OR($F8>$M8,SUMIFS($F$6:$F$305,$B$6:$B$305,$B8,$S$6:$S$305,"OK")>$L8),"ALTO",IF(AND($F8>0,$L8<=$K8),"MÉDIO","BAIXO"))))) | Q8: =IF(COUNTA($A8:$B8,$E8:$G8,$R8)=0,"",IF($S8<>"OK","REVISAR",IF($O8="SEM AÇÃO","BAIXA",IF(OR($P8="ALTO",ABS($N8)>='Configurações'!$B$3),"URGENTE",IF(OR($P8="MÉDIO",'Configurações'!$B$5-$R8>'Configurações'!$B$4),"ALTA","NORMAL"))))) | R8: 46271 | S8: =IF(COUNTA($A8:$B8,$E8:$G8,$R8)=0,"",IF($A8="","ID AUSENTE",IF(COUNTIF($A$6:$A$305,$A8)>1,"ID DUPLICADO",IF($B8="","SKU AUSENTE",IF(COUNTIF('Estoque Central'!$A$6:$A$205,$B8)=0,"SKU NÃO CADASTRADO",IF(IFERROR(VLOOKUP($B8,'Estoque Central'!$A$6:$M$205,13,FALSE),"")<>"OK","ESTOQUE CENTRAL COM PENDÊNCIA",IF($E8="","CANAL AUSENTE",IF(COUNTIF('Configurações'!$A$11:$A$20,$E8)=0,"CANAL NÃO CONFIGURADO",IF(IFERROR(VLOOKUP($E8,'Configurações'!$A$11:$F$20,6,FALSE),"")<>"OK","CANAL COM PENDÊNCIA",IF(COUNTIFS($B$6:$B$305,$B8,$E$6:$E$305,$E8)>1,"SKU/CANAL DUPLICADO",IF(IFERROR(OR(NOT(ISNUMBER($F8)),$F8<0,MOD($F8,1)<>0),TRUE),"SALDO PUBLICADO INVÁLIDO",IF(IFERROR(OR(NOT(ISNUMBER($G8)),$G8<0,MOD($G8,1)<>0),TRUE),"PEDIDOS PENDENTES INVÁLIDOS",IF(IFERROR(OR(NOT(ISNUMBER($R8)),$R8>'Configurações'!$B$5),TRUE),"DATA INVÁLIDA","OK")))))))))))))
A9: PUB-FIC-0004 | B9: FIC-CAD-002 | C9: =IFERROR(VLOOKUP($B9,'Estoque Central'!$A$6:$M$205,2,FALSE),"") | D9: =IFERROR(VLOOKUP($B9,'Estoque Central'!$A$6:$M$205,3,FALSE),"") | E9: Shopping Nuvem | F9: 2 | G9: 0 | H9: =IFERROR(VLOOKUP($E9,'Configurações'!$A$11:$F$20,2,FALSE),"") | I9: =IFERROR(VLOOKUP($E9,'Configurações'!$A$11:$F$20,3,FALSE),"") | J9: =IFERROR(VLOOKUP($E9,'Configurações'!$A$11:$F$20,4,FALSE),"") | K9: =IFERROR(VLOOKUP($E9,'Configurações'!$A$11:$F$20,5,FALSE),"") | L9: =IFERROR(VLOOKUP($B9,'Estoque Central'!$A$6:$M$205,9,FALSE),"") | M9: =IF(COUNTA($A9:$B9,$E9:$G9,$R9)=0,"",IFERROR(IF(OR($C9="",$H9=""),"",IF(OR($D9<>"Ativo",$H9<>"Sim"),0,MIN(IF($J9="",$L9,$J9),ROUNDDOWN($L9*$I9,0)))),"")) | N9: =IF(OR($M9="",NOT(ISNUMBER($F9))),"",$M9-$F9) | O9: =IF(COUNTA($A9:$B9,$E9:$G9,$R9)=0,"",IF($S9<>"OK","REVISAR CADASTRO",IF($N9>0,"AUMENTAR",IF($N9<0,"REDUZIR","SEM AÇÃO")))) | P9: =IF(COUNTA($A9:$B9,$E9:$G9,$R9)=0,"",IF($S9<>"OK","REVISAR",IF(OR($D9<>"Ativo",$H9<>"Sim"),IF($F9>0,"ALTO","SEM EXPOSIÇÃO"),IF(OR($F9>$M9,SUMIFS($F$6:$F$305,$B$6:$B$305,$B9,$S$6:$S$305,"OK")>$L9),"ALTO",IF(AND($F9>0,$L9<=$K9),"MÉDIO","BAIXO"))))) | Q9: =IF(COUNTA($A9:$B9,$E9:$G9,$R9)=0,"",IF($S9<>"OK","REVISAR",IF($O9="SEM AÇÃO","BAIXA",IF(OR($P9="ALTO",ABS($N9)>='Configurações'!$B$3),"URGENTE",IF(OR($P9="MÉDIO",'Configurações'!$B$5-$R9>'Configurações'!$B$4),"ALTA","NORMAL"))))) | R9: 46271 | S9: =IF(COUNTA($A9:$B9,$E9:$G9,$R9)=0,"",IF($A9="","ID AUSENTE",IF(COUNTIF($A$6:$A$305,$A9)>1,"ID DUPLICADO",IF($B9="","SKU AUSENTE",IF(COUNTIF('Estoque Central'!$A$6:$A$205,$B9)=0,"SKU NÃO CADASTRADO",IF(IFERROR(VLOOKUP($B9,'Estoque Central'!$A$6:$M$205,13,FALSE),"")<>"OK","ESTOQUE CENTRAL COM PENDÊNCIA",IF($E9="","CANAL AUSENTE",IF(COUNTIF('Configurações'!$A$11:$A$20,$E9)=0,"CANAL NÃO CONFIGURADO",IF(IFERROR(VLOOKUP($E9,'Configurações'!$A$11:$F$20,6,FALSE),"")<>"OK","CANAL COM PENDÊNCIA",IF(COUNTIFS($B$6:$B$305,$B9,$E$6:$E$305,$E9)>1,"SKU/CANAL DUPLICADO",IF(IFERROR(OR(NOT(ISNUMBER($F9)),$F9<0,MOD($F9,1)<>0),TRUE),"SALDO PUBLICADO INVÁLIDO",IF(IFERROR(OR(NOT(ISNUMBER($G9)),$G9<0,MOD($G9,1)<>0),TRUE),"PEDIDOS PENDENTES INVÁLIDOS",IF(IFERROR(OR(NOT(ISNUMBER($R9)),$R9>'Configurações'!$B$5),TRUE),"DATA INVÁLIDA","OK")))))))))))))
A10: PUB-FIC-0005 | B10: FIC-ECO-003 | C10: =IFERROR(VLOOKUP($B10,'Estoque Central'!$A$6:$M$205,2,FALSE),"") | D10: =IFERROR(VLOOKUP($B10,'Estoque Central'!$A$6:$M$205,3,FALSE),"") | E10: Mercado Alfa | F10: 4 | G10: 1 | H10: =IFERROR(VLOOKUP($E10,'Configurações'!$A$11:$F$20,2,FALSE),"") | I10: =IFERROR(VLOOKUP($E10,'Configurações'!$A$11:$F$20,3,FALSE),"") | J10: =IFERROR(VLOOKUP($E10,'Configurações'!$A$11:$F$20,4,FALSE),"") | K10: =IFERROR(VLOOKUP($E10,'Configurações'!$A$11:$F$20,5,FALSE),"") | L10: =IFERROR(VLOOKUP($B10,'Estoque Central'!$A$6:$M$205,9,FALSE),"") | M10: =IF(COUNTA($A10:$B10,$E10:$G10,$R10)=0,"",IFERROR(IF(OR($C10="",$H10=""),"",IF(OR($D10<>"Ativo",$H10<>"Sim"),0,MIN(IF($J10="",$L10,$J10),ROUNDDOWN($L10*$I10,0)))),"")) | N10: =IF(OR($M10="",NOT(ISNUMBER($F10))),"",$M10-$F10) | O10: =IF(COUNTA($A10:$B10,$E10:$G10,$R10)=0,"",IF($S10<>"OK","REVISAR CADASTRO",IF($N10>0,"AUMENTAR",IF($N10<0,"REDUZIR","SEM AÇÃO")))) | P10: =IF(COUNTA($A10:$B10,$E10:$G10,$R10)=0,"",IF($S10<>"OK","REVISAR",IF(OR($D10<>"Ativo",$H10<>"Sim"),IF($F10>0,"ALTO","SEM EXPOSIÇÃO"),IF(OR($F10>$M10,SUMIFS($F$6:$F$305,$B$6:$B$305,$B10,$S$6:$S$305,"OK")>$L10),"ALTO",IF(AND($F10>0,$L10<=$K10),"MÉDIO","BAIXO"))))) | Q10: =IF(COUNTA($A10:$B10,$E10:$G10,$R10)=0,"",IF($S10<>"OK","REVISAR",IF($O10="SEM AÇÃO","BAIXA",IF(OR($P10="ALTO",ABS($N10)>='Configurações'!$B$3),"URGENTE",IF(OR($P10="MÉDIO",'Configurações'!$B$5-$R10>'Configurações'!$B$4),"ALTA","NORMAL"))))) | R10: 46269 | S10: =IF(COUNTA($A10:$B10,$E10:$G10,$R10)=0,"",IF($A10="","ID AUSENTE",IF(COUNTIF($A$6:$A$305,$A10)>1,"ID DUPLICADO",IF($B10="","SKU AUSENTE",IF(COUNTIF('Estoque Central'!$A$6:$A$205,$B10)=0,"SKU NÃO CADASTRADO",IF(IFERROR(VLOOKUP($B10,'Estoque Central'!$A$6:$M$205,13,FALSE),"")<>"OK","ESTOQUE CENTRAL COM PENDÊNCIA",IF($E10="","CANAL AUSENTE",IF(COUNTIF('Configurações'!$A$11:$A$20,$E10)=0,"CANAL NÃO CONFIGURADO",IF(IFERROR(VLOOKUP($E10,'Configurações'!$A$11:$F$20,6,FALSE),"")<>"OK","CANAL COM PENDÊNCIA",IF(COUNTIFS($B$6:$B$305,$B10,$E$6:$E$305,$E10)>1,"SKU/CANAL DUPLICADO",IF(IFERROR(OR(NOT(ISNUMBER($F10)),$F10<0,MOD($F10,1)<>0),TRUE),"SALDO PUBLICADO INVÁLIDO",IF(IFERROR(OR(NOT(ISNUMBER($G10)),$G10<0,MOD($G10,1)<>0),TRUE),"PEDIDOS PENDENTES INVÁLIDOS",IF(IFERROR(OR(NOT(ISNUMBER($R10)),$R10>'Configurações'!$B$5),TRUE),"DATA INVÁLIDA","OK")))))))))))))
A11: PUB-FIC-0006 | B11: FIC-ECO-003 | C11: =IFERROR(VLOOKUP($B11,'Estoque Central'!$A$6:$M$205,2,FALSE),"") | D11: =IFERROR(VLOOKUP($B11,'Estoque Central'!$A$6:$M$205,3,FALSE),"") | E11: Vitrine Sul | F11: 2 | G11: 0 | H11: =IFERROR(VLOOKUP($E11,'Configurações'!$A$11:$F$20,2,FALSE),"") | I11: =IFERROR(VLOOKUP($E11,'Configurações'!$A$11:$F$20,3,FALSE),"") | J11: =IFERROR(VLOOKUP($E11,'Configurações'!$A$11:$F$20,4,FALSE),"") | K11: =IFERROR(VLOOKUP($E11,'Configurações'!$A$11:$F$20,5,FALSE),"") | L11: =IFERROR(VLOOKUP($B11,'Estoque Central'!$A$6:$M$205,9,FALSE),"") | M11: =IF(COUNTA($A11:$B11,$E11:$G11,$R11)=0,"",IFERROR(IF(OR($C11="",$H11=""),"",IF(OR($D11<>"Ativo",$H11<>"Sim"),0,MIN(IF($J11="",$L11,$J11),ROUNDDOWN($L11*$I11,0)))),"")) | N11: =IF(OR($M11="",NOT(ISNUMBER($F11))),"",$M11-$F11) | O11: =IF(COUNTA($A11:$B11,$E11:$G11,$R11)=0,"",IF($S11<>"OK","REVISAR CADASTRO",IF($N11>0,"AUMENTAR",IF($N11<0,"REDUZIR","SEM AÇÃO")))) | P11: =IF(COUNTA($A11:$B11,$E11:$G11,$R11)=0,"",IF($S11<>"OK","REVISAR",IF(OR($D11<>"Ativo",$H11<>"Sim"),IF($F11>0,"ALTO","SEM EXPOSIÇÃO"),IF(OR($F11>$M11,SUMIFS($F$6:$F$305,$B$6:$B$305,$B11,$S$6:$S$305,"OK")>$L11),"ALTO",IF(AND($F11>0,$L11<=$K11),"MÉDIO","BAIXO"))))) | Q11: =IF(COUNTA($A11:$B11,$E11:$G11,$R11)=0,"",IF($S11<>"OK","REVISAR",IF($O11="SEM AÇÃO","BAIXA",IF(OR($P11="ALTO",ABS($N11)>='Configurações'!$B$3),"URGENTE",IF(OR($P11="MÉDIO",'Configurações'!$B$5-$R11>'Configurações'!$B$4),"ALTA","NORMAL"))))) | R11: 46269 | S11: =IF(COUNTA($A11:$B11,$E11:$G11,$R11)=0,"",IF($A11="","ID AUSENTE",IF(COUNTIF($A$6:$A$305,$A11)>1,"ID DUPLICADO",IF($B11="","SKU AUSENTE",IF(COUNTIF('Estoque Central'!$A$6:$A$205,$B11)=0,"SKU NÃO CADASTRADO",IF(IFERROR(VLOOKUP($B11,'Estoque Central'!$A$6:$M$205,13,FALSE),"")<>"OK","ESTOQUE CENTRAL COM PENDÊNCIA",IF($E11="","CANAL AUSENTE",IF(COUNTIF('Configurações'!$A$11:$A$20,$E11)=0,"CANAL NÃO CONFIGURADO",IF(IFERROR(VLOOKUP($E11,'Configurações'!$A$11:$F$20,6,FALSE),"")<>"OK","CANAL COM PENDÊNCIA",IF(COUNTIFS($B$6:$B$305,$B11,$E$6:$E$305,$E11)>1,"SKU/CANAL DUPLICADO",IF(IFERROR(OR(NOT(ISNUMBER($F11)),$F11<0,MOD($F11,1)<>0),TRUE),"SALDO PUBLICADO INVÁLIDO",IF(IFERROR(OR(NOT(ISNUMBER($G11)),$G11<0,MOD($G11,1)<>0),TRUE),"PEDIDOS PENDENTES INVÁLIDOS",IF(IFERROR(OR(NOT(ISNUMBER($R11)),$R11>'Configurações'!$B$5),TRUE),"DATA INVÁLIDA","OK")))))))))))))
A12: PUB-FIC-0007 | B12: FIC-LUM-004 | C12: =IFERROR(VLOOKUP($B12,'Estoque Central'!$A$6:$M$205,2,FALSE),"") | D12: =IFERROR(VLOOKUP($B12,'Estoque Central'!$A$6:$M$205,3,FALSE),"") | E12: Loja própria | F12: 1 | G12: 0 | H12: =IFERROR(VLOOKUP($E12,'Configurações'!$A$11:$F$20,2,FALSE),"") | I12: =IFERROR(VLOOKUP($E12,'Configurações'!$A$11:$F$20,3,FALSE),"") | J12: =IFERROR(VLOOKUP($E12,'Configurações'!$A$11:$F$20,4,FALSE),"") | K12: =IFERROR(VLOOKUP($E12,'Configurações'!$A$11:$F$20,5,FALSE),"") | L12: =IFERROR(VLOOKUP($B12,'Estoque Central'!$A$6:$M$205,9,FALSE),"") | M12: =IF(COUNTA($A12:$B12,$E12:$G12,$R12)=0,"",IFERROR(IF(OR($C12="",$H12=""),"",IF(OR($D12<>"Ativo",$H12<>"Sim"),0,MIN(IF($J12="",$L12,$J12),ROUNDDOWN($L12*$I12,0)))),"")) | N12: =IF(OR($M12="",NOT(ISNUMBER($F12))),"",$M12-$F12) | O12: =IF(COUNTA($A12:$B12,$E12:$G12,$R12)=0,"",IF($S12<>"OK","REVISAR CADASTRO",IF($N12>0,"AUMENTAR",IF($N12<0,"REDUZIR","SEM AÇÃO")))) | P12: =IF(COUNTA($A12:$B12,$E12:$G12,$R12)=0,"",IF($S12<>"OK","REVISAR",IF(OR($D12<>"Ativo",$H12<>"Sim"),IF($F12>0,"ALTO","SEM EXPOSIÇÃO"),IF(OR($F12>$M12,SUMIFS($F$6:$F$305,$B$6:$B$305,$B12,$S$6:$S$305,"OK")>$L12),"ALTO",IF(AND($F12>0,$L12<=$K12),"MÉDIO","BAIXO"))))) | Q12: =IF(COUNTA($A12:$B12,$E12:$G12,$R12)=0,"",IF($S12<>"OK","REVISAR",IF($O12="SEM AÇÃO","BAIXA",IF(OR($P12="ALTO",ABS($N12)>='Configurações'!$B$3),"URGENTE",IF(OR($P12="MÉDIO",'Configurações'!$B$5-$R12>'Configurações'!$B$4),"ALTA","NORMAL"))))) | R12: 46271 | S12: =IF(COUNTA($A12:$B12,$E12:$G12,$R12)=0,"",IF($A12="","ID AUSENTE",IF(COUNTIF($A$6:$A$305,$A12)>1,"ID DUPLICADO",IF($B12="","SKU AUSENTE",IF(COUNTIF('Estoque Central'!$A$6:$A$205,$B12)=0,"SKU NÃO CADASTRADO",IF(IFERROR(VLOOKUP($B12,'Estoque Central'!$A$6:$M$205,13,FALSE),"")<>"OK","ESTOQUE CENTRAL COM PENDÊNCIA",IF($E12="","CANAL AUSENTE",IF(COUNTIF('Configurações'!$A$11:$A$20,$E12)=0,"CANAL NÃO CONFIGURADO",IF(IFERROR(VLOOKUP($E12,'Configurações'!$A$11:$F$20,6,FALSE),"")<>"OK","CANAL COM PENDÊNCIA",IF(COUNTIFS($B$6:$B$305,$B12,$E$6:$E$305,$E12)>1,"SKU/CANAL DUPLICADO",IF(IFERROR(OR(NOT(ISNUMBER($F12)),$F12<0,MOD($F12,1)<>0),TRUE),"SALDO PUBLICADO INVÁLIDO",IF(IFERROR(OR(NOT(ISNUMBER($G12)),$G12<0,MOD($G12,1)<>0),TRUE),"PEDIDOS PENDENTES INVÁLIDOS",IF(IFERROR(OR(NOT(ISNUMBER($R12)),$R12>'Configurações'!$B$5),TRUE),"DATA INVÁLIDA","OK")))))))))))))
A13: PUB-FIC-0008 | B13: FIC-ORG-005 | C13: =IFERROR(VLOOKUP($B13,'Estoque Central'!$A$6:$M$205,2,FALSE),"") | D13: =IFERROR(VLOOKUP($B13,'Estoque Central'!$A$6:$M$205,3,FALSE),"") | E13: Shopping Nuvem | F13: 2 | G13: 3 | H13: =IFERROR(VLOOKUP($E13,'Configurações'!$A$11:$F$20,2,FALSE),"") | I13: =IFERROR(VLOOKUP($E13,'Configurações'!$A$11:$F$20,3,FALSE),"") | J13: =IFERROR(VLOOKUP($E13,'Configurações'!$A$11:$F$20,4,FALSE),"") | K13: =IFERROR(VLOOKUP($E13,'Configurações'!$A$11:$F$20,5,FALSE),"") | L13: =IFERROR(VLOOKUP($B13,'Estoque Central'!$A$6:$M$205,9,FALSE),"") | M13: =IF(COUNTA($A13:$B13,$E13:$G13,$R13)=0,"",IFERROR(IF(OR($C13="",$H13=""),"",IF(OR($D13<>"Ativo",$H13<>"Sim"),0,MIN(IF($J13="",$L13,$J13),ROUNDDOWN($L13*$I13,0)))),"")) | N13: =IF(OR($M13="",NOT(ISNUMBER($F13))),"",$M13-$F13) | O13: =IF(COUNTA($A13:$B13,$E13:$G13,$R13)=0,"",IF($S13<>"OK","REVISAR CADASTRO",IF($N13>0,"AUMENTAR",IF($N13<0,"REDUZIR","SEM AÇÃO")))) | P13: =IF(COUNTA($A13:$B13,$E13:$G13,$R13)=0,"",IF($S13<>"OK","REVISAR",IF(OR($D13<>"Ativo",$H13<>"Sim"),IF($F13>0,"ALTO","SEM EXPOSIÇÃO"),IF(OR($F13>$M13,SUMIFS($F$6:$F$305,$B$6:$B$305,$B13,$S$6:$S$305,"OK")>$L13),"ALTO",IF(AND($F13>0,$L13<=$K13),"MÉDIO","BAIXO"))))) | Q13: =IF(COUNTA($A13:$B13,$E13:$G13,$R13)=0,"",IF($S13<>"OK","REVISAR",IF($O13="SEM AÇÃO","BAIXA",IF(OR($P13="ALTO",ABS($N13)>='Configurações'!$B$3),"URGENTE",IF(OR($P13="MÉDIO",'Configurações'!$B$5-$R13>'Configurações'!$B$4),"ALTA","NORMAL"))))) | R13: 46268 | S13: =IF(COUNTA($A13:$B13,$E13:$G13,$R13)=0,"",IF($A13="","ID AUSENTE",IF(COUNTIF($A$6:$A$305,$A13)>1,"ID DUPLICADO",IF($B13="","SKU AUSENTE",IF(COUNTIF('Estoque Central'!$A$6:$A$205,$B13)=0,"SKU NÃO CADASTRADO",IF(IFERROR(VLOOKUP($B13,'Estoque Central'!$A$6:$M$205,13,FALSE),"")<>"OK","ESTOQUE CENTRAL COM PENDÊNCIA",IF($E13="","CANAL AUSENTE",IF(COUNTIF('Configurações'!$A$11:$A$20,$E13)=0,"CANAL NÃO CONFIGURADO",IF(IFERROR(VLOOKUP($E13,'Configurações'!$A$11:$F$20,6,FALSE),"")<>"OK","CANAL COM PENDÊNCIA",IF(COUNTIFS($B$6:$B$305,$B13,$E$6:$E$305,$E13)>1,"SKU/CANAL DUPLICADO",IF(IFERROR(OR(NOT(ISNUMBER($F13)),$F13<0,MOD($F13,1)<>0),TRUE),"SALDO PUBLICADO INVÁLIDO",IF(IFERROR(OR(NOT(ISNUMBER($G13)),$G13<0,MOD($G13,1)<>0),TRUE),"PEDIDOS PENDENTES INVÁLIDOS",IF(IFERROR(OR(NOT(ISNUMBER($R13)),$R13>'Configurações'!$B$5),TRUE),"DATA INVÁLIDA","OK")))))))))))))
