Workbook

Sheet Resumo
A1: Painel de Planejamento de Estoque Sazonal
A2: Dados e produtos de exemplo são inteiramente fictícios.
A3: Filtro de evento | C3: Deixe em branco para consolidar todos os eventos.
A5: Cenários ativos e válidos | B5: =IF($B$3="",COUNTIFS('Cenários'!$M$6:$M$105,"Ativo",'Cenários'!$Z$6:$Z$105,"OK"),COUNTIFS('Cenários'!$M$6:$M$105,"Ativo",'Cenários'!$Z$6:$Z$105,"OK",'Cenários'!$D$6:$D$105,$B$3)) | C5: Demanda projetada (un.) | D5: =IF($B$3="",SUMIFS('Planejamento'!$I$6:$I$1205,'Planejamento'!$X$6:$X$1205,"Ativo",'Planejamento'!$Y$6:$Y$1205,"OK"),SUMIFS('Planejamento'!$I$6:$I$1205,'Planejamento'!$X$6:$X$1205,"Ativo",'Planejamento'!$Y$6:$Y$1205,"OK",'Planejamento'!$D$6:$D$1205,$B$3)) | E5: Recebimento recomendado (un.) | F5: =IF($B$3="",SUMIFS('Planejamento'!$O$6:$O$1205,'Planejamento'!$X$6:$X$1205,"Ativo",'Planejamento'!$Y$6:$Y$1205,"OK"),SUMIFS('Planejamento'!$O$6:$O$1205,'Planejamento'!$X$6:$X$1205,"Ativo",'Planejamento'!$Y$6:$Y$1205,"OK",'Planejamento'!$D$6:$D$1205,$B$3)) | G5: Pedidos a emitir (un.) | H5: =IF($B$3="",SUMIFS('Planejamento'!$P$6:$P$1205,'Planejamento'!$X$6:$X$1205,"Ativo",'Planejamento'!$Y$6:$Y$1205,"OK"),SUMIFS('Planejamento'!$P$6:$P$1205,'Planejamento'!$X$6:$X$1205,"Ativo",'Planejamento'!$Y$6:$Y$1205,"OK",'Planejamento'!$D$6:$D$1205,$B$3))
A8: Semanas com risco de falta | B8: =IF($B$3="",COUNTIFS('Planejamento'!$V$6:$V$1205,"Ruptura",'Planejamento'!$X$6:$X$1205,"Ativo",'Planejamento'!$Y$6:$Y$1205,"OK")+COUNTIFS('Planejamento'!$V$6:$V$1205,"Atenção",'Planejamento'!$X$6:$X$1205,"Ativo",'Planejamento'!$Y$6:$Y$1205,"OK")+COUNTIFS('Planejamento'!$V$6:$V$1205,"Capacidade insuficiente",'Planejamento'!$X$6:$X$1205,"Ativo",'Planejamento'!$Y$6:$Y$1205,"OK"),COUNTIFS('Planejamento'!$V$6:$V$1205,"Ruptura",'Planejamento'!$X$6:$X$1205,"Ativo",'Planejamento'!$Y$6:$Y$1205,"OK",'Planejamento'!$D$6:$D$1205,$B$3)+COUNTIFS('Planejamento'!$V$6:$V$1205,"Atenção",'Planejamento'!$X$6:$X$1205,"Ativo",'Planejamento'!$Y$6:$Y$1205,"OK",'Planejamento'!$D$6:$D$1205,$B$3)+COUNTIFS('Planejamento'!$V$6:$V$1205,"Capacidade insuficiente",'Planejamento'!$X$6:$X$1205,"Ativo",'Planejamento'!$Y$6:$Y$1205,"OK",'Planejamento'!$D$6:$D$1205,$B$3)) | C8: Semanas com excesso de capacidade | D8: =IF($B$3="",COUNTIFS('Planejamento'!$V$6:$V$1205,"Excesso de capacidade",'Planejamento'!$X$6:$X$1205,"Ativo",'Planejamento'!$Y$6:$Y$1205,"OK"),COUNTIFS('Planejamento'!$V$6:$V$1205,"Excesso de capacidade",'Planejamento'!$X$6:$X$1205,"Ativo",'Planejamento'!$Y$6:$Y$1205,"OK",'Planejamento'!$D$6:$D$1205,$B$3)) | E8: Desmobilização recomendada (un.) | F8: =IF($B$3="",SUMIFS('Planejamento'!$R$6:$R$1205,'Planejamento'!$X$6:$X$1205,"Ativo",'Planejamento'!$Y$6:$Y$1205,"OK"),SUMIFS('Planejamento'!$R$6:$R$1205,'Planejamento'!$X$6:$X$1205,"Ativo",'Planejamento'!$Y$6:$Y$1205,"OK",'Planejamento'!$D$6:$D$1205,$B$3)) | G8: Cenários com pendência de cadastro | H8: =IF($B$3="",COUNTIFS('Cenários'!$A$6:$A$105,"<>",'Cenários'!$Z$6:$Z$105,"<>OK"),COUNTIFS('Cenários'!$A$6:$A$105,"<>",'Cenários'!$Z$6:$Z$105,"<>OK",'Cenários'!$D$6:$D$105,$B$3))
A11: =IF(B5=0,"Nenhum cenário ativo e válido para o filtro.",IF(H8>0,"Há cenários com pendências de cadastro.","Planejamento pronto para revisão."))
A15: Deslocamento | B15: Semana | C15: Demanda projetada | D15: Recebimento recomendado | E15: Saldo final projetado | G15: Situação | H15: Quantidade de semanas
A16: -4 | B16: =IF(A16<0,"S"&A16,IF(A16=0,"S0","S+"&A16)) | C16: =IF($B$3="",SUMIFS('Planejamento'!$I$6:$I$1205,'Planejamento'!$E$6:$E$1205,$A16,'Planejamento'!$X$6:$X$1205,"Ativo",'Planejamento'!$Y$6:$Y$1205,"OK"),SUMIFS('Planejamento'!$I$6:$I$1205,'Planejamento'!$E$6:$E$1205,$A16,'Planejamento'!$X$6:$X$1205,"Ativo",'Planejamento'!$Y$6:$Y$1205,"OK",'Planejamento'!$D$6:$D$1205,$B$3)) | D16: =IF($B$3="",SUMIFS('Planejamento'!$O$6:$O$1205,'Planejamento'!$E$6:$E$1205,$A16,'Planejamento'!$X$6:$X$1205,"Ativo",'Planejamento'!$Y$6:$Y$1205,"OK"),SUMIFS('Planejamento'!$O$6:$O$1205,'Planejamento'!$E$6:$E$1205,$A16,'Planejamento'!$X$6:$X$1205,"Ativo",'Planejamento'!$Y$6:$Y$1205,"OK",'Planejamento'!$D$6:$D$1205,$B$3)) | E16: =IF($B$3="",SUMIFS('Planejamento'!$S$6:$S$1205,'Planejamento'!$E$6:$E$1205,$A16,'Planejamento'!$X$6:$X$1205,"Ativo",'Planejamento'!$Y$6:$Y$1205,"OK"),SUMIFS('Planejamento'!$S$6:$S$1205,'Planejamento'!$E$6:$E$1205,$A16,'Planejamento'!$X$6:$X$1205,"Ativo",'Planejamento'!$Y$6:$Y$1205,"OK",'Planejamento'!$D$6:$D$1205,$B$3)) | G16: Ruptura | H16: =IF($B$3="",COUNTIFS('Planejamento'!$V$6:$V$1205,$G16,'Planejamento'!$X$6:$X$1205,"Ativo",'Planejamento'!$Y$6:$Y$1205,"OK"),COUNTIFS('Planejamento'!$V$6:$V$1205,$G16,'Planejamento'!$X$6:$X$1205,"Ativo",'Planejamento'!$Y$6:$Y$1205,"OK",'Planejamento'!$D$6:$D$1205,$B$3)) | P16: =IF('Cenários'!D6="","",'Cenários'!D6)
A17: -3 | B17: =IF(A17<0,"S"&A17,IF(A17=0,"S0","S+"&A17)) | C17: =IF($B$3="",SUMIFS('Planejamento'!$I$6:$I$1205,'Planejamento'!$E$6:$E$1205,$A17,'Planejamento'!$X$6:$X$1205,"Ativo",'Planejamento'!$Y$6:$Y$1205,"OK"),SUMIFS('Planejamento'!$I$6:$I$1205,'Planejamento'!$E$6:$E$1205,$A17,'Planejamento'!$X$6:$X$1205,"Ativo",'Planejamento'!$Y$6:$Y$1205,"OK",'Planejamento'!$D$6:$D$1205,$B$3)) | D17: =IF($B$3="",SUMIFS('Planejamento'!$O$6:$O$1205,'Planejamento'!$E$6:$E$1205,$A17,'Planejamento'!$X$6:$X$1205,"Ativo",'Planejamento'!$Y$6:$Y$1205,"OK"),SUMIFS('Planejamento'!$O$6:$O$1205,'Planejamento'!$E$6:$E$1205,$A17,'Planejamento'!$X$6:$X$1205,"Ativo",'Planejamento'!$Y$6:$Y$1205,"OK",'Planejamento'!$D$6:$D$1205,$B$3)) | E17: =IF($B$3="",SUMIFS('Planejamento'!$S$6:$S$1205,'Planejamento'!$E$6:$E$1205,$A17,'Planejamento'!$X$6:$X$1205,"Ativo",'Planejamento'!$Y$6:$Y$1205,"OK"),SUMIFS('Planejamento'!$S$6:$S$1205,'Planejamento'!$E$6:$E$1205,$A17,'Planejamento'!$X$6:$X$1205,"Ativo",'Planejamento'!$Y$6:$Y$1205,"OK",'Planejamento'!$D$6:$D$1205,$B$3)) | G17: Atenção | H17: =IF($B$3="",COUNTIFS('Planejamento'!$V$6:$V$1205,$G17,'Planejamento'!$X$6:$X$1205,"Ativo",'Planejamento'!$Y$6:$Y$1205,"OK"),COUNTIFS('Planejamento'!$V$6:$V$1205,$G17,'Planejamento'!$X$6:$X$1205,"Ativo",'Planejamento'!$Y$6:$Y$1205,"OK",'Planejamento'!$D$6:$D$1205,$B$3)) | P17: =IF('Cenários'!D7="","",'Cenários'!D7)
A18: -2 | B18: =IF(A18<0,"S"&A18,IF(A18=0,"S0","S+"&A18)) | C18: =IF($B$3="",SUMIFS('Planejamento'!$I$6:$I$1205,'Planejamento'!$E$6:$E$1205,$A18,'Planejamento'!$X$6:$X$1205,"Ativo",'Planejamento'!$Y$6:$Y$1205,"OK"),SUMIFS('Planejamento'!$I$6:$I$1205,'Planejamento'!$E$6:$E$1205,$A18,'Planejamento'!$X$6:$X$1205,"Ativo",'Planejamento'!$Y$6:$Y$1205,"OK",'Planejamento'!$D$6:$D$1205,$B$3)) | D18: =IF($B$3="",SUMIFS('Planejamento'!$O$6:$O$1205,'Planejamento'!$E$6:$E$1205,$A18,'Planejamento'!$X$6:$X$1205,"Ativo",'Planejamento'!$Y$6:$Y$1205,"OK"),SUMIFS('Planejamento'!$O$6:$O$1205,'Planejamento'!$E$6:$E$1205,$A18,'Planejamento'!$X$6:$X$1205,"Ativo",'Planejamento'!$Y$6:$Y$1205,"OK",'Planejamento'!$D$6:$D$1205,$B$3)) | E18: =IF($B$3="",SUMIFS('Planejamento'!$S$6:$S$1205,'Planejamento'!$E$6:$E$1205,$A18,'Planejamento'!$X$6:$X$1205,"Ativo",'Planejamento'!$Y$6:$Y$1205,"OK"),SUMIFS('Planejamento'!$S$6:$S$1205,'Planejamento'!$E$6:$E$1205,$A18,'Planejamento'!$X$6:$X$1205,"Ativo",'Planejamento'!$Y$6:$Y$1205,"OK",'Planejamento'!$D$6:$D$1205,$B$3)) | G18: Capacidade insuficiente | H18: =IF($B$3="",COUNTIFS('Planejamento'!$V$6:$V$1205,$G18,'Planejamento'!$X$6:$X$1205,"Ativo",'Planejamento'!$Y$6:$Y$1205,"OK"),COUNTIFS('Planejamento'!$V$6:$V$1205,$G18,'Planejamento'!$X$6:$X$1205,"Ativo",'Planejamento'!$Y$6:$Y$1205,"OK",'Planejamento'!$D$6:$D$1205,$B$3)) | P18: =IF('Cenários'!D8="","",'Cenários'!D8)
A19: -1 | B19: =IF(A19<0,"S"&A19,IF(A19=0,"S0","S+"&A19)) | C19: =IF($B$3="",SUMIFS('Planejamento'!$I$6:$I$1205,'Planejamento'!$E$6:$E$1205,$A19,'Planejamento'!$X$6:$X$1205,"Ativo",'Planejamento'!$Y$6:$Y$1205,"OK"),SUMIFS('Planejamento'!$I$6:$I$1205,'Planejamento'!$E$6:$E$1205,$A19,'Planejamento'!$X$6:$X$1205,"Ativo",'Planejamento'!$Y$6:$Y$1205,"OK",'Planejamento'!$D$6:$D$1205,$B$3)) | D19: =IF($B$3="",SUMIFS('Planejamento'!$O$6:$O$1205,'Planejamento'!$E$6:$E$1205,$A19,'Planejamento'!$X$6:$X$1205,"Ativo",'Planejamento'!$Y$6:$Y$1205,"OK"),SUMIFS('Planejamento'!$O$6:$O$1205,'Planejamento'!$E$6:$E$1205,$A19,'Planejamento'!$X$6:$X$1205,"Ativo",'Planejamento'!$Y$6:$Y$1205,"OK",'Planejamento'!$D$6:$D$1205,$B$3)) | E19: =IF($B$3="",SUMIFS('Planejamento'!$S$6:$S$1205,'Planejamento'!$E$6:$E$1205,$A19,'Planejamento'!$X$6:$X$1205,"Ativo",'Planejamento'!$Y$6:$Y$1205,"OK"),SUMIFS('Planejamento'!$S$6:$S$1205,'Planejamento'!$E$6:$E$1205,$A19,'Planejamento'!$X$6:$X$1205,"Ativo",'Planejamento'!$Y$6:$Y$1205,"OK",'Planejamento'!$D$6:$D$1205,$B$3)) | G19: Excesso de capacidade | H19: =IF($B$3="",COUNTIFS('Planejamento'!$V$6:$V$1205,$G19,'Planejamento'!$X$6:$X$1205,"Ativo",'Planejamento'!$Y$6:$Y$1205,"OK"),COUNTIFS('Planejamento'!$V$6:$V$1205,$G19,'Planejamento'!$X$6:$X$1205,"Ativo",'Planejamento'!$Y$6:$Y$1205,"OK",'Planejamento'!$D$6:$D$1205,$B$3)) | P19: =IF('Cenários'!D9="","",'Cenários'!D9)
A20: 0 | B20: =IF(A20<0,"S"&A20,IF(A20=0,"S0","S+"&A20)) | C20: =IF($B$3="",SUMIFS('Planejamento'!$I$6:$I$1205,'Planejamento'!$E$6:$E$1205,$A20,'Planejamento'!$X$6:$X$1205,"Ativo",'Planejamento'!$Y$6:$Y$1205,"OK"),SUMIFS('Planejamento'!$I$6:$I$1205,'Planejamento'!$E$6:$E$1205,$A20,'Planejamento'!$X$6:$X$1205,"Ativo",'Planejamento'!$Y$6:$Y$1205,"OK",'Planejamento'!$D$6:$D$1205,$B$3)) | D20: =IF($B$3="",SUMIFS('Planejamento'!$O$6:$O$1205,'Planejamento'!$E$6:$E$1205,$A20,'Planejamento'!$X$6:$X$1205,"Ativo",'Planejamento'!$Y$6:$Y$1205,"OK"),SUMIFS('Planejamento'!$O$6:$O$1205,'Planejamento'!$E$6:$E$1205,$A20,'Planejamento'!$X$6:$X$1205,"Ativo",'Planejamento'!$Y$6:$Y$1205,"OK",'Planejamento'!$D$6:$D$1205,$B$3)) | E20: =IF($B$3="",SUMIFS('Planejamento'!$S$6:$S$1205,'Planejamento'!$E$6:$E$1205,$A20,'Planejamento'!$X$6:$X$1205,"Ativo",'Planejamento'!$Y$6:$Y$1205,"OK"),SUMIFS('Planejamento'!$S$6:$S$1205,'Planejamento'!$E$6:$E$1205,$A20,'Planejamento'!$X$6:$X$1205,"Ativo",'Planejamento'!$Y$6:$Y$1205,"OK",'Planejamento'!$D$6:$D$1205,$B$3)) | G20: Desmobilizar | H20: =IF($B$3="",COUNTIFS('Planejamento'!$V$6:$V$1205,$G20,'Planejamento'!$X$6:$X$1205,"Ativo",'Planejamento'!$Y$6:$Y$1205,"OK"),COUNTIFS('Planejamento'!$V$6:$V$1205,$G20,'Planejamento'!$X$6:$X$1205,"Ativo",'Planejamento'!$Y$6:$Y$1205,"OK",'Planejamento'!$D$6:$D$1205,$B$3)) | P20: =IF('Cenários'!D10="","",'Cenários'!D10)
A21: 1 | B21: =IF(A21<0,"S"&A21,IF(A21=0,"S0","S+"&A21)) | C21: =IF($B$3="",SUMIFS('Planejamento'!$I$6:$I$1205,'Planejamento'!$E$6:$E$1205,$A21,'Planejamento'!$X$6:$X$1205,"Ativo",'Planejamento'!$Y$6:$Y$1205,"OK"),SUMIFS('Planejamento'!$I$6:$I$1205,'Planejamento'!$E$6:$E$1205,$A21,'Planejamento'!$X$6:$X$1205,"Ativo",'Planejamento'!$Y$6:$Y$1205,"OK",'Planejamento'!$D$6:$D$1205,$B$3)) | D21: =IF($B$3="",SUMIFS('Planejamento'!$O$6:$O$1205,'Planejamento'!$E$6:$E$1205,$A21,'Planejamento'!$X$6:$X$1205,"Ativo",'Planejamento'!$Y$6:$Y$1205,"OK"),SUMIFS('Planejamento'!$O$6:$O$1205,'Planejamento'!$E$6:$E$1205,$A21,'Planejamento'!$X$6:$X$1205,"Ativo",'Planejamento'!$Y$6:$Y$1205,"OK",'Planejamento'!$D$6:$D$1205,$B$3)) | E21: =IF($B$3="",SUMIFS('Planejamento'!$S$6:$S$1205,'Planejamento'!$E$6:$E$1205,$A21,'Planejamento'!$X$6:$X$1205,"Ativo",'Planejamento'!$Y$6:$Y$1205,"OK"),SUMIFS('Planejamento'!$S$6:$S$1205,'Planejamento'!$E$6:$E$1205,$A21,'Planejamento'!$X$6:$X$1205,"Ativo",'Planejamento'!$Y$6:$Y$1205,"OK",'Planejamento'!$D$6:$D$1205,$B$3)) | P21: =IF('Cenários'!D11="","",'Cenários'!D11)
A22: 2 | B22: =IF(A22<0,"S"&A22,IF(A22=0,"S0","S+"&A22)) | C22: =IF($B$3="",SUMIFS('Planejamento'!$I$6:$I$1205,'Planejamento'!$E$6:$E$1205,$A22,'Planejamento'!$X$6:$X$1205,"Ativo",'Planejamento'!$Y$6:$Y$1205,"OK"),SUMIFS('Planejamento'!$I$6:$I$1205,'Planejamento'!$E$6:$E$1205,$A22,'Planejamento'!$X$6:$X$1205,"Ativo",'Planejamento'!$Y$6:$Y$1205,"OK",'Planejamento'!$D$6:$D$1205,$B$3)) | D22: =IF($B$3="",SUMIFS('Planejamento'!$O$6:$O$1205,'Planejamento'!$E$6:$E$1205,$A22,'Planejamento'!$X$6:$X$1205,"Ativo",'Planejamento'!$Y$6:$Y$1205,"OK"),SUMIFS('Planejamento'!$O$6:$O$1205,'Planejamento'!$E$6:$E$1205,$A22,'Planejamento'!$X$6:$X$1205,"Ativo",'Planejamento'!$Y$6:$Y$1205,"OK",'Planejamento'!$D$6:$D$1205,$B$3)) | E22: =IF($B$3="",SUMIFS('Planejamento'!$S$6:$S$1205,'Planejamento'!$E$6:$E$1205,$A22,'Planejamento'!$X$6:$X$1205,"Ativo",'Planejamento'!$Y$6:$Y$1205,"OK"),SUMIFS('Planejamento'!$S$6:$S$1205,'Planejamento'!$E$6:$E$1205,$A22,'Planejamento'!$X$6:$X$1205,"Ativo",'Planejamento'!$Y$6:$Y$1205,"OK",'Planejamento'!$D$6:$D$1205,$B$3)) | P22: =IF('Cenários'!D12="","",'Cenários'!D12)
A23: 3 | B23: =IF(A23<0,"S"&A23,IF(A23=0,"S0","S+"&A23)) | C23: =IF($B$3="",SUMIFS('Planejamento'!$I$6:$I$1205,'Planejamento'!$E$6:$E$1205,$A23,'Planejamento'!$X$6:$X$1205,"Ativo",'Planejamento'!$Y$6:$Y$1205,"OK"),SUMIFS('Planejamento'!$I$6:$I$1205,'Planejamento'!$E$6:$E$1205,$A23,'Planejamento'!$X$6:$X$1205,"Ativo",'Planejamento'!$Y$6:$Y$1205,"OK",'Planejamento'!$D$6:$D$1205,$B$3)) | D23: =IF($B$3="",SUMIFS('Planejamento'!$O$6:$O$1205,'Planejamento'!$E$6:$E$1205,$A23,'Planejamento'!$X$6:$X$1205,"Ativo",'Planejamento'!$Y$6:$Y$1205,"OK"),SUMIFS('Planejamento'!$O$6:$O$1205,'Planejamento'!$E$6:$E$1205,$A23,'Planejamento'!$X$6:$X$1205,"Ativo",'Planejamento'!$Y$6:$Y$1205,"OK",'Planejamento'!$D$6:$D$1205,$B$3)) | E23: =IF($B$3="",SUMIFS('Planejamento'!$S$6:$S$1205,'Planejamento'!$E$6:$E$1205,$A23,'Planejamento'!$X$6:$X$1205,"Ativo",'Planejamento'!$Y$6:$Y$1205,"OK"),SUMIFS('Planejamento'!$S$6:$S$1205,'Planejamento'!$E$6:$E$1205,$A23,'Planejamento'!$X$6:$X$1205,"Ativo",'Planejamento'!$Y$6:$Y$1205,"OK",'Planejamento'!$D$6:$D$1205,$B$3)) | P23: =IF('Cenários'!D13="","",'Cenários'!D13)
A24: 4 | B24: =IF(A24<0,"S"&A24,IF(A24=0,"S0","S+"&A24)) | C24: =IF($B$3="",SUMIFS('Planejamento'!$I$6:$I$1205,'Planejamento'!$E$6:$E$1205,$A24,'Planejamento'!$X$6:$X$1205,"Ativo",'Planejamento'!$Y$6:$Y$1205,"OK"),SUMIFS('Planejamento'!$I$6:$I$1205,'Planejamento'!$E$6:$E$1205,$A24,'Planejamento'!$X$6:$X$1205,"Ativo",'Planejamento'!$Y$6:$Y$1205,"OK",'Planejamento'!$D$6:$D$1205,$B$3)) | D24: =IF($B$3="",SUMIFS('Planejamento'!$O$6:$O$1205,'Planejamento'!$E$6:$E$1205,$A24,'Planejamento'!$X$6:$X$1205,"Ativo",'Planejamento'!$Y$6:$Y$1205,"OK"),SUMIFS('Planejamento'!$O$6:$O$1205,'Planejamento'!$E$6:$E$1205,$A24,'Planejamento'!$X$6:$X$1205,"Ativo",'Planejamento'!$Y$6:$Y$1205,"OK",'Planejamento'!$D$6:$D$1205,$B$3)) | E24: =IF($B$3="",SUMIFS('Planejamento'!$S$6:$S$1205,'Planejamento'!$E$6:$E$1205,$A24,'Planejamento'!$X$6:$X$1205,"Ativo",'Planejamento'!$Y$6:$Y$1205,"OK"),SUMIFS('Planejamento'!$S$6:$S$1205,'Planejamento'!$E$6:$E$1205,$A24,'Planejamento'!$X$6:$X$1205,"Ativo",'Planejamento'!$Y$6:$Y$1205,"OK",'Planejamento'!$D$6:$D$1205,$B$3)) | P24: =IF('Cenários'!D14="","",'Cenários'!D14)
A25: 5 | B25: =IF(A25<0,"S"&A25,IF(A25=0,"S0","S+"&A25)) | C25: =IF($B$3="",SUMIFS('Planejamento'!$I$6:$I$1205,'Planejamento'!$E$6:$E$1205,$A25,'Planejamento'!$X$6:$X$1205,"Ativo",'Planejamento'!$Y$6:$Y$1205,"OK"),SUMIFS('Planejamento'!$I$6:$I$1205,'Planejamento'!$E$6:$E$1205,$A25,'Planejamento'!$X$6:$X$1205,"Ativo",'Planejamento'!$Y$6:$Y$1205,"OK",'Planejamento'!$D$6:$D$1205,$B$3)) | D25: =IF($B$3="",SUMIFS('Planejamento'!$O$6:$O$1205,'Planejamento'!$E$6:$E$1205,$A25,'Planejamento'!$X$6:$X$1205,"Ativo",'Planejamento'!$Y$6:$Y$1205,"OK"),SUMIFS('Planejamento'!$O$6:$O$1205,'Planejamento'!$E$6:$E$1205,$A25,'Planejamento'!$X$6:$X$1205,"Ativo",'Planejamento'!$Y$6:$Y$1205,"OK",'Planejamento'!$D$6:$D$1205,$B$3)) | E25: =IF($B$3="",SUMIFS('Planejamento'!$S$6:$S$1205,'Planejamento'!$E$6:$E$1205,$A25,'Planejamento'!$X$6:$X$1205,"Ativo",'Planejamento'!$Y$6:$Y$1205,"OK"),SUMIFS('Planejamento'!$S$6:$S$1205,'Planejamento'!$E$6:$E$1205,$A25,'Planejamento'!$X$6:$X$1205,"Ativo",'Planejamento'!$Y$6:$Y$1205,"OK",'Planejamento'!$D$6:$D$1205,$B$3)) | P25: =IF('Cenários'!D15="","",'Cenários'!D15)
A26: 6 | B26: =IF(A26<0,"S"&A26,IF(A26=0,"S0","S+"&A26)) | C26: =IF($B$3="",SUMIFS('Planejamento'!$I$6:$I$1205,'Planejamento'!$E$6:$E$1205,$A26,'Planejamento'!$X$6:$X$1205,"Ativo",'Planejamento'!$Y$6:$Y$1205,"OK"),SUMIFS('Planejamento'!$I$6:$I$1205,'Planejamento'!$E$6:$E$1205,$A26,'Planejamento'!$X$6:$X$1205,"Ativo",'Planejamento'!$Y$6:$Y$1205,"OK",'Planejamento'!$D$6:$D$1205,$B$3)) | D26: =IF($B$3="",SUMIFS('Planejamento'!$O$6:$O$1205,'Planejamento'!$E$6:$E$1205,$A26,'Planejamento'!$X$6:$X$1205,"Ativo",'Planejamento'!$Y$6:$Y$1205,"OK"),SUMIFS('Planejamento'!$O$6:$O$1205,'Planejamento'!$E$6:$E$1205,$A26,'Planejamento'!$X$6:$X$1205,"Ativo",'Planejamento'!$Y$6:$Y$1205,"OK",'Planejamento'!$D$6:$D$1205,$B$3)) | E26: =IF($B$3="",SUMIFS('Planejamento'!$S$6:$S$1205,'Planejamento'!$E$6:$E$1205,$A26,'Planejamento'!$X$6:$X$1205,"Ativo",'Planejamento'!$Y$6:$Y$1205,"OK"),SUMIFS('Planejamento'!$S$6:$S$1205,'Planejamento'!$E$6:$E$1205,$A26,'Planejamento'!$X$6:$X$1205,"Ativo",'Planejamento'!$Y$6:$Y$1205,"OK",'Planejamento'!$D$6:$D$1205,$B$3)) | P26: =IF('Cenários'!D16="","",'Cenários'!D16)
A27: 7 | B27: =IF(A27<0,"S"&A27,IF(A27=0,"S0","S+"&A27)) | C27: =IF($B$3="",SUMIFS('Planejamento'!$I$6:$I$1205,'Planejamento'!$E$6:$E$1205,$A27,'Planejamento'!$X$6:$X$1205,"Ativo",'Planejamento'!$Y$6:$Y$1205,"OK"),SUMIFS('Planejamento'!$I$6:$I$1205,'Planejamento'!$E$6:$E$1205,$A27,'Planejamento'!$X$6:$X$1205,"Ativo",'Planejamento'!$Y$6:$Y$1205,"OK",'Planejamento'!$D$6:$D$1205,$B$3)) | D27: =IF($B$3="",SUMIFS('Planejamento'!$O$6:$O$1205,'Planejamento'!$E$6:$E$1205,$A27,'Planejamento'!$X$6:$X$1205,"Ativo",'Planejamento'!$Y$6:$Y$1205,"OK"),SUMIFS('Planejamento'!$O$6:$O$1205,'Planejamento'!$E$6:$E$1205,$A27,'Planejamento'!$X$6:$X$1205,"Ativo",'Planejamento'!$Y$6:$Y$1205,"OK",'Planejamento'!$D$6:$D$1205,$B$3)) | E27: =IF($B$3="",SUMIFS('Planejamento'!$S$6:$S$1205,'Planejamento'!$E$6:$E$1205,$A27,'Planejamento'!$X$6:$X$1205,"Ativo",'Planejamento'!$Y$6:$Y$1205,"OK"),SUMIFS('Planejamento'!$S$6:$S$1205,'Planejamento'!$E$6:$E$1205,$A27,'Planejamento'!$X$6:$X$1205,"Ativo",'Planejamento'!$Y$6:$Y$1205,"OK",'Planejamento'!$D$6:$D$1205,$B$3)) | P27: =IF('Cenários'!D17="","",'Cenários'!D17)
P28: =IF('Cenários'!D18="","",'Cenários'!D18)
P29: =IF('Cenários'!D19="","",'Cenários'!D19)
P30: =IF('Cenários'!D20="","",'Cenários'!D20)
P31: =IF('Cenários'!D21="","",'Cenários'!D21)
P32: =IF('Cenários'!D22="","",'Cenários'!D22)
P33: =IF('Cenários'!D23="","",'Cenários'!D23)
P34: =IF('Cenários'!D24="","",'Cenários'!D24)
P35: =IF('Cenários'!D25="","",'Cenários'!D25)
P36: =IF('Cenários'!D26="","",'Cenários'!D26)
P37: =IF('Cenários'!D27="","",'Cenários'!D27)
P38: =IF('Cenários'!D28="","",'Cenários'!D28)
P39: =IF('Cenários'!D29="","",'Cenários'!D29)
... P115: =IF('Cenários'!D105="","",'Cenários'!D105)

Sheet Cenários
A1: Cenários de Estoque Sazonal
A2: Cadastre até 100 combinações fictícias de SKU e evento. Células amarelas são editáveis.
A3: Edite os parâmetros e revise a coluna Checagem antes de usar as recomendações.
A5: ID do cenário | B5: SKU | C5: Produto | D5: Evento sazonal | E5: Semana do pico | F5: Demanda-base semanal | G5: Estoque disponível no início | H5: Estoque de segurança | I5: Lote de reposição | J5: Prazo de reposição (semanas) | K5: Capacidade máxima | L5: Saldo-alvo após o evento | M5: Situação | N5: Fator S-4 | O5: Fator S-3 | P5: Fator S-2 | Q5: Fator S-1 | R5: Fator S0 | S5: Fator S+1 | T5: Fator S+2 | U5: Fator S+3 | V5: Fator S+4 | W5: Fator S+5 | X5: Fator S+6 | Y5: Fator S+7 | Z5: Checagem
A6: CEN-001 | B6: SKU-FIC-101 | C6: Garrafa Aurora Fictícia | D6: Festival de Primavera Fictício | E6: 46300 | F6: 70 | G6: 210 | H6: 50 | I6: 20 | J6: 2 | K6: 500 | L6: 40 | M6: Ativo | N6: 0.8 | O6: 0.9 | P6: 1.1 | Q6: 1.5 | R6: 2.2 | S6: 1.6 | T6: 1.2 | U6: 0.9 | V6: 0.8 | W6: 0.7 | X6: 0.7 | Y6: 0.6 | Z6: =IF(COUNTA($A6:$Y6)=0,"",IF($A6="","Falta ID",IF(COUNTIF($A$6:$A$105,$A6)>1,"ID duplicado",IF(OR($B6="",$C6="",$D6="",$E6="",$F6="",$G6="",$H6="",$I6="",$J6="",$K6="",$L6="",$M6=""),"Preencher campos obrigatórios",IF(COUNTBLANK($N6:$Y6)>0,"Curva incompleta",IF(OR($F6<0,$G6<0,$H6<0,$I6<1,$J6<0,$J6>4,$K6<1,$L6<0),"Valor fora do limite",IF(WEEKDAY($E6,2)<>1,"Data não é segunda-feira",IF(OR(MIN($N6:$Y6)<0,MAX($N6:$Y6)>10),"Fator fora do limite",IF($H6>$K6,"Segurança acima da capacidade",IF($L6>$K6,"Saldo final acima da capacidade",IF($G6>$K6,"Estoque atual acima da capacidade","OK")))))))))))
A7: CEN-002 | B7: SKU-FIC-102 | C7: Caderno Brisa Fictício | D7: Festival de Primavera Fictício | E7: 46300 | F7: 120 | G7: 300 | H7: 90 | I7: 50 | J7: 1 | K7: 700 | L7: 70 | M7: Ativo | N7: 0.7 | O7: 0.8 | P7: 1 | Q7: 1.4 | R7: 1.9 | S7: 1.4 | T7: 1.1 | U7: 0.9 | V7: 0.8 | W7: 0.7 | X7: 0.6 | Y7: 0.6 | Z7: =IF(COUNTA($A7:$Y7)=0,"",IF($A7="","Falta ID",IF(COUNTIF($A$6:$A$105,$A7)>1,"ID duplicado",IF(OR($B7="",$C7="",$D7="",$E7="",$F7="",$G7="",$H7="",$I7="",$J7="",$K7="",$L7="",$M7=""),"Preencher campos obrigatórios",IF(COUNTBLANK($N7:$Y7)>0,"Curva incompleta",IF(OR($F7<0,$G7<0,$H7<0,$I7<1,$J7<0,$J7>4,$K7<1,$L7<0),"Valor fora do limite",IF(WEEKDAY($E7,2)<>1,"Data não é segunda-feira",IF(OR(MIN($N7:$Y7)<0,MAX($N7:$Y7)>10),"Fator fora do limite",IF($H7>$K7,"Segurança acima da capacidade",IF($L7>$K7,"Saldo final acima da capacidade",IF($G7>$K7,"Estoque atual acima da capacidade","OK")))))))))))
A8: CEN-003 | B8: SKU-FIC-103 | C8: Kit Blocos Galáxia Fictício | D8: Dia das Crianças 2026 | E8: 46307 | F8: 90 | G8: 260 | H8: 70 | I8: 30 | J8: 2 | K8: 650 | L8: 45 | M8: Ativo | N8: 0.7 | O8: 0.9 | P8: 1.3 | Q8: 2 | R8: 3.2 | S8: 2.1 | T8: 1.3 | U8: 0.9 | V8: 0.7 | W8: 0.6 | X8: 0.5 | Y8: 0.5 | Z8: =IF(COUNTA($A8:$Y8)=0,"",IF($A8="","Falta ID",IF(COUNTIF($A$6:$A$105,$A8)>1,"ID duplicado",IF(OR($B8="",$C8="",$D8="",$E8="",$F8="",$G8="",$H8="",$I8="",$J8="",$K8="",$L8="",$M8=""),"Preencher campos obrigatórios",IF(COUNTBLANK($N8:$Y8)>0,"Curva incompleta",IF(OR($F8<0,$G8<0,$H8<0,$I8<1,$J8<0,$J8>4,$K8<1,$L8<0),"Valor fora do limite",IF(WEEKDAY($E8,2)<>1,"Data não é segunda-feira",IF(OR(MIN($N8:$Y8)<0,MAX($N8:$Y8)>10),"Fator fora do limite",IF($H8>$K8,"Segurança acima da capacidade",IF($L8>$K8,"Saldo final acima da capacidade",IF($G8>$K8,"Estoque atual acima da capacidade","OK")))))))))))
A9: CEN-004 | B9: SKU-FIC-104 | C9: Pelúcia Lua Mansa Fictícia | D9: Dia das Crianças 2026 | E9: 46307 | F9: 60 | G9: 180 | H9: 50 | I9: 20 | J9: 3 | K9: 500 | L9: 35 | M9: Ativo | N9: 0.6 | O9: 0.8 | P9: 1.2 | Q9: 1.8 | R9: 2.8 | S9: 2 | T9: 1.2 | U9: 0.8 | V9: 0.7 | W9: 0.6 | X9: 0.5 | Y9: 0.4 | Z9: =IF(COUNTA($A9:$Y9)=0,"",IF($A9="","Falta ID",IF(COUNTIF($A$6:$A$105,$A9)>1,"ID duplicado",IF(OR($B9="",$C9="",$D9="",$E9="",$F9="",$G9="",$H9="",$I9="",$J9="",$K9="",$L9="",$M9=""),"Preencher campos obrigatórios",IF(COUNTBLANK($N9:$Y9)>0,"Curva incompleta",IF(OR($F9<0,$G9<0,$H9<0,$I9<1,$J9<0,$J9>4,$K9<1,$L9<0),"Valor fora do limite",IF(WEEKDAY($E9,2)<>1,"Data não é segunda-feira",IF(OR(MIN($N9:$Y9)<0,MAX($N9:$Y9)>10),"Fator fora do limite",IF($H9>$K9,"Segurança acima da capacidade",IF($L9>$K9,"Saldo final acima da capacidade",IF($G9>$K9,"Estoque atual acima da capacidade","OK")))))))))))
A10: CEN-005 | B10: SKU-FIC-105 | C10: Jogo Estelar Fictício | D10: Dia das Crianças 2026 | E10: 46307 | F10: 110 | G10: 220 | H10: 80 | I10: 40 | J10: 2 | K10: 560 | L10: 50 | M10: Ativo | N10: 0.7 | O10: 0.9 | P10: 1.4 | Q10: 2.2 | R10: 3.5 | S10: 2.3 | T10: 1.4 | U10: 0.9 | V10: 0.7 | W10: 0.6 | X10: 0.5 | Y10: 0.5 | Z10: =IF(COUNTA($A10:$Y10)=0,"",IF($A10="","Falta ID",IF(COUNTIF($A$6:$A$105,$A10)>1,"ID duplicado",IF(OR($B10="",$C10="",$D10="",$E10="",$F10="",$G10="",$H10="",$I10="",$J10="",$K10="",$L10="",$M10=""),"Preencher campos obrigatórios",IF(COUNTBLANK($N10:$Y10)>0,"Curva incompleta",IF(OR($F10<0,$G10<0,$H10<0,$I10<1,$J10<0,$J10>4,$K10<1,$L10<0),"Valor fora do limite",IF(WEEKDAY($E10,2)<>1,"Data não é segunda-feira",IF(OR(MIN($N10:$Y10)<0,MAX($N10:$Y10)>10),"Fator fora do limite",IF($H10>$K10,"Segurança acima da capacidade",IF($L10>$K10,"Saldo final acima da capacidade",IF($G10>$K10,"Estoque atual acima da capacidade","OK")))))))))))
A11: CEN-006 | B11: SKU-FIC-106 | C11: Fone Nuvem Pop Fictício | D11: Black Friday 2026 | E11: 46349 | F11: 160 | G11: 320 | H11: 100 | I11: 50 | J11: 3 | K11: 800 | L11: 80 | M11: Ativo | N11: 0.6 | O11: 0.8 | P11: 1.1 | Q11: 1.8 | R11: 4 | S11: 1.7 | T11: 1.1 | U11: 0.8 | V11: 0.7 | W11: 0.6 | X11: 0.5 | Y11: 0.5 | Z11: =IF(COUNTA($A11:$Y11)=0,"",IF($A11="","Falta ID",IF(COUNTIF($A$6:$A$105,$A11)>1,"ID duplicado",IF(OR($B11="",$C11="",$D11="",$E11="",$F11="",$G11="",$H11="",$I11="",$J11="",$K11="",$L11="",$M11=""),"Preencher campos obrigatórios",IF(COUNTBLANK($N11:$Y11)>0,"Curva incompleta",IF(OR($F11<0,$G11<0,$H11<0,$I11<1,$J11<0,$J11>4,$K11<1,$L11<0),"Valor fora do limite",IF(WEEKDAY($E11,2)<>1,"Data não é segunda-feira",IF(OR(MIN($N11:$Y11)<0,MAX($N11:$Y11)>10),"Fator fora do limite",IF($H11>$K11,"Segurança acima da capacidade",IF($L11>$K11,"Saldo final acima da capacidade",IF($G11>$K11,"Estoque atual acima da capacidade","OK")))))))))))
A12: CEN-007 | B12: SKU-FIC-107 | C12: Luminária Cometa Fictícia | D12: Black Friday 2026 | E12: 46349 | F12: 95 | G12: 190 | H12: 60 | I12: 25 | J12: 2 | K12: 500 | L12: 45 | M12: Ativo | N12: 0.7 | O12: 0.9 | P12: 1.2 | Q12: 1.7 | R12: 3.6 | S12: 1.6 | T12: 1 | U12: 0.8 | V12: 0.7 | W12: 0.6 | X12: 0.5 | Y12: 0.5 | Z12: =IF(COUNTA($A12:$Y12)=0,"",IF($A12="","Falta ID",IF(COUNTIF($A$6:$A$105,$A12)>1,"ID duplicado",IF(OR($B12="",$C12="",$D12="",$E12="",$F12="",$G12="",$H12="",$I12="",$J12="",$K12="",$L12="",$M12=""),"Preencher campos obrigatórios",IF(COUNTBLANK($N12:$Y12)>0,"Curva incompleta",IF(OR($F12<0,$G12<0,$H12<0,$I12<1,$J12<0,$J12>4,$K12<1,$L12<0),"Valor fora do limite",IF(WEEKDAY($E12,2)<>1,"Data não é segunda-feira",IF(OR(MIN($N12:$Y12)<0,MAX($N12:$Y12)>10),"Fator fora do limite",IF($H12>$K12,"Segurança acima da capacidade",IF($L12>$K12,"Saldo final acima da capacidade",IF($G12>$K12,"Estoque atual acima da capacidade","OK")))))))))))
A13: CEN-008 | B13: SKU-FIC-108 | C13: Organizador Órbita Fictício | D13: Black Friday 2026 | E13: 46349 | F13: 130 | G13: 260 | H13: 80 | I13: 40 | J13: 2 | K13: 600 | L13: 60 | M13: Ativo | N13: 0.6 | O13: 0.8 | P13: 1 | Q13: 1.6 | R13: 3.8 | S13: 1.8 | T13: 1.2 | U13: 0.9 | V13: 0.7 | W13: 0.6 | X13: 0.5 | Y13: 0.4 | Z13: =IF(COUNTA($A13:$Y13)=0,"",IF($A13="","Falta ID",IF(COUNTIF($A$6:$A$105,$A13)>1,"ID duplicado",IF(OR($B13="",$C13="",$D13="",$E13="",$F13="",$G13="",$H13="",$I13="",$J13="",$K13="",$L13="",$M13=""),"Preencher campos obrigatórios",IF(COUNTBLANK($N13:$Y13)>0,"Curva incompleta",IF(OR($F13<0,$G13<0,$H13<0,$I13<1,$J13<0,$J13>4,$K13<1,$L13<0),"Valor fora do limite",IF(WEEKDAY($E13,2)<>1,"Data não é segunda-feira",IF(OR(MIN($N13:$Y13)<0,MAX($N13:$Y13)>10),"Fator fora do limite",IF($H13>$K13,"Segurança acima da capacidade",IF($L13>$K13,"Saldo final acima da capacidade",IF($G13>$K13,"Estoque atual acima da capacidade","OK")))))))))))
A14: CEN-009 | B14: SKU-FIC-109 | C14: Caneca Boreal Fictícia | D14: Natal 2026 | E14: 46377 | F14: 140 | G14: 300 | H14: 90 | I14: 50 | J14: 2 | K14: 750 | L14: 70 | M14: Ativo | N14: 0.8 | O14: 1 | P14: 1.4 | Q14: 2.1 | R14: 3 | S14: 2.4 | T14: 1.4 | U14: 0.8 | V14: 0.6 | W14: 0.5 | X14: 0.4 | Y14: 0.4 | Z14: =IF(COUNTA($A14:$Y14)=0,"",IF($A14="","Falta ID",IF(COUNTIF($A$6:$A$105,$A14)>1,"ID duplicado",IF(OR($B14="",$C14="",$D14="",$E14="",$F14="",$G14="",$H14="",$I14="",$J14="",$K14="",$L14="",$M14=""),"Preencher campos obrigatórios",IF(COUNTBLANK($N14:$Y14)>0,"Curva incompleta",IF(OR($F14<0,$G14<0,$H14<0,$I14<1,$J14<0,$J14>4,$K14<1,$L14<0),"Valor fora do limite",IF(WEEKDAY($E14,2)<>1,"Data não é segunda-feira",IF(OR(MIN($N14:$Y14)<0,MAX($N14:$Y14)>10),"Fator fora do limite",IF($H14>$K14,"Segurança acima da capacidade",IF($L14>$K14,"Saldo final acima da capacidade",IF($G14>$K14,"Estoque atual acima da capacidade","OK")))))))))))
A15: CEN-010 | B15: SKU-FIC-110 | C15: Kit Solstício Fictício | D15: Natal 2026 | E15: 46377 | F15: 100 | G15: 240 | H15: 70 | I15: 25 | J15: 3 | K15: 650 | L15: 50 | M15: Pausado | N15: 0.7 | O15: 0.9 | P15: 1.3 | Q15: 1.9 | R15: 2.7 | S15: 2.2 | T15: 1.3 | U15: 0.9 | V15: 0.7 | W15: 0.6 | X15: 0.5 | Y15: 0.4 | Z15: =IF(COUNTA($A15:$Y15)=0,"",IF($A15="","Falta ID",IF(COUNTIF($A$6:$A$105,$A15)>1,"ID duplicado",IF(OR($B15="",$C15="",$D15="",$E15="",$F15="",$G15="",$H15="",$I15="",$J15="",$K15="",$L15="",$M15=""),"Preencher campos obrigatórios",IF(COUNTBLANK($N15:$Y15)>0,"Curva incompleta",IF(OR($F15<0,$G15<0,$H15<0,$I15<1,$J15<0,$J15>4,$K15<1,$L15<0),"Valor fora do limite",IF(WEEKDAY($E15,2)<>1,"Data não é segunda-feira",IF(OR(MIN($N15:$Y15)<0,MAX($N15:$Y15)>10),"Fator fora do limite",IF($H15>$K15,"Segurança acima da capacidade",IF($L15>$K15,"Saldo final acima da capacidade",IF($G15>$K15,"Estoque atual acima da capacidade","OK")))))))))))
Z16: =IF(COUNTA($A16:$Y16)=0,"",IF($A16="","Falta ID",IF(COUNTIF($A$6:$A$105,$A16)>1,"ID duplicado",IF(OR($B16="",$C16="",$D16="",$E16="",$F16="",$G16="",$H16="",$I16="",$J16="",$K16="",$L16="",$M16=""),"Preencher campos obrigatórios",IF(COUNTBLANK($N16:$Y16)>0,"Curva incompleta",IF(OR($F16<0,$G16<0,$H16<0,$I16<1,$J16<0,$J16>4,$K16<1,$L16<0),"Valor fora do limite",IF(WEEKDAY($E16,2)<>1,"Data não é segunda-feira",IF(OR(MIN($N16:$Y16)<0,MAX($N16:$Y16)>10),"Fator fora do limite",IF($H16>$K16,"Segurança acima da capacidade",IF($L16>$K16,"Saldo final acima da capacidade",IF($G16>$K16,"Estoque atual acima da capacidade","OK")))))))))))
Z17: =IF(COUNTA($A17:$Y17)=0,"",IF($A17="","Falta ID",IF(COUNTIF($A$6:$A$105,$A17)>1,"ID duplicado",IF(OR($B17="",$C17="",$D17="",$E17="",$F17="",$G17="",$H17="",$I17="",$J17="",$K17="",$L17="",$M17=""),"Preencher campos obrigatórios",IF(COUNTBLANK($N17:$Y17)>0,"Curva incompleta",IF(OR($F17<0,$G17<0,$H17<0,$I17<1,$J17<0,$J17>4,$K17<1,$L17<0),"Valor fora do limite",IF(WEEKDAY($E17,2)<>1,"Data não é segunda-feira",IF(OR(MIN($N17:$Y17)<0,MAX($N17:$Y17)>10),"Fator fora do limite",IF($H17>$K17,"Segurança acima da capacidade",IF($L17>$K17,"Saldo final acima da capacidade",IF($G17>$K17,"Estoque atual acima da capacidade","OK")))))))))))
Z18: =IF(COUNTA($A18:$Y18)=0,"",IF($A18="","Falta ID",IF(COUNTIF($A$6:$A$105,$A18)>1,"ID duplicado",IF(OR($B18="",$C18="",$D18="",$E18="",$F18="",$G18="",$H18="",$I18="",$J18="",$K18="",$L18="",$M18=""),"Preencher campos obrigatórios",IF(COUNTBLANK($N18:$Y18)>0,"Curva incompleta",IF(OR($F18<0,$G18<0,$H18<0,$I18<1,$J18<0,$J18>4,$K18<1,$L18<0),"Valor fora do limite",IF(WEEKDAY($E18,2)<>1,"Data não é segunda-feira",IF(OR(MIN($N18:$Y18)<0,MAX($N18:$Y18)>10),"Fator fora do limite",IF($H18>$K18,"Segurança acima da capacidade",IF($L18>$K18,"Saldo final acima da capacidade",IF($G18>$K18,"Estoque atual acima da capacidade","OK")))))))))))
Z19: =IF(COUNTA($A19:$Y19)=0,"",IF($A19="","Falta ID",IF(COUNTIF($A$6:$A$105,$A19)>1,"ID duplicado",IF(OR($B19="",$C19="",$D19="",$E19="",$F19="",$G19="",$H19="",$I19="",$J19="",$K19="",$L19="",$M19=""),"Preencher campos obrigatórios",IF(COUNTBLANK($N19:$Y19)>0,"Curva incompleta",IF(OR($F19<0,$G19<0,$H19<0,$I19<1,$J19<0,$J19>4,$K19<1,$L19<0),"Valor fora do limite",IF(WEEKDAY($E19,2)<>1,"Data não é segunda-feira",IF(OR(MIN($N19:$Y19)<0,MAX($N19:$Y19)>10),"Fator fora do limite",IF($H19>$K19,"Segurança acima da capacidade",IF($L19>$K19,"Saldo final acima da capacidade",IF($G19>$K19,"Estoque atual acima da capacidade","OK")))))))))))
Z20: =IF(COUNTA($A20:$Y20)=0,"",IF($A20="","Falta ID",IF(COUNTIF($A$6:$A$105,$A20)>1,"ID duplicado",IF(OR($B20="",$C20="",$D20="",$E20="",$F20="",$G20="",$H20="",$I20="",$J20="",$K20="",$L20="",$M20=""),"Preencher campos obrigatórios",IF(COUNTBLANK($N20:$Y20)>0,"Curva incompleta",IF(OR($F20<0,$G20<0,$H20<0,$I20<1,$J20<0,$J20>4,$K20<1,$L20<0),"Valor fora do limite",IF(WEEKDAY($E20,2)<>1,"Data não é segunda-feira",IF(OR(MIN($N20:$Y20)<0,MAX($N20:$Y20)>10),"Fator fora do limite",IF($H20>$K20,"Segurança acima da capacidade",IF($L20>$K20,"Saldo final acima da capacidade",IF($G20>$K20,"Estoque atual acima da capacidade","OK")))))))))))
Z21: =IF(COUNTA($A21:$Y21)=0,"",IF($A21="","Falta ID",IF(COUNTIF($A$6:$A$105,$A21)>1,"ID duplicado",IF(OR($B21="",$C21="",$D21="",$E21="",$F21="",$G21="",$H21="",$I21="",$J21="",$K21="",$L21="",$M21=""),"Preencher campos obrigatórios",IF(COUNTBLANK($N21:$Y21)>0,"Curva incompleta",IF(OR($F21<0,$G21<0,$H21<0,$I21<1,$J21<0,$J21>4,$K21<1,$L21<0),"Valor fora do limite",IF(WEEKDAY($E21,2)<>1,"Data não é segunda-feira",IF(OR(MIN($N21:$Y21)<0,MAX($N21:$Y21)>10),"Fator fora do limite",IF($H21>$K21,"Segurança acima da capacidade",IF($L21>$K21,"Saldo final acima da capacidade",IF($G21>$K21,"Estoque atual acima da capacidade","OK")))))))))))
Z22: =IF(COUNTA($A22:$Y22)=0,"",IF($A22="","Falta ID",IF(COUNTIF($A$6:$A$105,$A22)>1,"ID duplicado",IF(OR($B22="",$C22="",$D22="",$E22="",$F22="",$G22="",$H22="",$I22="",$J22="",$K22="",$L22="",$M22=""),"Preencher campos obrigatórios",IF(COUNTBLANK($N22:$Y22)>0,"Curva incompleta",IF(OR($F22<0,$G22<0,$H22<0,$I22<1,$J22<0,$J22>4,$K22<1,$L22<0),"Valor fora do limite",IF(WEEKDAY($E22,2)<>1,"Data não é segunda-feira",IF(OR(MIN($N22:$Y22)<0,MAX($N22:$Y22)>10),"Fator fora do limite",IF($H22>$K22,"Segurança acima da capacidade",IF($L22>$K22,"Saldo final acima da capacidade",IF($G22>$K22,"Estoque atual acima da capacidade","OK")))))))))))
Z23: =IF(COUNTA($A23:$Y23)=0,"",IF($A23="","Falta ID",IF(COUNTIF($A$6:$A$105,$A23)>1,"ID duplicado",IF(OR($B23="",$C23="",$D23="",$E23="",$F23="",$G23="",$H23="",$I23="",$J23="",$K23="",$L23="",$M23=""),"Preencher campos obrigatórios",IF(COUNTBLANK($N23:$Y23)>0,"Curva incompleta",IF(OR($F23<0,$G23<0,$H23<0,$I23<1,$J23<0,$J23>4,$K23<1,$L23<0),"Valor fora do limite",IF(WEEKDAY($E23,2)<>1,"Data não é segunda-feira",IF(OR(MIN($N23:$Y23)<0,MAX($N23:$Y23)>10),"Fator fora do limite",IF($H23>$K23,"Segurança acima da capacidade",IF($L23>$K23,"Saldo final acima da capacidade",IF($G23>$K23,"Estoque atual acima da capacidade","OK")))))))))))
Z24: =IF(COUNTA($A24:$Y24)=0,"",IF($A24="","Falta ID",IF(COUNTIF($A$6:$A$105,$A24)>1,"ID duplicado",IF(OR($B24="",$C24="",$D24="",$E24="",$F24="",$G24="",$H24="",$I24="",$J24="",$K24="",$L24="",$M24=""),"Preencher campos obrigatórios",IF(COUNTBLANK($N24:$Y24)>0,"Curva incompleta",IF(OR($F24<0,$G24<0,$H24<0,$I24<1,$J24<0,$J24>4,$K24<1,$L24<0),"Valor fora do limite",IF(WEEKDAY($E24,2)<>1,"Data não é segunda-feira",IF(OR(MIN($N24:$Y24)<0,MAX($N24:$Y24)>10),"Fator fora do limite",IF($H24>$K24,"Segurança acima da capacidade",IF($L24>$K24,"Saldo final acima da capacidade",IF($G24>$K24,"Estoque atual acima da capacidade","OK")))))))))))
Z25: =IF(COUNTA($A25:$Y25)=0,"",IF($A25="","Falta ID",IF(COUNTIF($A$6:$A$105,$A25)>1,"ID duplicado",IF(OR($B25="",$C25="",$D25="",$E25="",$F25="",$G25="",$H25="",$I25="",$J25="",$K25="",$L25="",$M25=""),"Preencher campos obrigatórios",IF(COUNTBLANK($N25:$Y25)>0,"Curva incompleta",IF(OR($F25<0,$G25<0,$H25<0,$I25<1,$J25<0,$J25>4,$K25<1,$L25<0),"Valor fora do limite",IF(WEEKDAY($E25,2)<>1,"Data não é segunda-feira",IF(OR(MIN($N25:$Y25)<0,MAX($N25:$Y25)>10),"Fator fora do limite",IF($H25>$K25,"Segurança acima da capacidade",IF($L25>$K25,"Saldo final acima da capacidade",IF($G25>$K25,"Estoque atual acima da capacidade","OK")))))))))))
Z26: =IF(COUNTA($A26:$Y26)=0,"",IF($A26="","Falta ID",IF(COUNTIF($A$6:$A$105,$A26)>1,"ID duplicado",IF(OR($B26="",$C26="",$D26="",$E26="",$F26="",$G26="",$H26="",$I26="",$J26="",$K26="",$L26="",$M26=""),"Preencher campos obrigatórios",IF(COUNTBLANK($N26:$Y26)>0,"Curva incompleta",IF(OR($F26<0,$G26<0,$H26<0,$I26<1,$J26<0,$J26>4,$K26<1,$L26<0),"Valor fora do limite",IF(WEEKDAY($E26,2)<>1,"Data não é segunda-feira",IF(OR(MIN($N26:$Y26)<0,MAX($N26:$Y26)>10),"Fator fora do limite",IF($H26>$K26,"Segurança acima da capacidade",IF($L26>$K26,"Saldo final acima da capacidade",IF($G26>$K26,"Estoque atual acima da capacidade","OK")))))))))))
Z27: =IF(COUNTA($A27:$Y27)=0,"",IF($A27="","Falta ID",IF(COUNTIF($A$6:$A$105,$A27)>1,"ID duplicado",IF(OR($B27="",$C27="",$D27="",$E27="",$F27="",$G27="",$H27="",$I27="",$J27="",$K27="",$L27="",$M27=""),"Preencher campos obrigatórios",IF(COUNTBLANK($N27:$Y27)>0,"Curva incompleta",IF(OR($F27<0,$G27<0,$H27<0,$I27<1,$J27<0,$J27>4,$K27<1,$L27<0),"Valor fora do limite",IF(WEEKDAY($E27,2)<>1,"Data não é segunda-feira",IF(OR(MIN($N27:$Y27)<0,MAX($N27:$Y27)>10),"Fator fora do limite",IF($H27>$K27,"Segurança acima da capacidade",IF($L27>$K27,"Saldo final acima da capacidade",IF($G27>$K27,"Estoque atual acima da capacidade","OK")))))))))))
... Z105: =IF(COUNTA($A105:$Y105)=0,"",IF($A105="","Falta ID",IF(COUNTIF($A$6:$A$105,$A105)>1,"ID duplicado",IF(OR($B105="",$C105="",$D105="",$E105="",$F105="",$G105="",$H105="",$I105="",$J105="",$K105="",$L105="",$M105=""),"Preencher campos obrigatórios",IF(COUNTBLANK($N105:$Y105)>0,"Curva incompleta",IF(OR($F105<0,$G105<0,$H105<0,$I105<1,$J105<0,$J105>4,$K105<1,$L105<0),"Valor fora do limite",IF(WEEKDAY($E105,2)<>1,"Data não é segunda-feira",IF(OR(MIN($N105:$Y105)<0,MAX($N105:$Y105)>10),"Fator fora do limite",IF($H105>$K105,"Segurança acima da capacidade",IF($L105>$K105,"Saldo final acima da capacidade",IF($G105>$K105,"Estoque atual acima da capacidade","OK")))))))))))

Sheet Planejamento
A1: Planejamento Semanal de Estoque
A2: Fluxo calculado de S-4 a S+7. Apenas Entrada confirmada, em amarelo, deve ser editada.
A3: As recomendações são projeções operacionais e devem ser revisadas antes da execução.
A5: ID do cenário | B5: SKU | C5: Produto | D5: Evento sazonal | E5: Semana relativa | F5: Fase | G5: Início da semana | H5: Fator sazonal | I5: Demanda projetada | J5: Entrada confirmada | K5: Estoque inicial da semana | L5: Saldo antes do plano | M5: Saldo-alvo teórico | N5: Saldo-alvo limitado | O5: Recebimento recomendado | P5: Pedido a emitir | Q5: Saldo após recebimento | R5: Desmobilização recomendada | S5: Saldo final projetado | T5: Falta projetada | U5: Excesso sobre capacidade | V5: Situação | W5: Alerta operacional | X5: Situação do cenário | Y5: Checagem do cenário
A6: =IF(INDEX('Cenários'!$A$6:$A$105,INT((ROW()-6)/12)+1)="","",INDEX('Cenários'!$A$6:$A$105,INT((ROW()-6)/12)+1)) | B6: =IF($A6="","",INDEX('Cenários'!$B$6:$B$105,INT((ROW()-6)/12)+1)) | C6: =IF($A6="","",INDEX('Cenários'!$C$6:$C$105,INT((ROW()-6)/12)+1)) | D6: =IF($A6="","",INDEX('Cenários'!$D$6:$D$105,INT((ROW()-6)/12)+1)) | E6: =IF($A6="","",MOD(ROW()-6,12)-4) | F6: =IF($A6="","",IF($E6<0,"Antes do pico",IF($E6=0,"Semana de pico","Depois do pico"))) | G6: =IF($A6="","",IFERROR(IF(INDEX('Cenários'!$E$6:$E$105,INT((ROW()-6)/12)+1)="","",INDEX('Cenários'!$E$6:$E$105,INT((ROW()-6)/12)+1)+7*$E6),"")) | H6: =IF($A6="","",INDEX('Cenários'!$N$6:$Y$105,INT((ROW()-6)/12)+1,$E6+5)) | I6: =IF(OR($A6="",$H6=""),"",IFERROR(ROUNDUP(INDEX('Cenários'!$F$6:$F$105,INT((ROW()-6)/12)+1)*$H6,0),"")) | K6: =IF($A6="","",IF($E6=-4,INDEX('Cenários'!$G$6:$G$105,INT((ROW()-6)/12)+1),$S5)) | L6: =IF($A6="","",$K6+IF($J6="",0,$J6)-IF($I6="",0,$I6)) | M6: =IF($A6="","",IF($E6<=0,INDEX('Cenários'!$H$6:$H$105,INT((ROW()-6)/12)+1)+SUMIFS($I$6:$I$1205,$A$6:$A$1205,$A6,$E$6:$E$1205,">"&$E6,$E$6:$E$1205,"<="&($E6+INDEX('Cenários'!$J$6:$J$105,INT((ROW()-6)/12)+1))),INDEX('Cenários'!$L$6:$L$105,INT((ROW()-6)/12)+1)+SUMIFS($I$6:$I$1205,$A$6:$A$1205,$A6,$E$6:$E$1205,">"&$E6,$E$6:$E$1205,"<=7"))) | N6: =IF($A6="","",MIN(INDEX('Cenários'!$K$6:$K$105,INT((ROW()-6)/12)+1),MAX(0,$M6))) | O6: =IF($A6="","",IFERROR(IF($L6>=$N6,0,MIN(CEILING(MAX(0,$N6-$L6),INDEX('Cenários'!$I$6:$I$105,INT((ROW()-6)/12)+1)),FLOOR(MAX(0,INDEX('Cenários'!$K$6:$K$105,INT((ROW()-6)/12)+1)-$L6),INDEX('Cenários'!$I$6:$I$105,INT((ROW()-6)/12)+1)))),0)) | P6: =IF($A6="","",IFERROR(IF($E6+INDEX('Cenários'!$J$6:$J$105,INT((ROW()-6)/12)+1)>7,0,SUMIFS($O$6:$O$1205,$A$6:$A$1205,$A6,$E$6:$E$1205,$E6+INDEX('Cenários'!$J$6:$J$105,INT((ROW()-6)/12)+1))),0)) | Q6: =IF($A6="","",$L6+$O6) | R6: =IF($A6="","",IF($E6>0,MAX(0,$Q6-$N6),0)) | S6: =IF($A6="","",$Q6-$R6) | T6: =IF($A6="","",MAX(0,-$S6)) | U6: =IF($A6="","",MAX(0,$Q6-INDEX('Cenários'!$K$6:$K$105,INT((ROW()-6)/12)+1))) | V6: =IF($A6="","",IF($Y6<>"OK","Dados inválidos",IF($X6="Pausado","Pausado",IF($T6>0,"Ruptura",IF($U6>0,"Excesso de capacidade",IF($M6>INDEX('Cenários'!$K$6:$K$105,INT((ROW()-6)/12)+1),"Capacidade insuficiente",IF(AND($E6<=0,$S6<INDEX('Cenários'!$H$6:$H$105,INT((ROW()-6)/12)+1)),"Atenção",IF($R6>0,"Desmobilizar","Adequado")))))))) | W6: =IF($A6="","",IF($Y6<>"OK","Corrigir cadastro do cenário",IF($X6="Pausado","",IF($T6>0,"Ruptura projetada de "&TEXT($T6,"0")&" un.",IF($U6>0,"Reduzir entrada ou transferir "&TEXT($U6,"0")&" un.",IF($M6>INDEX('Cenários'!$K$6:$K$105,INT((ROW()-6)/12)+1),"Capacidade abaixo do saldo-alvo em "&TEXT($M6-INDEX('Cenários'!$K$6:$K$105,INT((ROW()-6)/12)+1),"0")&" un.",IF(AND($O6>0,$E6-INDEX('Cenários'!$J$6:$J$105,INT((ROW()-6)/12)+1)<-4),"Recebimento depende de pedido anterior ao horizonte",IF($R6>0,"Desmobilizar "&TEXT($R6,"0")&" un. nesta semana",IF($P6>0,"Emitir pedido de "&TEXT($P6,"0")&" un. nesta semana",IF($O6>0,"Programar recebimento de "&TEXT($O6,"0")&" un.","Sem ação imediata"))))))))) | X6: =IF($A6="","",INDEX('Cenários'!$M$6:$M$105,INT((ROW()-6)/12)+1)) | Y6: =IF($A6="","",INDEX('Cenários'!$Z$6:$Z$105,INT((ROW()-6)/12)+1))
A7: =IF(INDEX('Cenários'!$A$6:$A$105,INT((ROW()-6)/12)+1)="","",INDEX('Cenários'!$A$6:$A$105,INT((ROW()-6)/12)+1)) | B7: =IF($A7="","",INDEX('Cenários'!$B$6:$B$105,INT((ROW()-6)/12)+1)) | C7: =IF($A7="","",INDEX('Cenários'!$C$6:$C$105,INT((ROW()-6)/12)+1)) | D7: =IF($A7="","",INDEX('Cenários'!$D$6:$D$105,INT((ROW()-6)/12)+1)) | E7: =IF($A7="","",MOD(ROW()-6,12)-4) | F7: =IF($A7="","",IF($E7<0,"Antes do pico",IF($E7=0,"Semana de pico","Depois do pico"))) | G7: =IF($A7="","",IFERROR(IF(INDEX('Cenários'!$E$6:$E$105,INT((ROW()-6)/12)+1)="","",INDEX('Cenários'!$E$6:$E$105,INT((ROW()-6)/12)+1)+7*$E7),"")) | H7: =IF($A7="","",INDEX('Cenários'!$N$6:$Y$105,INT((ROW()-6)/12)+1,$E7+5)) | I7: =IF(OR($A7="",$H7=""),"",IFERROR(ROUNDUP(INDEX('Cenários'!$F$6:$F$105,INT((ROW()-6)/12)+1)*$H7,0),"")) | K7: =IF($A7="","",IF($E7=-4,INDEX('Cenários'!$G$6:$G$105,INT((ROW()-6)/12)+1),$S6)) | L7: =IF($A7="","",$K7+IF($J7="",0,$J7)-IF($I7="",0,$I7)) | M7: =IF($A7="","",IF($E7<=0,INDEX('Cenários'!$H$6:$H$105,INT((ROW()-6)/12)+1)+SUMIFS($I$6:$I$1205,$A$6:$A$1205,$A7,$E$6:$E$1205,">"&$E7,$E$6:$E$1205,"<="&($E7+INDEX('Cenários'!$J$6:$J$105,INT((ROW()-6)/12)+1))),INDEX('Cenários'!$L$6:$L$105,INT((ROW()-6)/12)+1)+SUMIFS($I$6:$I$1205,$A$6:$A$1205,$A7,$E$6:$E$1205,">"&$E7,$E$6:$E$1205,"<=7"))) | N7: =IF($A7="","",MIN(INDEX('Cenários'!$K$6:$K$105,INT((ROW()-6)/12)+1),MAX(0,$M7))) | O7: =IF($A7="","",IFERROR(IF($L7>=$N7,0,MIN(CEILING(MAX(0,$N7-$L7),INDEX('Cenários'!$I$6:$I$105,INT((ROW()-6)/12)+1)),FLOOR(MAX(0,INDEX('Cenários'!$K$6:$K$105,INT((ROW()-6)/12)+1)-$L7),INDEX('Cenários'!$I$6:$I$105,INT((ROW()-6)/12)+1)))),0)) | P7: =IF($A7="","",IFERROR(IF($E7+INDEX('Cenários'!$J$6:$J$105,INT((ROW()-6)/12)+1)>7,0,SUMIFS($O$6:$O$1205,$A$6:$A$1205,$A7,$E$6:$E$1205,$E7+INDEX('Cenários'!$J$6:$J$105,INT((ROW()-6)/12)+1))),0)) | Q7: =IF($A7="","",$L7+$O7) | R7: =IF($A7="","",IF($E7>0,MAX(0,$Q7-$N7),0)) | S7: =IF($A7="","",$Q7-$R7) | T7: =IF($A7="","",MAX(0,-$S7)) | U7: =IF($A7="","",MAX(0,$Q7-INDEX('Cenários'!$K$6:$K$105,INT((ROW()-6)/12)+1))) | V7: =IF($A7="","",IF($Y7<>"OK","Dados inválidos",IF($X7="Pausado","Pausado",IF($T7>0,"Ruptura",IF($U7>0,"Excesso de capacidade",IF($M7>INDEX('Cenários'!$K$6:$K$105,INT((ROW()-6)/12)+1),"Capacidade insuficiente",IF(AND($E7<=0,$S7<INDEX('Cenários'!$H$6:$H$105,INT((ROW()-6)/12)+1)),"Atenção",IF($R7>0,"Desmobilizar","Adequado")))))))) | W7: =IF($A7="","",IF($Y7<>"OK","Corrigir cadastro do cenário",IF($X7="Pausado","",IF($T7>0,"Ruptura projetada de "&TEXT($T7,"0")&" un.",IF($U7>0,"Reduzir entrada ou transferir "&TEXT($U7,"0")&" un.",IF($M7>INDEX('Cenários'!$K$6:$K$105,INT((ROW()-6)/12)+1),"Capacidade abaixo do saldo-alvo em "&TEXT($M7-INDEX('Cenários'!$K$6:$K$105,INT((ROW()-6)/12)+1),"0")&" un.",IF(AND($O7>0,$E7-INDEX('Cenários'!$J$6:$J$105,INT((ROW()-6)/12)+1)<-4),"Recebimento depende de pedido anterior ao horizonte",IF($R7>0,"Desmobilizar "&TEXT($R7,"0")&" un. nesta semana",IF($P7>0,"Emitir pedido de "&TEXT($P7,"0")&" un. nesta semana",IF($O7>0,"Programar recebimento de "&TEXT($O7,"0")&" un.","Sem ação imediata"))))))))) | X7: =IF($A7="","",INDEX('Cenários'!$M$6:$M$105,INT((ROW()-6)/12)+1)) | Y7: =IF($A7="","",INDEX('Cenários'!$Z$6:$Z$105,INT((ROW()-6)/12)+1))
A8: =IF(INDEX('Cenários'!$A$6:$A$105,INT((ROW()-6)/12)+1)="","",INDEX('Cenários'!$A$6:$A$105,INT((ROW()-6)/12)+1)) | B8: =IF($A8="","",INDEX('Cenários'!$B$6:$B$105,INT((ROW()-6)/12)+1)) | C8: =IF($A8="","",INDEX('Cenários'!$C$6:$C$105,INT((ROW()-6)/12)+1)) | D8: =IF($A8="","",INDEX('Cenários'!$D$6:$D$105,INT((ROW()-6)/12)+1)) | E8: =IF($A8="","",MOD(ROW()-6,12)-4) | F8: =IF($A8="","",IF($E8<0,"Antes do pico",IF($E8=0,"Semana de pico","Depois do pico"))) | G8: =IF($A8="","",IFERROR(IF(INDEX('Cenários'!$E$6:$E$105,INT((ROW()-6)/12)+1)="","",INDEX('Cenários'!$E$6:$E$105,INT((ROW()-6)/12)+1)+7*$E8),"")) | H8: =IF($A8="","",INDEX('Cenários'!$N$6:$Y$105,INT((ROW()-6)/12)+1,$E8+5)) | I8: =IF(OR($A8="",$H8=""),"",IFERROR(ROUNDUP(INDEX('Cenários'!$F$6:$F$105,INT((ROW()-6)/12)+1)*$H8,0),"")) | J8: 80 | K8: =IF($A8="","",IF($E8=-4,INDEX('Cenários'!$G$6:$G$105,INT((ROW()-6)/12)+1),$S7)) | L8: =IF($A8="","",$K8+IF($J8="",0,$J8)-IF($I8="",0,$I8)) | M8: =IF($A8="","",IF($E8<=0,INDEX('Cenários'!$H$6:$H$105,INT((ROW()-6)/12)+1)+SUMIFS($I$6:$I$1205,$A$6:$A$1205,$A8,$E$6:$E$1205,">"&$E8,$E$6:$E$1205,"<="&($E8+INDEX('Cenários'!$J$6:$J$105,INT((ROW()-6)/12)+1))),INDEX('Cenários'!$L$6:$L$105,INT((ROW()-6)/12)+1)+SUMIFS($I$6:$I$1205,$A$6:$A$1205,$A8,$E$6:$E$1205,">"&$E8,$E$6:$E$1205,"<=7"))) | N8: =IF($A8="","",MIN(INDEX('Cenários'!$K$6:$K$105,INT((ROW()-6)/12)+1),MAX(0,$M8))) | O8: =IF($A8="","",IFERROR(IF($L8>=$N8,0,MIN(CEILING(MAX(0,$N8-$L8),INDEX('Cenários'!$I$6:$I$105,INT((ROW()-6)/12)+1)),FLOOR(MAX(0,INDEX('Cenários'!$K$6:$K$105,INT((ROW()-6)/12)+1)-$L8),INDEX('Cenários'!$I$6:$I$105,INT((ROW()-6)/12)+1)))),0)) | P8: =IF($A8="","",IFERROR(IF($E8+INDEX('Cenários'!$J$6:$J$105,INT((ROW()-6)/12)+1)>7,0,SUMIFS($O$6:$O$1205,$A$6:$A$1205,$A8,$E$6:$E$1205,$E8+INDEX('Cenários'!$J$6:$J$105,INT((ROW()-6)/12)+1))),0)) | Q8: =IF($A8="","",$L8+$O8) | R8: =IF($A8="","",IF($E8>0,MAX(0,$Q8-$N8),0)) | S8: =IF($A8="","",$Q8-$R8) | T8: =IF($A8="","",MAX(0,-$S8)) | U8: =IF($A8="","",MAX(0,$Q8-INDEX('Cenários'!$K$6:$K$105,INT((ROW()-6)/12)+1))) | V8: =IF($A8="","",IF($Y8<>"OK","Dados inválidos",IF($X8="Pausado","Pausado",IF($T8>0,"Ruptura",IF($U8>0,"Excesso de capacidade",IF($M8>INDEX('Cenários'!$K$6:$K$105,INT((ROW()-6)/12)+1),"Capacidade insuficiente",IF(AND($E8<=0,$S8<INDEX('Cenários'!$H$6:$H$105,INT((ROW()-6)/12)+1)),"Atenção",IF($R8>0,"Desmobilizar","Adequado")))))))) | W8: =IF($A8="","",IF($Y8<>"OK","Corrigir cadastro do cenário",IF($X8="Pausado","",IF($T8>0,"Ruptura projetada de "&TEXT($T8,"0")&" un.",IF($U8>0,"Reduzir entrada ou transferir "&TEXT($U8,"0")&" un.",IF($M8>INDEX('Cenários'!$K$6:$K$105,INT((ROW()-6)/12)+1),"Capacidade abaixo do saldo-alvo em "&TEXT($M8-INDEX('Cenários'!$K$6:$K$105,INT((ROW()-6)/12)+1),"0")&" un.",IF(AND($O8>0,$E8-INDEX('Cenários'!$J$6:$J$105,INT((ROW()-6)/12)+1)<-4),"Recebimento depende de pedido anterior ao horizonte",IF($R8>0,"Desmobilizar "&TEXT($R8,"0")&" un. nesta semana",IF($P8>0,"Emitir pedido de "&TEXT($P8,"0")&" un. nesta semana",IF($O8>0,"Programar recebimento de "&TEXT($O8,"0")&" un.","Sem ação imediata"))))))))) | X8: =IF($A8="","",INDEX('Cenários'!$M$6:$M$105,INT((ROW()-6)/12)+1)) | Y8: =IF($A8="","",INDEX('Cenários'!$Z$6:$Z$105,INT((ROW()-6)/12)+1))
A9: =IF(INDEX('Cenários'!$A$6:$A$105,INT((ROW()-6)/12)+1)="","",INDEX('Cenários'!$A$6:$A$105,INT((ROW()-6)/12)+1)) | B9: =IF($A9="","",INDEX('Cenários'!$B$6:$B$105,INT((ROW()-6)/12)+1)) | C9: =IF($A9="","",INDEX('Cenários'!$C$6:$C$105,INT((ROW()-6)/12)+1)) | D9: =IF($A9="","",INDEX('Cenários'!$D$6:$D$105,INT((ROW()-6)/12)+1)) | E9: =IF($A9="","",MOD(ROW()-6,12)-4) | F9: =IF($A9="","",IF($E9<0,"Antes do pico",IF($E9=0,"Semana de pico","Depois do pico"))) | G9: =IF($A9="","",IFERROR(IF(INDEX('Cenários'!$E$6:$E$105,INT((ROW()-6)/12)+1)="","",INDEX('Cenários'!$E$6:$E$105,INT((ROW()-6)/12)+1)+7*$E9),"")) | H9: =IF($A9="","",INDEX('Cenários'!$N$6:$Y$105,INT((ROW()-6)/12)+1,$E9+5)) | I9: =IF(OR($A9="",$H9=""),"",IFERROR(ROUNDUP(INDEX('Cenários'!$F$6:$F$105,INT((ROW()-6)/12)+1)*$H9,0),"")) | K9: =IF($A9="","",IF($E9=-4,INDEX('Cenários'!$G$6:$G$105,INT((ROW()-6)/12)+1),$S8)) | L9: =IF($A9="","",$K9+IF($J9="",0,$J9)-IF($I9="",0,$I9)) | M9: =IF($A9="","",IF($E9<=0,INDEX('Cenários'!$H$6:$H$105,INT((ROW()-6)/12)+1)+SUMIFS($I$6:$I$1205,$A$6:$A$1205,$A9,$E$6:$E$1205,">"&$E9,$E$6:$E$1205,"<="&($E9+INDEX('Cenários'!$J$6:$J$105,INT((ROW()-6)/12)+1))),INDEX('Cenários'!$L$6:$L$105,INT((ROW()-6)/12)+1)+SUMIFS($I$6:$I$1205,$A$6:$A$1205,$A9,$E$6:$E$1205,">"&$E9,$E$6:$E$1205,"<=7"))) | N9: =IF($A9="","",MIN(INDEX('Cenários'!$K$6:$K$105,INT((ROW()-6)/12)+1),MAX(0,$M9))) | O9: =IF($A9="","",IFERROR(IF($L9>=$N9,0,MIN(CEILING(MAX(0,$N9-$L9),INDEX('Cenários'!$I$6:$I$105,INT((ROW()-6)/12)+1)),FLOOR(MAX(0,INDEX('Cenários'!$K$6:$K$105,INT((ROW()-6)/12)+1)-$L9),INDEX('Cenários'!$I$6:$I$105,INT((ROW()-6)/12)+1)))),0)) | P9: =IF($A9="","",IFERROR(IF($E9+INDEX('Cenários'!$J$6:$J$105,INT((ROW()-6)/12)+1)>7,0,SUMIFS($O$6:$O$1205,$A$6:$A$1205,$A9,$E$6:$E$1205,$E9+INDEX('Cenários'!$J$6:$J$105,INT((ROW()-6)/12)+1))),0)) | Q9: =IF($A9="","",$L9+$O9) | R9: =IF($A9="","",IF($E9>0,MAX(0,$Q9-$N9),0)) | S9: =IF($A9="","",$Q9-$R9) | T9: =IF($A9="","",MAX(0,-$S9)) | U9: =IF($A9="","",MAX(0,$Q9-INDEX('Cenários'!$K$6:$K$105,INT((ROW()-6)/12)+1))) | V9: =IF($A9="","",IF($Y9<>"OK","Dados inválidos",IF($X9="Pausado","Pausado",IF($T9>0,"Ruptura",IF($U9>0,"Excesso de capacidade",IF($M9>INDEX('Cenários'!$K$6:$K$105,INT((ROW()-6)/12)+1),"Capacidade insuficiente",IF(AND($E9<=0,$S9<INDEX('Cenários'!$H$6:$H$105,INT((ROW()-6)/12)+1)),"Atenção",IF($R9>0,"Desmobilizar","Adequado")))))))) | W9: =IF($A9="","",IF($Y9<>"OK","Corrigir cadastro do cenário",IF($X9="Pausado","",IF($T9>0,"Ruptura projetada de "&TEXT($T9,"0")&" un.",IF($U9>0,"Reduzir entrada ou transferir "&TEXT($U9,"0")&" un.",IF($M9>INDEX('Cenários'!$K$6:$K$105,INT((ROW()-6)/12)+1),"Capacidade abaixo do saldo-alvo em "&TEXT($M9-INDEX('Cenários'!$K$6:$K$105,INT((ROW()-6)/12)+1),"0")&" un.",IF(AND($O9>0,$E9-INDEX('Cenários'!$J$6:$J$105,INT((ROW()-6)/12)+1)<-4),"Recebimento depende de pedido anterior ao horizonte",IF($R9>0,"Desmobilizar "&TEXT($R9,"0")&" un. nesta semana",IF($P9>0,"Emitir pedido de "&TEXT($P9,"0")&" un. nesta semana",IF($O9>0,"Programar recebimento de "&TEXT($O9,"0")&" un.","Sem ação imediata"))))))))) | X9: =IF($A9="","",INDEX('Cenários'!$M$6:$M$105,INT((ROW()-6)/12)+1)) | Y9: =IF($A9="","",INDEX('Cenários'!$Z$6:$Z$105,INT((ROW()-6)/12)+1))
A10: =IF(INDEX('Cenários'!$A$6:$A$105,INT((ROW()-6)/12)+1)="","",INDEX('Cenários'!$A$6:$A$105,INT((ROW()-6)/12)+1)) | B10: =IF($A10="","",INDEX('Cenários'!$B$6:$B$105,INT((ROW()-6)/12)+1)) | C10: =IF($A10="","",INDEX('Cenários'!$C$6:$C$105,INT((ROW()-6)/12)+1)) | D10: =IF($A10="","",INDEX('Cenários'!$D$6:$D$105,INT((ROW()-6)/12)+1)) | E10: =IF($A10="","",MOD(ROW()-6,12)-4) | F10: =IF($A10="","",IF($E10<0,"Antes do pico",IF($E10=0,"Semana de pico","Depois do pico"))) | G10: =IF($A10="","",IFERROR(IF(INDEX('Cenários'!$E$6:$E$105,INT((ROW()-6)/12)+1)="","",INDEX('Cenários'!$E$6:$E$105,INT((ROW()-6)/12)+1)+7*$E10),"")) | H10: =IF($A10="","",INDEX('Cenários'!$N$6:$Y$105,INT((ROW()-6)/12)+1,$E10+5)) | I10: =IF(OR($A10="",$H10=""),"",IFERROR(ROUNDUP(INDEX('Cenários'!$F$6:$F$105,INT((ROW()-6)/12)+1)*$H10,0),"")) | K10: =IF($A10="","",IF($E10=-4,INDEX('Cenários'!$G$6:$G$105,INT((ROW()-6)/12)+1),$S9)) | L10: =IF($A10="","",$K10+IF($J10="",0,$J10)-IF($I10="",0,$I10)) | M10: =IF($A10="","",IF($E10<=0,INDEX('Cenários'!$H$6:$H$105,INT((ROW()-6)/12)+1)+SUMIFS($I$6:$I$1205,$A$6:$A$1205,$A10,$E$6:$E$1205,">"&$E10,$E$6:$E$1205,"<="&($E10+INDEX('Cenários'!$J$6:$J$105,INT((ROW()-6)/12)+1))),INDEX('Cenários'!$L$6:$L$105,INT((ROW()-6)/12)+1)+SUMIFS($I$6:$I$1205,$A$6:$A$1205,$A10,$E$6:$E$1205,">"&$E10,$E$6:$E$1205,"<=7"))) | N10: =IF($A10="","",MIN(INDEX('Cenários'!$K$6:$K$105,INT((ROW()-6)/12)+1),MAX(0,$M10))) | O10: =IF($A10="","",IFERROR(IF($L10>=$N10,0,MIN(CEILING(MAX(0,$N10-$L10),INDEX('Cenários'!$I$6:$I$105,INT((ROW()-6)/12)+1)),FLOOR(MAX(0,INDEX('Cenários'!$K$6:$K$105,INT((ROW()-6)/12)+1)-$L10),INDEX('Cenários'!$I$6:$I$105,INT((ROW()-6)/12)+1)))),0)) | P10: =IF($A10="","",IFERROR(IF($E10+INDEX('Cenários'!$J$6:$J$105,INT((ROW()-6)/12)+1)>7,0,SUMIFS($O$6:$O$1205,$A$6:$A$1205,$A10,$E$6:$E$1205,$E10+INDEX('Cenários'!$J$6:$J$105,INT((ROW()-6)/12)+1))),0)) | Q10: =IF($A10="","",$L10+$O10) | R10: =IF($A10="","",IF($E10>0,MAX(0,$Q10-$N10),0)) | S10: =IF($A10="","",$Q10-$R10) | T10: =IF($A10="","",MAX(0,-$S10)) | U10: =IF($A10="","",MAX(0,$Q10-INDEX('Cenários'!$K$6:$K$105,INT((ROW()-6)/12)+1))) | V10: =IF($A10="","",IF($Y10<>"OK","Dados inválidos",IF($X10="Pausado","Pausado",IF($T10>0,"Ruptura",IF($U10>0,"Excesso de capacidade",IF($M10>INDEX('Cenários'!$K$6:$K$105,INT((ROW()-6)/12)+1),"Capacidade insuficiente",IF(AND($E10<=0,$S10<INDEX('Cenários'!$H$6:$H$105,INT((ROW()-6)/12)+1)),"Atenção",IF($R10>0,"Desmobilizar","Adequado")))))))) | W10: =IF($A10="","",IF($Y10<>"OK","Corrigir cadastro do cenário",IF($X10="Pausado","",IF($T10>0,"Ruptura projetada de "&TEXT($T10,"0")&" un.",IF($U10>0,"Reduzir entrada ou transferir "&TEXT($U10,"0")&" un.",IF($M10>INDEX('Cenários'!$K$6:$K$105,INT((ROW()-6)/12)+1),"Capacidade abaixo do saldo-alvo em "&TEXT($M10-INDEX('Cenários'!$K$6:$K$105,INT((ROW()-6)/12)+1),"0")&" un.",IF(AND($O10>0,$E10-INDEX('Cenários'!$J$6:$J$105,INT((ROW()-6)/12)+1)<-4),"Recebimento depende de pedido anterior ao horizonte",IF($R10>0,"Desmobilizar "&TEXT($R10,"0")&" un. nesta semana",IF($P10>0,"Emitir pedido de "&TEXT($P10,"0")&" un. nesta semana",IF($O10>0,"Programar recebimento de "&TEXT($O10,"0")&" un.","Sem ação imediata"))))))))) | X10: =IF($A10="","",INDEX('Cenários'!$M$6:$M$105,INT((ROW()-6)/12)+1)) | Y10: =IF($A10="","",INDEX('Cenários'!$Z$6:$Z$105,INT((ROW()-6)/12)+1))
A11: =IF(INDEX('Cenários'!$A$6:$A$105,INT((ROW()-6)/12)+1)="","",INDEX('Cenários'!$A$6:$A$105,INT((ROW()-6)/12)+1)) | B11: =IF($A11="","",INDEX('Cenários'!$B$6:$B$105,INT((ROW()-6)/12)+1)) | C11: =IF($A11="","",INDEX('Cenários'!$C$6:$C$105,INT((ROW()-6)/12)+1)) | D11: =IF($A11="","",INDEX('Cenários'!$D$6:$D$105,INT((ROW()-6)/12)+1)) | E11: =IF($A11="","",MOD(ROW()-6,12)-4) | F11: =IF($A11="","",IF($E11<0,"Antes do pico",IF($E11=0,"Semana de pico","Depois do pico"))) | G11: =IF($A11="","",IFERROR(IF(INDEX('Cenários'!$E$6:$E$105,INT((ROW()-6)/12)+1)="","",INDEX('Cenários'!$E$6:$E$105,INT((ROW()-6)/12)+1)+7*$E11),"")) | H11: =IF($A11="","",INDEX('Cenários'!$N$6:$Y$105,INT((ROW()-6)/12)+1,$E11+5)) | I11: =IF(OR($A11="",$H11=""),"",IFERROR(ROUNDUP(INDEX('Cenários'!$F$6:$F$105,INT((ROW()-6)/12)+1)*$H11,0),"")) | K11: =IF($A11="","",IF($E11=-4,INDEX('Cenários'!$G$6:$G$105,INT((ROW()-6)/12)+1),$S10)) | L11: =IF($A11="","",$K11+IF($J11="",0,$J11)-IF($I11="",0,$I11)) | M11: =IF($A11="","",IF($E11<=0,INDEX('Cenários'!$H$6:$H$105,INT((ROW()-6)/12)+1)+SUMIFS($I$6:$I$1205,$A$6:$A$1205,$A11,$E$6:$E$1205,">"&$E11,$E$6:$E$1205,"<="&($E11+INDEX('Cenários'!$J$6:$J$105,INT((ROW()-6)/12)+1))),INDEX('Cenários'!$L$6:$L$105,INT((ROW()-6)/12)+1)+SUMIFS($I$6:$I$1205,$A$6:$A$1205,$A11,$E$6:$E$1205,">"&$E11,$E$6:$E$1205,"<=7"))) | N11: =IF($A11="","",MIN(INDEX('Cenários'!$K$6:$K$105,INT((ROW()-6)/12)+1),MAX(0,$M11))) | O11: =IF($A11="","",IFERROR(IF($L11>=$N11,0,MIN(CEILING(MAX(0,$N11-$L11),INDEX('Cenários'!$I$6:$I$105,INT((ROW()-6)/12)+1)),FLOOR(MAX(0,INDEX('Cenários'!$K$6:$K$105,INT((ROW()-6)/12)+1)-$L11),INDEX('Cenários'!$I$6:$I$105,INT((ROW()-6)/12)+1)))),0)) | P11: =IF($A11="","",IFERROR(IF($E11+INDEX('Cenários'!$J$6:$J$105,INT((ROW()-6)/12)+1)>7,0,SUMIFS($O$6:$O$1205,$A$6:$A$1205,$A11,$E$6:$E$1205,$E11+INDEX('Cenários'!$J$6:$J$105,INT((ROW()-6)/12)+1))),0)) | Q11: =IF($A11="","",$L11+$O11) | R11: =IF($A11="","",IF($E11>0,MAX(0,$Q11-$N11),0)) | S11: =IF($A11="","",$Q11-$R11) | T11: =IF($A11="","",MAX(0,-$S11)) | U11: =IF($A11="","",MAX(0,$Q11-INDEX('Cenários'!$K$6:$K$105,INT((ROW()-6)/12)+1))) | V11: =IF($A11="","",IF($Y11<>"OK","Dados inválidos",IF($X11="Pausado","Pausado",IF($T11>0,"Ruptura",IF($U11>0,"Excesso de capacidade",IF($M11>INDEX('Cenários'!$K$6:$K$105,INT((ROW()-6)/12)+1),"Capacidade insuficiente",IF(AND($E11<=0,$S11<INDEX('Cenários'!$H$6:$H$105,INT((ROW()-6)/12)+1)),"Atenção",IF($R11>0,"Desmobilizar","Adequado")))))))) | W11: =IF($A11="","",IF($Y11<>"OK","Corrigir cadastro do cenário",IF($X11="Pausado","",IF($T11>0,"Ruptura projetada de "&TEXT($T11,"0")&" un.",IF($U11>0,"Reduzir entrada ou transferir "&TEXT($U11,"0")&" un.",IF($M11>INDEX('Cenários'!$K$6:$K$105,INT((ROW()-6)/12)+1),"Capacidade abaixo do saldo-alvo em "&TEXT($M11-INDEX('Cenários'!$K$6:$K$105,INT((ROW()-6)/12)+1),"0")&" un.",IF(AND($O11>0,$E11-INDEX('Cenários'!$J$6:$J$105,INT((ROW()-6)/12)+1)<-4),"Recebimento depende de pedido anterior ao horizonte",IF($R11>0,"Desmobilizar "&TEXT($R11,"0")&" un. nesta semana",IF($P11>0,"Emitir pedido de "&TEXT($P11,"0")&" un. nesta semana",IF($O11>0,"Programar recebimento de "&TEXT($O11,"0")&" un.","Sem ação imediata"))))))))) | X11: =IF($A11="","",INDEX('Cenários'!$M$6:$M$105,INT((ROW()-6)/12)+1)) | Y11: =IF($A11="","",INDEX('Cenários'!$Z$6:$Z$105,INT((ROW()-6)/12)+1))
