Workbook

Sheet Resumo
A1: Painel da fila FEFO
A2: Priorize a separação pelo lote elegível com menor validade.
D3: Lotes elegíveis | F3: Saldo elegível | H3: Lotes vencidos | J3: Lotes bloqueados
A4: Data de referência | B4: 46272 | D4: =COUNTIF(Lotes!$J$2:$J$101,"Elegível") | F4: =SUM(Lotes!$L$2:$L$101) | H4: =COUNTIF(Lotes!$J$2:$J$101,"Vencido") | J4: =COUNTIF(Lotes!$J$2:$J$101,"Bloqueado")
A5: Limite crítico, em dias | B5: 15
A6: Limite de atenção, em dias | B6: 30 | D6: Pedidos pendentes | F6: Demanda do plano | H6: Quantidade não atendida | J6: Exceções FEFO
D7: =COUNTIF(Pedidos!$G$2:$G$101,"Pendente") | F7: =SUM(Pedidos!$N$2:$N$101) | H7: =SUM(Pedidos!$N$2:$N$101)-SUM(Pedidos!$Q$2:$Q$101) | J7: =COUNTIF(Pedidos!$Z$2:$Z$101,"Quebra FEFO*")+COUNTIF(Pedidos!$Z$2:$Z$101,"Sequência de lotes divergente")+COUNTIF(Pedidos!$Z$2:$Z$101,"Lote usado não elegível")+COUNTIF(Pedidos!$Z$2:$Z$101,"Quantidade divergente")
A9: Alertas de revisão | B9: Quantidade | D9: Próximos cinco lotes da fila
A10: Lotes incompletos | B10: =COUNTIF(Lotes!$J$2:$J$101,"Incompleto") | D10: Posição | E10: SKU | F10: Lote | G10: Validade | H10: Saldo elegível
A11: Duplicidades de SKU e lote | B11: =COUNTIF(Lotes!$S$2:$S$101,"Duplicidade SKU/lote") | D11: =IF('Fila FEFO'!A2="","",'Fila FEFO'!A2) | E11: =IF('Fila FEFO'!A2="","",'Fila FEFO'!B2) | F11: =IF('Fila FEFO'!A2="","",'Fila FEFO'!D2) | G11: =IF('Fila FEFO'!A2="","",'Fila FEFO'!E2) | H11: =IF('Fila FEFO'!A2="","",'Fila FEFO'!G2)
A12: Prioridades duplicadas | B12: =SUMPRODUCT((Pedidos!$D$2:$D$101<>"")*(COUNTIF(Pedidos!$D$2:$D$101,Pedidos!$D$2:$D$101)>1)) | D12: =IF('Fila FEFO'!A3="","",'Fila FEFO'!A3) | E12: =IF('Fila FEFO'!A3="","",'Fila FEFO'!B3) | F12: =IF('Fila FEFO'!A3="","",'Fila FEFO'!D3) | G12: =IF('Fila FEFO'!A3="","",'Fila FEFO'!E3) | H12: =IF('Fila FEFO'!A3="","",'Fila FEFO'!G3)
A13: Pedidos parciais ou sem saldo | B13: =SUMPRODUCT((Pedidos!$N$2:$N$101>0)*(Pedidos!$Q$2:$Q$101<Pedidos!$N$2:$N$101)) | D13: =IF('Fila FEFO'!A4="","",'Fila FEFO'!A4) | E13: =IF('Fila FEFO'!A4="","",'Fila FEFO'!B4) | F13: =IF('Fila FEFO'!A4="","",'Fila FEFO'!D4) | G13: =IF('Fila FEFO'!A4="","",'Fila FEFO'!E4) | H13: =IF('Fila FEFO'!A4="","",'Fila FEFO'!G4)
A14: Exceções sem motivo | B14: =COUNTIF(Pedidos!$AA$2:$AA$101,"Informar motivo da exceção") | D14: =IF('Fila FEFO'!A5="","",'Fila FEFO'!A5) | E14: =IF('Fila FEFO'!A5="","",'Fila FEFO'!B5) | F14: =IF('Fila FEFO'!A5="","",'Fila FEFO'!D5) | G14: =IF('Fila FEFO'!A5="","",'Fila FEFO'!E5) | H14: =IF('Fila FEFO'!A5="","",'Fila FEFO'!G5)
A15: Execuções incompletas | B15: =COUNTIF(Pedidos!$Z$2:$Z$101,"Execução incompleta") | D15: =IF('Fila FEFO'!A6="","",'Fila FEFO'!A6) | E15: =IF('Fila FEFO'!A6="","",'Fila FEFO'!B6) | F15: =IF('Fila FEFO'!A6="","",'Fila FEFO'!D6) | G15: =IF('Fila FEFO'!A6="","",'Fila FEFO'!E6) | H15: =IF('Fila FEFO'!A6="","",'Fila FEFO'!G6)
A18: Faixa de validade | B18: Saldo elegível
A19: Vence hoje | B19: =SUMIFS(Lotes!$L$2:$L$101,Lotes!$J$2:$J$101,"Elegível",Lotes!$I$2:$I$101,0)
A20: De 1 dia até o limite crítico | B20: =SUMIFS(Lotes!$L$2:$L$101,Lotes!$J$2:$J$101,"Elegível",Lotes!$I$2:$I$101,">=1",Lotes!$I$2:$I$101,"<="&$B$5)
A21: Acima do crítico até o limite de atenção | B21: =SUMIFS(Lotes!$L$2:$L$101,Lotes!$J$2:$J$101,"Elegível",Lotes!$I$2:$I$101,">"&$B$5,Lotes!$I$2:$I$101,"<="&$B$6)
A22: Acima do limite de atenção | B22: =SUMIFS(Lotes!$L$2:$L$101,Lotes!$J$2:$J$101,"Elegível",Lotes!$I$2:$I$101,">"&$B$6)

Sheet Lotes
A1: ID da linha | B1: SKU | C1: Produto | D1: Lote | E1: Validade | F1: Saldo | G1: Bloqueio | H1: Motivo do bloqueio | I1: Dias para vencer | J1: Status do lote | K1: Faixa de validade | L1: Saldo elegível | M1: Ordem FEFO no SKU | N1: Saldo acumulado antes | O1: Saldo acumulado após | P1: Posição global | Q1: Chave SKU-lote | R1: Chave SKU-ordem | S1: Conferência
A2: 1 | B2: CHA-001 | C2: Chá Aurora da Serra 20 sachês | D2: CHA-A26 | E2: 46277 | F2: 20 | G2: Não | I2: =IF(OR(B2="",D2="",E2=""),"",E2-Resumo!$B$4) | J2: =IF(COUNTA(B2:H2)=0,"",IF(OR(B2="",C2="",D2="",NOT(ISNUMBER(E2)),NOT(ISNUMBER(F2)),G2=""),"Incompleto",IF(F2<=0,"Sem saldo",IF(G2="Sim","Bloqueado",IF(E2<Resumo!$B$4,"Vencido","Elegível"))))) | K2: =IF(J2="","",IF(J2<>"Elegível",J2,IF(I2=0,"Vence hoje",IF(I2<=Resumo!$B$5,"Crítico",IF(I2<=Resumo!$B$6,"Atenção","Acima da atenção"))))) | L2: =IF(J2="Elegível",F2,0) | M2: =IF(J2<>"Elegível","",COUNTIFS($B$2:$B$101,B2,$J$2:$J$101,"Elegível",$E$2:$E$101,"<"&E2)+COUNTIFS($B$2:$B$101,B2,$J$2:$J$101,"Elegível",$E$2:$E$101,E2,$A$2:$A$101,"<="&A2)) | N2: =IF(M2="","",SUMIFS($L$2:$L$101,$B$2:$B$101,B2,$M$2:$M$101,"<"&M2)) | O2: =IF(M2="","",N2+L2) | P2: =IF(J2<>"Elegível","",COUNTIFS($J$2:$J$101,"Elegível",$E$2:$E$101,"<"&E2)+COUNTIFS($J$2:$J$101,"Elegível",$E$2:$E$101,E2,$A$2:$A$101,"<="&A2)) | Q2: =IF(OR(B2="",D2=""),"",B2&"|"&D2) | R2: =IF(M2="","",B2&"|"&TEXT(M2,"000")) | S2: =IF(COUNTA(B2:H2)=0,"",IF(OR(B2="",C2="",D2="",NOT(ISNUMBER(E2)),NOT(ISNUMBER(F2)),G2=""),"Completar campos",IF(F2<0,"Saldo negativo",IF(COUNTIFS($B$2:$B$101,B2,$D$2:$D$101,D2)>1,"Duplicidade SKU/lote",IF(AND(G2="Sim",H2=""),"Informar motivo do bloqueio","OK")))))
A3: 2 | B3: CHA-001 | C3: Chá Aurora da Serra 20 sachês | D3: CHA-B26 | E3: 46285 | F3: 35 | G3: Não | I3: =IF(OR(B3="",D3="",E3=""),"",E3-Resumo!$B$4) | J3: =IF(COUNTA(B3:H3)=0,"",IF(OR(B3="",C3="",D3="",NOT(ISNUMBER(E3)),NOT(ISNUMBER(F3)),G3=""),"Incompleto",IF(F3<=0,"Sem saldo",IF(G3="Sim","Bloqueado",IF(E3<Resumo!$B$4,"Vencido","Elegível"))))) | K3: =IF(J3="","",IF(J3<>"Elegível",J3,IF(I3=0,"Vence hoje",IF(I3<=Resumo!$B$5,"Crítico",IF(I3<=Resumo!$B$6,"Atenção","Acima da atenção"))))) | L3: =IF(J3="Elegível",F3,0) | M3: =IF(J3<>"Elegível","",COUNTIFS($B$2:$B$101,B3,$J$2:$J$101,"Elegível",$E$2:$E$101,"<"&E3)+COUNTIFS($B$2:$B$101,B3,$J$2:$J$101,"Elegível",$E$2:$E$101,E3,$A$2:$A$101,"<="&A3)) | N3: =IF(M3="","",SUMIFS($L$2:$L$101,$B$2:$B$101,B3,$M$2:$M$101,"<"&M3)) | O3: =IF(M3="","",N3+L3) | P3: =IF(J3<>"Elegível","",COUNTIFS($J$2:$J$101,"Elegível",$E$2:$E$101,"<"&E3)+COUNTIFS($J$2:$J$101,"Elegível",$E$2:$E$101,E3,$A$2:$A$101,"<="&A3)) | Q3: =IF(OR(B3="",D3=""),"",B3&"|"&D3) | R3: =IF(M3="","",B3&"|"&TEXT(M3,"000")) | S3: =IF(COUNTA(B3:H3)=0,"",IF(OR(B3="",C3="",D3="",NOT(ISNUMBER(E3)),NOT(ISNUMBER(F3)),G3=""),"Completar campos",IF(F3<0,"Saldo negativo",IF(COUNTIFS($B$2:$B$101,B3,$D$2:$D$101,D3)>1,"Duplicidade SKU/lote",IF(AND(G3="Sim",H3=""),"Informar motivo do bloqueio","OK")))))
A4: 3 | B4: CHA-001 | C4: Chá Aurora da Serra 20 sachês | D4: CHA-X26 | E4: 46270 | F4: 10 | G4: Não | I4: =IF(OR(B4="",D4="",E4=""),"",E4-Resumo!$B$4) | J4: =IF(COUNTA(B4:H4)=0,"",IF(OR(B4="",C4="",D4="",NOT(ISNUMBER(E4)),NOT(ISNUMBER(F4)),G4=""),"Incompleto",IF(F4<=0,"Sem saldo",IF(G4="Sim","Bloqueado",IF(E4<Resumo!$B$4,"Vencido","Elegível"))))) | K4: =IF(J4="","",IF(J4<>"Elegível",J4,IF(I4=0,"Vence hoje",IF(I4<=Resumo!$B$5,"Crítico",IF(I4<=Resumo!$B$6,"Atenção","Acima da atenção"))))) | L4: =IF(J4="Elegível",F4,0) | M4: =IF(J4<>"Elegível","",COUNTIFS($B$2:$B$101,B4,$J$2:$J$101,"Elegível",$E$2:$E$101,"<"&E4)+COUNTIFS($B$2:$B$101,B4,$J$2:$J$101,"Elegível",$E$2:$E$101,E4,$A$2:$A$101,"<="&A4)) | N4: =IF(M4="","",SUMIFS($L$2:$L$101,$B$2:$B$101,B4,$M$2:$M$101,"<"&M4)) | O4: =IF(M4="","",N4+L4) | P4: =IF(J4<>"Elegível","",COUNTIFS($J$2:$J$101,"Elegível",$E$2:$E$101,"<"&E4)+COUNTIFS($J$2:$J$101,"Elegível",$E$2:$E$101,E4,$A$2:$A$101,"<="&A4)) | Q4: =IF(OR(B4="",D4=""),"",B4&"|"&D4) | R4: =IF(M4="","",B4&"|"&TEXT(M4,"000")) | S4: =IF(COUNTA(B4:H4)=0,"",IF(OR(B4="",C4="",D4="",NOT(ISNUMBER(E4)),NOT(ISNUMBER(F4)),G4=""),"Completar campos",IF(F4<0,"Saldo negativo",IF(COUNTIFS($B$2:$B$101,B4,$D$2:$D$101,D4)>1,"Duplicidade SKU/lote",IF(AND(G4="Sim",H4=""),"Informar motivo do bloqueio","OK")))))
A5: 4 | B5: SAB-002 | C5: Sabonete Nuvem Azul 90 g | D5: SAB-BQ26 | E5: 46275 | F5: 15 | G5: Sim | H5: Quarentena interna | I5: =IF(OR(B5="",D5="",E5=""),"",E5-Resumo!$B$4) | J5: =IF(COUNTA(B5:H5)=0,"",IF(OR(B5="",C5="",D5="",NOT(ISNUMBER(E5)),NOT(ISNUMBER(F5)),G5=""),"Incompleto",IF(F5<=0,"Sem saldo",IF(G5="Sim","Bloqueado",IF(E5<Resumo!$B$4,"Vencido","Elegível"))))) | K5: =IF(J5="","",IF(J5<>"Elegível",J5,IF(I5=0,"Vence hoje",IF(I5<=Resumo!$B$5,"Crítico",IF(I5<=Resumo!$B$6,"Atenção","Acima da atenção"))))) | L5: =IF(J5="Elegível",F5,0) | M5: =IF(J5<>"Elegível","",COUNTIFS($B$2:$B$101,B5,$J$2:$J$101,"Elegível",$E$2:$E$101,"<"&E5)+COUNTIFS($B$2:$B$101,B5,$J$2:$J$101,"Elegível",$E$2:$E$101,E5,$A$2:$A$101,"<="&A5)) | N5: =IF(M5="","",SUMIFS($L$2:$L$101,$B$2:$B$101,B5,$M$2:$M$101,"<"&M5)) | O5: =IF(M5="","",N5+L5) | P5: =IF(J5<>"Elegível","",COUNTIFS($J$2:$J$101,"Elegível",$E$2:$E$101,"<"&E5)+COUNTIFS($J$2:$J$101,"Elegível",$E$2:$E$101,E5,$A$2:$A$101,"<="&A5)) | Q5: =IF(OR(B5="",D5=""),"",B5&"|"&D5) | R5: =IF(M5="","",B5&"|"&TEXT(M5,"000")) | S5: =IF(COUNTA(B5:H5)=0,"",IF(OR(B5="",C5="",D5="",NOT(ISNUMBER(E5)),NOT(ISNUMBER(F5)),G5=""),"Completar campos",IF(F5<0,"Saldo negativo",IF(COUNTIFS($B$2:$B$101,B5,$D$2:$D$101,D5)>1,"Duplicidade SKU/lote",IF(AND(G5="Sim",H5=""),"Informar motivo do bloqueio","OK")))))
A6: 5 | B6: SAB-002 | C6: Sabonete Nuvem Azul 90 g | D6: SAB-C26 | E6: 46283 | F6: 40 | G6: Não | I6: =IF(OR(B6="",D6="",E6=""),"",E6-Resumo!$B$4) | J6: =IF(COUNTA(B6:H6)=0,"",IF(OR(B6="",C6="",D6="",NOT(ISNUMBER(E6)),NOT(ISNUMBER(F6)),G6=""),"Incompleto",IF(F6<=0,"Sem saldo",IF(G6="Sim","Bloqueado",IF(E6<Resumo!$B$4,"Vencido","Elegível"))))) | K6: =IF(J6="","",IF(J6<>"Elegível",J6,IF(I6=0,"Vence hoje",IF(I6<=Resumo!$B$5,"Crítico",IF(I6<=Resumo!$B$6,"Atenção","Acima da atenção"))))) | L6: =IF(J6="Elegível",F6,0) | M6: =IF(J6<>"Elegível","",COUNTIFS($B$2:$B$101,B6,$J$2:$J$101,"Elegível",$E$2:$E$101,"<"&E6)+COUNTIFS($B$2:$B$101,B6,$J$2:$J$101,"Elegível",$E$2:$E$101,E6,$A$2:$A$101,"<="&A6)) | N6: =IF(M6="","",SUMIFS($L$2:$L$101,$B$2:$B$101,B6,$M$2:$M$101,"<"&M6)) | O6: =IF(M6="","",N6+L6) | P6: =IF(J6<>"Elegível","",COUNTIFS($J$2:$J$101,"Elegível",$E$2:$E$101,"<"&E6)+COUNTIFS($J$2:$J$101,"Elegível",$E$2:$E$101,E6,$A$2:$A$101,"<="&A6)) | Q6: =IF(OR(B6="",D6=""),"",B6&"|"&D6) | R6: =IF(M6="","",B6&"|"&TEXT(M6,"000")) | S6: =IF(COUNTA(B6:H6)=0,"",IF(OR(B6="",C6="",D6="",NOT(ISNUMBER(E6)),NOT(ISNUMBER(F6)),G6=""),"Completar campos",IF(F6<0,"Saldo negativo",IF(COUNTIFS($B$2:$B$101,B6,$D$2:$D$101,D6)>1,"Duplicidade SKU/lote",IF(AND(G6="Sim",H6=""),"Informar motivo do bloqueio","OK")))))
A7: 6 | B7: CRE-003 | C7: Creme Brisa Lunar 50 ml | D7: CRE-A26 | E7: 46302 | F7: 8 | G7: Não | I7: =IF(OR(B7="",D7="",E7=""),"",E7-Resumo!$B$4) | J7: =IF(COUNTA(B7:H7)=0,"",IF(OR(B7="",C7="",D7="",NOT(ISNUMBER(E7)),NOT(ISNUMBER(F7)),G7=""),"Incompleto",IF(F7<=0,"Sem saldo",IF(G7="Sim","Bloqueado",IF(E7<Resumo!$B$4,"Vencido","Elegível"))))) | K7: =IF(J7="","",IF(J7<>"Elegível",J7,IF(I7=0,"Vence hoje",IF(I7<=Resumo!$B$5,"Crítico",IF(I7<=Resumo!$B$6,"Atenção","Acima da atenção"))))) | L7: =IF(J7="Elegível",F7,0) | M7: =IF(J7<>"Elegível","",COUNTIFS($B$2:$B$101,B7,$J$2:$J$101,"Elegível",$E$2:$E$101,"<"&E7)+COUNTIFS($B$2:$B$101,B7,$J$2:$J$101,"Elegível",$E$2:$E$101,E7,$A$2:$A$101,"<="&A7)) | N7: =IF(M7="","",SUMIFS($L$2:$L$101,$B$2:$B$101,B7,$M$2:$M$101,"<"&M7)) | O7: =IF(M7="","",N7+L7) | P7: =IF(J7<>"Elegível","",COUNTIFS($J$2:$J$101,"Elegível",$E$2:$E$101,"<"&E7)+COUNTIFS($J$2:$J$101,"Elegível",$E$2:$E$101,E7,$A$2:$A$101,"<="&A7)) | Q7: =IF(OR(B7="",D7=""),"",B7&"|"&D7) | R7: =IF(M7="","",B7&"|"&TEXT(M7,"000")) | S7: =IF(COUNTA(B7:H7)=0,"",IF(OR(B7="",C7="",D7="",NOT(ISNUMBER(E7)),NOT(ISNUMBER(F7)),G7=""),"Completar campos",IF(F7<0,"Saldo negativo",IF(COUNTIFS($B$2:$B$101,B7,$D$2:$D$101,D7)>1,"Duplicidade SKU/lote",IF(AND(G7="Sim",H7=""),"Informar motivo do bloqueio","OK")))))
A8: 7 | I8: =IF(OR(B8="",D8="",E8=""),"",E8-Resumo!$B$4) | J8: =IF(COUNTA(B8:H8)=0,"",IF(OR(B8="",C8="",D8="",NOT(ISNUMBER(E8)),NOT(ISNUMBER(F8)),G8=""),"Incompleto",IF(F8<=0,"Sem saldo",IF(G8="Sim","Bloqueado",IF(E8<Resumo!$B$4,"Vencido","Elegível"))))) | K8: =IF(J8="","",IF(J8<>"Elegível",J8,IF(I8=0,"Vence hoje",IF(I8<=Resumo!$B$5,"Crítico",IF(I8<=Resumo!$B$6,"Atenção","Acima da atenção"))))) | L8: =IF(J8="Elegível",F8,0) | M8: =IF(J8<>"Elegível","",COUNTIFS($B$2:$B$101,B8,$J$2:$J$101,"Elegível",$E$2:$E$101,"<"&E8)+COUNTIFS($B$2:$B$101,B8,$J$2:$J$101,"Elegível",$E$2:$E$101,E8,$A$2:$A$101,"<="&A8)) | N8: =IF(M8="","",SUMIFS($L$2:$L$101,$B$2:$B$101,B8,$M$2:$M$101,"<"&M8)) | O8: =IF(M8="","",N8+L8) | P8: =IF(J8<>"Elegível","",COUNTIFS($J$2:$J$101,"Elegível",$E$2:$E$101,"<"&E8)+COUNTIFS($J$2:$J$101,"Elegível",$E$2:$E$101,E8,$A$2:$A$101,"<="&A8)) | Q8: =IF(OR(B8="",D8=""),"",B8&"|"&D8) | R8: =IF(M8="","",B8&"|"&TEXT(M8,"000")) | S8: =IF(COUNTA(B8:H8)=0,"",IF(OR(B8="",C8="",D8="",NOT(ISNUMBER(E8)),NOT(ISNUMBER(F8)),G8=""),"Completar campos",IF(F8<0,"Saldo negativo",IF(COUNTIFS($B$2:$B$101,B8,$D$2:$D$101,D8)>1,"Duplicidade SKU/lote",IF(AND(G8="Sim",H8=""),"Informar motivo do bloqueio","OK")))))
A9: 8 | I9: =IF(OR(B9="",D9="",E9=""),"",E9-Resumo!$B$4) | J9: =IF(COUNTA(B9:H9)=0,"",IF(OR(B9="",C9="",D9="",NOT(ISNUMBER(E9)),NOT(ISNUMBER(F9)),G9=""),"Incompleto",IF(F9<=0,"Sem saldo",IF(G9="Sim","Bloqueado",IF(E9<Resumo!$B$4,"Vencido","Elegível"))))) | K9: =IF(J9="","",IF(J9<>"Elegível",J9,IF(I9=0,"Vence hoje",IF(I9<=Resumo!$B$5,"Crítico",IF(I9<=Resumo!$B$6,"Atenção","Acima da atenção"))))) | L9: =IF(J9="Elegível",F9,0) | M9: =IF(J9<>"Elegível","",COUNTIFS($B$2:$B$101,B9,$J$2:$J$101,"Elegível",$E$2:$E$101,"<"&E9)+COUNTIFS($B$2:$B$101,B9,$J$2:$J$101,"Elegível",$E$2:$E$101,E9,$A$2:$A$101,"<="&A9)) | N9: =IF(M9="","",SUMIFS($L$2:$L$101,$B$2:$B$101,B9,$M$2:$M$101,"<"&M9)) | O9: =IF(M9="","",N9+L9) | P9: =IF(J9<>"Elegível","",COUNTIFS($J$2:$J$101,"Elegível",$E$2:$E$101,"<"&E9)+COUNTIFS($J$2:$J$101,"Elegível",$E$2:$E$101,E9,$A$2:$A$101,"<="&A9)) | Q9: =IF(OR(B9="",D9=""),"",B9&"|"&D9) | R9: =IF(M9="","",B9&"|"&TEXT(M9,"000")) | S9: =IF(COUNTA(B9:H9)=0,"",IF(OR(B9="",C9="",D9="",NOT(ISNUMBER(E9)),NOT(ISNUMBER(F9)),G9=""),"Completar campos",IF(F9<0,"Saldo negativo",IF(COUNTIFS($B$2:$B$101,B9,$D$2:$D$101,D9)>1,"Duplicidade SKU/lote",IF(AND(G9="Sim",H9=""),"Informar motivo do bloqueio","OK")))))
A10: 9 | I10: =IF(OR(B10="",D10="",E10=""),"",E10-Resumo!$B$4) | J10: =IF(COUNTA(B10:H10)=0,"",IF(OR(B10="",C10="",D10="",NOT(ISNUMBER(E10)),NOT(ISNUMBER(F10)),G10=""),"Incompleto",IF(F10<=0,"Sem saldo",IF(G10="Sim","Bloqueado",IF(E10<Resumo!$B$4,"Vencido","Elegível"))))) | K10: =IF(J10="","",IF(J10<>"Elegível",J10,IF(I10=0,"Vence hoje",IF(I10<=Resumo!$B$5,"Crítico",IF(I10<=Resumo!$B$6,"Atenção","Acima da atenção"))))) | L10: =IF(J10="Elegível",F10,0) | M10: =IF(J10<>"Elegível","",COUNTIFS($B$2:$B$101,B10,$J$2:$J$101,"Elegível",$E$2:$E$101,"<"&E10)+COUNTIFS($B$2:$B$101,B10,$J$2:$J$101,"Elegível",$E$2:$E$101,E10,$A$2:$A$101,"<="&A10)) | N10: =IF(M10="","",SUMIFS($L$2:$L$101,$B$2:$B$101,B10,$M$2:$M$101,"<"&M10)) | O10: =IF(M10="","",N10+L10) | P10: =IF(J10<>"Elegível","",COUNTIFS($J$2:$J$101,"Elegível",$E$2:$E$101,"<"&E10)+COUNTIFS($J$2:$J$101,"Elegível",$E$2:$E$101,E10,$A$2:$A$101,"<="&A10)) | Q10: =IF(OR(B10="",D10=""),"",B10&"|"&D10) | R10: =IF(M10="","",B10&"|"&TEXT(M10,"000")) | S10: =IF(COUNTA(B10:H10)=0,"",IF(OR(B10="",C10="",D10="",NOT(ISNUMBER(E10)),NOT(ISNUMBER(F10)),G10=""),"Completar campos",IF(F10<0,"Saldo negativo",IF(COUNTIFS($B$2:$B$101,B10,$D$2:$D$101,D10)>1,"Duplicidade SKU/lote",IF(AND(G10="Sim",H10=""),"Informar motivo do bloqueio","OK")))))
A11: 10 | I11: =IF(OR(B11="",D11="",E11=""),"",E11-Resumo!$B$4) | J11: =IF(COUNTA(B11:H11)=0,"",IF(OR(B11="",C11="",D11="",NOT(ISNUMBER(E11)),NOT(ISNUMBER(F11)),G11=""),"Incompleto",IF(F11<=0,"Sem saldo",IF(G11="Sim","Bloqueado",IF(E11<Resumo!$B$4,"Vencido","Elegível"))))) | K11: =IF(J11="","",IF(J11<>"Elegível",J11,IF(I11=0,"Vence hoje",IF(I11<=Resumo!$B$5,"Crítico",IF(I11<=Resumo!$B$6,"Atenção","Acima da atenção"))))) | L11: =IF(J11="Elegível",F11,0) | M11: =IF(J11<>"Elegível","",COUNTIFS($B$2:$B$101,B11,$J$2:$J$101,"Elegível",$E$2:$E$101,"<"&E11)+COUNTIFS($B$2:$B$101,B11,$J$2:$J$101,"Elegível",$E$2:$E$101,E11,$A$2:$A$101,"<="&A11)) | N11: =IF(M11="","",SUMIFS($L$2:$L$101,$B$2:$B$101,B11,$M$2:$M$101,"<"&M11)) | O11: =IF(M11="","",N11+L11) | P11: =IF(J11<>"Elegível","",COUNTIFS($J$2:$J$101,"Elegível",$E$2:$E$101,"<"&E11)+COUNTIFS($J$2:$J$101,"Elegível",$E$2:$E$101,E11,$A$2:$A$101,"<="&A11)) | Q11: =IF(OR(B11="",D11=""),"",B11&"|"&D11) | R11: =IF(M11="","",B11&"|"&TEXT(M11,"000")) | S11: =IF(COUNTA(B11:H11)=0,"",IF(OR(B11="",C11="",D11="",NOT(ISNUMBER(E11)),NOT(ISNUMBER(F11)),G11=""),"Completar campos",IF(F11<0,"Saldo negativo",IF(COUNTIFS($B$2:$B$101,B11,$D$2:$D$101,D11)>1,"Duplicidade SKU/lote",IF(AND(G11="Sim",H11=""),"Informar motivo do bloqueio","OK")))))
A12: 11 | I12: =IF(OR(B12="",D12="",E12=""),"",E12-Resumo!$B$4) | J12: =IF(COUNTA(B12:H12)=0,"",IF(OR(B12="",C12="",D12="",NOT(ISNUMBER(E12)),NOT(ISNUMBER(F12)),G12=""),"Incompleto",IF(F12<=0,"Sem saldo",IF(G12="Sim","Bloqueado",IF(E12<Resumo!$B$4,"Vencido","Elegível"))))) | K12: =IF(J12="","",IF(J12<>"Elegível",J12,IF(I12=0,"Vence hoje",IF(I12<=Resumo!$B$5,"Crítico",IF(I12<=Resumo!$B$6,"Atenção","Acima da atenção"))))) | L12: =IF(J12="Elegível",F12,0) | M12: =IF(J12<>"Elegível","",COUNTIFS($B$2:$B$101,B12,$J$2:$J$101,"Elegível",$E$2:$E$101,"<"&E12)+COUNTIFS($B$2:$B$101,B12,$J$2:$J$101,"Elegível",$E$2:$E$101,E12,$A$2:$A$101,"<="&A12)) | N12: =IF(M12="","",SUMIFS($L$2:$L$101,$B$2:$B$101,B12,$M$2:$M$101,"<"&M12)) | O12: =IF(M12="","",N12+L12) | P12: =IF(J12<>"Elegível","",COUNTIFS($J$2:$J$101,"Elegível",$E$2:$E$101,"<"&E12)+COUNTIFS($J$2:$J$101,"Elegível",$E$2:$E$101,E12,$A$2:$A$101,"<="&A12)) | Q12: =IF(OR(B12="",D12=""),"",B12&"|"&D12) | R12: =IF(M12="","",B12&"|"&TEXT(M12,"000")) | S12: =IF(COUNTA(B12:H12)=0,"",IF(OR(B12="",C12="",D12="",NOT(ISNUMBER(E12)),NOT(ISNUMBER(F12)),G12=""),"Completar campos",IF(F12<0,"Saldo negativo",IF(COUNTIFS($B$2:$B$101,B12,$D$2:$D$101,D12)>1,"Duplicidade SKU/lote",IF(AND(G12="Sim",H12=""),"Informar motivo do bloqueio","OK")))))
A13: 12 | I13: =IF(OR(B13="",D13="",E13=""),"",E13-Resumo!$B$4) | J13: =IF(COUNTA(B13:H13)=0,"",IF(OR(B13="",C13="",D13="",NOT(ISNUMBER(E13)),NOT(ISNUMBER(F13)),G13=""),"Incompleto",IF(F13<=0,"Sem saldo",IF(G13="Sim","Bloqueado",IF(E13<Resumo!$B$4,"Vencido","Elegível"))))) | K13: =IF(J13="","",IF(J13<>"Elegível",J13,IF(I13=0,"Vence hoje",IF(I13<=Resumo!$B$5,"Crítico",IF(I13<=Resumo!$B$6,"Atenção","Acima da atenção"))))) | L13: =IF(J13="Elegível",F13,0) | M13: =IF(J13<>"Elegível","",COUNTIFS($B$2:$B$101,B13,$J$2:$J$101,"Elegível",$E$2:$E$101,"<"&E13)+COUNTIFS($B$2:$B$101,B13,$J$2:$J$101,"Elegível",$E$2:$E$101,E13,$A$2:$A$101,"<="&A13)) | N13: =IF(M13="","",SUMIFS($L$2:$L$101,$B$2:$B$101,B13,$M$2:$M$101,"<"&M13)) | O13: =IF(M13="","",N13+L13) | P13: =IF(J13<>"Elegível","",COUNTIFS($J$2:$J$101,"Elegível",$E$2:$E$101,"<"&E13)+COUNTIFS($J$2:$J$101,"Elegível",$E$2:$E$101,E13,$A$2:$A$101,"<="&A13)) | Q13: =IF(OR(B13="",D13=""),"",B13&"|"&D13) | R13: =IF(M13="","",B13&"|"&TEXT(M13,"000")) | S13: =IF(COUNTA(B13:H13)=0,"",IF(OR(B13="",C13="",D13="",NOT(ISNUMBER(E13)),NOT(ISNUMBER(F13)),G13=""),"Completar campos",IF(F13<0,"Saldo negativo",IF(COUNTIFS($B$2:$B$101,B13,$D$2:$D$101,D13)>1,"Duplicidade SKU/lote",IF(AND(G13="Sim",H13=""),"Informar motivo do bloqueio","OK")))))
A14: 13 | I14: =IF(OR(B14="",D14="",E14=""),"",E14-Resumo!$B$4) | J14: =IF(COUNTA(B14:H14)=0,"",IF(OR(B14="",C14="",D14="",NOT(ISNUMBER(E14)),NOT(ISNUMBER(F14)),G14=""),"Incompleto",IF(F14<=0,"Sem saldo",IF(G14="Sim","Bloqueado",IF(E14<Resumo!$B$4,"Vencido","Elegível"))))) | K14: =IF(J14="","",IF(J14<>"Elegível",J14,IF(I14=0,"Vence hoje",IF(I14<=Resumo!$B$5,"Crítico",IF(I14<=Resumo!$B$6,"Atenção","Acima da atenção"))))) | L14: =IF(J14="Elegível",F14,0) | M14: =IF(J14<>"Elegível","",COUNTIFS($B$2:$B$101,B14,$J$2:$J$101,"Elegível",$E$2:$E$101,"<"&E14)+COUNTIFS($B$2:$B$101,B14,$J$2:$J$101,"Elegível",$E$2:$E$101,E14,$A$2:$A$101,"<="&A14)) | N14: =IF(M14="","",SUMIFS($L$2:$L$101,$B$2:$B$101,B14,$M$2:$M$101,"<"&M14)) | O14: =IF(M14="","",N14+L14) | P14: =IF(J14<>"Elegível","",COUNTIFS($J$2:$J$101,"Elegível",$E$2:$E$101,"<"&E14)+COUNTIFS($J$2:$J$101,"Elegível",$E$2:$E$101,E14,$A$2:$A$101,"<="&A14)) | Q14: =IF(OR(B14="",D14=""),"",B14&"|"&D14) | R14: =IF(M14="","",B14&"|"&TEXT(M14,"000")) | S14: =IF(COUNTA(B14:H14)=0,"",IF(OR(B14="",C14="",D14="",NOT(ISNUMBER(E14)),NOT(ISNUMBER(F14)),G14=""),"Completar campos",IF(F14<0,"Saldo negativo",IF(COUNTIFS($B$2:$B$101,B14,$D$2:$D$101,D14)>1,"Duplicidade SKU/lote",IF(AND(G14="Sim",H14=""),"Informar motivo do bloqueio","OK")))))
A15: 14 | I15: =IF(OR(B15="",D15="",E15=""),"",E15-Resumo!$B$4) | J15: =IF(COUNTA(B15:H15)=0,"",IF(OR(B15="",C15="",D15="",NOT(ISNUMBER(E15)),NOT(ISNUMBER(F15)),G15=""),"Incompleto",IF(F15<=0,"Sem saldo",IF(G15="Sim","Bloqueado",IF(E15<Resumo!$B$4,"Vencido","Elegível"))))) | K15: =IF(J15="","",IF(J15<>"Elegível",J15,IF(I15=0,"Vence hoje",IF(I15<=Resumo!$B$5,"Crítico",IF(I15<=Resumo!$B$6,"Atenção","Acima da atenção"))))) | L15: =IF(J15="Elegível",F15,0) | M15: =IF(J15<>"Elegível","",COUNTIFS($B$2:$B$101,B15,$J$2:$J$101,"Elegível",$E$2:$E$101,"<"&E15)+COUNTIFS($B$2:$B$101,B15,$J$2:$J$101,"Elegível",$E$2:$E$101,E15,$A$2:$A$101,"<="&A15)) | N15: =IF(M15="","",SUMIFS($L$2:$L$101,$B$2:$B$101,B15,$M$2:$M$101,"<"&M15)) | O15: =IF(M15="","",N15+L15) | P15: =IF(J15<>"Elegível","",COUNTIFS($J$2:$J$101,"Elegível",$E$2:$E$101,"<"&E15)+COUNTIFS($J$2:$J$101,"Elegível",$E$2:$E$101,E15,$A$2:$A$101,"<="&A15)) | Q15: =IF(OR(B15="",D15=""),"",B15&"|"&D15) | R15: =IF(M15="","",B15&"|"&TEXT(M15,"000")) | S15: =IF(COUNTA(B15:H15)=0,"",IF(OR(B15="",C15="",D15="",NOT(ISNUMBER(E15)),NOT(ISNUMBER(F15)),G15=""),"Completar campos",IF(F15<0,"Saldo negativo",IF(COUNTIFS($B$2:$B$101,B15,$D$2:$D$101,D15)>1,"Duplicidade SKU/lote",IF(AND(G15="Sim",H15=""),"Informar motivo do bloqueio","OK")))))
A16: 15 | I16: =IF(OR(B16="",D16="",E16=""),"",E16-Resumo!$B$4) | J16: =IF(COUNTA(B16:H16)=0,"",IF(OR(B16="",C16="",D16="",NOT(ISNUMBER(E16)),NOT(ISNUMBER(F16)),G16=""),"Incompleto",IF(F16<=0,"Sem saldo",IF(G16="Sim","Bloqueado",IF(E16<Resumo!$B$4,"Vencido","Elegível"))))) | K16: =IF(J16="","",IF(J16<>"Elegível",J16,IF(I16=0,"Vence hoje",IF(I16<=Resumo!$B$5,"Crítico",IF(I16<=Resumo!$B$6,"Atenção","Acima da atenção"))))) | L16: =IF(J16="Elegível",F16,0) | M16: =IF(J16<>"Elegível","",COUNTIFS($B$2:$B$101,B16,$J$2:$J$101,"Elegível",$E$2:$E$101,"<"&E16)+COUNTIFS($B$2:$B$101,B16,$J$2:$J$101,"Elegível",$E$2:$E$101,E16,$A$2:$A$101,"<="&A16)) | N16: =IF(M16="","",SUMIFS($L$2:$L$101,$B$2:$B$101,B16,$M$2:$M$101,"<"&M16)) | O16: =IF(M16="","",N16+L16) | P16: =IF(J16<>"Elegível","",COUNTIFS($J$2:$J$101,"Elegível",$E$2:$E$101,"<"&E16)+COUNTIFS($J$2:$J$101,"Elegível",$E$2:$E$101,E16,$A$2:$A$101,"<="&A16)) | Q16: =IF(OR(B16="",D16=""),"",B16&"|"&D16) | R16: =IF(M16="","",B16&"|"&TEXT(M16,"000")) | S16: =IF(COUNTA(B16:H16)=0,"",IF(OR(B16="",C16="",D16="",NOT(ISNUMBER(E16)),NOT(ISNUMBER(F16)),G16=""),"Completar campos",IF(F16<0,"Saldo negativo",IF(COUNTIFS($B$2:$B$101,B16,$D$2:$D$101,D16)>1,"Duplicidade SKU/lote",IF(AND(G16="Sim",H16=""),"Informar motivo do bloqueio","OK")))))
A17: 16 | I17: =IF(OR(B17="",D17="",E17=""),"",E17-Resumo!$B$4) | J17: =IF(COUNTA(B17:H17)=0,"",IF(OR(B17="",C17="",D17="",NOT(ISNUMBER(E17)),NOT(ISNUMBER(F17)),G17=""),"Incompleto",IF(F17<=0,"Sem saldo",IF(G17="Sim","Bloqueado",IF(E17<Resumo!$B$4,"Vencido","Elegível"))))) | K17: =IF(J17="","",IF(J17<>"Elegível",J17,IF(I17=0,"Vence hoje",IF(I17<=Resumo!$B$5,"Crítico",IF(I17<=Resumo!$B$6,"Atenção","Acima da atenção"))))) | L17: =IF(J17="Elegível",F17,0) | M17: =IF(J17<>"Elegível","",COUNTIFS($B$2:$B$101,B17,$J$2:$J$101,"Elegível",$E$2:$E$101,"<"&E17)+COUNTIFS($B$2:$B$101,B17,$J$2:$J$101,"Elegível",$E$2:$E$101,E17,$A$2:$A$101,"<="&A17)) | N17: =IF(M17="","",SUMIFS($L$2:$L$101,$B$2:$B$101,B17,$M$2:$M$101,"<"&M17)) | O17: =IF(M17="","",N17+L17) | P17: =IF(J17<>"Elegível","",COUNTIFS($J$2:$J$101,"Elegível",$E$2:$E$101,"<"&E17)+COUNTIFS($J$2:$J$101,"Elegível",$E$2:$E$101,E17,$A$2:$A$101,"<="&A17)) | Q17: =IF(OR(B17="",D17=""),"",B17&"|"&D17) | R17: =IF(M17="","",B17&"|"&TEXT(M17,"000")) | S17: =IF(COUNTA(B17:H17)=0,"",IF(OR(B17="",C17="",D17="",NOT(ISNUMBER(E17)),NOT(ISNUMBER(F17)),G17=""),"Completar campos",IF(F17<0,"Saldo negativo",IF(COUNTIFS($B$2:$B$101,B17,$D$2:$D$101,D17)>1,"Duplicidade SKU/lote",IF(AND(G17="Sim",H17=""),"Informar motivo do bloqueio","OK")))))
A18: 17 | I18: =IF(OR(B18="",D18="",E18=""),"",E18-Resumo!$B$4) | J18: =IF(COUNTA(B18:H18)=0,"",IF(OR(B18="",C18="",D18="",NOT(ISNUMBER(E18)),NOT(ISNUMBER(F18)),G18=""),"Incompleto",IF(F18<=0,"Sem saldo",IF(G18="Sim","Bloqueado",IF(E18<Resumo!$B$4,"Vencido","Elegível"))))) | K18: =IF(J18="","",IF(J18<>"Elegível",J18,IF(I18=0,"Vence hoje",IF(I18<=Resumo!$B$5,"Crítico",IF(I18<=Resumo!$B$6,"Atenção","Acima da atenção"))))) | L18: =IF(J18="Elegível",F18,0) | M18: =IF(J18<>"Elegível","",COUNTIFS($B$2:$B$101,B18,$J$2:$J$101,"Elegível",$E$2:$E$101,"<"&E18)+COUNTIFS($B$2:$B$101,B18,$J$2:$J$101,"Elegível",$E$2:$E$101,E18,$A$2:$A$101,"<="&A18)) | N18: =IF(M18="","",SUMIFS($L$2:$L$101,$B$2:$B$101,B18,$M$2:$M$101,"<"&M18)) | O18: =IF(M18="","",N18+L18) | P18: =IF(J18<>"Elegível","",COUNTIFS($J$2:$J$101,"Elegível",$E$2:$E$101,"<"&E18)+COUNTIFS($J$2:$J$101,"Elegível",$E$2:$E$101,E18,$A$2:$A$101,"<="&A18)) | Q18: =IF(OR(B18="",D18=""),"",B18&"|"&D18) | R18: =IF(M18="","",B18&"|"&TEXT(M18,"000")) | S18: =IF(COUNTA(B18:H18)=0,"",IF(OR(B18="",C18="",D18="",NOT(ISNUMBER(E18)),NOT(ISNUMBER(F18)),G18=""),"Completar campos",IF(F18<0,"Saldo negativo",IF(COUNTIFS($B$2:$B$101,B18,$D$2:$D$101,D18)>1,"Duplicidade SKU/lote",IF(AND(G18="Sim",H18=""),"Informar motivo do bloqueio","OK")))))
A19: 18 | I19: =IF(OR(B19="",D19="",E19=""),"",E19-Resumo!$B$4) | J19: =IF(COUNTA(B19:H19)=0,"",IF(OR(B19="",C19="",D19="",NOT(ISNUMBER(E19)),NOT(ISNUMBER(F19)),G19=""),"Incompleto",IF(F19<=0,"Sem saldo",IF(G19="Sim","Bloqueado",IF(E19<Resumo!$B$4,"Vencido","Elegível"))))) | K19: =IF(J19="","",IF(J19<>"Elegível",J19,IF(I19=0,"Vence hoje",IF(I19<=Resumo!$B$5,"Crítico",IF(I19<=Resumo!$B$6,"Atenção","Acima da atenção"))))) | L19: =IF(J19="Elegível",F19,0) | M19: =IF(J19<>"Elegível","",COUNTIFS($B$2:$B$101,B19,$J$2:$J$101,"Elegível",$E$2:$E$101,"<"&E19)+COUNTIFS($B$2:$B$101,B19,$J$2:$J$101,"Elegível",$E$2:$E$101,E19,$A$2:$A$101,"<="&A19)) | N19: =IF(M19="","",SUMIFS($L$2:$L$101,$B$2:$B$101,B19,$M$2:$M$101,"<"&M19)) | O19: =IF(M19="","",N19+L19) | P19: =IF(J19<>"Elegível","",COUNTIFS($J$2:$J$101,"Elegível",$E$2:$E$101,"<"&E19)+COUNTIFS($J$2:$J$101,"Elegível",$E$2:$E$101,E19,$A$2:$A$101,"<="&A19)) | Q19: =IF(OR(B19="",D19=""),"",B19&"|"&D19) | R19: =IF(M19="","",B19&"|"&TEXT(M19,"000")) | S19: =IF(COUNTA(B19:H19)=0,"",IF(OR(B19="",C19="",D19="",NOT(ISNUMBER(E19)),NOT(ISNUMBER(F19)),G19=""),"Completar campos",IF(F19<0,"Saldo negativo",IF(COUNTIFS($B$2:$B$101,B19,$D$2:$D$101,D19)>1,"Duplicidade SKU/lote",IF(AND(G19="Sim",H19=""),"Informar motivo do bloqueio","OK")))))
... A101: 100 | I101: =IF(OR(B101="",D101="",E101=""),"",E101-Resumo!$B$4) | J101: =IF(COUNTA(B101:H101)=0,"",IF(OR(B101="",C101="",D101="",NOT(ISNUMBER(E101)),NOT(ISNUMBER(F101)),G101=""),"Incompleto",IF(F101<=0,"Sem saldo",IF(G101="Sim","Bloqueado",IF(E101<Resumo!$B$4,"Vencido","Elegível"))))) | K101: =IF(J101="","",IF(J101<>"Elegível",J101,IF(I101=0,"Vence hoje",IF(I101<=Resumo!$B$5,"Crítico",IF(I101<=Resumo!$B$6,"Atenção","Acima da atenção"))))) | L101: =IF(J101="Elegível",F101,0) | M101: =IF(J101<>"Elegível","",COUNTIFS($B$2:$B$101,B101,$J$2:$J$101,"Elegível",$E$2:$E$101,"<"&E101)+COUNTIFS($B$2:$B$101,B101,$J$2:$J$101,"Elegível",$E$2:$E$101,E101,$A$2:$A$101,"<="&A101)) | N101: =IF(M101="","",SUMIFS($L$2:$L$101,$B$2:$B$101,B101,$M$2:$M$101,"<"&M101)) | O101: =IF(M101="","",N101+L101) | P101: =IF(J101<>"Elegível","",COUNTIFS($J$2:$J$101,"Elegível",$E$2:$E$101,"<"&E101)+COUNTIFS($J$2:$J$101,"Elegível",$E$2:$E$101,E101,$A$2:$A$101,"<="&A101)) | Q101: =IF(OR(B101="",D101=""),"",B101&"|"&D101) | R101: =IF(M101="","",B101&"|"&TEXT(M101,"000")) | S101: =IF(COUNTA(B101:H101)=0,"",IF(OR(B101="",C101="",D101="",NOT(ISNUMBER(E101)),NOT(ISNUMBER(F101)),G101=""),"Completar campos",IF(F101<0,"Saldo negativo",IF(COUNTIFS($B$2:$B$101,B101,$D$2:$D$101,D101)>1,"Duplicidade SKU/lote",IF(AND(G101="Sim",H101=""),"Informar motivo do bloqueio","OK")))))

Sheet Pedidos
A1: ID da linha | B1: Pedido | C1: Data do pedido | D1: Prioridade | E1: SKU | F1: Quantidade solicitada | G1: Situação | H1: Primeiro lote usado | I1: Último lote usado | J1: Quantidade separada | K1: Quantidade de lotes usados | L1: Motivo da exceção | M1: Observação | N1: Demanda considerada | O1: Demanda anterior | P1: Saldo elegível do SKU | Q1: Quantidade atendível | R1: Ordem inicial auxiliar | S1: Lote inicial recomendado | T1: Quantidade no lote inicial | U1: Ordem final auxiliar | V1: Lote final previsto | W1: Quantidade no lote final | X1: Lotes necessários | Y1: Orientação de separação | Z1: Exceção FEFO | AA1: Conferência | AB1: Status do primeiro lote usado | AC1: Status do último lote usado
A2: 1 | B2: PED-FICT-1001 | C2: 46272 | D2: 1 | E2: CHA-001 | F2: 30 | G2: Pendente | N2: =IF(AND(B2<>"",E2<>"",ISNUMBER(F2),OR(G2="Pendente",G2="Separado")),F2,0) | O2: =IF(N2=0,"",SUMIFS($N$2:$N$101,$E$2:$E$101,E2,$D$2:$D$101,"<"&D2)) | P2: =IF(E2="","",SUMIFS(Lotes!$L$2:$L$101,Lotes!$B$2:$B$101,E2)) | Q2: =IF(N2=0,"",MAX(0,MIN(N2,P2-O2))) | R2: =IF(Q2<=0,"",IFERROR(AGGREGATE(15,6,Lotes!$M$2:$M$101/((Lotes!$B$2:$B$101=E2)*(Lotes!$J$2:$J$101="Elegível")*(Lotes!$O$2:$O$101>O2)),1),"")) | S2: =IF(R2="","",IFERROR(INDEX(Lotes!$D$2:$D$101,MATCH(E2&"|"&TEXT(R2,"000"),Lotes!$R$2:$R$101,0)),"")) | T2: =IF(S2="","",MIN(O2+Q2,SUMIFS(Lotes!$O$2:$O$101,Lotes!$R$2:$R$101,E2&"|"&TEXT(R2,"000")))-O2) | U2: =IF(Q2<=0,"",IFERROR(AGGREGATE(15,6,Lotes!$M$2:$M$101/((Lotes!$B$2:$B$101=E2)*(Lotes!$J$2:$J$101="Elegível")*(Lotes!$O$2:$O$101>=O2+Q2)),1),"")) | V2: =IF(U2="","",IFERROR(INDEX(Lotes!$D$2:$D$101,MATCH(E2&"|"&TEXT(U2,"000"),Lotes!$R$2:$R$101,0)),"")) | W2: =IF(V2="","",IF(U2=R2,Q2,O2+Q2-SUMIFS(Lotes!$N$2:$N$101,Lotes!$R$2:$R$101,E2&"|"&TEXT(U2,"000")))) | X2: =IF(N2=0,0,IF(Q2<=0,0,COUNTIFS(Lotes!$B$2:$B$101,E2,Lotes!$J$2:$J$101,"Elegível",Lotes!$O$2:$O$101,">"&O2,Lotes!$N$2:$N$101,"<"&(O2+Q2)))) | Y2: =IF(N2=0,"",IF(Q2=0,"Sem saldo elegível",IF(Q2<N2,"Atendimento parcial: "&TEXT(Q2,"0")&" de "&TEXT(N2,"0")&", iniciar no lote "&S2,IF(X2=1,"Separar "&TEXT(Q2,"0")&" do lote "&S2,"Iniciar no lote "&S2&" ("&TEXT(T2,"0")&") e seguir a fila FEFO até "&V2&" ("&TEXT(W2,"0")&")")))) | Z2: =IF(B2="","",IF(G2="Cancelado","Não se aplica",IF(G2="Pendente",IF(OR(H2<>"",I2<>"",J2<>"",K2<>""),"Dados de execução antes da conclusão","Aguardando separação"),IF(G2<>"Separado","",IF(OR(H2="",I2="",J2="",K2=""),"Execução incompleta",IF(OR(AB2<>"Elegível",AC2<>"Elegível"),"Lote usado não elegível",IF(J2<>F2,"Quantidade divergente",IF(H2<>S2,"Quebra FEFO: primeiro lote divergente",IF(OR(I2<>V2,K2<>X2),"Sequência de lotes divergente","Conforme FEFO"))))))))) | AA2: =IF(COUNTA(B2:M2)=0,"",IF(OR(B2="",NOT(ISNUMBER(C2)),D2="",E2="",NOT(ISNUMBER(F2)),G2=""),"Completar campos obrigatórios",IF(F2<=0,"Quantidade inválida",IF(COUNTIF($D$2:$D$101,D2)>1,"Prioridade duplicada",IF(COUNTIF(Lotes!$B$2:$B$101,E2)=0,"SKU sem cadastro de lote",IF(AND(G2="Separado",OR(H2="",I2="",J2="",K2="")),"Completar dados da separação",IF(AND(G2="Separado",Z2<>"Conforme FEFO",Z2<>"Não se aplica",OR(L2="",L2="Não se aplica")),"Informar motivo da exceção",IF(Q2<F2,"Revisar atendimento parcial/sem saldo","OK")))))))) | AB2: =IF(H2="","",IFERROR(INDEX(Lotes!$J$2:$J$101,MATCH(E2&"|"&H2,Lotes!$Q$2:$Q$101,0)),"Lote não cadastrado")) | AC2: =IF(I2="","",IFERROR(INDEX(Lotes!$J$2:$J$101,MATCH(E2&"|"&I2,Lotes!$Q$2:$Q$101,0)),"Lote não cadastrado"))
A3: 2 | B3: PED-FICT-1002 | C3: 46272 | D3: 2 | E3: SAB-002 | F3: 25 | G3: Separado | H3: SAB-C26 | I3: SAB-C26 | J3: 25 | K3: 1 | L3: Não se aplica | M3: Separação fictícia concluída | N3: =IF(AND(B3<>"",E3<>"",ISNUMBER(F3),OR(G3="Pendente",G3="Separado")),F3,0) | O3: =IF(N3=0,"",SUMIFS($N$2:$N$101,$E$2:$E$101,E3,$D$2:$D$101,"<"&D3)) | P3: =IF(E3="","",SUMIFS(Lotes!$L$2:$L$101,Lotes!$B$2:$B$101,E3)) | Q3: =IF(N3=0,"",MAX(0,MIN(N3,P3-O3))) | R3: =IF(Q3<=0,"",IFERROR(AGGREGATE(15,6,Lotes!$M$2:$M$101/((Lotes!$B$2:$B$101=E3)*(Lotes!$J$2:$J$101="Elegível")*(Lotes!$O$2:$O$101>O3)),1),"")) | S3: =IF(R3="","",IFERROR(INDEX(Lotes!$D$2:$D$101,MATCH(E3&"|"&TEXT(R3,"000"),Lotes!$R$2:$R$101,0)),"")) | T3: =IF(S3="","",MIN(O3+Q3,SUMIFS(Lotes!$O$2:$O$101,Lotes!$R$2:$R$101,E3&"|"&TEXT(R3,"000")))-O3) | U3: =IF(Q3<=0,"",IFERROR(AGGREGATE(15,6,Lotes!$M$2:$M$101/((Lotes!$B$2:$B$101=E3)*(Lotes!$J$2:$J$101="Elegível")*(Lotes!$O$2:$O$101>=O3+Q3)),1),"")) | V3: =IF(U3="","",IFERROR(INDEX(Lotes!$D$2:$D$101,MATCH(E3&"|"&TEXT(U3,"000"),Lotes!$R$2:$R$101,0)),"")) | W3: =IF(V3="","",IF(U3=R3,Q3,O3+Q3-SUMIFS(Lotes!$N$2:$N$101,Lotes!$R$2:$R$101,E3&"|"&TEXT(U3,"000")))) | X3: =IF(N3=0,0,IF(Q3<=0,0,COUNTIFS(Lotes!$B$2:$B$101,E3,Lotes!$J$2:$J$101,"Elegível",Lotes!$O$2:$O$101,">"&O3,Lotes!$N$2:$N$101,"<"&(O3+Q3)))) | Y3: =IF(N3=0,"",IF(Q3=0,"Sem saldo elegível",IF(Q3<N3,"Atendimento parcial: "&TEXT(Q3,"0")&" de "&TEXT(N3,"0")&", iniciar no lote "&S3,IF(X3=1,"Separar "&TEXT(Q3,"0")&" do lote "&S3,"Iniciar no lote "&S3&" ("&TEXT(T3,"0")&") e seguir a fila FEFO até "&V3&" ("&TEXT(W3,"0")&")")))) | Z3: =IF(B3="","",IF(G3="Cancelado","Não se aplica",IF(G3="Pendente",IF(OR(H3<>"",I3<>"",J3<>"",K3<>""),"Dados de execução antes da conclusão","Aguardando separação"),IF(G3<>"Separado","",IF(OR(H3="",I3="",J3="",K3=""),"Execução incompleta",IF(OR(AB3<>"Elegível",AC3<>"Elegível"),"Lote usado não elegível",IF(J3<>F3,"Quantidade divergente",IF(H3<>S3,"Quebra FEFO: primeiro lote divergente",IF(OR(I3<>V3,K3<>X3),"Sequência de lotes divergente","Conforme FEFO"))))))))) | AA3: =IF(COUNTA(B3:M3)=0,"",IF(OR(B3="",NOT(ISNUMBER(C3)),D3="",E3="",NOT(ISNUMBER(F3)),G3=""),"Completar campos obrigatórios",IF(F3<=0,"Quantidade inválida",IF(COUNTIF($D$2:$D$101,D3)>1,"Prioridade duplicada",IF(COUNTIF(Lotes!$B$2:$B$101,E3)=0,"SKU sem cadastro de lote",IF(AND(G3="Separado",OR(H3="",I3="",J3="",K3="")),"Completar dados da separação",IF(AND(G3="Separado",Z3<>"Conforme FEFO",Z3<>"Não se aplica",OR(L3="",L3="Não se aplica")),"Informar motivo da exceção",IF(Q3<F3,"Revisar atendimento parcial/sem saldo","OK")))))))) | AB3: =IF(H3="","",IFERROR(INDEX(Lotes!$J$2:$J$101,MATCH(E3&"|"&H3,Lotes!$Q$2:$Q$101,0)),"Lote não cadastrado")) | AC3: =IF(I3="","",IFERROR(INDEX(Lotes!$J$2:$J$101,MATCH(E3&"|"&I3,Lotes!$Q$2:$Q$101,0)),"Lote não cadastrado"))
A4: 3 | B4: PED-FICT-1003 | C4: 46272 | D4: 3 | E4: CRE-003 | F4: 12 | G4: Pendente | N4: =IF(AND(B4<>"",E4<>"",ISNUMBER(F4),OR(G4="Pendente",G4="Separado")),F4,0) | O4: =IF(N4=0,"",SUMIFS($N$2:$N$101,$E$2:$E$101,E4,$D$2:$D$101,"<"&D4)) | P4: =IF(E4="","",SUMIFS(Lotes!$L$2:$L$101,Lotes!$B$2:$B$101,E4)) | Q4: =IF(N4=0,"",MAX(0,MIN(N4,P4-O4))) | R4: =IF(Q4<=0,"",IFERROR(AGGREGATE(15,6,Lotes!$M$2:$M$101/((Lotes!$B$2:$B$101=E4)*(Lotes!$J$2:$J$101="Elegível")*(Lotes!$O$2:$O$101>O4)),1),"")) | S4: =IF(R4="","",IFERROR(INDEX(Lotes!$D$2:$D$101,MATCH(E4&"|"&TEXT(R4,"000"),Lotes!$R$2:$R$101,0)),"")) | T4: =IF(S4="","",MIN(O4+Q4,SUMIFS(Lotes!$O$2:$O$101,Lotes!$R$2:$R$101,E4&"|"&TEXT(R4,"000")))-O4) | U4: =IF(Q4<=0,"",IFERROR(AGGREGATE(15,6,Lotes!$M$2:$M$101/((Lotes!$B$2:$B$101=E4)*(Lotes!$J$2:$J$101="Elegível")*(Lotes!$O$2:$O$101>=O4+Q4)),1),"")) | V4: =IF(U4="","",IFERROR(INDEX(Lotes!$D$2:$D$101,MATCH(E4&"|"&TEXT(U4,"000"),Lotes!$R$2:$R$101,0)),"")) | W4: =IF(V4="","",IF(U4=R4,Q4,O4+Q4-SUMIFS(Lotes!$N$2:$N$101,Lotes!$R$2:$R$101,E4&"|"&TEXT(U4,"000")))) | X4: =IF(N4=0,0,IF(Q4<=0,0,COUNTIFS(Lotes!$B$2:$B$101,E4,Lotes!$J$2:$J$101,"Elegível",Lotes!$O$2:$O$101,">"&O4,Lotes!$N$2:$N$101,"<"&(O4+Q4)))) | Y4: =IF(N4=0,"",IF(Q4=0,"Sem saldo elegível",IF(Q4<N4,"Atendimento parcial: "&TEXT(Q4,"0")&" de "&TEXT(N4,"0")&", iniciar no lote "&S4,IF(X4=1,"Separar "&TEXT(Q4,"0")&" do lote "&S4,"Iniciar no lote "&S4&" ("&TEXT(T4,"0")&") e seguir a fila FEFO até "&V4&" ("&TEXT(W4,"0")&")")))) | Z4: =IF(B4="","",IF(G4="Cancelado","Não se aplica",IF(G4="Pendente",IF(OR(H4<>"",I4<>"",J4<>"",K4<>""),"Dados de execução antes da conclusão","Aguardando separação"),IF(G4<>"Separado","",IF(OR(H4="",I4="",J4="",K4=""),"Execução incompleta",IF(OR(AB4<>"Elegível",AC4<>"Elegível"),"Lote usado não elegível",IF(J4<>F4,"Quantidade divergente",IF(H4<>S4,"Quebra FEFO: primeiro lote divergente",IF(OR(I4<>V4,K4<>X4),"Sequência de lotes divergente","Conforme FEFO"))))))))) | AA4: =IF(COUNTA(B4:M4)=0,"",IF(OR(B4="",NOT(ISNUMBER(C4)),D4="",E4="",NOT(ISNUMBER(F4)),G4=""),"Completar campos obrigatórios",IF(F4<=0,"Quantidade inválida",IF(COUNTIF($D$2:$D$101,D4)>1,"Prioridade duplicada",IF(COUNTIF(Lotes!$B$2:$B$101,E4)=0,"SKU sem cadastro de lote",IF(AND(G4="Separado",OR(H4="",I4="",J4="",K4="")),"Completar dados da separação",IF(AND(G4="Separado",Z4<>"Conforme FEFO",Z4<>"Não se aplica",OR(L4="",L4="Não se aplica")),"Informar motivo da exceção",IF(Q4<F4,"Revisar atendimento parcial/sem saldo","OK")))))))) | AB4: =IF(H4="","",IFERROR(INDEX(Lotes!$J$2:$J$101,MATCH(E4&"|"&H4,Lotes!$Q$2:$Q$101,0)),"Lote não cadastrado")) | AC4: =IF(I4="","",IFERROR(INDEX(Lotes!$J$2:$J$101,MATCH(E4&"|"&I4,Lotes!$Q$2:$Q$101,0)),"Lote não cadastrado"))
A5: 4 | B5: PED-FICT-1004 | C5: 46272 | D5: 4 | E5: CHA-001 | F5: 10 | G5: Separado | H5: CHA-A26 | I5: CHA-A26 | J5: 10 | K5: 1 | L5: Divergência de saldo | M5: Lote alternativo usado no cenário fictício | N5: =IF(AND(B5<>"",E5<>"",ISNUMBER(F5),OR(G5="Pendente",G5="Separado")),F5,0) | O5: =IF(N5=0,"",SUMIFS($N$2:$N$101,$E$2:$E$101,E5,$D$2:$D$101,"<"&D5)) | P5: =IF(E5="","",SUMIFS(Lotes!$L$2:$L$101,Lotes!$B$2:$B$101,E5)) | Q5: =IF(N5=0,"",MAX(0,MIN(N5,P5-O5))) | R5: =IF(Q5<=0,"",IFERROR(AGGREGATE(15,6,Lotes!$M$2:$M$101/((Lotes!$B$2:$B$101=E5)*(Lotes!$J$2:$J$101="Elegível")*(Lotes!$O$2:$O$101>O5)),1),"")) | S5: =IF(R5="","",IFERROR(INDEX(Lotes!$D$2:$D$101,MATCH(E5&"|"&TEXT(R5,"000"),Lotes!$R$2:$R$101,0)),"")) | T5: =IF(S5="","",MIN(O5+Q5,SUMIFS(Lotes!$O$2:$O$101,Lotes!$R$2:$R$101,E5&"|"&TEXT(R5,"000")))-O5) | U5: =IF(Q5<=0,"",IFERROR(AGGREGATE(15,6,Lotes!$M$2:$M$101/((Lotes!$B$2:$B$101=E5)*(Lotes!$J$2:$J$101="Elegível")*(Lotes!$O$2:$O$101>=O5+Q5)),1),"")) | V5: =IF(U5="","",IFERROR(INDEX(Lotes!$D$2:$D$101,MATCH(E5&"|"&TEXT(U5,"000"),Lotes!$R$2:$R$101,0)),"")) | W5: =IF(V5="","",IF(U5=R5,Q5,O5+Q5-SUMIFS(Lotes!$N$2:$N$101,Lotes!$R$2:$R$101,E5&"|"&TEXT(U5,"000")))) | X5: =IF(N5=0,0,IF(Q5<=0,0,COUNTIFS(Lotes!$B$2:$B$101,E5,Lotes!$J$2:$J$101,"Elegível",Lotes!$O$2:$O$101,">"&O5,Lotes!$N$2:$N$101,"<"&(O5+Q5)))) | Y5: =IF(N5=0,"",IF(Q5=0,"Sem saldo elegível",IF(Q5<N5,"Atendimento parcial: "&TEXT(Q5,"0")&" de "&TEXT(N5,"0")&", iniciar no lote "&S5,IF(X5=1,"Separar "&TEXT(Q5,"0")&" do lote "&S5,"Iniciar no lote "&S5&" ("&TEXT(T5,"0")&") e seguir a fila FEFO até "&V5&" ("&TEXT(W5,"0")&")")))) | Z5: =IF(B5="","",IF(G5="Cancelado","Não se aplica",IF(G5="Pendente",IF(OR(H5<>"",I5<>"",J5<>"",K5<>""),"Dados de execução antes da conclusão","Aguardando separação"),IF(G5<>"Separado","",IF(OR(H5="",I5="",J5="",K5=""),"Execução incompleta",IF(OR(AB5<>"Elegível",AC5<>"Elegível"),"Lote usado não elegível",IF(J5<>F5,"Quantidade divergente",IF(H5<>S5,"Quebra FEFO: primeiro lote divergente",IF(OR(I5<>V5,K5<>X5),"Sequência de lotes divergente","Conforme FEFO"))))))))) | AA5: =IF(COUNTA(B5:M5)=0,"",IF(OR(B5="",NOT(ISNUMBER(C5)),D5="",E5="",NOT(ISNUMBER(F5)),G5=""),"Completar campos obrigatórios",IF(F5<=0,"Quantidade inválida",IF(COUNTIF($D$2:$D$101,D5)>1,"Prioridade duplicada",IF(COUNTIF(Lotes!$B$2:$B$101,E5)=0,"SKU sem cadastro de lote",IF(AND(G5="Separado",OR(H5="",I5="",J5="",K5="")),"Completar dados da separação",IF(AND(G5="Separado",Z5<>"Conforme FEFO",Z5<>"Não se aplica",OR(L5="",L5="Não se aplica")),"Informar motivo da exceção",IF(Q5<F5,"Revisar atendimento parcial/sem saldo","OK")))))))) | AB5: =IF(H5="","",IFERROR(INDEX(Lotes!$J$2:$J$101,MATCH(E5&"|"&H5,Lotes!$Q$2:$Q$101,0)),"Lote não cadastrado")) | AC5: =IF(I5="","",IFERROR(INDEX(Lotes!$J$2:$J$101,MATCH(E5&"|"&I5,Lotes!$Q$2:$Q$101,0)),"Lote não cadastrado"))
A6: 5 | N6: =IF(AND(B6<>"",E6<>"",ISNUMBER(F6),OR(G6="Pendente",G6="Separado")),F6,0) | O6: =IF(N6=0,"",SUMIFS($N$2:$N$101,$E$2:$E$101,E6,$D$2:$D$101,"<"&D6)) | P6: =IF(E6="","",SUMIFS(Lotes!$L$2:$L$101,Lotes!$B$2:$B$101,E6)) | Q6: =IF(N6=0,"",MAX(0,MIN(N6,P6-O6))) | R6: =IF(Q6<=0,"",IFERROR(AGGREGATE(15,6,Lotes!$M$2:$M$101/((Lotes!$B$2:$B$101=E6)*(Lotes!$J$2:$J$101="Elegível")*(Lotes!$O$2:$O$101>O6)),1),"")) | S6: =IF(R6="","",IFERROR(INDEX(Lotes!$D$2:$D$101,MATCH(E6&"|"&TEXT(R6,"000"),Lotes!$R$2:$R$101,0)),"")) | T6: =IF(S6="","",MIN(O6+Q6,SUMIFS(Lotes!$O$2:$O$101,Lotes!$R$2:$R$101,E6&"|"&TEXT(R6,"000")))-O6) | U6: =IF(Q6<=0,"",IFERROR(AGGREGATE(15,6,Lotes!$M$2:$M$101/((Lotes!$B$2:$B$101=E6)*(Lotes!$J$2:$J$101="Elegível")*(Lotes!$O$2:$O$101>=O6+Q6)),1),"")) | V6: =IF(U6="","",IFERROR(INDEX(Lotes!$D$2:$D$101,MATCH(E6&"|"&TEXT(U6,"000"),Lotes!$R$2:$R$101,0)),"")) | W6: =IF(V6="","",IF(U6=R6,Q6,O6+Q6-SUMIFS(Lotes!$N$2:$N$101,Lotes!$R$2:$R$101,E6&"|"&TEXT(U6,"000")))) | X6: =IF(N6=0,0,IF(Q6<=0,0,COUNTIFS(Lotes!$B$2:$B$101,E6,Lotes!$J$2:$J$101,"Elegível",Lotes!$O$2:$O$101,">"&O6,Lotes!$N$2:$N$101,"<"&(O6+Q6)))) | Y6: =IF(N6=0,"",IF(Q6=0,"Sem saldo elegível",IF(Q6<N6,"Atendimento parcial: "&TEXT(Q6,"0")&" de "&TEXT(N6,"0")&", iniciar no lote "&S6,IF(X6=1,"Separar "&TEXT(Q6,"0")&" do lote "&S6,"Iniciar no lote "&S6&" ("&TEXT(T6,"0")&") e seguir a fila FEFO até "&V6&" ("&TEXT(W6,"0")&")")))) | Z6: =IF(B6="","",IF(G6="Cancelado","Não se aplica",IF(G6="Pendente",IF(OR(H6<>"",I6<>"",J6<>"",K6<>""),"Dados de execução antes da conclusão","Aguardando separação"),IF(G6<>"Separado","",IF(OR(H6="",I6="",J6="",K6=""),"Execução incompleta",IF(OR(AB6<>"Elegível",AC6<>"Elegível"),"Lote usado não elegível",IF(J6<>F6,"Quantidade divergente",IF(H6<>S6,"Quebra FEFO: primeiro lote divergente",IF(OR(I6<>V6,K6<>X6),"Sequência de lotes divergente","Conforme FEFO"))))))))) | AA6: =IF(COUNTA(B6:M6)=0,"",IF(OR(B6="",NOT(ISNUMBER(C6)),D6="",E6="",NOT(ISNUMBER(F6)),G6=""),"Completar campos obrigatórios",IF(F6<=0,"Quantidade inválida",IF(COUNTIF($D$2:$D$101,D6)>1,"Prioridade duplicada",IF(COUNTIF(Lotes!$B$2:$B$101,E6)=0,"SKU sem cadastro de lote",IF(AND(G6="Separado",OR(H6="",I6="",J6="",K6="")),"Completar dados da separação",IF(AND(G6="Separado",Z6<>"Conforme FEFO",Z6<>"Não se aplica",OR(L6="",L6="Não se aplica")),"Informar motivo da exceção",IF(Q6<F6,"Revisar atendimento parcial/sem saldo","OK")))))))) | AB6: =IF(H6="","",IFERROR(INDEX(Lotes!$J$2:$J$101,MATCH(E6&"|"&H6,Lotes!$Q$2:$Q$101,0)),"Lote não cadastrado")) | AC6: =IF(I6="","",IFERROR(INDEX(Lotes!$J$2:$J$101,MATCH(E6&"|"&I6,Lotes!$Q$2:$Q$101,0)),"Lote não cadastrado"))
A7: 6 | N7: =IF(AND(B7<>"",E7<>"",ISNUMBER(F7),OR(G7="Pendente",G7="Separado")),F7,0) | O7: =IF(N7=0,"",SUMIFS($N$2:$N$101,$E$2:$E$101,E7,$D$2:$D$101,"<"&D7)) | P7: =IF(E7="","",SUMIFS(Lotes!$L$2:$L$101,Lotes!$B$2:$B$101,E7)) | Q7: =IF(N7=0,"",MAX(0,MIN(N7,P7-O7))) | R7: =IF(Q7<=0,"",IFERROR(AGGREGATE(15,6,Lotes!$M$2:$M$101/((Lotes!$B$2:$B$101=E7)*(Lotes!$J$2:$J$101="Elegível")*(Lotes!$O$2:$O$101>O7)),1),"")) | S7: =IF(R7="","",IFERROR(INDEX(Lotes!$D$2:$D$101,MATCH(E7&"|"&TEXT(R7,"000"),Lotes!$R$2:$R$101,0)),"")) | T7: =IF(S7="","",MIN(O7+Q7,SUMIFS(Lotes!$O$2:$O$101,Lotes!$R$2:$R$101,E7&"|"&TEXT(R7,"000")))-O7) | U7: =IF(Q7<=0,"",IFERROR(AGGREGATE(15,6,Lotes!$M$2:$M$101/((Lotes!$B$2:$B$101=E7)*(Lotes!$J$2:$J$101="Elegível")*(Lotes!$O$2:$O$101>=O7+Q7)),1),"")) | V7: =IF(U7="","",IFERROR(INDEX(Lotes!$D$2:$D$101,MATCH(E7&"|"&TEXT(U7,"000"),Lotes!$R$2:$R$101,0)),"")) | W7: =IF(V7="","",IF(U7=R7,Q7,O7+Q7-SUMIFS(Lotes!$N$2:$N$101,Lotes!$R$2:$R$101,E7&"|"&TEXT(U7,"000")))) | X7: =IF(N7=0,0,IF(Q7<=0,0,COUNTIFS(Lotes!$B$2:$B$101,E7,Lotes!$J$2:$J$101,"Elegível",Lotes!$O$2:$O$101,">"&O7,Lotes!$N$2:$N$101,"<"&(O7+Q7)))) | Y7: =IF(N7=0,"",IF(Q7=0,"Sem saldo elegível",IF(Q7<N7,"Atendimento parcial: "&TEXT(Q7,"0")&" de "&TEXT(N7,"0")&", iniciar no lote "&S7,IF(X7=1,"Separar "&TEXT(Q7,"0")&" do lote "&S7,"Iniciar no lote "&S7&" ("&TEXT(T7,"0")&") e seguir a fila FEFO até "&V7&" ("&TEXT(W7,"0")&")")))) | Z7: =IF(B7="","",IF(G7="Cancelado","Não se aplica",IF(G7="Pendente",IF(OR(H7<>"",I7<>"",J7<>"",K7<>""),"Dados de execução antes da conclusão","Aguardando separação"),IF(G7<>"Separado","",IF(OR(H7="",I7="",J7="",K7=""),"Execução incompleta",IF(OR(AB7<>"Elegível",AC7<>"Elegível"),"Lote usado não elegível",IF(J7<>F7,"Quantidade divergente",IF(H7<>S7,"Quebra FEFO: primeiro lote divergente",IF(OR(I7<>V7,K7<>X7),"Sequência de lotes divergente","Conforme FEFO"))))))))) | AA7: =IF(COUNTA(B7:M7)=0,"",IF(OR(B7="",NOT(ISNUMBER(C7)),D7="",E7="",NOT(ISNUMBER(F7)),G7=""),"Completar campos obrigatórios",IF(F7<=0,"Quantidade inválida",IF(COUNTIF($D$2:$D$101,D7)>1,"Prioridade duplicada",IF(COUNTIF(Lotes!$B$2:$B$101,E7)=0,"SKU sem cadastro de lote",IF(AND(G7="Separado",OR(H7="",I7="",J7="",K7="")),"Completar dados da separação",IF(AND(G7="Separado",Z7<>"Conforme FEFO",Z7<>"Não se aplica",OR(L7="",L7="Não se aplica")),"Informar motivo da exceção",IF(Q7<F7,"Revisar atendimento parcial/sem saldo","OK")))))))) | AB7: =IF(H7="","",IFERROR(INDEX(Lotes!$J$2:$J$101,MATCH(E7&"|"&H7,Lotes!$Q$2:$Q$101,0)),"Lote não cadastrado")) | AC7: =IF(I7="","",IFERROR(INDEX(Lotes!$J$2:$J$101,MATCH(E7&"|"&I7,Lotes!$Q$2:$Q$101,0)),"Lote não cadastrado"))
A8: 7 | N8: =IF(AND(B8<>"",E8<>"",ISNUMBER(F8),OR(G8="Pendente",G8="Separado")),F8,0) | O8: =IF(N8=0,"",SUMIFS($N$2:$N$101,$E$2:$E$101,E8,$D$2:$D$101,"<"&D8)) | P8: =IF(E8="","",SUMIFS(Lotes!$L$2:$L$101,Lotes!$B$2:$B$101,E8)) | Q8: =IF(N8=0,"",MAX(0,MIN(N8,P8-O8))) | R8: =IF(Q8<=0,"",IFERROR(AGGREGATE(15,6,Lotes!$M$2:$M$101/((Lotes!$B$2:$B$101=E8)*(Lotes!$J$2:$J$101="Elegível")*(Lotes!$O$2:$O$101>O8)),1),"")) | S8: =IF(R8="","",IFERROR(INDEX(Lotes!$D$2:$D$101,MATCH(E8&"|"&TEXT(R8,"000"),Lotes!$R$2:$R$101,0)),"")) | T8: =IF(S8="","",MIN(O8+Q8,SUMIFS(Lotes!$O$2:$O$101,Lotes!$R$2:$R$101,E8&"|"&TEXT(R8,"000")))-O8) | U8: =IF(Q8<=0,"",IFERROR(AGGREGATE(15,6,Lotes!$M$2:$M$101/((Lotes!$B$2:$B$101=E8)*(Lotes!$J$2:$J$101="Elegível")*(Lotes!$O$2:$O$101>=O8+Q8)),1),"")) | V8: =IF(U8="","",IFERROR(INDEX(Lotes!$D$2:$D$101,MATCH(E8&"|"&TEXT(U8,"000"),Lotes!$R$2:$R$101,0)),"")) | W8: =IF(V8="","",IF(U8=R8,Q8,O8+Q8-SUMIFS(Lotes!$N$2:$N$101,Lotes!$R$2:$R$101,E8&"|"&TEXT(U8,"000")))) | X8: =IF(N8=0,0,IF(Q8<=0,0,COUNTIFS(Lotes!$B$2:$B$101,E8,Lotes!$J$2:$J$101,"Elegível",Lotes!$O$2:$O$101,">"&O8,Lotes!$N$2:$N$101,"<"&(O8+Q8)))) | Y8: =IF(N8=0,"",IF(Q8=0,"Sem saldo elegível",IF(Q8<N8,"Atendimento parcial: "&TEXT(Q8,"0")&" de "&TEXT(N8,"0")&", iniciar no lote "&S8,IF(X8=1,"Separar "&TEXT(Q8,"0")&" do lote "&S8,"Iniciar no lote "&S8&" ("&TEXT(T8,"0")&") e seguir a fila FEFO até "&V8&" ("&TEXT(W8,"0")&")")))) | Z8: =IF(B8="","",IF(G8="Cancelado","Não se aplica",IF(G8="Pendente",IF(OR(H8<>"",I8<>"",J8<>"",K8<>""),"Dados de execução antes da conclusão","Aguardando separação"),IF(G8<>"Separado","",IF(OR(H8="",I8="",J8="",K8=""),"Execução incompleta",IF(OR(AB8<>"Elegível",AC8<>"Elegível"),"Lote usado não elegível",IF(J8<>F8,"Quantidade divergente",IF(H8<>S8,"Quebra FEFO: primeiro lote divergente",IF(OR(I8<>V8,K8<>X8),"Sequência de lotes divergente","Conforme FEFO"))))))))) | AA8: =IF(COUNTA(B8:M8)=0,"",IF(OR(B8="",NOT(ISNUMBER(C8)),D8="",E8="",NOT(ISNUMBER(F8)),G8=""),"Completar campos obrigatórios",IF(F8<=0,"Quantidade inválida",IF(COUNTIF($D$2:$D$101,D8)>1,"Prioridade duplicada",IF(COUNTIF(Lotes!$B$2:$B$101,E8)=0,"SKU sem cadastro de lote",IF(AND(G8="Separado",OR(H8="",I8="",J8="",K8="")),"Completar dados da separação",IF(AND(G8="Separado",Z8<>"Conforme FEFO",Z8<>"Não se aplica",OR(L8="",L8="Não se aplica")),"Informar motivo da exceção",IF(Q8<F8,"Revisar atendimento parcial/sem saldo","OK")))))))) | AB8: =IF(H8="","",IFERROR(INDEX(Lotes!$J$2:$J$101,MATCH(E8&"|"&H8,Lotes!$Q$2:$Q$101,0)),"Lote não cadastrado")) | AC8: =IF(I8="","",IFERROR(INDEX(Lotes!$J$2:$J$101,MATCH(E8&"|"&I8,Lotes!$Q$2:$Q$101,0)),"Lote não cadastrado"))
A9: 8 | N9: =IF(AND(B9<>"",E9<>"",ISNUMBER(F9),OR(G9="Pendente",G9="Separado")),F9,0) | O9: =IF(N9=0,"",SUMIFS($N$2:$N$101,$E$2:$E$101,E9,$D$2:$D$101,"<"&D9)) | P9: =IF(E9="","",SUMIFS(Lotes!$L$2:$L$101,Lotes!$B$2:$B$101,E9)) | Q9: =IF(N9=0,"",MAX(0,MIN(N9,P9-O9))) | R9: =IF(Q9<=0,"",IFERROR(AGGREGATE(15,6,Lotes!$M$2:$M$101/((Lotes!$B$2:$B$101=E9)*(Lotes!$J$2:$J$101="Elegível")*(Lotes!$O$2:$O$101>O9)),1),"")) | S9: =IF(R9="","",IFERROR(INDEX(Lotes!$D$2:$D$101,MATCH(E9&"|"&TEXT(R9,"000"),Lotes!$R$2:$R$101,0)),"")) | T9: =IF(S9="","",MIN(O9+Q9,SUMIFS(Lotes!$O$2:$O$101,Lotes!$R$2:$R$101,E9&"|"&TEXT(R9,"000")))-O9) | U9: =IF(Q9<=0,"",IFERROR(AGGREGATE(15,6,Lotes!$M$2:$M$101/((Lotes!$B$2:$B$101=E9)*(Lotes!$J$2:$J$101="Elegível")*(Lotes!$O$2:$O$101>=O9+Q9)),1),"")) | V9: =IF(U9="","",IFERROR(INDEX(Lotes!$D$2:$D$101,MATCH(E9&"|"&TEXT(U9,"000"),Lotes!$R$2:$R$101,0)),"")) | W9: =IF(V9="","",IF(U9=R9,Q9,O9+Q9-SUMIFS(Lotes!$N$2:$N$101,Lotes!$R$2:$R$101,E9&"|"&TEXT(U9,"000")))) | X9: =IF(N9=0,0,IF(Q9<=0,0,COUNTIFS(Lotes!$B$2:$B$101,E9,Lotes!$J$2:$J$101,"Elegível",Lotes!$O$2:$O$101,">"&O9,Lotes!$N$2:$N$101,"<"&(O9+Q9)))) | Y9: =IF(N9=0,"",IF(Q9=0,"Sem saldo elegível",IF(Q9<N9,"Atendimento parcial: "&TEXT(Q9,"0")&" de "&TEXT(N9,"0")&", iniciar no lote "&S9,IF(X9=1,"Separar "&TEXT(Q9,"0")&" do lote "&S9,"Iniciar no lote "&S9&" ("&TEXT(T9,"0")&") e seguir a fila FEFO até "&V9&" ("&TEXT(W9,"0")&")")))) | Z9: =IF(B9="","",IF(G9="Cancelado","Não se aplica",IF(G9="Pendente",IF(OR(H9<>"",I9<>"",J9<>"",K9<>""),"Dados de execução antes da conclusão","Aguardando separação"),IF(G9<>"Separado","",IF(OR(H9="",I9="",J9="",K9=""),"Execução incompleta",IF(OR(AB9<>"Elegível",AC9<>"Elegível"),"Lote usado não elegível",IF(J9<>F9,"Quantidade divergente",IF(H9<>S9,"Quebra FEFO: primeiro lote divergente",IF(OR(I9<>V9,K9<>X9),"Sequência de lotes divergente","Conforme FEFO"))))))))) | AA9: =IF(COUNTA(B9:M9)=0,"",IF(OR(B9="",NOT(ISNUMBER(C9)),D9="",E9="",NOT(ISNUMBER(F9)),G9=""),"Completar campos obrigatórios",IF(F9<=0,"Quantidade inválida",IF(COUNTIF($D$2:$D$101,D9)>1,"Prioridade duplicada",IF(COUNTIF(Lotes!$B$2:$B$101,E9)=0,"SKU sem cadastro de lote",IF(AND(G9="Separado",OR(H9="",I9="",J9="",K9="")),"Completar dados da separação",IF(AND(G9="Separado",Z9<>"Conforme FEFO",Z9<>"Não se aplica",OR(L9="",L9="Não se aplica")),"Informar motivo da exceção",IF(Q9<F9,"Revisar atendimento parcial/sem saldo","OK")))))))) | AB9: =IF(H9="","",IFERROR(INDEX(Lotes!$J$2:$J$101,MATCH(E9&"|"&H9,Lotes!$Q$2:$Q$101,0)),"Lote não cadastrado")) | AC9: =IF(I9="","",IFERROR(INDEX(Lotes!$J$2:$J$101,MATCH(E9&"|"&I9,Lotes!$Q$2:$Q$101,0)),"Lote não cadastrado"))
A10: 9 | N10: =IF(AND(B10<>"",E10<>"",ISNUMBER(F10),OR(G10="Pendente",G10="Separado")),F10,0) | O10: =IF(N10=0,"",SUMIFS($N$2:$N$101,$E$2:$E$101,E10,$D$2:$D$101,"<"&D10)) | P10: =IF(E10="","",SUMIFS(Lotes!$L$2:$L$101,Lotes!$B$2:$B$101,E10)) | Q10: =IF(N10=0,"",MAX(0,MIN(N10,P10-O10))) | R10: =IF(Q10<=0,"",IFERROR(AGGREGATE(15,6,Lotes!$M$2:$M$101/((Lotes!$B$2:$B$101=E10)*(Lotes!$J$2:$J$101="Elegível")*(Lotes!$O$2:$O$101>O10)),1),"")) | S10: =IF(R10="","",IFERROR(INDEX(Lotes!$D$2:$D$101,MATCH(E10&"|"&TEXT(R10,"000"),Lotes!$R$2:$R$101,0)),"")) | T10: =IF(S10="","",MIN(O10+Q10,SUMIFS(Lotes!$O$2:$O$101,Lotes!$R$2:$R$101,E10&"|"&TEXT(R10,"000")))-O10) | U10: =IF(Q10<=0,"",IFERROR(AGGREGATE(15,6,Lotes!$M$2:$M$101/((Lotes!$B$2:$B$101=E10)*(Lotes!$J$2:$J$101="Elegível")*(Lotes!$O$2:$O$101>=O10+Q10)),1),"")) | V10: =IF(U10="","",IFERROR(INDEX(Lotes!$D$2:$D$101,MATCH(E10&"|"&TEXT(U10,"000"),Lotes!$R$2:$R$101,0)),"")) | W10: =IF(V10="","",IF(U10=R10,Q10,O10+Q10-SUMIFS(Lotes!$N$2:$N$101,Lotes!$R$2:$R$101,E10&"|"&TEXT(U10,"000")))) | X10: =IF(N10=0,0,IF(Q10<=0,0,COUNTIFS(Lotes!$B$2:$B$101,E10,Lotes!$J$2:$J$101,"Elegível",Lotes!$O$2:$O$101,">"&O10,Lotes!$N$2:$N$101,"<"&(O10+Q10)))) | Y10: =IF(N10=0,"",IF(Q10=0,"Sem saldo elegível",IF(Q10<N10,"Atendimento parcial: "&TEXT(Q10,"0")&" de "&TEXT(N10,"0")&", iniciar no lote "&S10,IF(X10=1,"Separar "&TEXT(Q10,"0")&" do lote "&S10,"Iniciar no lote "&S10&" ("&TEXT(T10,"0")&") e seguir a fila FEFO até "&V10&" ("&TEXT(W10,"0")&")")))) | Z10: =IF(B10="","",IF(G10="Cancelado","Não se aplica",IF(G10="Pendente",IF(OR(H10<>"",I10<>"",J10<>"",K10<>""),"Dados de execução antes da conclusão","Aguardando separação"),IF(G10<>"Separado","",IF(OR(H10="",I10="",J10="",K10=""),"Execução incompleta",IF(OR(AB10<>"Elegível",AC10<>"Elegível"),"Lote usado não elegível",IF(J10<>F10,"Quantidade divergente",IF(H10<>S10,"Quebra FEFO: primeiro lote divergente",IF(OR(I10<>V10,K10<>X10),"Sequência de lotes divergente","Conforme FEFO"))))))))) | AA10: =IF(COUNTA(B10:M10)=0,"",IF(OR(B10="",NOT(ISNUMBER(C10)),D10="",E10="",NOT(ISNUMBER(F10)),G10=""),"Completar campos obrigatórios",IF(F10<=0,"Quantidade inválida",IF(COUNTIF($D$2:$D$101,D10)>1,"Prioridade duplicada",IF(COUNTIF(Lotes!$B$2:$B$101,E10)=0,"SKU sem cadastro de lote",IF(AND(G10="Separado",OR(H10="",I10="",J10="",K10="")),"Completar dados da separação",IF(AND(G10="Separado",Z10<>"Conforme FEFO",Z10<>"Não se aplica",OR(L10="",L10="Não se aplica")),"Informar motivo da exceção",IF(Q10<F10,"Revisar atendimento parcial/sem saldo","OK")))))))) | AB10: =IF(H10="","",IFERROR(INDEX(Lotes!$J$2:$J$101,MATCH(E10&"|"&H10,Lotes!$Q$2:$Q$101,0)),"Lote não cadastrado")) | AC10: =IF(I10="","",IFERROR(INDEX(Lotes!$J$2:$J$101,MATCH(E10&"|"&I10,Lotes!$Q$2:$Q$101,0)),"Lote não cadastrado"))
A11: 10 | N11: =IF(AND(B11<>"",E11<>"",ISNUMBER(F11),OR(G11="Pendente",G11="Separado")),F11,0) | O11: =IF(N11=0,"",SUMIFS($N$2:$N$101,$E$2:$E$101,E11,$D$2:$D$101,"<"&D11)) | P11: =IF(E11="","",SUMIFS(Lotes!$L$2:$L$101,Lotes!$B$2:$B$101,E11)) | Q11: =IF(N11=0,"",MAX(0,MIN(N11,P11-O11))) | R11: =IF(Q11<=0,"",IFERROR(AGGREGATE(15,6,Lotes!$M$2:$M$101/((Lotes!$B$2:$B$101=E11)*(Lotes!$J$2:$J$101="Elegível")*(Lotes!$O$2:$O$101>O11)),1),"")) | S11: =IF(R11="","",IFERROR(INDEX(Lotes!$D$2:$D$101,MATCH(E11&"|"&TEXT(R11,"000"),Lotes!$R$2:$R$101,0)),"")) | T11: =IF(S11="","",MIN(O11+Q11,SUMIFS(Lotes!$O$2:$O$101,Lotes!$R$2:$R$101,E11&"|"&TEXT(R11,"000")))-O11) | U11: =IF(Q11<=0,"",IFERROR(AGGREGATE(15,6,Lotes!$M$2:$M$101/((Lotes!$B$2:$B$101=E11)*(Lotes!$J$2:$J$101="Elegível")*(Lotes!$O$2:$O$101>=O11+Q11)),1),"")) | V11: =IF(U11="","",IFERROR(INDEX(Lotes!$D$2:$D$101,MATCH(E11&"|"&TEXT(U11,"000"),Lotes!$R$2:$R$101,0)),"")) | W11: =IF(V11="","",IF(U11=R11,Q11,O11+Q11-SUMIFS(Lotes!$N$2:$N$101,Lotes!$R$2:$R$101,E11&"|"&TEXT(U11,"000")))) | X11: =IF(N11=0,0,IF(Q11<=0,0,COUNTIFS(Lotes!$B$2:$B$101,E11,Lotes!$J$2:$J$101,"Elegível",Lotes!$O$2:$O$101,">"&O11,Lotes!$N$2:$N$101,"<"&(O11+Q11)))) | Y11: =IF(N11=0,"",IF(Q11=0,"Sem saldo elegível",IF(Q11<N11,"Atendimento parcial: "&TEXT(Q11,"0")&" de "&TEXT(N11,"0")&", iniciar no lote "&S11,IF(X11=1,"Separar "&TEXT(Q11,"0")&" do lote "&S11,"Iniciar no lote "&S11&" ("&TEXT(T11,"0")&") e seguir a fila FEFO até "&V11&" ("&TEXT(W11,"0")&")")))) | Z11: =IF(B11="","",IF(G11="Cancelado","Não se aplica",IF(G11="Pendente",IF(OR(H11<>"",I11<>"",J11<>"",K11<>""),"Dados de execução antes da conclusão","Aguardando separação"),IF(G11<>"Separado","",IF(OR(H11="",I11="",J11="",K11=""),"Execução incompleta",IF(OR(AB11<>"Elegível",AC11<>"Elegível"),"Lote usado não elegível",IF(J11<>F11,"Quantidade divergente",IF(H11<>S11,"Quebra FEFO: primeiro lote divergente",IF(OR(I11<>V11,K11<>X11),"Sequência de lotes divergente","Conforme FEFO"))))))))) | AA11: =IF(COUNTA(B11:M11)=0,"",IF(OR(B11="",NOT(ISNUMBER(C11)),D11="",E11="",NOT(ISNUMBER(F11)),G11=""),"Completar campos obrigatórios",IF(F11<=0,"Quantidade inválida",IF(COUNTIF($D$2:$D$101,D11)>1,"Prioridade duplicada",IF(COUNTIF(Lotes!$B$2:$B$101,E11)=0,"SKU sem cadastro de lote",IF(AND(G11="Separado",OR(H11="",I11="",J11="",K11="")),"Completar dados da separação",IF(AND(G11="Separado",Z11<>"Conforme FEFO",Z11<>"Não se aplica",OR(L11="",L11="Não se aplica")),"Informar motivo da exceção",IF(Q11<F11,"Revisar atendimento parcial/sem saldo","OK")))))))) | AB11: =IF(H11="","",IFERROR(INDEX(Lotes!$J$2:$J$101,MATCH(E11&"|"&H11,Lotes!$Q$2:$Q$101,0)),"Lote não cadastrado")) | AC11: =IF(I11="","",IFERROR(INDEX(Lotes!$J$2:$J$101,MATCH(E11&"|"&I11,Lotes!$Q$2:$Q$101,0)),"Lote não cadastrado"))
A12: 11 | N12: =IF(AND(B12<>"",E12<>"",ISNUMBER(F12),OR(G12="Pendente",G12="Separado")),F12,0) | O12: =IF(N12=0,"",SUMIFS($N$2:$N$101,$E$2:$E$101,E12,$D$2:$D$101,"<"&D12)) | P12: =IF(E12="","",SUMIFS(Lotes!$L$2:$L$101,Lotes!$B$2:$B$101,E12)) | Q12: =IF(N12=0,"",MAX(0,MIN(N12,P12-O12))) | R12: =IF(Q12<=0,"",IFERROR(AGGREGATE(15,6,Lotes!$M$2:$M$101/((Lotes!$B$2:$B$101=E12)*(Lotes!$J$2:$J$101="Elegível")*(Lotes!$O$2:$O$101>O12)),1),"")) | S12: =IF(R12="","",IFERROR(INDEX(Lotes!$D$2:$D$101,MATCH(E12&"|"&TEXT(R12,"000"),Lotes!$R$2:$R$101,0)),"")) | T12: =IF(S12="","",MIN(O12+Q12,SUMIFS(Lotes!$O$2:$O$101,Lotes!$R$2:$R$101,E12&"|"&TEXT(R12,"000")))-O12) | U12: =IF(Q12<=0,"",IFERROR(AGGREGATE(15,6,Lotes!$M$2:$M$101/((Lotes!$B$2:$B$101=E12)*(Lotes!$J$2:$J$101="Elegível")*(Lotes!$O$2:$O$101>=O12+Q12)),1),"")) | V12: =IF(U12="","",IFERROR(INDEX(Lotes!$D$2:$D$101,MATCH(E12&"|"&TEXT(U12,"000"),Lotes!$R$2:$R$101,0)),"")) | W12: =IF(V12="","",IF(U12=R12,Q12,O12+Q12-SUMIFS(Lotes!$N$2:$N$101,Lotes!$R$2:$R$101,E12&"|"&TEXT(U12,"000")))) | X12: =IF(N12=0,0,IF(Q12<=0,0,COUNTIFS(Lotes!$B$2:$B$101,E12,Lotes!$J$2:$J$101,"Elegível",Lotes!$O$2:$O$101,">"&O12,Lotes!$N$2:$N$101,"<"&(O12+Q12)))) | Y12: =IF(N12=0,"",IF(Q12=0,"Sem saldo elegível",IF(Q12<N12,"Atendimento parcial: "&TEXT(Q12,"0")&" de "&TEXT(N12,"0")&", iniciar no lote "&S12,IF(X12=1,"Separar "&TEXT(Q12,"0")&" do lote "&S12,"Iniciar no lote "&S12&" ("&TEXT(T12,"0")&") e seguir a fila FEFO até "&V12&" ("&TEXT(W12,"0")&")")))) | Z12: =IF(B12="","",IF(G12="Cancelado","Não se aplica",IF(G12="Pendente",IF(OR(H12<>"",I12<>"",J12<>"",K12<>""),"Dados de execução antes da conclusão","Aguardando separação"),IF(G12<>"Separado","",IF(OR(H12="",I12="",J12="",K12=""),"Execução incompleta",IF(OR(AB12<>"Elegível",AC12<>"Elegível"),"Lote usado não elegível",IF(J12<>F12,"Quantidade divergente",IF(H12<>S12,"Quebra FEFO: primeiro lote divergente",IF(OR(I12<>V12,K12<>X12),"Sequência de lotes divergente","Conforme FEFO"))))))))) | AA12: =IF(COUNTA(B12:M12)=0,"",IF(OR(B12="",NOT(ISNUMBER(C12)),D12="",E12="",NOT(ISNUMBER(F12)),G12=""),"Completar campos obrigatórios",IF(F12<=0,"Quantidade inválida",IF(COUNTIF($D$2:$D$101,D12)>1,"Prioridade duplicada",IF(COUNTIF(Lotes!$B$2:$B$101,E12)=0,"SKU sem cadastro de lote",IF(AND(G12="Separado",OR(H12="",I12="",J12="",K12="")),"Completar dados da separação",IF(AND(G12="Separado",Z12<>"Conforme FEFO",Z12<>"Não se aplica",OR(L12="",L12="Não se aplica")),"Informar motivo da exceção",IF(Q12<F12,"Revisar atendimento parcial/sem saldo","OK")))))))) | AB12: =IF(H12="","",IFERROR(INDEX(Lotes!$J$2:$J$101,MATCH(E12&"|"&H12,Lotes!$Q$2:$Q$101,0)),"Lote não cadastrado")) | AC12: =IF(I12="","",IFERROR(INDEX(Lotes!$J$2:$J$101,MATCH(E12&"|"&I12,Lotes!$Q$2:$Q$101,0)),"Lote não cadastrado"))
