Workbook

Sheet Resumo
A1: Painel de fichas técnicas de produto
M2: Status | N2: Quantidade
A3: Fichas cadastradas | B3: =COUNTIF('Fichas de produto'!$A$2:$A$101,"<>") | C3: SKUs únicos | D3: =IFERROR(SUMPRODUCT(('Fichas de produto'!$B$2:$B$101<>"")/COUNTIF('Fichas de produto'!$B$2:$B$101,'Fichas de produto'!$B$2:$B$101&"")),0) | E3: Versões aprovadas | F3: =COUNTIF('Fichas de produto'!$V$2:$V$101,"Sim") | G3: Fichas incompletas | H3: =COUNTIFS('Fichas de produto'!$A$2:$A$101,"<>",'Fichas de produto'!$T$2:$T$101,">=0",'Fichas de produto'!$T$2:$T$101,"<1") | I3: Alertas de versão | J3: =COUNTIFS('Fichas de produto'!$W$2:$W$101,"<>",'Fichas de produto'!$W$2:$W$101,"<>OK") | M3: Rascunho | N3: =COUNTIF('Fichas de produto'!$F$2:$F$101,M3)
M4: Em revisão | N4: =COUNTIF('Fichas de produto'!$F$2:$F$101,M4)
M5: Aprovada | N5: =COUNTIF('Fichas de produto'!$F$2:$F$101,M5)
A6: Ficha técnica comparativa — versões aprovadas | M6: Obsoleta | N6: =COUNTIF('Fichas de produto'!$F$2:$F$101,M6)
A8: SKU A | B8: FIC-LUM-002 | C8: Versão aprovada | D8: =IF(B8="","",IF(COUNTIFS('Fichas de produto'!$B$2:$B$101,B8,'Fichas de produto'!$V$2:$V$101,"Sim")=0,"",_xlfn.MAXIFS('Fichas de produto'!$C$2:$C$101,'Fichas de produto'!$B$2:$B$101,B8,'Fichas de produto'!$V$2:$V$101,"Sim"))) | F8: SKU B | G8: FIC-LUM-008 | H8: Versão aprovada | I8: =IF(G8="","",IF(COUNTIFS('Fichas de produto'!$B$2:$B$101,G8,'Fichas de produto'!$V$2:$V$101,"Sim")=0,"",_xlfn.MAXIFS('Fichas de produto'!$C$2:$C$101,'Fichas de produto'!$B$2:$B$101,G8,'Fichas de produto'!$V$2:$V$101,"Sim")))
A9: Situação A | B9: =IF(B8="","Selecione um SKU",IF(COUNTIFS('Fichas de produto'!$B$2:$B$101,B8,'Fichas de produto'!$V$2:$V$101,"Sim")=0,"Sem versão aprovada e completa",IF(COUNTIFS('Fichas de produto'!$B$2:$B$101,B8,'Fichas de produto'!$V$2:$V$101,"Sim")>1,"Conflito: mais de uma aprovada, exibida a maior versão","Versão aprovada localizada"))) | F9: Situação B | G9: =IF(G8="","Selecione um SKU",IF(COUNTIFS('Fichas de produto'!$B$2:$B$101,G8,'Fichas de produto'!$V$2:$V$101,"Sim")=0,"Sem versão aprovada e completa",IF(COUNTIFS('Fichas de produto'!$B$2:$B$101,G8,'Fichas de produto'!$V$2:$V$101,"Sim")>1,"Conflito: mais de uma aprovada, exibida a maior versão","Versão aprovada localizada")))
A10: Aviso de comparação | B10: =IF(OR(B8="",G8="",D8="",I8=""),"",IF(AND(Apoio!$K$3="Sim",B14<>E14),"Atenção: categorias diferentes, compare com cautela.","Categorias compatíveis para comparação."))
A12: Campo técnico | B12: Produto A | C12: Unidade A | E12: Produto B | F12: Unidade B
A13: Nome do produto | B13: =IF($D$8="","",IFERROR(INDEX('Fichas de produto'!$D$2:$D$101,MATCH($B$8&"-V"&TEXT($D$8,"00"),'Fichas de produto'!$A$2:$A$101,0)),"")) | E13: =IF($I$8="","",IFERROR(INDEX('Fichas de produto'!$D$2:$D$101,MATCH($G$8&"-V"&TEXT($I$8,"00"),'Fichas de produto'!$A$2:$A$101,0)),""))
A14: Categoria | B14: =IF($D$8="","",IFERROR(INDEX('Fichas de produto'!$E$2:$E$101,MATCH($B$8&"-V"&TEXT($D$8,"00"),'Fichas de produto'!$A$2:$A$101,0)),"")) | E14: =IF($I$8="","",IFERROR(INDEX('Fichas de produto'!$E$2:$E$101,MATCH($G$8&"-V"&TEXT($I$8,"00"),'Fichas de produto'!$A$2:$A$101,0)),""))
A15: Status da versão | B15: =IF($D$8="","",IFERROR(INDEX('Fichas de produto'!$F$2:$F$101,MATCH($B$8&"-V"&TEXT($D$8,"00"),'Fichas de produto'!$A$2:$A$101,0)),"")) | E15: =IF($I$8="","",IFERROR(INDEX('Fichas de produto'!$F$2:$F$101,MATCH($G$8&"-V"&TEXT($I$8,"00"),'Fichas de produto'!$A$2:$A$101,0)),""))
A16: Data da versão | B16: =IF($D$8="","",IFERROR(INDEX('Fichas de produto'!$G$2:$G$101,MATCH($B$8&"-V"&TEXT($D$8,"00"),'Fichas de produto'!$A$2:$A$101,0)),"")) | E16: =IF($I$8="","",IFERROR(INDEX('Fichas de produto'!$G$2:$G$101,MATCH($G$8&"-V"&TEXT($I$8,"00"),'Fichas de produto'!$A$2:$A$101,0)),""))
A17: Data de aprovação | B17: =IF($D$8="","",IFERROR(INDEX('Fichas de produto'!$H$2:$H$101,MATCH($B$8&"-V"&TEXT($D$8,"00"),'Fichas de produto'!$A$2:$A$101,0)),"")) | E17: =IF($I$8="","",IFERROR(INDEX('Fichas de produto'!$H$2:$H$101,MATCH($G$8&"-V"&TEXT($I$8,"00"),'Fichas de produto'!$A$2:$A$101,0)),""))
A18: Área aprovadora | B18: =IF($D$8="","",IFERROR(INDEX('Fichas de produto'!$I$2:$I$101,MATCH($B$8&"-V"&TEXT($D$8,"00"),'Fichas de produto'!$A$2:$A$101,0)),"")) | E18: =IF($I$8="","",IFERROR(INDEX('Fichas de produto'!$I$2:$I$101,MATCH($G$8&"-V"&TEXT($I$8,"00"),'Fichas de produto'!$A$2:$A$101,0)),""))
A19: Material principal | B19: =IF($D$8="","",IFERROR(INDEX('Fichas de produto'!$J$2:$J$101,MATCH($B$8&"-V"&TEXT($D$8,"00"),'Fichas de produto'!$A$2:$A$101,0)),"")) | E19: =IF($I$8="","",IFERROR(INDEX('Fichas de produto'!$J$2:$J$101,MATCH($G$8&"-V"&TEXT($I$8,"00"),'Fichas de produto'!$A$2:$A$101,0)),""))
A20: Composição detalhada | B20: =IF($D$8="","",IFERROR(INDEX('Fichas de produto'!$K$2:$K$101,MATCH($B$8&"-V"&TEXT($D$8,"00"),'Fichas de produto'!$A$2:$A$101,0)),"")) | E20: =IF($I$8="","",IFERROR(INDEX('Fichas de produto'!$K$2:$K$101,MATCH($G$8&"-V"&TEXT($I$8,"00"),'Fichas de produto'!$A$2:$A$101,0)),""))
A21: Largura | B21: =IF($D$8="","",IFERROR(INDEX('Fichas de produto'!$L$2:$L$101,MATCH($B$8&"-V"&TEXT($D$8,"00"),'Fichas de produto'!$A$2:$A$101,0)),"")) | C21: cm | E21: =IF($I$8="","",IFERROR(INDEX('Fichas de produto'!$L$2:$L$101,MATCH($G$8&"-V"&TEXT($I$8,"00"),'Fichas de produto'!$A$2:$A$101,0)),"")) | F21: cm
A22: Altura | B22: =IF($D$8="","",IFERROR(INDEX('Fichas de produto'!$M$2:$M$101,MATCH($B$8&"-V"&TEXT($D$8,"00"),'Fichas de produto'!$A$2:$A$101,0)),"")) | C22: cm | E22: =IF($I$8="","",IFERROR(INDEX('Fichas de produto'!$M$2:$M$101,MATCH($G$8&"-V"&TEXT($I$8,"00"),'Fichas de produto'!$A$2:$A$101,0)),"")) | F22: cm
A23: Profundidade | B23: =IF($D$8="","",IFERROR(INDEX('Fichas de produto'!$N$2:$N$101,MATCH($B$8&"-V"&TEXT($D$8,"00"),'Fichas de produto'!$A$2:$A$101,0)),"")) | C23: cm | E23: =IF($I$8="","",IFERROR(INDEX('Fichas de produto'!$N$2:$N$101,MATCH($G$8&"-V"&TEXT($I$8,"00"),'Fichas de produto'!$A$2:$A$101,0)),"")) | F23: cm
A24: Peso líquido | B24: =IF($D$8="","",IFERROR(INDEX('Fichas de produto'!$O$2:$O$101,MATCH($B$8&"-V"&TEXT($D$8,"00"),'Fichas de produto'!$A$2:$A$101,0)),"")) | C24: kg | E24: =IF($I$8="","",IFERROR(INDEX('Fichas de produto'!$O$2:$O$101,MATCH($G$8&"-V"&TEXT($I$8,"00"),'Fichas de produto'!$A$2:$A$101,0)),"")) | F24: kg
A25: Garantia | B25: =IF($D$8="","",IFERROR(INDEX('Fichas de produto'!$P$2:$P$101,MATCH($B$8&"-V"&TEXT($D$8,"00"),'Fichas de produto'!$A$2:$A$101,0)),"")) | C25: meses | E25: =IF($I$8="","",IFERROR(INDEX('Fichas de produto'!$P$2:$P$101,MATCH($G$8&"-V"&TEXT($I$8,"00"),'Fichas de produto'!$A$2:$A$101,0)),"")) | F25: meses
A26: Cuidados de uso e conservação | B26: =IF($D$8="","",IFERROR(INDEX('Fichas de produto'!$Q$2:$Q$101,MATCH($B$8&"-V"&TEXT($D$8,"00"),'Fichas de produto'!$A$2:$A$101,0)),"")) | E26: =IF($I$8="","",IFERROR(INDEX('Fichas de produto'!$Q$2:$Q$101,MATCH($G$8&"-V"&TEXT($I$8,"00"),'Fichas de produto'!$A$2:$A$101,0)),""))
A27: Observações técnicas | B27: =IF($D$8="","",IFERROR(INDEX('Fichas de produto'!$R$2:$R$101,MATCH($B$8&"-V"&TEXT($D$8,"00"),'Fichas de produto'!$A$2:$A$101,0)),"")) | E27: =IF($I$8="","",IFERROR(INDEX('Fichas de produto'!$R$2:$R$101,MATCH($G$8&"-V"&TEXT($I$8,"00"),'Fichas de produto'!$A$2:$A$101,0)),""))
A30: Atributo comparável | B30: Valor A | C30: Unidade A | E30: Valor B | F30: Unidade B
A31: Potência nominal | B31: =IF(OR($D$8="",$A31=""),"",IFERROR(INDEX('Especificações'!$F$2:$F$501,MATCH($B$8&"-V"&TEXT($D$8,"00")&"|"&$A31,'Especificações'!$A$2:$A$501,0)),"")) | C31: =IF(OR($D$8="",$A31=""),"",IFERROR(INDEX('Especificações'!$G$2:$G$501,MATCH($B$8&"-V"&TEXT($D$8,"00")&"|"&$A31,'Especificações'!$A$2:$A$501,0)),"")) | E31: =IF(OR($I$8="",$A31=""),"",IFERROR(INDEX('Especificações'!$F$2:$F$501,MATCH($G$8&"-V"&TEXT($I$8,"00")&"|"&$A31,'Especificações'!$A$2:$A$501,0)),"")) | F31: =IF(OR($I$8="",$A31=""),"",IFERROR(INDEX('Especificações'!$G$2:$G$501,MATCH($G$8&"-V"&TEXT($I$8,"00")&"|"&$A31,'Especificações'!$A$2:$A$501,0)),""))
A32: Tensão nominal | B32: =IF(OR($D$8="",$A32=""),"",IFERROR(INDEX('Especificações'!$F$2:$F$501,MATCH($B$8&"-V"&TEXT($D$8,"00")&"|"&$A32,'Especificações'!$A$2:$A$501,0)),"")) | C32: =IF(OR($D$8="",$A32=""),"",IFERROR(INDEX('Especificações'!$G$2:$G$501,MATCH($B$8&"-V"&TEXT($D$8,"00")&"|"&$A32,'Especificações'!$A$2:$A$501,0)),"")) | E32: =IF(OR($I$8="",$A32=""),"",IFERROR(INDEX('Especificações'!$F$2:$F$501,MATCH($G$8&"-V"&TEXT($I$8,"00")&"|"&$A32,'Especificações'!$A$2:$A$501,0)),"")) | F32: =IF(OR($I$8="",$A32=""),"",IFERROR(INDEX('Especificações'!$G$2:$G$501,MATCH($G$8&"-V"&TEXT($I$8,"00")&"|"&$A32,'Especificações'!$A$2:$A$501,0)),""))
A33: Capacidade útil | B33: =IF(OR($D$8="",$A33=""),"",IFERROR(INDEX('Especificações'!$F$2:$F$501,MATCH($B$8&"-V"&TEXT($D$8,"00")&"|"&$A33,'Especificações'!$A$2:$A$501,0)),"")) | C33: =IF(OR($D$8="",$A33=""),"",IFERROR(INDEX('Especificações'!$G$2:$G$501,MATCH($B$8&"-V"&TEXT($D$8,"00")&"|"&$A33,'Especificações'!$A$2:$A$501,0)),"")) | E33: =IF(OR($I$8="",$A33=""),"",IFERROR(INDEX('Especificações'!$F$2:$F$501,MATCH($G$8&"-V"&TEXT($I$8,"00")&"|"&$A33,'Especificações'!$A$2:$A$501,0)),"")) | F33: =IF(OR($I$8="",$A33=""),"",IFERROR(INDEX('Especificações'!$G$2:$G$501,MATCH($G$8&"-V"&TEXT($I$8,"00")&"|"&$A33,'Especificações'!$A$2:$A$501,0)),""))
A34: Carga máxima | B34: =IF(OR($D$8="",$A34=""),"",IFERROR(INDEX('Especificações'!$F$2:$F$501,MATCH($B$8&"-V"&TEXT($D$8,"00")&"|"&$A34,'Especificações'!$A$2:$A$501,0)),"")) | C34: =IF(OR($D$8="",$A34=""),"",IFERROR(INDEX('Especificações'!$G$2:$G$501,MATCH($B$8&"-V"&TEXT($D$8,"00")&"|"&$A34,'Especificações'!$A$2:$A$501,0)),"")) | E34: =IF(OR($I$8="",$A34=""),"",IFERROR(INDEX('Especificações'!$F$2:$F$501,MATCH($G$8&"-V"&TEXT($I$8,"00")&"|"&$A34,'Especificações'!$A$2:$A$501,0)),"")) | F34: =IF(OR($I$8="",$A34=""),"",IFERROR(INDEX('Especificações'!$G$2:$G$501,MATCH($G$8&"-V"&TEXT($I$8,"00")&"|"&$A34,'Especificações'!$A$2:$A$501,0)),""))
A35: Temperatura máxima de uso | B35: =IF(OR($D$8="",$A35=""),"",IFERROR(INDEX('Especificações'!$F$2:$F$501,MATCH($B$8&"-V"&TEXT($D$8,"00")&"|"&$A35,'Especificações'!$A$2:$A$501,0)),"")) | C35: =IF(OR($D$8="",$A35=""),"",IFERROR(INDEX('Especificações'!$G$2:$G$501,MATCH($B$8&"-V"&TEXT($D$8,"00")&"|"&$A35,'Especificações'!$A$2:$A$501,0)),"")) | E35: =IF(OR($I$8="",$A35=""),"",IFERROR(INDEX('Especificações'!$F$2:$F$501,MATCH($G$8&"-V"&TEXT($I$8,"00")&"|"&$A35,'Especificações'!$A$2:$A$501,0)),"")) | F35: =IF(OR($I$8="",$A35=""),"",IFERROR(INDEX('Especificações'!$G$2:$G$501,MATCH($G$8&"-V"&TEXT($I$8,"00")&"|"&$A35,'Especificações'!$A$2:$A$501,0)),""))
A36: Quantidade de compartimentos | B36: =IF(OR($D$8="",$A36=""),"",IFERROR(INDEX('Especificações'!$F$2:$F$501,MATCH($B$8&"-V"&TEXT($D$8,"00")&"|"&$A36,'Especificações'!$A$2:$A$501,0)),"")) | C36: =IF(OR($D$8="",$A36=""),"",IFERROR(INDEX('Especificações'!$G$2:$G$501,MATCH($B$8&"-V"&TEXT($D$8,"00")&"|"&$A36,'Especificações'!$A$2:$A$501,0)),"")) | E36: =IF(OR($I$8="",$A36=""),"",IFERROR(INDEX('Especificações'!$F$2:$F$501,MATCH($G$8&"-V"&TEXT($I$8,"00")&"|"&$A36,'Especificações'!$A$2:$A$501,0)),"")) | F36: =IF(OR($I$8="",$A36=""),"",IFERROR(INDEX('Especificações'!$G$2:$G$501,MATCH($G$8&"-V"&TEXT($I$8,"00")&"|"&$A36,'Especificações'!$A$2:$A$501,0)),""))
A37: Gramatura | B37: =IF(OR($D$8="",$A37=""),"",IFERROR(INDEX('Especificações'!$F$2:$F$501,MATCH($B$8&"-V"&TEXT($D$8,"00")&"|"&$A37,'Especificações'!$A$2:$A$501,0)),"")) | C37: =IF(OR($D$8="",$A37=""),"",IFERROR(INDEX('Especificações'!$G$2:$G$501,MATCH($B$8&"-V"&TEXT($D$8,"00")&"|"&$A37,'Especificações'!$A$2:$A$501,0)),"")) | E37: =IF(OR($I$8="",$A37=""),"",IFERROR(INDEX('Especificações'!$F$2:$F$501,MATCH($G$8&"-V"&TEXT($I$8,"00")&"|"&$A37,'Especificações'!$A$2:$A$501,0)),"")) | F37: =IF(OR($I$8="",$A37=""),"",IFERROR(INDEX('Especificações'!$G$2:$G$501,MATCH($G$8&"-V"&TEXT($I$8,"00")&"|"&$A37,'Especificações'!$A$2:$A$501,0)),""))
A38: Tipo de fechamento | B38: =IF(OR($D$8="",$A38=""),"",IFERROR(INDEX('Especificações'!$F$2:$F$501,MATCH($B$8&"-V"&TEXT($D$8,"00")&"|"&$A38,'Especificações'!$A$2:$A$501,0)),"")) | C38: =IF(OR($D$8="",$A38=""),"",IFERROR(INDEX('Especificações'!$G$2:$G$501,MATCH($B$8&"-V"&TEXT($D$8,"00")&"|"&$A38,'Especificações'!$A$2:$A$501,0)),"")) | E38: =IF(OR($I$8="",$A38=""),"",IFERROR(INDEX('Especificações'!$F$2:$F$501,MATCH($G$8&"-V"&TEXT($I$8,"00")&"|"&$A38,'Especificações'!$A$2:$A$501,0)),"")) | F38: =IF(OR($I$8="",$A38=""),"",IFERROR(INDEX('Especificações'!$G$2:$G$501,MATCH($G$8&"-V"&TEXT($I$8,"00")&"|"&$A38,'Especificações'!$A$2:$A$501,0)),""))
A39: Ajuste de altura | B39: =IF(OR($D$8="",$A39=""),"",IFERROR(INDEX('Especificações'!$F$2:$F$501,MATCH($B$8&"-V"&TEXT($D$8,"00")&"|"&$A39,'Especificações'!$A$2:$A$501,0)),"")) | C39: =IF(OR($D$8="",$A39=""),"",IFERROR(INDEX('Especificações'!$G$2:$G$501,MATCH($B$8&"-V"&TEXT($D$8,"00")&"|"&$A39,'Especificações'!$A$2:$A$501,0)),"")) | E39: =IF(OR($I$8="",$A39=""),"",IFERROR(INDEX('Especificações'!$F$2:$F$501,MATCH($G$8&"-V"&TEXT($I$8,"00")&"|"&$A39,'Especificações'!$A$2:$A$501,0)),"")) | F39: =IF(OR($I$8="",$A39=""),"",IFERROR(INDEX('Especificações'!$G$2:$G$501,MATCH($G$8&"-V"&TEXT($I$8,"00")&"|"&$A39,'Especificações'!$A$2:$A$501,0)),""))
A40: Compatibilidade de tamanho | B40: =IF(OR($D$8="",$A40=""),"",IFERROR(INDEX('Especificações'!$F$2:$F$501,MATCH($B$8&"-V"&TEXT($D$8,"00")&"|"&$A40,'Especificações'!$A$2:$A$501,0)),"")) | C40: =IF(OR($D$8="",$A40=""),"",IFERROR(INDEX('Especificações'!$G$2:$G$501,MATCH($B$8&"-V"&TEXT($D$8,"00")&"|"&$A40,'Especificações'!$A$2:$A$501,0)),"")) | E40: =IF(OR($I$8="",$A40=""),"",IFERROR(INDEX('Especificações'!$F$2:$F$501,MATCH($G$8&"-V"&TEXT($I$8,"00")&"|"&$A40,'Especificações'!$A$2:$A$501,0)),"")) | F40: =IF(OR($I$8="",$A40=""),"",IFERROR(INDEX('Especificações'!$G$2:$G$501,MATCH($G$8&"-V"&TEXT($I$8,"00")&"|"&$A40,'Especificações'!$A$2:$A$501,0)),""))

Sheet Fichas de produto
A1: ID da ficha | B1: SKU | C1: Versão | D1: Nome do produto | E1: Categoria | F1: Status da versão | G1: Data da versão | H1: Data de aprovação | I1: Área aprovadora | J1: Material principal | K1: Composição detalhada | L1: Largura (cm) | M1: Altura (cm) | N1: Profundidade (cm) | O1: Peso líquido (kg) | P1: Garantia (meses) | Q1: Cuidados de uso e conservação | R1: Observações técnicas | S1: Especificações válidas | T1: Completude | U1: Campos faltantes | V1: Versão aprovada | W1: Alerta de versão
A2: =IF(OR(B2="",C2=""),"",B2&"-V"&TEXT(C2,"00")) | B2: FIC-ORG-001 | C2: 1 | D2: Organizador Nuvem 18 L | E2: Organização | F2: Obsoleta | G2: 45667 | H2: 45672 | I2: Produto | J2: Polipropileno | K2: Corpo e tampa em polipropileno | L2: 32 | M2: 18 | N2: 24 | O2: 0.65 | P2: 6 | Q2: Limpar com pano úmido; não usar abrasivos | R2: Substituída pela versão 2 | S2: =IF(COUNTA(B2:R2)=0,"",IF(OR(B2="",C2=""),0,COUNTIFS('Especificações'!$B$2:$B$501,B2,'Especificações'!$C$2:$C$501,C2,'Especificações'!$M$2:$M$501,"OK"))) | T2: =IF(COUNTA(B2:R2)=0,"",IFERROR(1-((--(B2="")+--(C2="")+--(D2="")+--(E2="")+--(F2="")+--(G2="")+--(J2="")+--(K2="")+--(L2="")+--(M2="")+--(N2="")+--(O2="")+--(P2="")+--(Q2="")+--(S2<Apoio!$K$2)+IF(F2="Aprovada",--(H2="")+--(I2=""),0))/(15+IF(F2="Aprovada",2,0))),0)) | U2: =IF(COUNTA(B2:R2)=0,"",_xlfn.TEXTJOIN(", ",TRUE,IF(B2="","SKU",""),IF(C2="","Versão",""),IF(D2="","Nome do produto",""),IF(E2="","Categoria",""),IF(F2="","Status da versão",""),IF(G2="","Data da versão",""),IF(J2="","Material principal",""),IF(K2="","Composição detalhada",""),IF(L2="","Largura",""),IF(M2="","Altura",""),IF(N2="","Profundidade",""),IF(O2="","Peso líquido",""),IF(P2="","Garantia",""),IF(Q2="","Cuidados",""),IF(S2<Apoio!$K$2,"Especificações técnicas",""),IF(AND(F2="Aprovada",H2=""),"Data de aprovação",""),IF(AND(F2="Aprovada",I2=""),"Área aprovadora",""))) | V2: =IF(COUNTA(B2:R2)=0,"",IF(AND(F2="Aprovada",T2=1),"Sim","Não")) | W2: =IF(COUNTA(B2:R2)=0,"",IF(B2="","SKU ausente",IF(C2="","Versão ausente",IF(COUNTIFS($B$2:$B$101,B2,$C$2:$C$101,C2)>1,"SKU e versão duplicados",IF(G2>TODAY(),"Data da versão no futuro",IF(AND(H2<>"",G2<>"",H2<G2),"Aprovação anterior à versão",IF(T2<1,"Campos obrigatórios faltantes",IF(COUNTIFS($B$2:$B$101,B2,$V$2:$V$101,"Sim")>1,"Mais de uma versão aprovada",IF(AND(OR(F2="Rascunho",F2="Em revisão"),OR(H2<>"",I2<>"")),"Dados de aprovação em status não aprovado","OK")))))))))
A3: =IF(OR(B3="",C3=""),"",B3&"-V"&TEXT(C3,"00")) | B3: FIC-ORG-001 | C3: 2 | D3: Organizador Nuvem 20 L | E3: Organização | F3: Aprovada | G3: 46218 | H3: 46223 | I3: Qualidade | J3: Polipropileno | K3: Corpo e tampa em polipropileno reforçado | L3: 34 | M3: 20 | N3: 25 | O3: 0.72 | P3: 12 | Q3: Lavar à mão e secar à sombra | R3: Reforço estrutural na tampa | S3: =IF(COUNTA(B3:R3)=0,"",IF(OR(B3="",C3=""),0,COUNTIFS('Especificações'!$B$2:$B$501,B3,'Especificações'!$C$2:$C$501,C3,'Especificações'!$M$2:$M$501,"OK"))) | T3: =IF(COUNTA(B3:R3)=0,"",IFERROR(1-((--(B3="")+--(C3="")+--(D3="")+--(E3="")+--(F3="")+--(G3="")+--(J3="")+--(K3="")+--(L3="")+--(M3="")+--(N3="")+--(O3="")+--(P3="")+--(Q3="")+--(S3<Apoio!$K$2)+IF(F3="Aprovada",--(H3="")+--(I3=""),0))/(15+IF(F3="Aprovada",2,0))),0)) | U3: =IF(COUNTA(B3:R3)=0,"",_xlfn.TEXTJOIN(", ",TRUE,IF(B3="","SKU",""),IF(C3="","Versão",""),IF(D3="","Nome do produto",""),IF(E3="","Categoria",""),IF(F3="","Status da versão",""),IF(G3="","Data da versão",""),IF(J3="","Material principal",""),IF(K3="","Composição detalhada",""),IF(L3="","Largura",""),IF(M3="","Altura",""),IF(N3="","Profundidade",""),IF(O3="","Peso líquido",""),IF(P3="","Garantia",""),IF(Q3="","Cuidados",""),IF(S3<Apoio!$K$2,"Especificações técnicas",""),IF(AND(F3="Aprovada",H3=""),"Data de aprovação",""),IF(AND(F3="Aprovada",I3=""),"Área aprovadora",""))) | V3: =IF(COUNTA(B3:R3)=0,"",IF(AND(F3="Aprovada",T3=1),"Sim","Não")) | W3: =IF(COUNTA(B3:R3)=0,"",IF(B3="","SKU ausente",IF(C3="","Versão ausente",IF(COUNTIFS($B$2:$B$101,B3,$C$2:$C$101,C3)>1,"SKU e versão duplicados",IF(G3>TODAY(),"Data da versão no futuro",IF(AND(H3<>"",G3<>"",H3<G3),"Aprovação anterior à versão",IF(T3<1,"Campos obrigatórios faltantes",IF(COUNTIFS($B$2:$B$101,B3,$V$2:$V$101,"Sim")>1,"Mais de uma versão aprovada",IF(AND(OR(F3="Rascunho",F3="Em revisão"),OR(H3<>"",I3<>"")),"Dados de aprovação em status não aprovado","OK")))))))))
A4: =IF(OR(B4="",C4=""),"",B4&"-V"&TEXT(C4,"00")) | B4: FIC-LUM-002 | C4: 1 | D4: Luminária Aurora Bivolt | E4: Iluminação | F4: Aprovada | G4: 46058 | H4: 46063 | I4: Engenharia | J4: Alumínio | K4: Estrutura em alumínio e difusor em policarbonato | L4: 12 | M4: 38 | N4: 18 | O4: 1.1 | P4: 12 | Q4: Desligar da tomada antes da limpeza | R4: Produto para uso interno | S4: =IF(COUNTA(B4:R4)=0,"",IF(OR(B4="",C4=""),0,COUNTIFS('Especificações'!$B$2:$B$501,B4,'Especificações'!$C$2:$C$501,C4,'Especificações'!$M$2:$M$501,"OK"))) | T4: =IF(COUNTA(B4:R4)=0,"",IFERROR(1-((--(B4="")+--(C4="")+--(D4="")+--(E4="")+--(F4="")+--(G4="")+--(J4="")+--(K4="")+--(L4="")+--(M4="")+--(N4="")+--(O4="")+--(P4="")+--(Q4="")+--(S4<Apoio!$K$2)+IF(F4="Aprovada",--(H4="")+--(I4=""),0))/(15+IF(F4="Aprovada",2,0))),0)) | U4: =IF(COUNTA(B4:R4)=0,"",_xlfn.TEXTJOIN(", ",TRUE,IF(B4="","SKU",""),IF(C4="","Versão",""),IF(D4="","Nome do produto",""),IF(E4="","Categoria",""),IF(F4="","Status da versão",""),IF(G4="","Data da versão",""),IF(J4="","Material principal",""),IF(K4="","Composição detalhada",""),IF(L4="","Largura",""),IF(M4="","Altura",""),IF(N4="","Profundidade",""),IF(O4="","Peso líquido",""),IF(P4="","Garantia",""),IF(Q4="","Cuidados",""),IF(S4<Apoio!$K$2,"Especificações técnicas",""),IF(AND(F4="Aprovada",H4=""),"Data de aprovação",""),IF(AND(F4="Aprovada",I4=""),"Área aprovadora",""))) | V4: =IF(COUNTA(B4:R4)=0,"",IF(AND(F4="Aprovada",T4=1),"Sim","Não")) | W4: =IF(COUNTA(B4:R4)=0,"",IF(B4="","SKU ausente",IF(C4="","Versão ausente",IF(COUNTIFS($B$2:$B$101,B4,$C$2:$C$101,C4)>1,"SKU e versão duplicados",IF(G4>TODAY(),"Data da versão no futuro",IF(AND(H4<>"",G4<>"",H4<G4),"Aprovação anterior à versão",IF(T4<1,"Campos obrigatórios faltantes",IF(COUNTIFS($B$2:$B$101,B4,$V$2:$V$101,"Sim")>1,"Mais de uma versão aprovada",IF(AND(OR(F4="Rascunho",F4="Em revisão"),OR(H4<>"",I4<>"")),"Dados de aprovação em status não aprovado","OK")))))))))
A5: =IF(OR(B5="",C5=""),"",B5&"-V"&TEXT(C5,"00")) | B5: FIC-COZ-003 | C5: 1 | D5: Garrafa Brisa 750 ml | E5: Cozinha | F5: Em revisão | G5: 46252 | J5: Aço inoxidável | K5: Corpo em aço inoxidável e tampa em polipropileno | L5: 7.5 | M5: 26 | N5: 7.5 | O5: 0.38 | P5: 12 | R5: Teste térmico em revisão | S5: =IF(COUNTA(B5:R5)=0,"",IF(OR(B5="",C5=""),0,COUNTIFS('Especificações'!$B$2:$B$501,B5,'Especificações'!$C$2:$C$501,C5,'Especificações'!$M$2:$M$501,"OK"))) | T5: =IF(COUNTA(B5:R5)=0,"",IFERROR(1-((--(B5="")+--(C5="")+--(D5="")+--(E5="")+--(F5="")+--(G5="")+--(J5="")+--(K5="")+--(L5="")+--(M5="")+--(N5="")+--(O5="")+--(P5="")+--(Q5="")+--(S5<Apoio!$K$2)+IF(F5="Aprovada",--(H5="")+--(I5=""),0))/(15+IF(F5="Aprovada",2,0))),0)) | U5: =IF(COUNTA(B5:R5)=0,"",_xlfn.TEXTJOIN(", ",TRUE,IF(B5="","SKU",""),IF(C5="","Versão",""),IF(D5="","Nome do produto",""),IF(E5="","Categoria",""),IF(F5="","Status da versão",""),IF(G5="","Data da versão",""),IF(J5="","Material principal",""),IF(K5="","Composição detalhada",""),IF(L5="","Largura",""),IF(M5="","Altura",""),IF(N5="","Profundidade",""),IF(O5="","Peso líquido",""),IF(P5="","Garantia",""),IF(Q5="","Cuidados",""),IF(S5<Apoio!$K$2,"Especificações técnicas",""),IF(AND(F5="Aprovada",H5=""),"Data de aprovação",""),IF(AND(F5="Aprovada",I5=""),"Área aprovadora",""))) | V5: =IF(COUNTA(B5:R5)=0,"",IF(AND(F5="Aprovada",T5=1),"Sim","Não")) | W5: =IF(COUNTA(B5:R5)=0,"",IF(B5="","SKU ausente",IF(C5="","Versão ausente",IF(COUNTIFS($B$2:$B$101,B5,$C$2:$C$101,C5)>1,"SKU e versão duplicados",IF(G5>TODAY(),"Data da versão no futuro",IF(AND(H5<>"",G5<>"",H5<G5),"Aprovação anterior à versão",IF(T5<1,"Campos obrigatórios faltantes",IF(COUNTIFS($B$2:$B$101,B5,$V$2:$V$101,"Sim")>1,"Mais de uma versão aprovada",IF(AND(OR(F5="Rascunho",F5="Em revisão"),OR(H5<>"",I5<>"")),"Dados de aprovação em status não aprovado","OK")))))))))
A6: =IF(OR(B6="",C6=""),"",B6&"-V"&TEXT(C6,"00")) | B6: FIC-TEX-004 | C6: 1 | D6: Capa de Almofada Lótus 45 cm | E6: Têxteis | F6: Aprovada | G6: 46103 | H6: 46106 | I6: Produto | J6: Algodão | K6: 80% algodão e 20% poliéster | L6: 45 | M6: 45 | N6: 1 | O6: 0.18 | P6: 3 | Q6: Lavar em ciclo delicado; não alvejar | R6: Fechamento lateral | S6: =IF(COUNTA(B6:R6)=0,"",IF(OR(B6="",C6=""),0,COUNTIFS('Especificações'!$B$2:$B$501,B6,'Especificações'!$C$2:$C$501,C6,'Especificações'!$M$2:$M$501,"OK"))) | T6: =IF(COUNTA(B6:R6)=0,"",IFERROR(1-((--(B6="")+--(C6="")+--(D6="")+--(E6="")+--(F6="")+--(G6="")+--(J6="")+--(K6="")+--(L6="")+--(M6="")+--(N6="")+--(O6="")+--(P6="")+--(Q6="")+--(S6<Apoio!$K$2)+IF(F6="Aprovada",--(H6="")+--(I6=""),0))/(15+IF(F6="Aprovada",2,0))),0)) | U6: =IF(COUNTA(B6:R6)=0,"",_xlfn.TEXTJOIN(", ",TRUE,IF(B6="","SKU",""),IF(C6="","Versão",""),IF(D6="","Nome do produto",""),IF(E6="","Categoria",""),IF(F6="","Status da versão",""),IF(G6="","Data da versão",""),IF(J6="","Material principal",""),IF(K6="","Composição detalhada",""),IF(L6="","Largura",""),IF(M6="","Altura",""),IF(N6="","Profundidade",""),IF(O6="","Peso líquido",""),IF(P6="","Garantia",""),IF(Q6="","Cuidados",""),IF(S6<Apoio!$K$2,"Especificações técnicas",""),IF(AND(F6="Aprovada",H6=""),"Data de aprovação",""),IF(AND(F6="Aprovada",I6=""),"Área aprovadora",""))) | V6: =IF(COUNTA(B6:R6)=0,"",IF(AND(F6="Aprovada",T6=1),"Sim","Não")) | W6: =IF(COUNTA(B6:R6)=0,"",IF(B6="","SKU ausente",IF(C6="","Versão ausente",IF(COUNTIFS($B$2:$B$101,B6,$C$2:$C$101,C6)>1,"SKU e versão duplicados",IF(G6>TODAY(),"Data da versão no futuro",IF(AND(H6<>"",G6<>"",H6<G6),"Aprovação anterior à versão",IF(T6<1,"Campos obrigatórios faltantes",IF(COUNTIFS($B$2:$B$101,B6,$V$2:$V$101,"Sim")>1,"Mais de uma versão aprovada",IF(AND(OR(F6="Rascunho",F6="Em revisão"),OR(H6<>"",I6<>"")),"Dados de aprovação em status não aprovado","OK")))))))))
A7: =IF(OR(B7="",C7=""),"",B7&"-V"&TEXT(C7,"00")) | B7: FIC-ESC-005 | C7: 1 | D7: Suporte para Monitor Horizonte | E7: Escritório | F7: Aprovada | G7: 46124 | H7: 46130 | I7: Qualidade | J7: Aço carbono | K7: Chapa de aço carbono com pintura epóxi | L7: 40 | M7: 12 | N7: 22 | O7: 2.4 | P7: 12 | Q7: Limpar com pano seco; não exceder a carga | R7: Pés em EVA | S7: =IF(COUNTA(B7:R7)=0,"",IF(OR(B7="",C7=""),0,COUNTIFS('Especificações'!$B$2:$B$501,B7,'Especificações'!$C$2:$C$501,C7,'Especificações'!$M$2:$M$501,"OK"))) | T7: =IF(COUNTA(B7:R7)=0,"",IFERROR(1-((--(B7="")+--(C7="")+--(D7="")+--(E7="")+--(F7="")+--(G7="")+--(J7="")+--(K7="")+--(L7="")+--(M7="")+--(N7="")+--(O7="")+--(P7="")+--(Q7="")+--(S7<Apoio!$K$2)+IF(F7="Aprovada",--(H7="")+--(I7=""),0))/(15+IF(F7="Aprovada",2,0))),0)) | U7: =IF(COUNTA(B7:R7)=0,"",_xlfn.TEXTJOIN(", ",TRUE,IF(B7="","SKU",""),IF(C7="","Versão",""),IF(D7="","Nome do produto",""),IF(E7="","Categoria",""),IF(F7="","Status da versão",""),IF(G7="","Data da versão",""),IF(J7="","Material principal",""),IF(K7="","Composição detalhada",""),IF(L7="","Largura",""),IF(M7="","Altura",""),IF(N7="","Profundidade",""),IF(O7="","Peso líquido",""),IF(P7="","Garantia",""),IF(Q7="","Cuidados",""),IF(S7<Apoio!$K$2,"Especificações técnicas",""),IF(AND(F7="Aprovada",H7=""),"Data de aprovação",""),IF(AND(F7="Aprovada",I7=""),"Área aprovadora",""))) | V7: =IF(COUNTA(B7:R7)=0,"",IF(AND(F7="Aprovada",T7=1),"Sim","Não")) | W7: =IF(COUNTA(B7:R7)=0,"",IF(B7="","SKU ausente",IF(C7="","Versão ausente",IF(COUNTIFS($B$2:$B$101,B7,$C$2:$C$101,C7)>1,"SKU e versão duplicados",IF(G7>TODAY(),"Data da versão no futuro",IF(AND(H7<>"",G7<>"",H7<G7),"Aprovação anterior à versão",IF(T7<1,"Campos obrigatórios faltantes",IF(COUNTIFS($B$2:$B$101,B7,$V$2:$V$101,"Sim")>1,"Mais de uma versão aprovada",IF(AND(OR(F7="Rascunho",F7="Em revisão"),OR(H7<>"",I7<>"")),"Dados de aprovação em status não aprovado","OK")))))))))
A8: =IF(OR(B8="",C8=""),"",B8&"-V"&TEXT(C8,"00")) | B8: FIC-ORG-006 | C8: 1 | D8: Caixa Modular Ipê 32 L | E8: Organização | F8: Rascunho | G8: 46262 | J8: Polipropileno | K8: Corpo e tampa em polipropileno | L8: 42 | M8: 28 | N8: 31 | O8: 1.25 | Q8: Higienizar com detergente neutro | R8: Ensaio de empilhamento pendente | S8: =IF(COUNTA(B8:R8)=0,"",IF(OR(B8="",C8=""),0,COUNTIFS('Especificações'!$B$2:$B$501,B8,'Especificações'!$C$2:$C$501,C8,'Especificações'!$M$2:$M$501,"OK"))) | T8: =IF(COUNTA(B8:R8)=0,"",IFERROR(1-((--(B8="")+--(C8="")+--(D8="")+--(E8="")+--(F8="")+--(G8="")+--(J8="")+--(K8="")+--(L8="")+--(M8="")+--(N8="")+--(O8="")+--(P8="")+--(Q8="")+--(S8<Apoio!$K$2)+IF(F8="Aprovada",--(H8="")+--(I8=""),0))/(15+IF(F8="Aprovada",2,0))),0)) | U8: =IF(COUNTA(B8:R8)=0,"",_xlfn.TEXTJOIN(", ",TRUE,IF(B8="","SKU",""),IF(C8="","Versão",""),IF(D8="","Nome do produto",""),IF(E8="","Categoria",""),IF(F8="","Status da versão",""),IF(G8="","Data da versão",""),IF(J8="","Material principal",""),IF(K8="","Composição detalhada",""),IF(L8="","Largura",""),IF(M8="","Altura",""),IF(N8="","Profundidade",""),IF(O8="","Peso líquido",""),IF(P8="","Garantia",""),IF(Q8="","Cuidados",""),IF(S8<Apoio!$K$2,"Especificações técnicas",""),IF(AND(F8="Aprovada",H8=""),"Data de aprovação",""),IF(AND(F8="Aprovada",I8=""),"Área aprovadora",""))) | V8: =IF(COUNTA(B8:R8)=0,"",IF(AND(F8="Aprovada",T8=1),"Sim","Não")) | W8: =IF(COUNTA(B8:R8)=0,"",IF(B8="","SKU ausente",IF(C8="","Versão ausente",IF(COUNTIFS($B$2:$B$101,B8,$C$2:$C$101,C8)>1,"SKU e versão duplicados",IF(G8>TODAY(),"Data da versão no futuro",IF(AND(H8<>"",G8<>"",H8<G8),"Aprovação anterior à versão",IF(T8<1,"Campos obrigatórios faltantes",IF(COUNTIFS($B$2:$B$101,B8,$V$2:$V$101,"Sim")>1,"Mais de uma versão aprovada",IF(AND(OR(F8="Rascunho",F8="Em revisão"),OR(H8<>"",I8<>"")),"Dados de aprovação em status não aprovado","OK")))))))))
A9: =IF(OR(B9="",C9=""),"",B9&"-V"&TEXT(C9,"00")) | B9: FIC-COZ-007 | C9: 1 | D9: Pote Térmico Cedro 800 ml | E9: Cozinha | F9: Aprovada | G9: 46150 | H9: 46154 | I9: Qualidade | J9: Aço inoxidável | K9: Interior em aço inoxidável e tampa em polipropileno | L9: 12 | M9: 18 | N9: 12 | O9: 0.62 | P9: 12 | Q9: Não levar ao micro-ondas; lavar à mão | R9: Tampa rosqueável | S9: =IF(COUNTA(B9:R9)=0,"",IF(OR(B9="",C9=""),0,COUNTIFS('Especificações'!$B$2:$B$501,B9,'Especificações'!$C$2:$C$501,C9,'Especificações'!$M$2:$M$501,"OK"))) | T9: =IF(COUNTA(B9:R9)=0,"",IFERROR(1-((--(B9="")+--(C9="")+--(D9="")+--(E9="")+--(F9="")+--(G9="")+--(J9="")+--(K9="")+--(L9="")+--(M9="")+--(N9="")+--(O9="")+--(P9="")+--(Q9="")+--(S9<Apoio!$K$2)+IF(F9="Aprovada",--(H9="")+--(I9=""),0))/(15+IF(F9="Aprovada",2,0))),0)) | U9: =IF(COUNTA(B9:R9)=0,"",_xlfn.TEXTJOIN(", ",TRUE,IF(B9="","SKU",""),IF(C9="","Versão",""),IF(D9="","Nome do produto",""),IF(E9="","Categoria",""),IF(F9="","Status da versão",""),IF(G9="","Data da versão",""),IF(J9="","Material principal",""),IF(K9="","Composição detalhada",""),IF(L9="","Largura",""),IF(M9="","Altura",""),IF(N9="","Profundidade",""),IF(O9="","Peso líquido",""),IF(P9="","Garantia",""),IF(Q9="","Cuidados",""),IF(S9<Apoio!$K$2,"Especificações técnicas",""),IF(AND(F9="Aprovada",H9=""),"Data de aprovação",""),IF(AND(F9="Aprovada",I9=""),"Área aprovadora",""))) | V9: =IF(COUNTA(B9:R9)=0,"",IF(AND(F9="Aprovada",T9=1),"Sim","Não")) | W9: =IF(COUNTA(B9:R9)=0,"",IF(B9="","SKU ausente",IF(C9="","Versão ausente",IF(COUNTIFS($B$2:$B$101,B9,$C$2:$C$101,C9)>1,"SKU e versão duplicados",IF(G9>TODAY(),"Data da versão no futuro",IF(AND(H9<>"",G9<>"",H9<G9),"Aprovação anterior à versão",IF(T9<1,"Campos obrigatórios faltantes",IF(COUNTIFS($B$2:$B$101,B9,$V$2:$V$101,"Sim")>1,"Mais de uma versão aprovada",IF(AND(OR(F9="Rascunho",F9="Em revisão"),OR(H9<>"",I9<>"")),"Dados de aprovação em status não aprovado","OK")))))))))
A10: =IF(OR(B10="",C10=""),"",B10&"-V"&TEXT(C10,"00")) | B10: FIC-LUM-008 | C10: 1 | D10: Abajur Prisma USB | E10: Iluminação | F10: Aprovada | G10: 46203 | H10: 46207 | I10: Engenharia | J10: ABS | K10: Base em ABS e difusor acrílico | L10: 14 | M10: 28 | N10: 14 | O10: 0.8 | P10: 12 | Q10: Desconectar o cabo antes da limpeza | R10: Luz LED integrada | S10: =IF(COUNTA(B10:R10)=0,"",IF(OR(B10="",C10=""),0,COUNTIFS('Especificações'!$B$2:$B$501,B10,'Especificações'!$C$2:$C$501,C10,'Especificações'!$M$2:$M$501,"OK"))) | T10: =IF(COUNTA(B10:R10)=0,"",IFERROR(1-((--(B10="")+--(C10="")+--(D10="")+--(E10="")+--(F10="")+--(G10="")+--(J10="")+--(K10="")+--(L10="")+--(M10="")+--(N10="")+--(O10="")+--(P10="")+--(Q10="")+--(S10<Apoio!$K$2)+IF(F10="Aprovada",--(H10="")+--(I10=""),0))/(15+IF(F10="Aprovada",2,0))),0)) | U10: =IF(COUNTA(B10:R10)=0,"",_xlfn.TEXTJOIN(", ",TRUE,IF(B10="","SKU",""),IF(C10="","Versão",""),IF(D10="","Nome do produto",""),IF(E10="","Categoria",""),IF(F10="","Status da versão",""),IF(G10="","Data da versão",""),IF(J10="","Material principal",""),IF(K10="","Composição detalhada",""),IF(L10="","Largura",""),IF(M10="","Altura",""),IF(N10="","Profundidade",""),IF(O10="","Peso líquido",""),IF(P10="","Garantia",""),IF(Q10="","Cuidados",""),IF(S10<Apoio!$K$2,"Especificações técnicas",""),IF(AND(F10="Aprovada",H10=""),"Data de aprovação",""),IF(AND(F10="Aprovada",I10=""),"Área aprovadora",""))) | V10: =IF(COUNTA(B10:R10)=0,"",IF(AND(F10="Aprovada",T10=1),"Sim","Não")) | W10: =IF(COUNTA(B10:R10)=0,"",IF(B10="","SKU ausente",IF(C10="","Versão ausente",IF(COUNTIFS($B$2:$B$101,B10,$C$2:$C$101,C10)>1,"SKU e versão duplicados",IF(G10>TODAY(),"Data da versão no futuro",IF(AND(H10<>"",G10<>"",H10<G10),"Aprovação anterior à versão",IF(T10<1,"Campos obrigatórios faltantes",IF(COUNTIFS($B$2:$B$101,B10,$V$2:$V$101,"Sim")>1,"Mais de uma versão aprovada",IF(AND(OR(F10="Rascunho",F10="Em revisão"),OR(H10<>"",I10<>"")),"Dados de aprovação em status não aprovado","OK")))))))))
A11: =IF(OR(B11="",C11=""),"",B11&"-V"&TEXT(C11,"00")) | B11: FIC-ESC-009 | C11: 1 | D11: Apoio para Notebook Órbita | E11: Escritório | F11: Em revisão | G11: 46267 | J11: Alumínio | K11: Estrutura em alumínio com apoios em silicone | L11: 26 | M11: 5 | N11: 23 | O11: 0.95 | P11: 6 | Q11: Limpar com pano seco; evitar produtos químicos | R11: Compatível com notebooks compactos | S11: =IF(COUNTA(B11:R11)=0,"",IF(OR(B11="",C11=""),0,COUNTIFS('Especificações'!$B$2:$B$501,B11,'Especificações'!$C$2:$C$501,C11,'Especificações'!$M$2:$M$501,"OK"))) | T11: =IF(COUNTA(B11:R11)=0,"",IFERROR(1-((--(B11="")+--(C11="")+--(D11="")+--(E11="")+--(F11="")+--(G11="")+--(J11="")+--(K11="")+--(L11="")+--(M11="")+--(N11="")+--(O11="")+--(P11="")+--(Q11="")+--(S11<Apoio!$K$2)+IF(F11="Aprovada",--(H11="")+--(I11=""),0))/(15+IF(F11="Aprovada",2,0))),0)) | U11: =IF(COUNTA(B11:R11)=0,"",_xlfn.TEXTJOIN(", ",TRUE,IF(B11="","SKU",""),IF(C11="","Versão",""),IF(D11="","Nome do produto",""),IF(E11="","Categoria",""),IF(F11="","Status da versão",""),IF(G11="","Data da versão",""),IF(J11="","Material principal",""),IF(K11="","Composição detalhada",""),IF(L11="","Largura",""),IF(M11="","Altura",""),IF(N11="","Profundidade",""),IF(O11="","Peso líquido",""),IF(P11="","Garantia",""),IF(Q11="","Cuidados",""),IF(S11<Apoio!$K$2,"Especificações técnicas",""),IF(AND(F11="Aprovada",H11=""),"Data de aprovação",""),IF(AND(F11="Aprovada",I11=""),"Área aprovadora",""))) | V11: =IF(COUNTA(B11:R11)=0,"",IF(AND(F11="Aprovada",T11=1),"Sim","Não")) | W11: =IF(COUNTA(B11:R11)=0,"",IF(B11="","SKU ausente",IF(C11="","Versão ausente",IF(COUNTIFS($B$2:$B$101,B11,$C$2:$C$101,C11)>1,"SKU e versão duplicados",IF(G11>TODAY(),"Data da versão no futuro",IF(AND(H11<>"",G11<>"",H11<G11),"Aprovação anterior à versão",IF(T11<1,"Campos obrigatórios faltantes",IF(COUNTIFS($B$2:$B$101,B11,$V$2:$V$101,"Sim")>1,"Mais de uma versão aprovada",IF(AND(OR(F11="Rascunho",F11="Em revisão"),OR(H11<>"",I11<>"")),"Dados de aprovação em status não aprovado","OK")))))))))
A12: =IF(OR(B12="",C12=""),"",B12&"-V"&TEXT(C12,"00")) | S12: =IF(COUNTA(B12:R12)=0,"",IF(OR(B12="",C12=""),0,COUNTIFS('Especificações'!$B$2:$B$501,B12,'Especificações'!$C$2:$C$501,C12,'Especificações'!$M$2:$M$501,"OK"))) | T12: =IF(COUNTA(B12:R12)=0,"",IFERROR(1-((--(B12="")+--(C12="")+--(D12="")+--(E12="")+--(F12="")+--(G12="")+--(J12="")+--(K12="")+--(L12="")+--(M12="")+--(N12="")+--(O12="")+--(P12="")+--(Q12="")+--(S12<Apoio!$K$2)+IF(F12="Aprovada",--(H12="")+--(I12=""),0))/(15+IF(F12="Aprovada",2,0))),0)) | U12: =IF(COUNTA(B12:R12)=0,"",_xlfn.TEXTJOIN(", ",TRUE,IF(B12="","SKU",""),IF(C12="","Versão",""),IF(D12="","Nome do produto",""),IF(E12="","Categoria",""),IF(F12="","Status da versão",""),IF(G12="","Data da versão",""),IF(J12="","Material principal",""),IF(K12="","Composição detalhada",""),IF(L12="","Largura",""),IF(M12="","Altura",""),IF(N12="","Profundidade",""),IF(O12="","Peso líquido",""),IF(P12="","Garantia",""),IF(Q12="","Cuidados",""),IF(S12<Apoio!$K$2,"Especificações técnicas",""),IF(AND(F12="Aprovada",H12=""),"Data de aprovação",""),IF(AND(F12="Aprovada",I12=""),"Área aprovadora",""))) | V12: =IF(COUNTA(B12:R12)=0,"",IF(AND(F12="Aprovada",T12=1),"Sim","Não")) | W12: =IF(COUNTA(B12:R12)=0,"",IF(B12="","SKU ausente",IF(C12="","Versão ausente",IF(COUNTIFS($B$2:$B$101,B12,$C$2:$C$101,C12)>1,"SKU e versão duplicados",IF(G12>TODAY(),"Data da versão no futuro",IF(AND(H12<>"",G12<>"",H12<G12),"Aprovação anterior à versão",IF(T12<1,"Campos obrigatórios faltantes",IF(COUNTIFS($B$2:$B$101,B12,$V$2:$V$101,"Sim")>1,"Mais de uma versão aprovada",IF(AND(OR(F12="Rascunho",F12="Em revisão"),OR(H12<>"",I12<>"")),"Dados de aprovação em status não aprovado","OK")))))))))
A13: =IF(OR(B13="",C13=""),"",B13&"-V"&TEXT(C13,"00")) | S13: =IF(COUNTA(B13:R13)=0,"",IF(OR(B13="",C13=""),0,COUNTIFS('Especificações'!$B$2:$B$501,B13,'Especificações'!$C$2:$C$501,C13,'Especificações'!$M$2:$M$501,"OK"))) | T13: =IF(COUNTA(B13:R13)=0,"",IFERROR(1-((--(B13="")+--(C13="")+--(D13="")+--(E13="")+--(F13="")+--(G13="")+--(J13="")+--(K13="")+--(L13="")+--(M13="")+--(N13="")+--(O13="")+--(P13="")+--(Q13="")+--(S13<Apoio!$K$2)+IF(F13="Aprovada",--(H13="")+--(I13=""),0))/(15+IF(F13="Aprovada",2,0))),0)) | U13: =IF(COUNTA(B13:R13)=0,"",_xlfn.TEXTJOIN(", ",TRUE,IF(B13="","SKU",""),IF(C13="","Versão",""),IF(D13="","Nome do produto",""),IF(E13="","Categoria",""),IF(F13="","Status da versão",""),IF(G13="","Data da versão",""),IF(J13="","Material principal",""),IF(K13="","Composição detalhada",""),IF(L13="","Largura",""),IF(M13="","Altura",""),IF(N13="","Profundidade",""),IF(O13="","Peso líquido",""),IF(P13="","Garantia",""),IF(Q13="","Cuidados",""),IF(S13<Apoio!$K$2,"Especificações técnicas",""),IF(AND(F13="Aprovada",H13=""),"Data de aprovação",""),IF(AND(F13="Aprovada",I13=""),"Área aprovadora",""))) | V13: =IF(COUNTA(B13:R13)=0,"",IF(AND(F13="Aprovada",T13=1),"Sim","Não")) | W13: =IF(COUNTA(B13:R13)=0,"",IF(B13="","SKU ausente",IF(C13="","Versão ausente",IF(COUNTIFS($B$2:$B$101,B13,$C$2:$C$101,C13)>1,"SKU e versão duplicados",IF(G13>TODAY(),"Data da versão no futuro",IF(AND(H13<>"",G13<>"",H13<G13),"Aprovação anterior à versão",IF(T13<1,"Campos obrigatórios faltantes",IF(COUNTIFS($B$2:$B$101,B13,$V$2:$V$101,"Sim")>1,"Mais de uma versão aprovada",IF(AND(OR(F13="Rascunho",F13="Em revisão"),OR(H13<>"",I13<>"")),"Dados de aprovação em status não aprovado","OK")))))))))
A14: =IF(OR(B14="",C14=""),"",B14&"-V"&TEXT(C14,"00")) | S14: =IF(COUNTA(B14:R14)=0,"",IF(OR(B14="",C14=""),0,COUNTIFS('Especificações'!$B$2:$B$501,B14,'Especificações'!$C$2:$C$501,C14,'Especificações'!$M$2:$M$501,"OK"))) | T14: =IF(COUNTA(B14:R14)=0,"",IFERROR(1-((--(B14="")+--(C14="")+--(D14="")+--(E14="")+--(F14="")+--(G14="")+--(J14="")+--(K14="")+--(L14="")+--(M14="")+--(N14="")+--(O14="")+--(P14="")+--(Q14="")+--(S14<Apoio!$K$2)+IF(F14="Aprovada",--(H14="")+--(I14=""),0))/(15+IF(F14="Aprovada",2,0))),0)) | U14: =IF(COUNTA(B14:R14)=0,"",_xlfn.TEXTJOIN(", ",TRUE,IF(B14="","SKU",""),IF(C14="","Versão",""),IF(D14="","Nome do produto",""),IF(E14="","Categoria",""),IF(F14="","Status da versão",""),IF(G14="","Data da versão",""),IF(J14="","Material principal",""),IF(K14="","Composição detalhada",""),IF(L14="","Largura",""),IF(M14="","Altura",""),IF(N14="","Profundidade",""),IF(O14="","Peso líquido",""),IF(P14="","Garantia",""),IF(Q14="","Cuidados",""),IF(S14<Apoio!$K$2,"Especificações técnicas",""),IF(AND(F14="Aprovada",H14=""),"Data de aprovação",""),IF(AND(F14="Aprovada",I14=""),"Área aprovadora",""))) | V14: =IF(COUNTA(B14:R14)=0,"",IF(AND(F14="Aprovada",T14=1),"Sim","Não")) | W14: =IF(COUNTA(B14:R14)=0,"",IF(B14="","SKU ausente",IF(C14="","Versão ausente",IF(COUNTIFS($B$2:$B$101,B14,$C$2:$C$101,C14)>1,"SKU e versão duplicados",IF(G14>TODAY(),"Data da versão no futuro",IF(AND(H14<>"",G14<>"",H14<G14),"Aprovação anterior à versão",IF(T14<1,"Campos obrigatórios faltantes",IF(COUNTIFS($B$2:$B$101,B14,$V$2:$V$101,"Sim")>1,"Mais de uma versão aprovada",IF(AND(OR(F14="Rascunho",F14="Em revisão"),OR(H14<>"",I14<>"")),"Dados de aprovação em status não aprovado","OK")))))))))
A15: =IF(OR(B15="",C15=""),"",B15&"-V"&TEXT(C15,"00")) | S15: =IF(COUNTA(B15:R15)=0,"",IF(OR(B15="",C15=""),0,COUNTIFS('Especificações'!$B$2:$B$501,B15,'Especificações'!$C$2:$C$501,C15,'Especificações'!$M$2:$M$501,"OK"))) | T15: =IF(COUNTA(B15:R15)=0,"",IFERROR(1-((--(B15="")+--(C15="")+--(D15="")+--(E15="")+--(F15="")+--(G15="")+--(J15="")+--(K15="")+--(L15="")+--(M15="")+--(N15="")+--(O15="")+--(P15="")+--(Q15="")+--(S15<Apoio!$K$2)+IF(F15="Aprovada",--(H15="")+--(I15=""),0))/(15+IF(F15="Aprovada",2,0))),0)) | U15: =IF(COUNTA(B15:R15)=0,"",_xlfn.TEXTJOIN(", ",TRUE,IF(B15="","SKU",""),IF(C15="","Versão",""),IF(D15="","Nome do produto",""),IF(E15="","Categoria",""),IF(F15="","Status da versão",""),IF(G15="","Data da versão",""),IF(J15="","Material principal",""),IF(K15="","Composição detalhada",""),IF(L15="","Largura",""),IF(M15="","Altura",""),IF(N15="","Profundidade",""),IF(O15="","Peso líquido",""),IF(P15="","Garantia",""),IF(Q15="","Cuidados",""),IF(S15<Apoio!$K$2,"Especificações técnicas",""),IF(AND(F15="Aprovada",H15=""),"Data de aprovação",""),IF(AND(F15="Aprovada",I15=""),"Área aprovadora",""))) | V15: =IF(COUNTA(B15:R15)=0,"",IF(AND(F15="Aprovada",T15=1),"Sim","Não")) | W15: =IF(COUNTA(B15:R15)=0,"",IF(B15="","SKU ausente",IF(C15="","Versão ausente",IF(COUNTIFS($B$2:$B$101,B15,$C$2:$C$101,C15)>1,"SKU e versão duplicados",IF(G15>TODAY(),"Data da versão no futuro",IF(AND(H15<>"",G15<>"",H15<G15),"Aprovação anterior à versão",IF(T15<1,"Campos obrigatórios faltantes",IF(COUNTIFS($B$2:$B$101,B15,$V$2:$V$101,"Sim")>1,"Mais de uma versão aprovada",IF(AND(OR(F15="Rascunho",F15="Em revisão"),OR(H15<>"",I15<>"")),"Dados de aprovação em status não aprovado","OK")))))))))
A16: =IF(OR(B16="",C16=""),"",B16&"-V"&TEXT(C16,"00")) | S16: =IF(COUNTA(B16:R16)=0,"",IF(OR(B16="",C16=""),0,COUNTIFS('Especificações'!$B$2:$B$501,B16,'Especificações'!$C$2:$C$501,C16,'Especificações'!$M$2:$M$501,"OK"))) | T16: =IF(COUNTA(B16:R16)=0,"",IFERROR(1-((--(B16="")+--(C16="")+--(D16="")+--(E16="")+--(F16="")+--(G16="")+--(J16="")+--(K16="")+--(L16="")+--(M16="")+--(N16="")+--(O16="")+--(P16="")+--(Q16="")+--(S16<Apoio!$K$2)+IF(F16="Aprovada",--(H16="")+--(I16=""),0))/(15+IF(F16="Aprovada",2,0))),0)) | U16: =IF(COUNTA(B16:R16)=0,"",_xlfn.TEXTJOIN(", ",TRUE,IF(B16="","SKU",""),IF(C16="","Versão",""),IF(D16="","Nome do produto",""),IF(E16="","Categoria",""),IF(F16="","Status da versão",""),IF(G16="","Data da versão",""),IF(J16="","Material principal",""),IF(K16="","Composição detalhada",""),IF(L16="","Largura",""),IF(M16="","Altura",""),IF(N16="","Profundidade",""),IF(O16="","Peso líquido",""),IF(P16="","Garantia",""),IF(Q16="","Cuidados",""),IF(S16<Apoio!$K$2,"Especificações técnicas",""),IF(AND(F16="Aprovada",H16=""),"Data de aprovação",""),IF(AND(F16="Aprovada",I16=""),"Área aprovadora",""))) | V16: =IF(COUNTA(B16:R16)=0,"",IF(AND(F16="Aprovada",T16=1),"Sim","Não")) | W16: =IF(COUNTA(B16:R16)=0,"",IF(B16="","SKU ausente",IF(C16="","Versão ausente",IF(COUNTIFS($B$2:$B$101,B16,$C$2:$C$101,C16)>1,"SKU e versão duplicados",IF(G16>TODAY(),"Data da versão no futuro",IF(AND(H16<>"",G16<>"",H16<G16),"Aprovação anterior à versão",IF(T16<1,"Campos obrigatórios faltantes",IF(COUNTIFS($B$2:$B$101,B16,$V$2:$V$101,"Sim")>1,"Mais de uma versão aprovada",IF(AND(OR(F16="Rascunho",F16="Em revisão"),OR(H16<>"",I16<>"")),"Dados de aprovação em status não aprovado","OK")))))))))
A17: =IF(OR(B17="",C17=""),"",B17&"-V"&TEXT(C17,"00")) | S17: =IF(COUNTA(B17:R17)=0,"",IF(OR(B17="",C17=""),0,COUNTIFS('Especificações'!$B$2:$B$501,B17,'Especificações'!$C$2:$C$501,C17,'Especificações'!$M$2:$M$501,"OK"))) | T17: =IF(COUNTA(B17:R17)=0,"",IFERROR(1-((--(B17="")+--(C17="")+--(D17="")+--(E17="")+--(F17="")+--(G17="")+--(J17="")+--(K17="")+--(L17="")+--(M17="")+--(N17="")+--(O17="")+--(P17="")+--(Q17="")+--(S17<Apoio!$K$2)+IF(F17="Aprovada",--(H17="")+--(I17=""),0))/(15+IF(F17="Aprovada",2,0))),0)) | U17: =IF(COUNTA(B17:R17)=0,"",_xlfn.TEXTJOIN(", ",TRUE,IF(B17="","SKU",""),IF(C17="","Versão",""),IF(D17="","Nome do produto",""),IF(E17="","Categoria",""),IF(F17="","Status da versão",""),IF(G17="","Data da versão",""),IF(J17="","Material principal",""),IF(K17="","Composição detalhada",""),IF(L17="","Largura",""),IF(M17="","Altura",""),IF(N17="","Profundidade",""),IF(O17="","Peso líquido",""),IF(P17="","Garantia",""),IF(Q17="","Cuidados",""),IF(S17<Apoio!$K$2,"Especificações técnicas",""),IF(AND(F17="Aprovada",H17=""),"Data de aprovação",""),IF(AND(F17="Aprovada",I17=""),"Área aprovadora",""))) | V17: =IF(COUNTA(B17:R17)=0,"",IF(AND(F17="Aprovada",T17=1),"Sim","Não")) | W17: =IF(COUNTA(B17:R17)=0,"",IF(B17="","SKU ausente",IF(C17="","Versão ausente",IF(COUNTIFS($B$2:$B$101,B17,$C$2:$C$101,C17)>1,"SKU e versão duplicados",IF(G17>TODAY(),"Data da versão no futuro",IF(AND(H17<>"",G17<>"",H17<G17),"Aprovação anterior à versão",IF(T17<1,"Campos obrigatórios faltantes",IF(COUNTIFS($B$2:$B$101,B17,$V$2:$V$101,"Sim")>1,"Mais de uma versão aprovada",IF(AND(OR(F17="Rascunho",F17="Em revisão"),OR(H17<>"",I17<>"")),"Dados de aprovação em status não aprovado","OK")))))))))
A18: =IF(OR(B18="",C18=""),"",B18&"-V"&TEXT(C18,"00")) | S18: =IF(COUNTA(B18:R18)=0,"",IF(OR(B18="",C18=""),0,COUNTIFS('Especificações'!$B$2:$B$501,B18,'Especificações'!$C$2:$C$501,C18,'Especificações'!$M$2:$M$501,"OK"))) | T18: =IF(COUNTA(B18:R18)=0,"",IFERROR(1-((--(B18="")+--(C18="")+--(D18="")+--(E18="")+--(F18="")+--(G18="")+--(J18="")+--(K18="")+--(L18="")+--(M18="")+--(N18="")+--(O18="")+--(P18="")+--(Q18="")+--(S18<Apoio!$K$2)+IF(F18="Aprovada",--(H18="")+--(I18=""),0))/(15+IF(F18="Aprovada",2,0))),0)) | U18: =IF(COUNTA(B18:R18)=0,"",_xlfn.TEXTJOIN(", ",TRUE,IF(B18="","SKU",""),IF(C18="","Versão",""),IF(D18="","Nome do produto",""),IF(E18="","Categoria",""),IF(F18="","Status da versão",""),IF(G18="","Data da versão",""),IF(J18="","Material principal",""),IF(K18="","Composição detalhada",""),IF(L18="","Largura",""),IF(M18="","Altura",""),IF(N18="","Profundidade",""),IF(O18="","Peso líquido",""),IF(P18="","Garantia",""),IF(Q18="","Cuidados",""),IF(S18<Apoio!$K$2,"Especificações técnicas",""),IF(AND(F18="Aprovada",H18=""),"Data de aprovação",""),IF(AND(F18="Aprovada",I18=""),"Área aprovadora",""))) | V18: =IF(COUNTA(B18:R18)=0,"",IF(AND(F18="Aprovada",T18=1),"Sim","Não")) | W18: =IF(COUNTA(B18:R18)=0,"",IF(B18="","SKU ausente",IF(C18="","Versão ausente",IF(COUNTIFS($B$2:$B$101,B18,$C$2:$C$101,C18)>1,"SKU e versão duplicados",IF(G18>TODAY(),"Data da versão no futuro",IF(AND(H18<>"",G18<>"",H18<G18),"Aprovação anterior à versão",IF(T18<1,"Campos obrigatórios faltantes",IF(COUNTIFS($B$2:$B$101,B18,$V$2:$V$101,"Sim")>1,"Mais de uma versão aprovada",IF(AND(OR(F18="Rascunho",F18="Em revisão"),OR(H18<>"",I18<>"")),"Dados de aprovação em status não aprovado","OK")))))))))
A19: =IF(OR(B19="",C19=""),"",B19&"-V"&TEXT(C19,"00")) | S19: =IF(COUNTA(B19:R19)=0,"",IF(OR(B19="",C19=""),0,COUNTIFS('Especificações'!$B$2:$B$501,B19,'Especificações'!$C$2:$C$501,C19,'Especificações'!$M$2:$M$501,"OK"))) | T19: =IF(COUNTA(B19:R19)=0,"",IFERROR(1-((--(B19="")+--(C19="")+--(D19="")+--(E19="")+--(F19="")+--(G19="")+--(J19="")+--(K19="")+--(L19="")+--(M19="")+--(N19="")+--(O19="")+--(P19="")+--(Q19="")+--(S19<Apoio!$K$2)+IF(F19="Aprovada",--(H19="")+--(I19=""),0))/(15+IF(F19="Aprovada",2,0))),0)) | U19: =IF(COUNTA(B19:R19)=0,"",_xlfn.TEXTJOIN(", ",TRUE,IF(B19="","SKU",""),IF(C19="","Versão",""),IF(D19="","Nome do produto",""),IF(E19="","Categoria",""),IF(F19="","Status da versão",""),IF(G19="","Data da versão",""),IF(J19="","Material principal",""),IF(K19="","Composição detalhada",""),IF(L19="","Largura",""),IF(M19="","Altura",""),IF(N19="","Profundidade",""),IF(O19="","Peso líquido",""),IF(P19="","Garantia",""),IF(Q19="","Cuidados",""),IF(S19<Apoio!$K$2,"Especificações técnicas",""),IF(AND(F19="Aprovada",H19=""),"Data de aprovação",""),IF(AND(F19="Aprovada",I19=""),"Área aprovadora",""))) | V19: =IF(COUNTA(B19:R19)=0,"",IF(AND(F19="Aprovada",T19=1),"Sim","Não")) | W19: =IF(COUNTA(B19:R19)=0,"",IF(B19="","SKU ausente",IF(C19="","Versão ausente",IF(COUNTIFS($B$2:$B$101,B19,$C$2:$C$101,C19)>1,"SKU e versão duplicados",IF(G19>TODAY(),"Data da versão no futuro",IF(AND(H19<>"",G19<>"",H19<G19),"Aprovação anterior à versão",IF(T19<1,"Campos obrigatórios faltantes",IF(COUNTIFS($B$2:$B$101,B19,$V$2:$V$101,"Sim")>1,"Mais de uma versão aprovada",IF(AND(OR(F19="Rascunho",F19="Em revisão"),OR(H19<>"",I19<>"")),"Dados de aprovação em status não aprovado","OK")))))))))
A20: =IF(OR(B20="",C20=""),"",B20&"-V"&TEXT(C20,"00")) | S20: =IF(COUNTA(B20:R20)=0,"",IF(OR(B20="",C20=""),0,COUNTIFS('Especificações'!$B$2:$B$501,B20,'Especificações'!$C$2:$C$501,C20,'Especificações'!$M$2:$M$501,"OK"))) | T20: =IF(COUNTA(B20:R20)=0,"",IFERROR(1-((--(B20="")+--(C20="")+--(D20="")+--(E20="")+--(F20="")+--(G20="")+--(J20="")+--(K20="")+--(L20="")+--(M20="")+--(N20="")+--(O20="")+--(P20="")+--(Q20="")+--(S20<Apoio!$K$2)+IF(F20="Aprovada",--(H20="")+--(I20=""),0))/(15+IF(F20="Aprovada",2,0))),0)) | U20: =IF(COUNTA(B20:R20)=0,"",_xlfn.TEXTJOIN(", ",TRUE,IF(B20="","SKU",""),IF(C20="","Versão",""),IF(D20="","Nome do produto",""),IF(E20="","Categoria",""),IF(F20="","Status da versão",""),IF(G20="","Data da versão",""),IF(J20="","Material principal",""),IF(K20="","Composição detalhada",""),IF(L20="","Largura",""),IF(M20="","Altura",""),IF(N20="","Profundidade",""),IF(O20="","Peso líquido",""),IF(P20="","Garantia",""),IF(Q20="","Cuidados",""),IF(S20<Apoio!$K$2,"Especificações técnicas",""),IF(AND(F20="Aprovada",H20=""),"Data de aprovação",""),IF(AND(F20="Aprovada",I20=""),"Área aprovadora",""))) | V20: =IF(COUNTA(B20:R20)=0,"",IF(AND(F20="Aprovada",T20=1),"Sim","Não")) | W20: =IF(COUNTA(B20:R20)=0,"",IF(B20="","SKU ausente",IF(C20="","Versão ausente",IF(COUNTIFS($B$2:$B$101,B20,$C$2:$C$101,C20)>1,"SKU e versão duplicados",IF(G20>TODAY(),"Data da versão no futuro",IF(AND(H20<>"",G20<>"",H20<G20),"Aprovação anterior à versão",IF(T20<1,"Campos obrigatórios faltantes",IF(COUNTIFS($B$2:$B$101,B20,$V$2:$V$101,"Sim")>1,"Mais de uma versão aprovada",IF(AND(OR(F20="Rascunho",F20="Em revisão"),OR(H20<>"",I20<>"")),"Dados de aprovação em status não aprovado","OK")))))))))
A21: =IF(OR(B21="",C21=""),"",B21&"-V"&TEXT(C21,"00")) | S21: =IF(COUNTA(B21:R21)=0,"",IF(OR(B21="",C21=""),0,COUNTIFS('Especificações'!$B$2:$B$501,B21,'Especificações'!$C$2:$C$501,C21,'Especificações'!$M$2:$M$501,"OK"))) | T21: =IF(COUNTA(B21:R21)=0,"",IFERROR(1-((--(B21="")+--(C21="")+--(D21="")+--(E21="")+--(F21="")+--(G21="")+--(J21="")+--(K21="")+--(L21="")+--(M21="")+--(N21="")+--(O21="")+--(P21="")+--(Q21="")+--(S21<Apoio!$K$2)+IF(F21="Aprovada",--(H21="")+--(I21=""),0))/(15+IF(F21="Aprovada",2,0))),0)) | U21: =IF(COUNTA(B21:R21)=0,"",_xlfn.TEXTJOIN(", ",TRUE,IF(B21="","SKU",""),IF(C21="","Versão",""),IF(D21="","Nome do produto",""),IF(E21="","Categoria",""),IF(F21="","Status da versão",""),IF(G21="","Data da versão",""),IF(J21="","Material principal",""),IF(K21="","Composição detalhada",""),IF(L21="","Largura",""),IF(M21="","Altura",""),IF(N21="","Profundidade",""),IF(O21="","Peso líquido",""),IF(P21="","Garantia",""),IF(Q21="","Cuidados",""),IF(S21<Apoio!$K$2,"Especificações técnicas",""),IF(AND(F21="Aprovada",H21=""),"Data de aprovação",""),IF(AND(F21="Aprovada",I21=""),"Área aprovadora",""))) | V21: =IF(COUNTA(B21:R21)=0,"",IF(AND(F21="Aprovada",T21=1),"Sim","Não")) | W21: =IF(COUNTA(B21:R21)=0,"",IF(B21="","SKU ausente",IF(C21="","Versão ausente",IF(COUNTIFS($B$2:$B$101,B21,$C$2:$C$101,C21)>1,"SKU e versão duplicados",IF(G21>TODAY(),"Data da versão no futuro",IF(AND(H21<>"",G21<>"",H21<G21),"Aprovação anterior à versão",IF(T21<1,"Campos obrigatórios faltantes",IF(COUNTIFS($B$2:$B$101,B21,$V$2:$V$101,"Sim")>1,"Mais de uma versão aprovada",IF(AND(OR(F21="Rascunho",F21="Em revisão"),OR(H21<>"",I21<>"")),"Dados de aprovação em status não aprovado","OK")))))))))
A22: =IF(OR(B22="",C22=""),"",B22&"-V"&TEXT(C22,"00")) | S22: =IF(COUNTA(B22:R22)=0,"",IF(OR(B22="",C22=""),0,COUNTIFS('Especificações'!$B$2:$B$501,B22,'Especificações'!$C$2:$C$501,C22,'Especificações'!$M$2:$M$501,"OK"))) | T22: =IF(COUNTA(B22:R22)=0,"",IFERROR(1-((--(B22="")+--(C22="")+--(D22="")+--(E22="")+--(F22="")+--(G22="")+--(J22="")+--(K22="")+--(L22="")+--(M22="")+--(N22="")+--(O22="")+--(P22="")+--(Q22="")+--(S22<Apoio!$K$2)+IF(F22="Aprovada",--(H22="")+--(I22=""),0))/(15+IF(F22="Aprovada",2,0))),0)) | U22: =IF(COUNTA(B22:R22)=0,"",_xlfn.TEXTJOIN(", ",TRUE,IF(B22="","SKU",""),IF(C22="","Versão",""),IF(D22="","Nome do produto",""),IF(E22="","Categoria",""),IF(F22="","Status da versão",""),IF(G22="","Data da versão",""),IF(J22="","Material principal",""),IF(K22="","Composição detalhada",""),IF(L22="","Largura",""),IF(M22="","Altura",""),IF(N22="","Profundidade",""),IF(O22="","Peso líquido",""),IF(P22="","Garantia",""),IF(Q22="","Cuidados",""),IF(S22<Apoio!$K$2,"Especificações técnicas",""),IF(AND(F22="Aprovada",H22=""),"Data de aprovação",""),IF(AND(F22="Aprovada",I22=""),"Área aprovadora",""))) | V22: =IF(COUNTA(B22:R22)=0,"",IF(AND(F22="Aprovada",T22=1),"Sim","Não")) | W22: =IF(COUNTA(B22:R22)=0,"",IF(B22="","SKU ausente",IF(C22="","Versão ausente",IF(COUNTIFS($B$2:$B$101,B22,$C$2:$C$101,C22)>1,"SKU e versão duplicados",IF(G22>TODAY(),"Data da versão no futuro",IF(AND(H22<>"",G22<>"",H22<G22),"Aprovação anterior à versão",IF(T22<1,"Campos obrigatórios faltantes",IF(COUNTIFS($B$2:$B$101,B22,$V$2:$V$101,"Sim")>1,"Mais de uma versão aprovada",IF(AND(OR(F22="Rascunho",F22="Em revisão"),OR(H22<>"",I22<>"")),"Dados de aprovação em status não aprovado","OK")))))))))
A23: =IF(OR(B23="",C23=""),"",B23&"-V"&TEXT(C23,"00")) | S23: =IF(COUNTA(B23:R23)=0,"",IF(OR(B23="",C23=""),0,COUNTIFS('Especificações'!$B$2:$B$501,B23,'Especificações'!$C$2:$C$501,C23,'Especificações'!$M$2:$M$501,"OK"))) | T23: =IF(COUNTA(B23:R23)=0,"",IFERROR(1-((--(B23="")+--(C23="")+--(D23="")+--(E23="")+--(F23="")+--(G23="")+--(J23="")+--(K23="")+--(L23="")+--(M23="")+--(N23="")+--(O23="")+--(P23="")+--(Q23="")+--(S23<Apoio!$K$2)+IF(F23="Aprovada",--(H23="")+--(I23=""),0))/(15+IF(F23="Aprovada",2,0))),0)) | U23: =IF(COUNTA(B23:R23)=0,"",_xlfn.TEXTJOIN(", ",TRUE,IF(B23="","SKU",""),IF(C23="","Versão",""),IF(D23="","Nome do produto",""),IF(E23="","Categoria",""),IF(F23="","Status da versão",""),IF(G23="","Data da versão",""),IF(J23="","Material principal",""),IF(K23="","Composição detalhada",""),IF(L23="","Largura",""),IF(M23="","Altura",""),IF(N23="","Profundidade",""),IF(O23="","Peso líquido",""),IF(P23="","Garantia",""),IF(Q23="","Cuidados",""),IF(S23<Apoio!$K$2,"Especificações técnicas",""),IF(AND(F23="Aprovada",H23=""),"Data de aprovação",""),IF(AND(F23="Aprovada",I23=""),"Área aprovadora",""))) | V23: =IF(COUNTA(B23:R23)=0,"",IF(AND(F23="Aprovada",T23=1),"Sim","Não")) | W23: =IF(COUNTA(B23:R23)=0,"",IF(B23="","SKU ausente",IF(C23="","Versão ausente",IF(COUNTIFS($B$2:$B$101,B23,$C$2:$C$101,C23)>1,"SKU e versão duplicados",IF(G23>TODAY(),"Data da versão no futuro",IF(AND(H23<>"",G23<>"",H23<G23),"Aprovação anterior à versão",IF(T23<1,"Campos obrigatórios faltantes",IF(COUNTIFS($B$2:$B$101,B23,$V$2:$V$101,"Sim")>1,"Mais de uma versão aprovada",IF(AND(OR(F23="Rascunho",F23="Em revisão"),OR(H23<>"",I23<>"")),"Dados de aprovação em status não aprovado","OK")))))))))
... A101: =IF(OR(B101="",C101=""),"",B101&"-V"&TEXT(C101,"00")) | S101: =IF(COUNTA(B101:R101)=0,"",IF(OR(B101="",C101=""),0,COUNTIFS('Especificações'!$B$2:$B$501,B101,'Especificações'!$C$2:$C$501,C101,'Especificações'!$M$2:$M$501,"OK"))) | T101: =IF(COUNTA(B101:R101)=0,"",IFERROR(1-((--(B101="")+--(C101="")+--(D101="")+--(E101="")+--(F101="")+--(G101="")+--(J101="")+--(K101="")+--(L101="")+--(M101="")+--(N101="")+--(O101="")+--(P101="")+--(Q101="")+--(S101<Apoio!$K$2)+IF(F101="Aprovada",--(H101="")+--(I101=""),0))/(15+IF(F101="Aprovada",2,0))),0)) | U101: =IF(COUNTA(B101:R101)=0,"",_xlfn.TEXTJOIN(", ",TRUE,IF(B101="","SKU",""),IF(C101="","Versão",""),IF(D101="","Nome do produto",""),IF(E101="","Categoria",""),IF(F101="","Status da versão",""),IF(G101="","Data da versão",""),IF(J101="","Material principal",""),IF(K101="","Composição detalhada",""),IF(L101="","Largura",""),IF(M101="","Altura",""),IF(N101="","Profundidade",""),IF(O101="","Peso líquido",""),IF(P101="","Garantia",""),IF(Q101="","Cuidados",""),IF(S101<Apoio!$K$2,"Especificações técnicas",""),IF(AND(F101="Aprovada",H101=""),"Data de aprovação",""),IF(AND(F101="Aprovada",I101=""),"Área aprovadora",""))) | V101: =IF(COUNTA(B101:R101)=0,"",IF(AND(F101="Aprovada",T101=1),"Sim","Não")) | W101: =IF(COUNTA(B101:R101)=0,"",IF(B101="","SKU ausente",IF(C101="","Versão ausente",IF(COUNTIFS($B$2:$B$101,B101,$C$2:$C$101,C101)>1,"SKU e versão duplicados",IF(G101>TODAY(),"Data da versão no futuro",IF(AND(H101<>"",G101<>"",H101<G101),"Aprovação anterior à versão",IF(T101<1,"Campos obrigatórios faltantes",IF(COUNTIFS($B$2:$B$101,B101,$V$2:$V$101,"Sim")>1,"Mais de uma versão aprovada",IF(AND(OR(F101="Rascunho",F101="Em revisão"),OR(H101<>"",I101<>"")),"Dados de aprovação em status não aprovado","OK")))))))))

Sheet Especificações
A1: Chave da especificação | B1: SKU | C1: Versão | D1: Grupo | E1: Atributo | F1: Valor | G1: Unidade | H1: Fonte ou critério interno | I1: Observações | J1: Ficha localizada | K1: Grupo padrão | L1: Unidade padrão | M1: Alerta
A2: =IF(OR(B2="",C2="",E2=""),"",B2&"-V"&TEXT(C2,"00")&"|"&E2) | B2: FIC-ORG-001 | C2: 1 | D2: Dimensões e capacidade | E2: Capacidade útil | F2: 18 | G2: L | H2: Medição interna | I2: Volume nominal | J2: =IF(COUNTA(B2:I2)=0,"",IF(AND(B2<>"",C2<>"",COUNTIFS('Fichas de produto'!$B$2:$B$101,B2,'Fichas de produto'!$C$2:$C$101,C2)=1),"Sim","Não")) | K2: =IF(E2="","",IFERROR(INDEX(Apoio!$D$2:$D$16,MATCH(E2,Apoio!$C$2:$C$16,0)),"")) | L2: =IF(E2="","",IFERROR(INDEX(Apoio!$E$2:$E$16,MATCH(E2,Apoio!$C$2:$C$16,0)),"")) | M2: =IF(COUNTA(B2:I2)=0,"",IF(OR(B2="",C2="",D2="",E2="",F2="",G2=""),"Campos obrigatórios faltantes",IF(J2="Não","Ficha não localizada",IF(K2="","Atributo fora do dicionário",IF(COUNTIFS($B$2:$B$501,B2,$C$2:$C$501,C2,$E$2:$E$501,E2)>1,"Atributo duplicado na versão",IF(D2<>K2,"Grupo divergente do padrão",IF(G2<>L2,"Unidade divergente do padrão","OK")))))))
A3: =IF(OR(B3="",C3="",E3=""),"",B3&"-V"&TEXT(C3,"00")&"|"&E3) | B3: FIC-ORG-001 | C3: 1 | D3: Dimensões e capacidade | E3: Quantidade de compartimentos | F3: 3 | G3: un. | H3: Inspeção interna | I3: Divisórias fixas | J3: =IF(COUNTA(B3:I3)=0,"",IF(AND(B3<>"",C3<>"",COUNTIFS('Fichas de produto'!$B$2:$B$101,B3,'Fichas de produto'!$C$2:$C$101,C3)=1),"Sim","Não")) | K3: =IF(E3="","",IFERROR(INDEX(Apoio!$D$2:$D$16,MATCH(E3,Apoio!$C$2:$C$16,0)),"")) | L3: =IF(E3="","",IFERROR(INDEX(Apoio!$E$2:$E$16,MATCH(E3,Apoio!$C$2:$C$16,0)),"")) | M3: =IF(COUNTA(B3:I3)=0,"",IF(OR(B3="",C3="",D3="",E3="",F3="",G3=""),"Campos obrigatórios faltantes",IF(J3="Não","Ficha não localizada",IF(K3="","Atributo fora do dicionário",IF(COUNTIFS($B$2:$B$501,B3,$C$2:$C$501,C3,$E$2:$E$501,E3)>1,"Atributo duplicado na versão",IF(D3<>K3,"Grupo divergente do padrão",IF(G3<>L3,"Unidade divergente do padrão","OK")))))))
A4: =IF(OR(B4="",C4="",E4=""),"",B4&"-V"&TEXT(C4,"00")&"|"&E4) | B4: FIC-ORG-001 | C4: 2 | D4: Dimensões e capacidade | E4: Capacidade útil | F4: 20 | G4: L | H4: Medição interna | I4: Volume nominal revisado | J4: =IF(COUNTA(B4:I4)=0,"",IF(AND(B4<>"",C4<>"",COUNTIFS('Fichas de produto'!$B$2:$B$101,B4,'Fichas de produto'!$C$2:$C$101,C4)=1),"Sim","Não")) | K4: =IF(E4="","",IFERROR(INDEX(Apoio!$D$2:$D$16,MATCH(E4,Apoio!$C$2:$C$16,0)),"")) | L4: =IF(E4="","",IFERROR(INDEX(Apoio!$E$2:$E$16,MATCH(E4,Apoio!$C$2:$C$16,0)),"")) | M4: =IF(COUNTA(B4:I4)=0,"",IF(OR(B4="",C4="",D4="",E4="",F4="",G4=""),"Campos obrigatórios faltantes",IF(J4="Não","Ficha não localizada",IF(K4="","Atributo fora do dicionário",IF(COUNTIFS($B$2:$B$501,B4,$C$2:$C$501,C4,$E$2:$E$501,E4)>1,"Atributo duplicado na versão",IF(D4<>K4,"Grupo divergente do padrão",IF(G4<>L4,"Unidade divergente do padrão","OK")))))))
A5: =IF(OR(B5="",C5="",E5=""),"",B5&"-V"&TEXT(C5,"00")&"|"&E5) | B5: FIC-ORG-001 | C5: 2 | D5: Dimensões e capacidade | E5: Quantidade de compartimentos | F5: 4 | G5: un. | H5: Inspeção interna | I5: Divisórias removíveis | J5: =IF(COUNTA(B5:I5)=0,"",IF(AND(B5<>"",C5<>"",COUNTIFS('Fichas de produto'!$B$2:$B$101,B5,'Fichas de produto'!$C$2:$C$101,C5)=1),"Sim","Não")) | K5: =IF(E5="","",IFERROR(INDEX(Apoio!$D$2:$D$16,MATCH(E5,Apoio!$C$2:$C$16,0)),"")) | L5: =IF(E5="","",IFERROR(INDEX(Apoio!$E$2:$E$16,MATCH(E5,Apoio!$C$2:$C$16,0)),"")) | M5: =IF(COUNTA(B5:I5)=0,"",IF(OR(B5="",C5="",D5="",E5="",F5="",G5=""),"Campos obrigatórios faltantes",IF(J5="Não","Ficha não localizada",IF(K5="","Atributo fora do dicionário",IF(COUNTIFS($B$2:$B$501,B5,$C$2:$C$501,C5,$E$2:$E$501,E5)>1,"Atributo duplicado na versão",IF(D5<>K5,"Grupo divergente do padrão",IF(G5<>L5,"Unidade divergente do padrão","OK")))))))
A6: =IF(OR(B6="",C6="",E6=""),"",B6&"-V"&TEXT(C6,"00")&"|"&E6) | B6: FIC-LUM-002 | C6: 1 | D6: Desempenho | E6: Potência nominal | F6: 8 | G6: W | H6: Ensaio interno | I6: LED integrado | J6: =IF(COUNTA(B6:I6)=0,"",IF(AND(B6<>"",C6<>"",COUNTIFS('Fichas de produto'!$B$2:$B$101,B6,'Fichas de produto'!$C$2:$C$101,C6)=1),"Sim","Não")) | K6: =IF(E6="","",IFERROR(INDEX(Apoio!$D$2:$D$16,MATCH(E6,Apoio!$C$2:$C$16,0)),"")) | L6: =IF(E6="","",IFERROR(INDEX(Apoio!$E$2:$E$16,MATCH(E6,Apoio!$C$2:$C$16,0)),"")) | M6: =IF(COUNTA(B6:I6)=0,"",IF(OR(B6="",C6="",D6="",E6="",F6="",G6=""),"Campos obrigatórios faltantes",IF(J6="Não","Ficha não localizada",IF(K6="","Atributo fora do dicionário",IF(COUNTIFS($B$2:$B$501,B6,$C$2:$C$501,C6,$E$2:$E$501,E6)>1,"Atributo duplicado na versão",IF(D6<>K6,"Grupo divergente do padrão",IF(G6<>L6,"Unidade divergente do padrão","OK")))))))
A7: =IF(OR(B7="",C7="",E7=""),"",B7&"-V"&TEXT(C7,"00")&"|"&E7) | B7: FIC-LUM-002 | C7: 1 | D7: Compatibilidade | E7: Tensão nominal | F7: 100–240 | G7: V | H7: Ensaio interno | I7: Bivolt automático | J7: =IF(COUNTA(B7:I7)=0,"",IF(AND(B7<>"",C7<>"",COUNTIFS('Fichas de produto'!$B$2:$B$101,B7,'Fichas de produto'!$C$2:$C$101,C7)=1),"Sim","Não")) | K7: =IF(E7="","",IFERROR(INDEX(Apoio!$D$2:$D$16,MATCH(E7,Apoio!$C$2:$C$16,0)),"")) | L7: =IF(E7="","",IFERROR(INDEX(Apoio!$E$2:$E$16,MATCH(E7,Apoio!$C$2:$C$16,0)),"")) | M7: =IF(COUNTA(B7:I7)=0,"",IF(OR(B7="",C7="",D7="",E7="",F7="",G7=""),"Campos obrigatórios faltantes",IF(J7="Não","Ficha não localizada",IF(K7="","Atributo fora do dicionário",IF(COUNTIFS($B$2:$B$501,B7,$C$2:$C$501,C7,$E$2:$E$501,E7)>1,"Atributo duplicado na versão",IF(D7<>K7,"Grupo divergente do padrão",IF(G7<>L7,"Unidade divergente do padrão","OK")))))))
A8: =IF(OR(B8="",C8="",E8=""),"",B8&"-V"&TEXT(C8,"00")&"|"&E8) | B8: FIC-COZ-003 | C8: 1 | D8: Dimensões e capacidade | E8: Capacidade útil | F8: 0.75 | G8: L | H8: Medição interna | I8: Capacidade nominal | J8: =IF(COUNTA(B8:I8)=0,"",IF(AND(B8<>"",C8<>"",COUNTIFS('Fichas de produto'!$B$2:$B$101,B8,'Fichas de produto'!$C$2:$C$101,C8)=1),"Sim","Não")) | K8: =IF(E8="","",IFERROR(INDEX(Apoio!$D$2:$D$16,MATCH(E8,Apoio!$C$2:$C$16,0)),"")) | L8: =IF(E8="","",IFERROR(INDEX(Apoio!$E$2:$E$16,MATCH(E8,Apoio!$C$2:$C$16,0)),"")) | M8: =IF(COUNTA(B8:I8)=0,"",IF(OR(B8="",C8="",D8="",E8="",F8="",G8=""),"Campos obrigatórios faltantes",IF(J8="Não","Ficha não localizada",IF(K8="","Atributo fora do dicionário",IF(COUNTIFS($B$2:$B$501,B8,$C$2:$C$501,C8,$E$2:$E$501,E8)>1,"Atributo duplicado na versão",IF(D8<>K8,"Grupo divergente do padrão",IF(G8<>L8,"Unidade divergente do padrão","OK")))))))
A9: =IF(OR(B9="",C9="",E9=""),"",B9&"-V"&TEXT(C9,"00")&"|"&E9) | B9: FIC-COZ-003 | C9: 1 | D9: Segurança e uso | E9: Temperatura máxima de uso | F9: 90 | G9: °C | H9: Ensaio interno | I9: Resultado preliminar | J9: =IF(COUNTA(B9:I9)=0,"",IF(AND(B9<>"",C9<>"",COUNTIFS('Fichas de produto'!$B$2:$B$101,B9,'Fichas de produto'!$C$2:$C$101,C9)=1),"Sim","Não")) | K9: =IF(E9="","",IFERROR(INDEX(Apoio!$D$2:$D$16,MATCH(E9,Apoio!$C$2:$C$16,0)),"")) | L9: =IF(E9="","",IFERROR(INDEX(Apoio!$E$2:$E$16,MATCH(E9,Apoio!$C$2:$C$16,0)),"")) | M9: =IF(COUNTA(B9:I9)=0,"",IF(OR(B9="",C9="",D9="",E9="",F9="",G9=""),"Campos obrigatórios faltantes",IF(J9="Não","Ficha não localizada",IF(K9="","Atributo fora do dicionário",IF(COUNTIFS($B$2:$B$501,B9,$C$2:$C$501,C9,$E$2:$E$501,E9)>1,"Atributo duplicado na versão",IF(D9<>K9,"Grupo divergente do padrão",IF(G9<>L9,"Unidade divergente do padrão","OK")))))))
A10: =IF(OR(B10="",C10="",E10=""),"",B10&"-V"&TEXT(C10,"00")&"|"&E10) | B10: FIC-TEX-004 | C10: 1 | D10: Materiais | E10: Gramatura | F10: 220 | G10: g/m² | H10: Medição interna | I10: Tecido principal | J10: =IF(COUNTA(B10:I10)=0,"",IF(AND(B10<>"",C10<>"",COUNTIFS('Fichas de produto'!$B$2:$B$101,B10,'Fichas de produto'!$C$2:$C$101,C10)=1),"Sim","Não")) | K10: =IF(E10="","",IFERROR(INDEX(Apoio!$D$2:$D$16,MATCH(E10,Apoio!$C$2:$C$16,0)),"")) | L10: =IF(E10="","",IFERROR(INDEX(Apoio!$E$2:$E$16,MATCH(E10,Apoio!$C$2:$C$16,0)),"")) | M10: =IF(COUNTA(B10:I10)=0,"",IF(OR(B10="",C10="",D10="",E10="",F10="",G10=""),"Campos obrigatórios faltantes",IF(J10="Não","Ficha não localizada",IF(K10="","Atributo fora do dicionário",IF(COUNTIFS($B$2:$B$501,B10,$C$2:$C$501,C10,$E$2:$E$501,E10)>1,"Atributo duplicado na versão",IF(D10<>K10,"Grupo divergente do padrão",IF(G10<>L10,"Unidade divergente do padrão","OK")))))))
A11: =IF(OR(B11="",C11="",E11=""),"",B11&"-V"&TEXT(C11,"00")&"|"&E11) | B11: FIC-TEX-004 | C11: 1 | D11: Funcionalidade | E11: Tipo de fechamento | F11: Zíper | G11: Sem unidade | H11: Inspeção interna | I11: Fechamento lateral | J11: =IF(COUNTA(B11:I11)=0,"",IF(AND(B11<>"",C11<>"",COUNTIFS('Fichas de produto'!$B$2:$B$101,B11,'Fichas de produto'!$C$2:$C$101,C11)=1),"Sim","Não")) | K11: =IF(E11="","",IFERROR(INDEX(Apoio!$D$2:$D$16,MATCH(E11,Apoio!$C$2:$C$16,0)),"")) | L11: =IF(E11="","",IFERROR(INDEX(Apoio!$E$2:$E$16,MATCH(E11,Apoio!$C$2:$C$16,0)),"")) | M11: =IF(COUNTA(B11:I11)=0,"",IF(OR(B11="",C11="",D11="",E11="",F11="",G11=""),"Campos obrigatórios faltantes",IF(J11="Não","Ficha não localizada",IF(K11="","Atributo fora do dicionário",IF(COUNTIFS($B$2:$B$501,B11,$C$2:$C$501,C11,$E$2:$E$501,E11)>1,"Atributo duplicado na versão",IF(D11<>K11,"Grupo divergente do padrão",IF(G11<>L11,"Unidade divergente do padrão","OK")))))))
A12: =IF(OR(B12="",C12="",E12=""),"",B12&"-V"&TEXT(C12,"00")&"|"&E12) | B12: FIC-ESC-005 | C12: 1 | D12: Desempenho | E12: Carga máxima | F12: 12 | G12: kg | H12: Ensaio interno | I12: Carga distribuída | J12: =IF(COUNTA(B12:I12)=0,"",IF(AND(B12<>"",C12<>"",COUNTIFS('Fichas de produto'!$B$2:$B$101,B12,'Fichas de produto'!$C$2:$C$101,C12)=1),"Sim","Não")) | K12: =IF(E12="","",IFERROR(INDEX(Apoio!$D$2:$D$16,MATCH(E12,Apoio!$C$2:$C$16,0)),"")) | L12: =IF(E12="","",IFERROR(INDEX(Apoio!$E$2:$E$16,MATCH(E12,Apoio!$C$2:$C$16,0)),"")) | M12: =IF(COUNTA(B12:I12)=0,"",IF(OR(B12="",C12="",D12="",E12="",F12="",G12=""),"Campos obrigatórios faltantes",IF(J12="Não","Ficha não localizada",IF(K12="","Atributo fora do dicionário",IF(COUNTIFS($B$2:$B$501,B12,$C$2:$C$501,C12,$E$2:$E$501,E12)>1,"Atributo duplicado na versão",IF(D12<>K12,"Grupo divergente do padrão",IF(G12<>L12,"Unidade divergente do padrão","OK")))))))
A13: =IF(OR(B13="",C13="",E13=""),"",B13&"-V"&TEXT(C13,"00")&"|"&E13) | B13: FIC-ESC-005 | C13: 1 | D13: Funcionalidade | E13: Ajuste de altura | F13: 3 níveis | G13: Sem unidade | H13: Inspeção interna | I13: Ajuste manual | J13: =IF(COUNTA(B13:I13)=0,"",IF(AND(B13<>"",C13<>"",COUNTIFS('Fichas de produto'!$B$2:$B$101,B13,'Fichas de produto'!$C$2:$C$101,C13)=1),"Sim","Não")) | K13: =IF(E13="","",IFERROR(INDEX(Apoio!$D$2:$D$16,MATCH(E13,Apoio!$C$2:$C$16,0)),"")) | L13: =IF(E13="","",IFERROR(INDEX(Apoio!$E$2:$E$16,MATCH(E13,Apoio!$C$2:$C$16,0)),"")) | M13: =IF(COUNTA(B13:I13)=0,"",IF(OR(B13="",C13="",D13="",E13="",F13="",G13=""),"Campos obrigatórios faltantes",IF(J13="Não","Ficha não localizada",IF(K13="","Atributo fora do dicionário",IF(COUNTIFS($B$2:$B$501,B13,$C$2:$C$501,C13,$E$2:$E$501,E13)>1,"Atributo duplicado na versão",IF(D13<>K13,"Grupo divergente do padrão",IF(G13<>L13,"Unidade divergente do padrão","OK")))))))
A14: =IF(OR(B14="",C14="",E14=""),"",B14&"-V"&TEXT(C14,"00")&"|"&E14) | B14: FIC-ORG-006 | C14: 1 | D14: Dimensões e capacidade | E14: Capacidade útil | F14: 32 | G14: L | H14: Medição interna | I14: Volume nominal | J14: =IF(COUNTA(B14:I14)=0,"",IF(AND(B14<>"",C14<>"",COUNTIFS('Fichas de produto'!$B$2:$B$101,B14,'Fichas de produto'!$C$2:$C$101,C14)=1),"Sim","Não")) | K14: =IF(E14="","",IFERROR(INDEX(Apoio!$D$2:$D$16,MATCH(E14,Apoio!$C$2:$C$16,0)),"")) | L14: =IF(E14="","",IFERROR(INDEX(Apoio!$E$2:$E$16,MATCH(E14,Apoio!$C$2:$C$16,0)),"")) | M14: =IF(COUNTA(B14:I14)=0,"",IF(OR(B14="",C14="",D14="",E14="",F14="",G14=""),"Campos obrigatórios faltantes",IF(J14="Não","Ficha não localizada",IF(K14="","Atributo fora do dicionário",IF(COUNTIFS($B$2:$B$501,B14,$C$2:$C$501,C14,$E$2:$E$501,E14)>1,"Atributo duplicado na versão",IF(D14<>K14,"Grupo divergente do padrão",IF(G14<>L14,"Unidade divergente do padrão","OK")))))))
A15: =IF(OR(B15="",C15="",E15=""),"",B15&"-V"&TEXT(C15,"00")&"|"&E15) | B15: FIC-ORG-006 | C15: 1 | D15: Desempenho | E15: Carga máxima | F15: 15 | G15: kg | H15: Ensaio interno | I15: Ensaio preliminar | J15: =IF(COUNTA(B15:I15)=0,"",IF(AND(B15<>"",C15<>"",COUNTIFS('Fichas de produto'!$B$2:$B$101,B15,'Fichas de produto'!$C$2:$C$101,C15)=1),"Sim","Não")) | K15: =IF(E15="","",IFERROR(INDEX(Apoio!$D$2:$D$16,MATCH(E15,Apoio!$C$2:$C$16,0)),"")) | L15: =IF(E15="","",IFERROR(INDEX(Apoio!$E$2:$E$16,MATCH(E15,Apoio!$C$2:$C$16,0)),"")) | M15: =IF(COUNTA(B15:I15)=0,"",IF(OR(B15="",C15="",D15="",E15="",F15="",G15=""),"Campos obrigatórios faltantes",IF(J15="Não","Ficha não localizada",IF(K15="","Atributo fora do dicionário",IF(COUNTIFS($B$2:$B$501,B15,$C$2:$C$501,C15,$E$2:$E$501,E15)>1,"Atributo duplicado na versão",IF(D15<>K15,"Grupo divergente do padrão",IF(G15<>L15,"Unidade divergente do padrão","OK")))))))
A16: =IF(OR(B16="",C16="",E16=""),"",B16&"-V"&TEXT(C16,"00")&"|"&E16) | B16: FIC-COZ-007 | C16: 1 | D16: Dimensões e capacidade | E16: Capacidade útil | F16: 0.8 | G16: L | H16: Medição interna | I16: Capacidade nominal | J16: =IF(COUNTA(B16:I16)=0,"",IF(AND(B16<>"",C16<>"",COUNTIFS('Fichas de produto'!$B$2:$B$101,B16,'Fichas de produto'!$C$2:$C$101,C16)=1),"Sim","Não")) | K16: =IF(E16="","",IFERROR(INDEX(Apoio!$D$2:$D$16,MATCH(E16,Apoio!$C$2:$C$16,0)),"")) | L16: =IF(E16="","",IFERROR(INDEX(Apoio!$E$2:$E$16,MATCH(E16,Apoio!$C$2:$C$16,0)),"")) | M16: =IF(COUNTA(B16:I16)=0,"",IF(OR(B16="",C16="",D16="",E16="",F16="",G16=""),"Campos obrigatórios faltantes",IF(J16="Não","Ficha não localizada",IF(K16="","Atributo fora do dicionário",IF(COUNTIFS($B$2:$B$501,B16,$C$2:$C$501,C16,$E$2:$E$501,E16)>1,"Atributo duplicado na versão",IF(D16<>K16,"Grupo divergente do padrão",IF(G16<>L16,"Unidade divergente do padrão","OK")))))))
A17: =IF(OR(B17="",C17="",E17=""),"",B17&"-V"&TEXT(C17,"00")&"|"&E17) | B17: FIC-COZ-007 | C17: 1 | D17: Segurança e uso | E17: Temperatura máxima de uso | F17: 100 | G17: °C | H17: Ensaio interno | I17: Sem tampa | J17: =IF(COUNTA(B17:I17)=0,"",IF(AND(B17<>"",C17<>"",COUNTIFS('Fichas de produto'!$B$2:$B$101,B17,'Fichas de produto'!$C$2:$C$101,C17)=1),"Sim","Não")) | K17: =IF(E17="","",IFERROR(INDEX(Apoio!$D$2:$D$16,MATCH(E17,Apoio!$C$2:$C$16,0)),"")) | L17: =IF(E17="","",IFERROR(INDEX(Apoio!$E$2:$E$16,MATCH(E17,Apoio!$C$2:$C$16,0)),"")) | M17: =IF(COUNTA(B17:I17)=0,"",IF(OR(B17="",C17="",D17="",E17="",F17="",G17=""),"Campos obrigatórios faltantes",IF(J17="Não","Ficha não localizada",IF(K17="","Atributo fora do dicionário",IF(COUNTIFS($B$2:$B$501,B17,$C$2:$C$501,C17,$E$2:$E$501,E17)>1,"Atributo duplicado na versão",IF(D17<>K17,"Grupo divergente do padrão",IF(G17<>L17,"Unidade divergente do padrão","OK")))))))
A18: =IF(OR(B18="",C18="",E18=""),"",B18&"-V"&TEXT(C18,"00")&"|"&E18) | B18: FIC-LUM-008 | C18: 1 | D18: Desempenho | E18: Potência nominal | F18: 6 | G18: W | H18: Ensaio interno | I18: LED integrado | J18: =IF(COUNTA(B18:I18)=0,"",IF(AND(B18<>"",C18<>"",COUNTIFS('Fichas de produto'!$B$2:$B$101,B18,'Fichas de produto'!$C$2:$C$101,C18)=1),"Sim","Não")) | K18: =IF(E18="","",IFERROR(INDEX(Apoio!$D$2:$D$16,MATCH(E18,Apoio!$C$2:$C$16,0)),"")) | L18: =IF(E18="","",IFERROR(INDEX(Apoio!$E$2:$E$16,MATCH(E18,Apoio!$C$2:$C$16,0)),"")) | M18: =IF(COUNTA(B18:I18)=0,"",IF(OR(B18="",C18="",D18="",E18="",F18="",G18=""),"Campos obrigatórios faltantes",IF(J18="Não","Ficha não localizada",IF(K18="","Atributo fora do dicionário",IF(COUNTIFS($B$2:$B$501,B18,$C$2:$C$501,C18,$E$2:$E$501,E18)>1,"Atributo duplicado na versão",IF(D18<>K18,"Grupo divergente do padrão",IF(G18<>L18,"Unidade divergente do padrão","OK")))))))
A19: =IF(OR(B19="",C19="",E19=""),"",B19&"-V"&TEXT(C19,"00")&"|"&E19) | B19: FIC-LUM-008 | C19: 1 | D19: Compatibilidade | E19: Tensão nominal | F19: 5 | G19: V | H19: Ensaio interno | I19: Alimentação USB | J19: =IF(COUNTA(B19:I19)=0,"",IF(AND(B19<>"",C19<>"",COUNTIFS('Fichas de produto'!$B$2:$B$101,B19,'Fichas de produto'!$C$2:$C$101,C19)=1),"Sim","Não")) | K19: =IF(E19="","",IFERROR(INDEX(Apoio!$D$2:$D$16,MATCH(E19,Apoio!$C$2:$C$16,0)),"")) | L19: =IF(E19="","",IFERROR(INDEX(Apoio!$E$2:$E$16,MATCH(E19,Apoio!$C$2:$C$16,0)),"")) | M19: =IF(COUNTA(B19:I19)=0,"",IF(OR(B19="",C19="",D19="",E19="",F19="",G19=""),"Campos obrigatórios faltantes",IF(J19="Não","Ficha não localizada",IF(K19="","Atributo fora do dicionário",IF(COUNTIFS($B$2:$B$501,B19,$C$2:$C$501,C19,$E$2:$E$501,E19)>1,"Atributo duplicado na versão",IF(D19<>K19,"Grupo divergente do padrão",IF(G19<>L19,"Unidade divergente do padrão","OK")))))))
A20: =IF(OR(B20="",C20="",E20=""),"",B20&"-V"&TEXT(C20,"00")&"|"&E20) | B20: FIC-ESC-009 | C20: 1 | D20: Desempenho | E20: Carga máxima | F20: 8 | G20: kg | H20: Ensaio interno | I20: Carga distribuída | J20: =IF(COUNTA(B20:I20)=0,"",IF(AND(B20<>"",C20<>"",COUNTIFS('Fichas de produto'!$B$2:$B$101,B20,'Fichas de produto'!$C$2:$C$101,C20)=1),"Sim","Não")) | K20: =IF(E20="","",IFERROR(INDEX(Apoio!$D$2:$D$16,MATCH(E20,Apoio!$C$2:$C$16,0)),"")) | L20: =IF(E20="","",IFERROR(INDEX(Apoio!$E$2:$E$16,MATCH(E20,Apoio!$C$2:$C$16,0)),"")) | M20: =IF(COUNTA(B20:I20)=0,"",IF(OR(B20="",C20="",D20="",E20="",F20="",G20=""),"Campos obrigatórios faltantes",IF(J20="Não","Ficha não localizada",IF(K20="","Atributo fora do dicionário",IF(COUNTIFS($B$2:$B$501,B20,$C$2:$C$501,C20,$E$2:$E$501,E20)>1,"Atributo duplicado na versão",IF(D20<>K20,"Grupo divergente do padrão",IF(G20<>L20,"Unidade divergente do padrão","OK")))))))
A21: =IF(OR(B21="",C21="",E21=""),"",B21&"-V"&TEXT(C21,"00")&"|"&E21) | B21: FIC-ESC-009 | C21: 1 | D21: Compatibilidade | E21: Compatibilidade de tamanho | F21: 11 a 17 polegadas | G21: Sem unidade | H21: Inspeção interna | I21: Faixa nominal | J21: =IF(COUNTA(B21:I21)=0,"",IF(AND(B21<>"",C21<>"",COUNTIFS('Fichas de produto'!$B$2:$B$101,B21,'Fichas de produto'!$C$2:$C$101,C21)=1),"Sim","Não")) | K21: =IF(E21="","",IFERROR(INDEX(Apoio!$D$2:$D$16,MATCH(E21,Apoio!$C$2:$C$16,0)),"")) | L21: =IF(E21="","",IFERROR(INDEX(Apoio!$E$2:$E$16,MATCH(E21,Apoio!$C$2:$C$16,0)),"")) | M21: =IF(COUNTA(B21:I21)=0,"",IF(OR(B21="",C21="",D21="",E21="",F21="",G21=""),"Campos obrigatórios faltantes",IF(J21="Não","Ficha não localizada",IF(K21="","Atributo fora do dicionário",IF(COUNTIFS($B$2:$B$501,B21,$C$2:$C$501,C21,$E$2:$E$501,E21)>1,"Atributo duplicado na versão",IF(D21<>K21,"Grupo divergente do padrão",IF(G21<>L21,"Unidade divergente do padrão","OK")))))))
A22: =IF(OR(B22="",C22="",E22=""),"",B22&"-V"&TEXT(C22,"00")&"|"&E22) | J22: =IF(COUNTA(B22:I22)=0,"",IF(AND(B22<>"",C22<>"",COUNTIFS('Fichas de produto'!$B$2:$B$101,B22,'Fichas de produto'!$C$2:$C$101,C22)=1),"Sim","Não")) | K22: =IF(E22="","",IFERROR(INDEX(Apoio!$D$2:$D$16,MATCH(E22,Apoio!$C$2:$C$16,0)),"")) | L22: =IF(E22="","",IFERROR(INDEX(Apoio!$E$2:$E$16,MATCH(E22,Apoio!$C$2:$C$16,0)),"")) | M22: =IF(COUNTA(B22:I22)=0,"",IF(OR(B22="",C22="",D22="",E22="",F22="",G22=""),"Campos obrigatórios faltantes",IF(J22="Não","Ficha não localizada",IF(K22="","Atributo fora do dicionário",IF(COUNTIFS($B$2:$B$501,B22,$C$2:$C$501,C22,$E$2:$E$501,E22)>1,"Atributo duplicado na versão",IF(D22<>K22,"Grupo divergente do padrão",IF(G22<>L22,"Unidade divergente do padrão","OK")))))))
A23: =IF(OR(B23="",C23="",E23=""),"",B23&"-V"&TEXT(C23,"00")&"|"&E23) | J23: =IF(COUNTA(B23:I23)=0,"",IF(AND(B23<>"",C23<>"",COUNTIFS('Fichas de produto'!$B$2:$B$101,B23,'Fichas de produto'!$C$2:$C$101,C23)=1),"Sim","Não")) | K23: =IF(E23="","",IFERROR(INDEX(Apoio!$D$2:$D$16,MATCH(E23,Apoio!$C$2:$C$16,0)),"")) | L23: =IF(E23="","",IFERROR(INDEX(Apoio!$E$2:$E$16,MATCH(E23,Apoio!$C$2:$C$16,0)),"")) | M23: =IF(COUNTA(B23:I23)=0,"",IF(OR(B23="",C23="",D23="",E23="",F23="",G23=""),"Campos obrigatórios faltantes",IF(J23="Não","Ficha não localizada",IF(K23="","Atributo fora do dicionário",IF(COUNTIFS($B$2:$B$501,B23,$C$2:$C$501,C23,$E$2:$E$501,E23)>1,"Atributo duplicado na versão",IF(D23<>K23,"Grupo divergente do padrão",IF(G23<>L23,"Unidade divergente do padrão","OK")))))))
A24: =IF(OR(B24="",C24="",E24=""),"",B24&"-V"&TEXT(C24,"00")&"|"&E24) | J24: =IF(COUNTA(B24:I24)=0,"",IF(AND(B24<>"",C24<>"",COUNTIFS('Fichas de produto'!$B$2:$B$101,B24,'Fichas de produto'!$C$2:$C$101,C24)=1),"Sim","Não")) | K24: =IF(E24="","",IFERROR(INDEX(Apoio!$D$2:$D$16,MATCH(E24,Apoio!$C$2:$C$16,0)),"")) | L24: =IF(E24="","",IFERROR(INDEX(Apoio!$E$2:$E$16,MATCH(E24,Apoio!$C$2:$C$16,0)),"")) | M24: =IF(COUNTA(B24:I24)=0,"",IF(OR(B24="",C24="",D24="",E24="",F24="",G24=""),"Campos obrigatórios faltantes",IF(J24="Não","Ficha não localizada",IF(K24="","Atributo fora do dicionário",IF(COUNTIFS($B$2:$B$501,B24,$C$2:$C$501,C24,$E$2:$E$501,E24)>1,"Atributo duplicado na versão",IF(D24<>K24,"Grupo divergente do padrão",IF(G24<>L24,"Unidade divergente do padrão","OK")))))))
A25: =IF(OR(B25="",C25="",E25=""),"",B25&"-V"&TEXT(C25,"00")&"|"&E25) | J25: =IF(COUNTA(B25:I25)=0,"",IF(AND(B25<>"",C25<>"",COUNTIFS('Fichas de produto'!$B$2:$B$101,B25,'Fichas de produto'!$C$2:$C$101,C25)=1),"Sim","Não")) | K25: =IF(E25="","",IFERROR(INDEX(Apoio!$D$2:$D$16,MATCH(E25,Apoio!$C$2:$C$16,0)),"")) | L25: =IF(E25="","",IFERROR(INDEX(Apoio!$E$2:$E$16,MATCH(E25,Apoio!$C$2:$C$16,0)),"")) | M25: =IF(COUNTA(B25:I25)=0,"",IF(OR(B25="",C25="",D25="",E25="",F25="",G25=""),"Campos obrigatórios faltantes",IF(J25="Não","Ficha não localizada",IF(K25="","Atributo fora do dicionário",IF(COUNTIFS($B$2:$B$501,B25,$C$2:$C$501,C25,$E$2:$E$501,E25)>1,"Atributo duplicado na versão",IF(D25<>K25,"Grupo divergente do padrão",IF(G25<>L25,"Unidade divergente do padrão","OK")))))))
A26: =IF(OR(B26="",C26="",E26=""),"",B26&"-V"&TEXT(C26,"00")&"|"&E26) | J26: =IF(COUNTA(B26:I26)=0,"",IF(AND(B26<>"",C26<>"",COUNTIFS('Fichas de produto'!$B$2:$B$101,B26,'Fichas de produto'!$C$2:$C$101,C26)=1),"Sim","Não")) | K26: =IF(E26="","",IFERROR(INDEX(Apoio!$D$2:$D$16,MATCH(E26,Apoio!$C$2:$C$16,0)),"")) | L26: =IF(E26="","",IFERROR(INDEX(Apoio!$E$2:$E$16,MATCH(E26,Apoio!$C$2:$C$16,0)),"")) | M26: =IF(COUNTA(B26:I26)=0,"",IF(OR(B26="",C26="",D26="",E26="",F26="",G26=""),"Campos obrigatórios faltantes",IF(J26="Não","Ficha não localizada",IF(K26="","Atributo fora do dicionário",IF(COUNTIFS($B$2:$B$501,B26,$C$2:$C$501,C26,$E$2:$E$501,E26)>1,"Atributo duplicado na versão",IF(D26<>K26,"Grupo divergente do padrão",IF(G26<>L26,"Unidade divergente do padrão","OK")))))))
A27: =IF(OR(B27="",C27="",E27=""),"",B27&"-V"&TEXT(C27,"00")&"|"&E27) | J27: =IF(COUNTA(B27:I27)=0,"",IF(AND(B27<>"",C27<>"",COUNTIFS('Fichas de produto'!$B$2:$B$101,B27,'Fichas de produto'!$C$2:$C$101,C27)=1),"Sim","Não")) | K27: =IF(E27="","",IFERROR(INDEX(Apoio!$D$2:$D$16,MATCH(E27,Apoio!$C$2:$C$16,0)),"")) | L27: =IF(E27="","",IFERROR(INDEX(Apoio!$E$2:$E$16,MATCH(E27,Apoio!$C$2:$C$16,0)),"")) | M27: =IF(COUNTA(B27:I27)=0,"",IF(OR(B27="",C27="",D27="",E27="",F27="",G27=""),"Campos obrigatórios faltantes",IF(J27="Não","Ficha não localizada",IF(K27="","Atributo fora do dicionário",IF(COUNTIFS($B$2:$B$501,B27,$C$2:$C$501,C27,$E$2:$E$501,E27)>1,"Atributo duplicado na versão",IF(D27<>K27,"Grupo divergente do padrão",IF(G27<>L27,"Unidade divergente do padrão","OK")))))))
A28: =IF(OR(B28="",C28="",E28=""),"",B28&"-V"&TEXT(C28,"00")&"|"&E28) | J28: =IF(COUNTA(B28:I28)=0,"",IF(AND(B28<>"",C28<>"",COUNTIFS('Fichas de produto'!$B$2:$B$101,B28,'Fichas de produto'!$C$2:$C$101,C28)=1),"Sim","Não")) | K28: =IF(E28="","",IFERROR(INDEX(Apoio!$D$2:$D$16,MATCH(E28,Apoio!$C$2:$C$16,0)),"")) | L28: =IF(E28="","",IFERROR(INDEX(Apoio!$E$2:$E$16,MATCH(E28,Apoio!$C$2:$C$16,0)),"")) | M28: =IF(COUNTA(B28:I28)=0,"",IF(OR(B28="",C28="",D28="",E28="",F28="",G28=""),"Campos obrigatórios faltantes",IF(J28="Não","Ficha não localizada",IF(K28="","Atributo fora do dicionário",IF(COUNTIFS($B$2:$B$501,B28,$C$2:$C$501,C28,$E$2:$E$501,E28)>1,"Atributo duplicado na versão",IF(D28<>K28,"Grupo divergente do padrão",IF(G28<>L28,"Unidade divergente do padrão","OK")))))))
A29: =IF(OR(B29="",C29="",E29=""),"",B29&"-V"&TEXT(C29,"00")&"|"&E29) | J29: =IF(COUNTA(B29:I29)=0,"",IF(AND(B29<>"",C29<>"",COUNTIFS('Fichas de produto'!$B$2:$B$101,B29,'Fichas de produto'!$C$2:$C$101,C29)=1),"Sim","Não")) | K29: =IF(E29="","",IFERROR(INDEX(Apoio!$D$2:$D$16,MATCH(E29,Apoio!$C$2:$C$16,0)),"")) | L29: =IF(E29="","",IFERROR(INDEX(Apoio!$E$2:$E$16,MATCH(E29,Apoio!$C$2:$C$16,0)),"")) | M29: =IF(COUNTA(B29:I29)=0,"",IF(OR(B29="",C29="",D29="",E29="",F29="",G29=""),"Campos obrigatórios faltantes",IF(J29="Não","Ficha não localizada",IF(K29="","Atributo fora do dicionário",IF(COUNTIFS($B$2:$B$501,B29,$C$2:$C$501,C29,$E$2:$E$501,E29)>1,"Atributo duplicado na versão",IF(D29<>K29,"Grupo divergente do padrão",IF(G29<>L29,"Unidade divergente do padrão","OK")))))))
A30: =IF(OR(B30="",C30="",E30=""),"",B30&"-V"&TEXT(C30,"00")&"|"&E30) | J30: =IF(COUNTA(B30:I30)=0,"",IF(AND(B30<>"",C30<>"",COUNTIFS('Fichas de produto'!$B$2:$B$101,B30,'Fichas de produto'!$C$2:$C$101,C30)=1),"Sim","Não")) | K30: =IF(E30="","",IFERROR(INDEX(Apoio!$D$2:$D$16,MATCH(E30,Apoio!$C$2:$C$16,0)),"")) | L30: =IF(E30="","",IFERROR(INDEX(Apoio!$E$2:$E$16,MATCH(E30,Apoio!$C$2:$C$16,0)),"")) | M30: =IF(COUNTA(B30:I30)=0,"",IF(OR(B30="",C30="",D30="",E30="",F30="",G30=""),"Campos obrigatórios faltantes",IF(J30="Não","Ficha não localizada",IF(K30="","Atributo fora do dicionário",IF(COUNTIFS($B$2:$B$501,B30,$C$2:$C$501,C30,$E$2:$E$501,E30)>1,"Atributo duplicado na versão",IF(D30<>K30,"Grupo divergente do padrão",IF(G30<>L30,"Unidade divergente do padrão","OK")))))))
A31: =IF(OR(B31="",C31="",E31=""),"",B31&"-V"&TEXT(C31,"00")&"|"&E31) | J31: =IF(COUNTA(B31:I31)=0,"",IF(AND(B31<>"",C31<>"",COUNTIFS('Fichas de produto'!$B$2:$B$101,B31,'Fichas de produto'!$C$2:$C$101,C31)=1),"Sim","Não")) | K31: =IF(E31="","",IFERROR(INDEX(Apoio!$D$2:$D$16,MATCH(E31,Apoio!$C$2:$C$16,0)),"")) | L31: =IF(E31="","",IFERROR(INDEX(Apoio!$E$2:$E$16,MATCH(E31,Apoio!$C$2:$C$16,0)),"")) | M31: =IF(COUNTA(B31:I31)=0,"",IF(OR(B31="",C31="",D31="",E31="",F31="",G31=""),"Campos obrigatórios faltantes",IF(J31="Não","Ficha não localizada",IF(K31="","Atributo fora do dicionário",IF(COUNTIFS($B$2:$B$501,B31,$C$2:$C$501,C31,$E$2:$E$501,E31)>1,"Atributo duplicado na versão",IF(D31<>K31,"Grupo divergente do padrão",IF(G31<>L31,"Unidade divergente do padrão","OK")))))))
A32: =IF(OR(B32="",C32="",E32=""),"",B32&"-V"&TEXT(C32,"00")&"|"&E32) | J32: =IF(COUNTA(B32:I32)=0,"",IF(AND(B32<>"",C32<>"",COUNTIFS('Fichas de produto'!$B$2:$B$101,B32,'Fichas de produto'!$C$2:$C$101,C32)=1),"Sim","Não")) | K32: =IF(E32="","",IFERROR(INDEX(Apoio!$D$2:$D$16,MATCH(E32,Apoio!$C$2:$C$16,0)),"")) | L32: =IF(E32="","",IFERROR(INDEX(Apoio!$E$2:$E$16,MATCH(E32,Apoio!$C$2:$C$16,0)),"")) | M32: =IF(COUNTA(B32:I32)=0,"",IF(OR(B32="",C32="",D32="",E32="",F32="",G32=""),"Campos obrigatórios faltantes",IF(J32="Não","Ficha não localizada",IF(K32="","Atributo fora do dicionário",IF(COUNTIFS($B$2:$B$501,B32,$C$2:$C$501,C32,$E$2:$E$501,E32)>1,"Atributo duplicado na versão",IF(D32<>K32,"Grupo divergente do padrão",IF(G32<>L32,"Unidade divergente do padrão","OK")))))))
A33: =IF(OR(B33="",C33="",E33=""),"",B33&"-V"&TEXT(C33,"00")&"|"&E33) | J33: =IF(COUNTA(B33:I33)=0,"",IF(AND(B33<>"",C33<>"",COUNTIFS('Fichas de produto'!$B$2:$B$101,B33,'Fichas de produto'!$C$2:$C$101,C33)=1),"Sim","Não")) | K33: =IF(E33="","",IFERROR(INDEX(Apoio!$D$2:$D$16,MATCH(E33,Apoio!$C$2:$C$16,0)),"")) | L33: =IF(E33="","",IFERROR(INDEX(Apoio!$E$2:$E$16,MATCH(E33,Apoio!$C$2:$C$16,0)),"")) | M33: =IF(COUNTA(B33:I33)=0,"",IF(OR(B33="",C33="",D33="",E33="",F33="",G33=""),"Campos obrigatórios faltantes",IF(J33="Não","Ficha não localizada",IF(K33="","Atributo fora do dicionário",IF(COUNTIFS($B$2:$B$501,B33,$C$2:$C$501,C33,$E$2:$E$501,E33)>1,"Atributo duplicado na versão",IF(D33<>K33,"Grupo divergente do padrão",IF(G33<>L33,"Unidade divergente do padrão","OK")))))))
... A501: =IF(OR(B501="",C501="",E501=""),"",B501&"-V"&TEXT(C501,"00")&"|"&E501) | J501: =IF(COUNTA(B501:I501)=0,"",IF(AND(B501<>"",C501<>"",COUNTIFS('Fichas de produto'!$B$2:$B$101,B501,'Fichas de produto'!$C$2:$C$101,C501)=1),"Sim","Não")) | K501: =IF(E501="","",IFERROR(INDEX(Apoio!$D$2:$D$16,MATCH(E501,Apoio!$C$2:$C$16,0)),"")) | L501: =IF(E501="","",IFERROR(INDEX(Apoio!$E$2:$E$16,MATCH(E501,Apoio!$C$2:$C$16,0)),"")) | M501: =IF(COUNTA(B501:I501)=0,"",IF(OR(B501="",C501="",D501="",E501="",F501="",G501=""),"Campos obrigatórios faltantes",IF(J501="Não","Ficha não localizada",IF(K501="","Atributo fora do dicionário",IF(COUNTIFS($B$2:$B$501,B501,$C$2:$C$501,C501,$E$2:$E$501,E501)>1,"Atributo duplicado na versão",IF(D501<>K501,"Grupo divergente do padrão",IF(G501<>L501,"Unidade divergente do padrão","OK")))))))

Sheet Apoio
A1: Status | B1: Categorias | C1: Atributos | D1: Grupo padrão | E1: Unidade padrão | F1: Áreas aprovadoras | G1: Grupos permitidos | H1: Unidades permitidas | J1: Configuração | K1: Valor
A2: Rascunho | B2: Organização | C2: Capacidade útil | D2: Dimensões e capacidade | E2: L | F2: Produto | G2: Dimensões e capacidade | H2: L | J2: Mínimo de especificações válidas por ficha | K2: 2
A3: Em revisão | B3: Iluminação | C3: Quantidade de compartimentos | D3: Dimensões e capacidade | E3: un. | F3: Qualidade | G3: Materiais | H3: un. | J3: Alertar comparação entre categorias | K3: Sim
A4: Aprovada | B4: Cozinha | C4: Potência nominal | D4: Desempenho | E4: W | F4: Engenharia | G4: Desempenho | H4: W
A5: Obsoleta | B5: Têxteis | C5: Tensão nominal | D5: Compatibilidade | E5: V | F5: Conteúdo técnico | G5: Compatibilidade | H5: V
B6: Escritório | C6: Temperatura máxima de uso | D6: Segurança e uso | E6: °C | G6: Segurança e uso | H6: °C
C7: Gramatura | D7: Materiais | E7: g/m² | G7: Funcionalidade | H7: g/m²
C8: Tipo de fechamento | D8: Funcionalidade | E8: Sem unidade | H8: Sem unidade
C9: Carga máxima | D9: Desempenho | E9: kg | H9: kg
C10: Ajuste de altura | D10: Funcionalidade | E10: Sem unidade | H10: m
C11: Compatibilidade de tamanho | D11: Compatibilidade | E11: Sem unidade
C12: Comprimento do cabo | D12: Compatibilidade | E12: m
C13: Índice de proteção | D13: Segurança e uso | E13: Sem unidade
C14: Tipo de acabamento | D14: Materiais | E14: Sem unidade
C15: Base antiderrapante | D15: Segurança e uso | E15: Sem unidade
C16: Volume interno | D16: Dimensões e capacidade | E16: L

Sheet Instruções
A1: Como usar a planilha de ficha técnica de produto
A3: Objetivo
A4: Consolidar especificações técnicas, materiais, medidas, garantia e cuidados por SKU, mantendo o histórico de versões e destacando a versão aprovada.
A6: Fluxo de uso
A7: 1. Cadastre uma linha por SKU e versão em Fichas de produto.
A8: 2. Não sobrescreva uma versão aprovada; crie uma nova linha com versão superior.
A9: 3. Cadastre pelo menos a quantidade mínima de atributos definida na aba Apoio.
A10: 4. Corrija os campos listados em Campos faltantes.
A11: 5. Corrija todos os alertas das abas Fichas de produto e Especificações.
A12: 6. Preencha data e área aprovadora antes de selecionar o status Aprovada.
A13: 7. Ao aprovar uma nova versão, altere a versão anterior para Obsoleta.
A14: 8. Use o Resumo para consultar e comparar as versões aprovadas.
... A33: Esta pasta trata somente de documentação técnica versionada. Ela não substitui o cadastro comercial do produto e não contém preço, estoque, anúncios ou dados tributários.
