Workbook

Sheet Resumo
A1: Painel do inventário rotativo
A3: Data de referência | B3: ='Parâmetros e instruções'!$B$3 | D3: Início do período | E3: ='Parâmetros e instruções'!$B$4 | G3: Fim do período | H3: ='Parâmetros e instruções'!$B$5
A4: Itens ativos válidos | D4: Cobertura do ciclo | G4: Itens vencidos | J4: A vencer na janela
B5: =COUNTIFS(Programa!$A$5:$A$104,"Sim",Programa!$U$5:$U$104,"OK") | E5: =IFERROR(COUNTIFS(Programa!$A$5:$A$104,"Sim",Programa!$U$5:$U$104,"OK",Programa!$S$5:$S$104,"Sim")/$B$5,"") | H5: =COUNTIFS(Programa!$A$5:$A$104,"Sim",Programa!$U$5:$U$104,"OK",Programa!$P$5:$P$104,">0",Programa!$P$5:$P$104,"<"&'Parâmetros e instruções'!$B$3) | K5: =COUNTIFS(Programa!$A$5:$A$104,"Sim",Programa!$U$5:$U$104,"OK",Programa!$P$5:$P$104,">="&'Parâmetros e instruções'!$B$3,Programa!$P$5:$P$104,"<="&'Parâmetros e instruções'!$B$3+'Parâmetros e instruções'!$B$6)
A7: Itens sem histórico | D7: Planejadas no período | G7: Concluídas no período | J7: Taxa de execução
B8: =COUNTIFS(Programa!$A$5:$A$104,"Sim",Programa!$U$5:$U$104,"OK",Programa!$O$5:$O$104,"") | E8: =COUNTIFS(Contagens!$C$5:$C$104,">="&'Parâmetros e instruções'!$B$4,Contagens!$C$5:$C$104,"<="&'Parâmetros e instruções'!$B$5,Contagens!$R$5:$R$104,"<>Cancelada",Contagens!$R$5:$R$104,"<>",Contagens!$U$5:$U$104,"OK") | H8: =COUNTIFS(Contagens!$D$5:$D$104,">="&'Parâmetros e instruções'!$B$4,Contagens!$D$5:$D$104,"<="&'Parâmetros e instruções'!$B$5,Contagens!$R$5:$R$104,"Concluída",Contagens!$U$5:$U$104,"OK") | K8: =IFERROR($H$8/$E$8,"")
A10: Acurácia no período | D10: Divergência absoluta | G10: Meta de cobertura | J10: Meta de acurácia
B11: =IFERROR(COUNTIFS(Contagens!$D$5:$D$104,">="&'Parâmetros e instruções'!$B$4,Contagens!$D$5:$D$104,"<="&'Parâmetros e instruções'!$B$5,Contagens!$R$5:$R$104,"Concluída",Contagens!$Q$5:$Q$104,"Sim",Contagens!$U$5:$U$104,"OK")/$H$8,"") | E11: =SUMIFS(Contagens!$P$5:$P$104,Contagens!$D$5:$D$104,">="&'Parâmetros e instruções'!$B$4,Contagens!$D$5:$D$104,"<="&'Parâmetros e instruções'!$B$5,Contagens!$R$5:$R$104,"Concluída",Contagens!$U$5:$U$104,"OK") | H11: ='Parâmetros e instruções'!$B$8 | K11: ='Parâmetros e instruções'!$B$9
A14: Alertas de revisão
A15: Parâmetros com erro | B15: =IF('Parâmetros e instruções'!$B$10="OK",0,1)
A16: Cadastros com erro | B16: =COUNTIFS(Programa!$U$5:$U$104,"<>",Programa!$U$5:$U$104,"<>OK")
A17: Contagens com erro | B17: =COUNTIFS(Contagens!$U$5:$U$104,"<>",Contagens!$U$5:$U$104,"<>OK")
A18: Itens ativos duplicados | B18: =COUNTIF(Programa!$U$5:$U$104,"ID ITEM DUPLICADO")
A19: Planejadas atrasadas | B19: =COUNTIFS(Contagens!$C$5:$C$104,">0",Contagens!$C$5:$C$104,"<"&'Parâmetros e instruções'!$B$3,Contagens!$R$5:$R$104,"Planejada")+COUNTIFS(Contagens!$C$5:$C$104,">0",Contagens!$C$5:$C$104,"<"&'Parâmetros e instruções'!$B$3,Contagens!$R$5:$R$104,"Em contagem")
A20: Itens sem cobertura | B20: =COUNTIFS(Programa!$A$5:$A$104,"Sim",Programa!$U$5:$U$104,"OK",Programa!$S$5:$S$104,"Não")
A21: Cobertura abaixo da meta | B21: =IF($E$5="","",IF($E$5<$H$11,1,0))
A24: Cobertura por classe ABC | G24: Resultados acumulados por rodada
A25: Classe ABC | B25: Itens ativos | C25: Itens cobertos | D25: Cobertura | G25: Rodada | H25: Concluídas | I25: Com divergência | J25: Acurácia | K25: Divergência absoluta
A26: A | B26: =COUNTIFS(Programa!$A$5:$A$104,"Sim",Programa!$E$5:$E$104,$A26,Programa!$U$5:$U$104,"OK") | C26: =COUNTIFS(Programa!$A$5:$A$104,"Sim",Programa!$E$5:$E$104,$A26,Programa!$S$5:$S$104,"Sim",Programa!$U$5:$U$104,"OK") | D26: =IFERROR($C26/$B26,"") | G26: ='Parâmetros e instruções'!G13 | H26: =IF($G26="","",COUNTIFS(Contagens!$B$5:$B$104,$G26,Contagens!$R$5:$R$104,"Concluída",Contagens!$U$5:$U$104,"OK")) | I26: =IF($G26="","",COUNTIFS(Contagens!$B$5:$B$104,$G26,Contagens!$R$5:$R$104,"Concluída",Contagens!$Q$5:$Q$104,"Não",Contagens!$U$5:$U$104,"OK")) | J26: =IFERROR(COUNTIFS(Contagens!$B$5:$B$104,$G26,Contagens!$R$5:$R$104,"Concluída",Contagens!$Q$5:$Q$104,"Sim",Contagens!$U$5:$U$104,"OK")/$H26,"") | K26: =IF($G26="","",SUMIFS(Contagens!$P$5:$P$104,Contagens!$B$5:$B$104,$G26,Contagens!$R$5:$R$104,"Concluída",Contagens!$U$5:$U$104,"OK"))
A27: B | B27: =COUNTIFS(Programa!$A$5:$A$104,"Sim",Programa!$E$5:$E$104,$A27,Programa!$U$5:$U$104,"OK") | C27: =COUNTIFS(Programa!$A$5:$A$104,"Sim",Programa!$E$5:$E$104,$A27,Programa!$S$5:$S$104,"Sim",Programa!$U$5:$U$104,"OK") | D27: =IFERROR($C27/$B27,"") | G27: ='Parâmetros e instruções'!G14 | H27: =IF($G27="","",COUNTIFS(Contagens!$B$5:$B$104,$G27,Contagens!$R$5:$R$104,"Concluída",Contagens!$U$5:$U$104,"OK")) | I27: =IF($G27="","",COUNTIFS(Contagens!$B$5:$B$104,$G27,Contagens!$R$5:$R$104,"Concluída",Contagens!$Q$5:$Q$104,"Não",Contagens!$U$5:$U$104,"OK")) | J27: =IFERROR(COUNTIFS(Contagens!$B$5:$B$104,$G27,Contagens!$R$5:$R$104,"Concluída",Contagens!$Q$5:$Q$104,"Sim",Contagens!$U$5:$U$104,"OK")/$H27,"") | K27: =IF($G27="","",SUMIFS(Contagens!$P$5:$P$104,Contagens!$B$5:$B$104,$G27,Contagens!$R$5:$R$104,"Concluída",Contagens!$U$5:$U$104,"OK"))
A28: C | B28: =COUNTIFS(Programa!$A$5:$A$104,"Sim",Programa!$E$5:$E$104,$A28,Programa!$U$5:$U$104,"OK") | C28: =COUNTIFS(Programa!$A$5:$A$104,"Sim",Programa!$E$5:$E$104,$A28,Programa!$S$5:$S$104,"Sim",Programa!$U$5:$U$104,"OK") | D28: =IFERROR($C28/$B28,"") | G28: ='Parâmetros e instruções'!G15 | H28: =IF($G28="","",COUNTIFS(Contagens!$B$5:$B$104,$G28,Contagens!$R$5:$R$104,"Concluída",Contagens!$U$5:$U$104,"OK")) | I28: =IF($G28="","",COUNTIFS(Contagens!$B$5:$B$104,$G28,Contagens!$R$5:$R$104,"Concluída",Contagens!$Q$5:$Q$104,"Não",Contagens!$U$5:$U$104,"OK")) | J28: =IFERROR(COUNTIFS(Contagens!$B$5:$B$104,$G28,Contagens!$R$5:$R$104,"Concluída",Contagens!$Q$5:$Q$104,"Sim",Contagens!$U$5:$U$104,"OK")/$H28,"") | K28: =IF($G28="","",SUMIFS(Contagens!$P$5:$P$104,Contagens!$B$5:$B$104,$G28,Contagens!$R$5:$R$104,"Concluída",Contagens!$U$5:$U$104,"OK"))
G29: ='Parâmetros e instruções'!G16 | H29: =IF($G29="","",COUNTIFS(Contagens!$B$5:$B$104,$G29,Contagens!$R$5:$R$104,"Concluída",Contagens!$U$5:$U$104,"OK")) | I29: =IF($G29="","",COUNTIFS(Contagens!$B$5:$B$104,$G29,Contagens!$R$5:$R$104,"Concluída",Contagens!$Q$5:$Q$104,"Não",Contagens!$U$5:$U$104,"OK")) | J29: =IFERROR(COUNTIFS(Contagens!$B$5:$B$104,$G29,Contagens!$R$5:$R$104,"Concluída",Contagens!$Q$5:$Q$104,"Sim",Contagens!$U$5:$U$104,"OK")/$H29,"") | K29: =IF($G29="","",SUMIFS(Contagens!$P$5:$P$104,Contagens!$B$5:$B$104,$G29,Contagens!$R$5:$R$104,"Concluída",Contagens!$U$5:$U$104,"OK"))
G30: ='Parâmetros e instruções'!G17 | H30: =IF($G30="","",COUNTIFS(Contagens!$B$5:$B$104,$G30,Contagens!$R$5:$R$104,"Concluída",Contagens!$U$5:$U$104,"OK")) | I30: =IF($G30="","",COUNTIFS(Contagens!$B$5:$B$104,$G30,Contagens!$R$5:$R$104,"Concluída",Contagens!$Q$5:$Q$104,"Não",Contagens!$U$5:$U$104,"OK")) | J30: =IFERROR(COUNTIFS(Contagens!$B$5:$B$104,$G30,Contagens!$R$5:$R$104,"Concluída",Contagens!$Q$5:$Q$104,"Sim",Contagens!$U$5:$U$104,"OK")/$H30,"") | K30: =IF($G30="","",SUMIFS(Contagens!$P$5:$P$104,Contagens!$B$5:$B$104,$G30,Contagens!$R$5:$R$104,"Concluída",Contagens!$U$5:$U$104,"OK"))
G31: ='Parâmetros e instruções'!G18 | H31: =IF($G31="","",COUNTIFS(Contagens!$B$5:$B$104,$G31,Contagens!$R$5:$R$104,"Concluída",Contagens!$U$5:$U$104,"OK")) | I31: =IF($G31="","",COUNTIFS(Contagens!$B$5:$B$104,$G31,Contagens!$R$5:$R$104,"Concluída",Contagens!$Q$5:$Q$104,"Não",Contagens!$U$5:$U$104,"OK")) | J31: =IFERROR(COUNTIFS(Contagens!$B$5:$B$104,$G31,Contagens!$R$5:$R$104,"Concluída",Contagens!$Q$5:$Q$104,"Sim",Contagens!$U$5:$U$104,"OK")/$H31,"") | K31: =IF($G31="","",SUMIFS(Contagens!$P$5:$P$104,Contagens!$B$5:$B$104,$G31,Contagens!$R$5:$R$104,"Concluída",Contagens!$U$5:$U$104,"OK"))
G32: ='Parâmetros e instruções'!G19 | H32: =IF($G32="","",COUNTIFS(Contagens!$B$5:$B$104,$G32,Contagens!$R$5:$R$104,"Concluída",Contagens!$U$5:$U$104,"OK")) | I32: =IF($G32="","",COUNTIFS(Contagens!$B$5:$B$104,$G32,Contagens!$R$5:$R$104,"Concluída",Contagens!$Q$5:$Q$104,"Não",Contagens!$U$5:$U$104,"OK")) | J32: =IFERROR(COUNTIFS(Contagens!$B$5:$B$104,$G32,Contagens!$R$5:$R$104,"Concluída",Contagens!$Q$5:$Q$104,"Sim",Contagens!$U$5:$U$104,"OK")/$H32,"") | K32: =IF($G32="","",SUMIFS(Contagens!$P$5:$P$104,Contagens!$B$5:$B$104,$G32,Contagens!$R$5:$R$104,"Concluída",Contagens!$U$5:$U$104,"OK"))
G33: ='Parâmetros e instruções'!G20 | H33: =IF($G33="","",COUNTIFS(Contagens!$B$5:$B$104,$G33,Contagens!$R$5:$R$104,"Concluída",Contagens!$U$5:$U$104,"OK")) | I33: =IF($G33="","",COUNTIFS(Contagens!$B$5:$B$104,$G33,Contagens!$R$5:$R$104,"Concluída",Contagens!$Q$5:$Q$104,"Não",Contagens!$U$5:$U$104,"OK")) | J33: =IFERROR(COUNTIFS(Contagens!$B$5:$B$104,$G33,Contagens!$R$5:$R$104,"Concluída",Contagens!$Q$5:$Q$104,"Sim",Contagens!$U$5:$U$104,"OK")/$H33,"") | K33: =IF($G33="","",SUMIFS(Contagens!$P$5:$P$104,Contagens!$B$5:$B$104,$G33,Contagens!$R$5:$R$104,"Concluída",Contagens!$U$5:$U$104,"OK"))
G34: ='Parâmetros e instruções'!G21 | H34: =IF($G34="","",COUNTIFS(Contagens!$B$5:$B$104,$G34,Contagens!$R$5:$R$104,"Concluída",Contagens!$U$5:$U$104,"OK")) | I34: =IF($G34="","",COUNTIFS(Contagens!$B$5:$B$104,$G34,Contagens!$R$5:$R$104,"Concluída",Contagens!$Q$5:$Q$104,"Não",Contagens!$U$5:$U$104,"OK")) | J34: =IFERROR(COUNTIFS(Contagens!$B$5:$B$104,$G34,Contagens!$R$5:$R$104,"Concluída",Contagens!$Q$5:$Q$104,"Sim",Contagens!$U$5:$U$104,"OK")/$H34,"") | K34: =IF($G34="","",SUMIFS(Contagens!$P$5:$P$104,Contagens!$B$5:$B$104,$G34,Contagens!$R$5:$R$104,"Concluída",Contagens!$U$5:$U$104,"OK"))
G35: ='Parâmetros e instruções'!G22 | H35: =IF($G35="","",COUNTIFS(Contagens!$B$5:$B$104,$G35,Contagens!$R$5:$R$104,"Concluída",Contagens!$U$5:$U$104,"OK")) | I35: =IF($G35="","",COUNTIFS(Contagens!$B$5:$B$104,$G35,Contagens!$R$5:$R$104,"Concluída",Contagens!$Q$5:$Q$104,"Não",Contagens!$U$5:$U$104,"OK")) | J35: =IFERROR(COUNTIFS(Contagens!$B$5:$B$104,$G35,Contagens!$R$5:$R$104,"Concluída",Contagens!$Q$5:$Q$104,"Sim",Contagens!$U$5:$U$104,"OK")/$H35,"") | K35: =IF($G35="","",SUMIFS(Contagens!$P$5:$P$104,Contagens!$B$5:$B$104,$G35,Contagens!$R$5:$R$104,"Concluída",Contagens!$U$5:$U$104,"OK"))
G36: ='Parâmetros e instruções'!G23 | H36: =IF($G36="","",COUNTIFS(Contagens!$B$5:$B$104,$G36,Contagens!$R$5:$R$104,"Concluída",Contagens!$U$5:$U$104,"OK")) | I36: =IF($G36="","",COUNTIFS(Contagens!$B$5:$B$104,$G36,Contagens!$R$5:$R$104,"Concluída",Contagens!$Q$5:$Q$104,"Não",Contagens!$U$5:$U$104,"OK")) | J36: =IFERROR(COUNTIFS(Contagens!$B$5:$B$104,$G36,Contagens!$R$5:$R$104,"Concluída",Contagens!$Q$5:$Q$104,"Sim",Contagens!$U$5:$U$104,"OK")/$H36,"") | K36: =IF($G36="","",SUMIFS(Contagens!$P$5:$P$104,Contagens!$B$5:$B$104,$G36,Contagens!$R$5:$R$104,"Concluída",Contagens!$U$5:$U$104,"OK"))
G37: ='Parâmetros e instruções'!G24 | H37: =IF($G37="","",COUNTIFS(Contagens!$B$5:$B$104,$G37,Contagens!$R$5:$R$104,"Concluída",Contagens!$U$5:$U$104,"OK")) | I37: =IF($G37="","",COUNTIFS(Contagens!$B$5:$B$104,$G37,Contagens!$R$5:$R$104,"Concluída",Contagens!$Q$5:$Q$104,"Não",Contagens!$U$5:$U$104,"OK")) | J37: =IFERROR(COUNTIFS(Contagens!$B$5:$B$104,$G37,Contagens!$R$5:$R$104,"Concluída",Contagens!$Q$5:$Q$104,"Sim",Contagens!$U$5:$U$104,"OK")/$H37,"") | K37: =IF($G37="","",SUMIFS(Contagens!$P$5:$P$104,Contagens!$B$5:$B$104,$G37,Contagens!$R$5:$R$104,"Concluída",Contagens!$U$5:$U$104,"OK"))

Sheet Agenda
A1: Agenda de contagens
A2: Data de referência | B2: ='Parâmetros e instruções'!$B$3 | D2: Janela de aviso | E2: ='Parâmetros e instruções'!$B$6 | F2: dias
A5: Ordem | B5: Próxima contagem | C5: Dias para vencer | D5: Situação | E5: SKU | F5: Produto | G5: Localização | H5: Classe ABC | I5: Risco | J5: Responsável | K5: Frequência aplicada | L5: Última contagem | M5: Coberto no ciclo?
A6: =IF($B6="","",ROWS($A$6:A6)) | B6: =IFERROR(INDEX(Programa!$P$5:$P$104,MATCH(ROWS($B$6:B6),Programa!$T$5:$T$104,0)),"") | C6: =IFERROR(INDEX(Programa!$Q$5:$Q$104,MATCH(ROWS($B$6:B6),Programa!$T$5:$T$104,0)),"") | D6: =IFERROR(INDEX(Programa!$R$5:$R$104,MATCH(ROWS($B$6:B6),Programa!$T$5:$T$104,0)),"") | E6: =IFERROR(INDEX(Programa!$B$5:$B$104,MATCH(ROWS($B$6:B6),Programa!$T$5:$T$104,0)),"") | F6: =IFERROR(INDEX(Programa!$C$5:$C$104,MATCH(ROWS($B$6:B6),Programa!$T$5:$T$104,0)),"") | G6: =IFERROR(INDEX(Programa!$D$5:$D$104,MATCH(ROWS($B$6:B6),Programa!$T$5:$T$104,0)),"") | H6: =IFERROR(INDEX(Programa!$E$5:$E$104,MATCH(ROWS($B$6:B6),Programa!$T$5:$T$104,0)),"") | I6: =IFERROR(INDEX(Programa!$F$5:$F$104,MATCH(ROWS($B$6:B6),Programa!$T$5:$T$104,0)),"") | J6: =IFERROR(INDEX(Programa!$G$5:$G$104,MATCH(ROWS($B$6:B6),Programa!$T$5:$T$104,0)),"") | K6: =IFERROR(INDEX(Programa!$M$5:$M$104,MATCH(ROWS($B$6:B6),Programa!$T$5:$T$104,0)),"") | L6: =IFERROR(INDEX(Programa!$O$5:$O$104,MATCH(ROWS($B$6:B6),Programa!$T$5:$T$104,0)),"") | M6: =IFERROR(INDEX(Programa!$S$5:$S$104,MATCH(ROWS($B$6:B6),Programa!$T$5:$T$104,0)),"")
A7: =IF($B7="","",ROWS($A$6:A7)) | B7: =IFERROR(INDEX(Programa!$P$5:$P$104,MATCH(ROWS($B$6:B7),Programa!$T$5:$T$104,0)),"") | C7: =IFERROR(INDEX(Programa!$Q$5:$Q$104,MATCH(ROWS($B$6:B7),Programa!$T$5:$T$104,0)),"") | D7: =IFERROR(INDEX(Programa!$R$5:$R$104,MATCH(ROWS($B$6:B7),Programa!$T$5:$T$104,0)),"") | E7: =IFERROR(INDEX(Programa!$B$5:$B$104,MATCH(ROWS($B$6:B7),Programa!$T$5:$T$104,0)),"") | F7: =IFERROR(INDEX(Programa!$C$5:$C$104,MATCH(ROWS($B$6:B7),Programa!$T$5:$T$104,0)),"") | G7: =IFERROR(INDEX(Programa!$D$5:$D$104,MATCH(ROWS($B$6:B7),Programa!$T$5:$T$104,0)),"") | H7: =IFERROR(INDEX(Programa!$E$5:$E$104,MATCH(ROWS($B$6:B7),Programa!$T$5:$T$104,0)),"") | I7: =IFERROR(INDEX(Programa!$F$5:$F$104,MATCH(ROWS($B$6:B7),Programa!$T$5:$T$104,0)),"") | J7: =IFERROR(INDEX(Programa!$G$5:$G$104,MATCH(ROWS($B$6:B7),Programa!$T$5:$T$104,0)),"") | K7: =IFERROR(INDEX(Programa!$M$5:$M$104,MATCH(ROWS($B$6:B7),Programa!$T$5:$T$104,0)),"") | L7: =IFERROR(INDEX(Programa!$O$5:$O$104,MATCH(ROWS($B$6:B7),Programa!$T$5:$T$104,0)),"") | M7: =IFERROR(INDEX(Programa!$S$5:$S$104,MATCH(ROWS($B$6:B7),Programa!$T$5:$T$104,0)),"")
A8: =IF($B8="","",ROWS($A$6:A8)) | B8: =IFERROR(INDEX(Programa!$P$5:$P$104,MATCH(ROWS($B$6:B8),Programa!$T$5:$T$104,0)),"") | C8: =IFERROR(INDEX(Programa!$Q$5:$Q$104,MATCH(ROWS($B$6:B8),Programa!$T$5:$T$104,0)),"") | D8: =IFERROR(INDEX(Programa!$R$5:$R$104,MATCH(ROWS($B$6:B8),Programa!$T$5:$T$104,0)),"") | E8: =IFERROR(INDEX(Programa!$B$5:$B$104,MATCH(ROWS($B$6:B8),Programa!$T$5:$T$104,0)),"") | F8: =IFERROR(INDEX(Programa!$C$5:$C$104,MATCH(ROWS($B$6:B8),Programa!$T$5:$T$104,0)),"") | G8: =IFERROR(INDEX(Programa!$D$5:$D$104,MATCH(ROWS($B$6:B8),Programa!$T$5:$T$104,0)),"") | H8: =IFERROR(INDEX(Programa!$E$5:$E$104,MATCH(ROWS($B$6:B8),Programa!$T$5:$T$104,0)),"") | I8: =IFERROR(INDEX(Programa!$F$5:$F$104,MATCH(ROWS($B$6:B8),Programa!$T$5:$T$104,0)),"") | J8: =IFERROR(INDEX(Programa!$G$5:$G$104,MATCH(ROWS($B$6:B8),Programa!$T$5:$T$104,0)),"") | K8: =IFERROR(INDEX(Programa!$M$5:$M$104,MATCH(ROWS($B$6:B8),Programa!$T$5:$T$104,0)),"") | L8: =IFERROR(INDEX(Programa!$O$5:$O$104,MATCH(ROWS($B$6:B8),Programa!$T$5:$T$104,0)),"") | M8: =IFERROR(INDEX(Programa!$S$5:$S$104,MATCH(ROWS($B$6:B8),Programa!$T$5:$T$104,0)),"")
A9: =IF($B9="","",ROWS($A$6:A9)) | B9: =IFERROR(INDEX(Programa!$P$5:$P$104,MATCH(ROWS($B$6:B9),Programa!$T$5:$T$104,0)),"") | C9: =IFERROR(INDEX(Programa!$Q$5:$Q$104,MATCH(ROWS($B$6:B9),Programa!$T$5:$T$104,0)),"") | D9: =IFERROR(INDEX(Programa!$R$5:$R$104,MATCH(ROWS($B$6:B9),Programa!$T$5:$T$104,0)),"") | E9: =IFERROR(INDEX(Programa!$B$5:$B$104,MATCH(ROWS($B$6:B9),Programa!$T$5:$T$104,0)),"") | F9: =IFERROR(INDEX(Programa!$C$5:$C$104,MATCH(ROWS($B$6:B9),Programa!$T$5:$T$104,0)),"") | G9: =IFERROR(INDEX(Programa!$D$5:$D$104,MATCH(ROWS($B$6:B9),Programa!$T$5:$T$104,0)),"") | H9: =IFERROR(INDEX(Programa!$E$5:$E$104,MATCH(ROWS($B$6:B9),Programa!$T$5:$T$104,0)),"") | I9: =IFERROR(INDEX(Programa!$F$5:$F$104,MATCH(ROWS($B$6:B9),Programa!$T$5:$T$104,0)),"") | J9: =IFERROR(INDEX(Programa!$G$5:$G$104,MATCH(ROWS($B$6:B9),Programa!$T$5:$T$104,0)),"") | K9: =IFERROR(INDEX(Programa!$M$5:$M$104,MATCH(ROWS($B$6:B9),Programa!$T$5:$T$104,0)),"") | L9: =IFERROR(INDEX(Programa!$O$5:$O$104,MATCH(ROWS($B$6:B9),Programa!$T$5:$T$104,0)),"") | M9: =IFERROR(INDEX(Programa!$S$5:$S$104,MATCH(ROWS($B$6:B9),Programa!$T$5:$T$104,0)),"")
A10: =IF($B10="","",ROWS($A$6:A10)) | B10: =IFERROR(INDEX(Programa!$P$5:$P$104,MATCH(ROWS($B$6:B10),Programa!$T$5:$T$104,0)),"") | C10: =IFERROR(INDEX(Programa!$Q$5:$Q$104,MATCH(ROWS($B$6:B10),Programa!$T$5:$T$104,0)),"") | D10: =IFERROR(INDEX(Programa!$R$5:$R$104,MATCH(ROWS($B$6:B10),Programa!$T$5:$T$104,0)),"") | E10: =IFERROR(INDEX(Programa!$B$5:$B$104,MATCH(ROWS($B$6:B10),Programa!$T$5:$T$104,0)),"") | F10: =IFERROR(INDEX(Programa!$C$5:$C$104,MATCH(ROWS($B$6:B10),Programa!$T$5:$T$104,0)),"") | G10: =IFERROR(INDEX(Programa!$D$5:$D$104,MATCH(ROWS($B$6:B10),Programa!$T$5:$T$104,0)),"") | H10: =IFERROR(INDEX(Programa!$E$5:$E$104,MATCH(ROWS($B$6:B10),Programa!$T$5:$T$104,0)),"") | I10: =IFERROR(INDEX(Programa!$F$5:$F$104,MATCH(ROWS($B$6:B10),Programa!$T$5:$T$104,0)),"") | J10: =IFERROR(INDEX(Programa!$G$5:$G$104,MATCH(ROWS($B$6:B10),Programa!$T$5:$T$104,0)),"") | K10: =IFERROR(INDEX(Programa!$M$5:$M$104,MATCH(ROWS($B$6:B10),Programa!$T$5:$T$104,0)),"") | L10: =IFERROR(INDEX(Programa!$O$5:$O$104,MATCH(ROWS($B$6:B10),Programa!$T$5:$T$104,0)),"") | M10: =IFERROR(INDEX(Programa!$S$5:$S$104,MATCH(ROWS($B$6:B10),Programa!$T$5:$T$104,0)),"")
A11: =IF($B11="","",ROWS($A$6:A11)) | B11: =IFERROR(INDEX(Programa!$P$5:$P$104,MATCH(ROWS($B$6:B11),Programa!$T$5:$T$104,0)),"") | C11: =IFERROR(INDEX(Programa!$Q$5:$Q$104,MATCH(ROWS($B$6:B11),Programa!$T$5:$T$104,0)),"") | D11: =IFERROR(INDEX(Programa!$R$5:$R$104,MATCH(ROWS($B$6:B11),Programa!$T$5:$T$104,0)),"") | E11: =IFERROR(INDEX(Programa!$B$5:$B$104,MATCH(ROWS($B$6:B11),Programa!$T$5:$T$104,0)),"") | F11: =IFERROR(INDEX(Programa!$C$5:$C$104,MATCH(ROWS($B$6:B11),Programa!$T$5:$T$104,0)),"") | G11: =IFERROR(INDEX(Programa!$D$5:$D$104,MATCH(ROWS($B$6:B11),Programa!$T$5:$T$104,0)),"") | H11: =IFERROR(INDEX(Programa!$E$5:$E$104,MATCH(ROWS($B$6:B11),Programa!$T$5:$T$104,0)),"") | I11: =IFERROR(INDEX(Programa!$F$5:$F$104,MATCH(ROWS($B$6:B11),Programa!$T$5:$T$104,0)),"") | J11: =IFERROR(INDEX(Programa!$G$5:$G$104,MATCH(ROWS($B$6:B11),Programa!$T$5:$T$104,0)),"") | K11: =IFERROR(INDEX(Programa!$M$5:$M$104,MATCH(ROWS($B$6:B11),Programa!$T$5:$T$104,0)),"") | L11: =IFERROR(INDEX(Programa!$O$5:$O$104,MATCH(ROWS($B$6:B11),Programa!$T$5:$T$104,0)),"") | M11: =IFERROR(INDEX(Programa!$S$5:$S$104,MATCH(ROWS($B$6:B11),Programa!$T$5:$T$104,0)),"")
A12: =IF($B12="","",ROWS($A$6:A12)) | B12: =IFERROR(INDEX(Programa!$P$5:$P$104,MATCH(ROWS($B$6:B12),Programa!$T$5:$T$104,0)),"") | C12: =IFERROR(INDEX(Programa!$Q$5:$Q$104,MATCH(ROWS($B$6:B12),Programa!$T$5:$T$104,0)),"") | D12: =IFERROR(INDEX(Programa!$R$5:$R$104,MATCH(ROWS($B$6:B12),Programa!$T$5:$T$104,0)),"") | E12: =IFERROR(INDEX(Programa!$B$5:$B$104,MATCH(ROWS($B$6:B12),Programa!$T$5:$T$104,0)),"") | F12: =IFERROR(INDEX(Programa!$C$5:$C$104,MATCH(ROWS($B$6:B12),Programa!$T$5:$T$104,0)),"") | G12: =IFERROR(INDEX(Programa!$D$5:$D$104,MATCH(ROWS($B$6:B12),Programa!$T$5:$T$104,0)),"") | H12: =IFERROR(INDEX(Programa!$E$5:$E$104,MATCH(ROWS($B$6:B12),Programa!$T$5:$T$104,0)),"") | I12: =IFERROR(INDEX(Programa!$F$5:$F$104,MATCH(ROWS($B$6:B12),Programa!$T$5:$T$104,0)),"") | J12: =IFERROR(INDEX(Programa!$G$5:$G$104,MATCH(ROWS($B$6:B12),Programa!$T$5:$T$104,0)),"") | K12: =IFERROR(INDEX(Programa!$M$5:$M$104,MATCH(ROWS($B$6:B12),Programa!$T$5:$T$104,0)),"") | L12: =IFERROR(INDEX(Programa!$O$5:$O$104,MATCH(ROWS($B$6:B12),Programa!$T$5:$T$104,0)),"") | M12: =IFERROR(INDEX(Programa!$S$5:$S$104,MATCH(ROWS($B$6:B12),Programa!$T$5:$T$104,0)),"")
A13: =IF($B13="","",ROWS($A$6:A13)) | B13: =IFERROR(INDEX(Programa!$P$5:$P$104,MATCH(ROWS($B$6:B13),Programa!$T$5:$T$104,0)),"") | C13: =IFERROR(INDEX(Programa!$Q$5:$Q$104,MATCH(ROWS($B$6:B13),Programa!$T$5:$T$104,0)),"") | D13: =IFERROR(INDEX(Programa!$R$5:$R$104,MATCH(ROWS($B$6:B13),Programa!$T$5:$T$104,0)),"") | E13: =IFERROR(INDEX(Programa!$B$5:$B$104,MATCH(ROWS($B$6:B13),Programa!$T$5:$T$104,0)),"") | F13: =IFERROR(INDEX(Programa!$C$5:$C$104,MATCH(ROWS($B$6:B13),Programa!$T$5:$T$104,0)),"") | G13: =IFERROR(INDEX(Programa!$D$5:$D$104,MATCH(ROWS($B$6:B13),Programa!$T$5:$T$104,0)),"") | H13: =IFERROR(INDEX(Programa!$E$5:$E$104,MATCH(ROWS($B$6:B13),Programa!$T$5:$T$104,0)),"") | I13: =IFERROR(INDEX(Programa!$F$5:$F$104,MATCH(ROWS($B$6:B13),Programa!$T$5:$T$104,0)),"") | J13: =IFERROR(INDEX(Programa!$G$5:$G$104,MATCH(ROWS($B$6:B13),Programa!$T$5:$T$104,0)),"") | K13: =IFERROR(INDEX(Programa!$M$5:$M$104,MATCH(ROWS($B$6:B13),Programa!$T$5:$T$104,0)),"") | L13: =IFERROR(INDEX(Programa!$O$5:$O$104,MATCH(ROWS($B$6:B13),Programa!$T$5:$T$104,0)),"") | M13: =IFERROR(INDEX(Programa!$S$5:$S$104,MATCH(ROWS($B$6:B13),Programa!$T$5:$T$104,0)),"")
A14: =IF($B14="","",ROWS($A$6:A14)) | B14: =IFERROR(INDEX(Programa!$P$5:$P$104,MATCH(ROWS($B$6:B14),Programa!$T$5:$T$104,0)),"") | C14: =IFERROR(INDEX(Programa!$Q$5:$Q$104,MATCH(ROWS($B$6:B14),Programa!$T$5:$T$104,0)),"") | D14: =IFERROR(INDEX(Programa!$R$5:$R$104,MATCH(ROWS($B$6:B14),Programa!$T$5:$T$104,0)),"") | E14: =IFERROR(INDEX(Programa!$B$5:$B$104,MATCH(ROWS($B$6:B14),Programa!$T$5:$T$104,0)),"") | F14: =IFERROR(INDEX(Programa!$C$5:$C$104,MATCH(ROWS($B$6:B14),Programa!$T$5:$T$104,0)),"") | G14: =IFERROR(INDEX(Programa!$D$5:$D$104,MATCH(ROWS($B$6:B14),Programa!$T$5:$T$104,0)),"") | H14: =IFERROR(INDEX(Programa!$E$5:$E$104,MATCH(ROWS($B$6:B14),Programa!$T$5:$T$104,0)),"") | I14: =IFERROR(INDEX(Programa!$F$5:$F$104,MATCH(ROWS($B$6:B14),Programa!$T$5:$T$104,0)),"") | J14: =IFERROR(INDEX(Programa!$G$5:$G$104,MATCH(ROWS($B$6:B14),Programa!$T$5:$T$104,0)),"") | K14: =IFERROR(INDEX(Programa!$M$5:$M$104,MATCH(ROWS($B$6:B14),Programa!$T$5:$T$104,0)),"") | L14: =IFERROR(INDEX(Programa!$O$5:$O$104,MATCH(ROWS($B$6:B14),Programa!$T$5:$T$104,0)),"") | M14: =IFERROR(INDEX(Programa!$S$5:$S$104,MATCH(ROWS($B$6:B14),Programa!$T$5:$T$104,0)),"")
A15: =IF($B15="","",ROWS($A$6:A15)) | B15: =IFERROR(INDEX(Programa!$P$5:$P$104,MATCH(ROWS($B$6:B15),Programa!$T$5:$T$104,0)),"") | C15: =IFERROR(INDEX(Programa!$Q$5:$Q$104,MATCH(ROWS($B$6:B15),Programa!$T$5:$T$104,0)),"") | D15: =IFERROR(INDEX(Programa!$R$5:$R$104,MATCH(ROWS($B$6:B15),Programa!$T$5:$T$104,0)),"") | E15: =IFERROR(INDEX(Programa!$B$5:$B$104,MATCH(ROWS($B$6:B15),Programa!$T$5:$T$104,0)),"") | F15: =IFERROR(INDEX(Programa!$C$5:$C$104,MATCH(ROWS($B$6:B15),Programa!$T$5:$T$104,0)),"") | G15: =IFERROR(INDEX(Programa!$D$5:$D$104,MATCH(ROWS($B$6:B15),Programa!$T$5:$T$104,0)),"") | H15: =IFERROR(INDEX(Programa!$E$5:$E$104,MATCH(ROWS($B$6:B15),Programa!$T$5:$T$104,0)),"") | I15: =IFERROR(INDEX(Programa!$F$5:$F$104,MATCH(ROWS($B$6:B15),Programa!$T$5:$T$104,0)),"") | J15: =IFERROR(INDEX(Programa!$G$5:$G$104,MATCH(ROWS($B$6:B15),Programa!$T$5:$T$104,0)),"") | K15: =IFERROR(INDEX(Programa!$M$5:$M$104,MATCH(ROWS($B$6:B15),Programa!$T$5:$T$104,0)),"") | L15: =IFERROR(INDEX(Programa!$O$5:$O$104,MATCH(ROWS($B$6:B15),Programa!$T$5:$T$104,0)),"") | M15: =IFERROR(INDEX(Programa!$S$5:$S$104,MATCH(ROWS($B$6:B15),Programa!$T$5:$T$104,0)),"")
A16: =IF($B16="","",ROWS($A$6:A16)) | B16: =IFERROR(INDEX(Programa!$P$5:$P$104,MATCH(ROWS($B$6:B16),Programa!$T$5:$T$104,0)),"") | C16: =IFERROR(INDEX(Programa!$Q$5:$Q$104,MATCH(ROWS($B$6:B16),Programa!$T$5:$T$104,0)),"") | D16: =IFERROR(INDEX(Programa!$R$5:$R$104,MATCH(ROWS($B$6:B16),Programa!$T$5:$T$104,0)),"") | E16: =IFERROR(INDEX(Programa!$B$5:$B$104,MATCH(ROWS($B$6:B16),Programa!$T$5:$T$104,0)),"") | F16: =IFERROR(INDEX(Programa!$C$5:$C$104,MATCH(ROWS($B$6:B16),Programa!$T$5:$T$104,0)),"") | G16: =IFERROR(INDEX(Programa!$D$5:$D$104,MATCH(ROWS($B$6:B16),Programa!$T$5:$T$104,0)),"") | H16: =IFERROR(INDEX(Programa!$E$5:$E$104,MATCH(ROWS($B$6:B16),Programa!$T$5:$T$104,0)),"") | I16: =IFERROR(INDEX(Programa!$F$5:$F$104,MATCH(ROWS($B$6:B16),Programa!$T$5:$T$104,0)),"") | J16: =IFERROR(INDEX(Programa!$G$5:$G$104,MATCH(ROWS($B$6:B16),Programa!$T$5:$T$104,0)),"") | K16: =IFERROR(INDEX(Programa!$M$5:$M$104,MATCH(ROWS($B$6:B16),Programa!$T$5:$T$104,0)),"") | L16: =IFERROR(INDEX(Programa!$O$5:$O$104,MATCH(ROWS($B$6:B16),Programa!$T$5:$T$104,0)),"") | M16: =IFERROR(INDEX(Programa!$S$5:$S$104,MATCH(ROWS($B$6:B16),Programa!$T$5:$T$104,0)),"")
A17: =IF($B17="","",ROWS($A$6:A17)) | B17: =IFERROR(INDEX(Programa!$P$5:$P$104,MATCH(ROWS($B$6:B17),Programa!$T$5:$T$104,0)),"") | C17: =IFERROR(INDEX(Programa!$Q$5:$Q$104,MATCH(ROWS($B$6:B17),Programa!$T$5:$T$104,0)),"") | D17: =IFERROR(INDEX(Programa!$R$5:$R$104,MATCH(ROWS($B$6:B17),Programa!$T$5:$T$104,0)),"") | E17: =IFERROR(INDEX(Programa!$B$5:$B$104,MATCH(ROWS($B$6:B17),Programa!$T$5:$T$104,0)),"") | F17: =IFERROR(INDEX(Programa!$C$5:$C$104,MATCH(ROWS($B$6:B17),Programa!$T$5:$T$104,0)),"") | G17: =IFERROR(INDEX(Programa!$D$5:$D$104,MATCH(ROWS($B$6:B17),Programa!$T$5:$T$104,0)),"") | H17: =IFERROR(INDEX(Programa!$E$5:$E$104,MATCH(ROWS($B$6:B17),Programa!$T$5:$T$104,0)),"") | I17: =IFERROR(INDEX(Programa!$F$5:$F$104,MATCH(ROWS($B$6:B17),Programa!$T$5:$T$104,0)),"") | J17: =IFERROR(INDEX(Programa!$G$5:$G$104,MATCH(ROWS($B$6:B17),Programa!$T$5:$T$104,0)),"") | K17: =IFERROR(INDEX(Programa!$M$5:$M$104,MATCH(ROWS($B$6:B17),Programa!$T$5:$T$104,0)),"") | L17: =IFERROR(INDEX(Programa!$O$5:$O$104,MATCH(ROWS($B$6:B17),Programa!$T$5:$T$104,0)),"") | M17: =IFERROR(INDEX(Programa!$S$5:$S$104,MATCH(ROWS($B$6:B17),Programa!$T$5:$T$104,0)),"")
... A105: =IF($B105="","",ROWS($A$6:A105)) | B105: =IFERROR(INDEX(Programa!$P$5:$P$104,MATCH(ROWS($B$6:B105),Programa!$T$5:$T$104,0)),"") | C105: =IFERROR(INDEX(Programa!$Q$5:$Q$104,MATCH(ROWS($B$6:B105),Programa!$T$5:$T$104,0)),"") | D105: =IFERROR(INDEX(Programa!$R$5:$R$104,MATCH(ROWS($B$6:B105),Programa!$T$5:$T$104,0)),"") | E105: =IFERROR(INDEX(Programa!$B$5:$B$104,MATCH(ROWS($B$6:B105),Programa!$T$5:$T$104,0)),"") | F105: =IFERROR(INDEX(Programa!$C$5:$C$104,MATCH(ROWS($B$6:B105),Programa!$T$5:$T$104,0)),"") | G105: =IFERROR(INDEX(Programa!$D$5:$D$104,MATCH(ROWS($B$6:B105),Programa!$T$5:$T$104,0)),"") | H105: =IFERROR(INDEX(Programa!$E$5:$E$104,MATCH(ROWS($B$6:B105),Programa!$T$5:$T$104,0)),"") | I105: =IFERROR(INDEX(Programa!$F$5:$F$104,MATCH(ROWS($B$6:B105),Programa!$T$5:$T$104,0)),"") | J105: =IFERROR(INDEX(Programa!$G$5:$G$104,MATCH(ROWS($B$6:B105),Programa!$T$5:$T$104,0)),"") | K105: =IFERROR(INDEX(Programa!$M$5:$M$104,MATCH(ROWS($B$6:B105),Programa!$T$5:$T$104,0)),"") | L105: =IFERROR(INDEX(Programa!$O$5:$O$104,MATCH(ROWS($B$6:B105),Programa!$T$5:$T$104,0)),"") | M105: =IFERROR(INDEX(Programa!$S$5:$S$104,MATCH(ROWS($B$6:B105),Programa!$T$5:$T$104,0)),"")

Sheet Programa
A1: Programa recorrente de inventário rotativo
A2: Preencha apenas as colunas amarelas. Cada linha representa uma combinação única de SKU e localização.
A4: Ativo? | B4: SKU | C4: Produto | D4: Localização | E4: Classe ABC | F4: Risco | G4: Responsável | H4: Data de início | I4: Última contagem informada | J4: Frequência personalizada (dias) | K4: ID item | L4: Frequência sugerida (dias) | M4: Frequência aplicada (dias) | N4: Última contagem concluída | O4: Última contagem válida | P4: Próxima contagem | Q4: Dias para vencer | R4: Situação | S4: Coberto no ciclo? | T4: Ordem da agenda | U4: Checagem
A5: Sim | B5: SKU-FIC-001 | C5: Cafeteira Aurora Fictícia 220 V | D5: CD-FIC-A01-01 | E5: A | F5: Alto | G5: Equipe Inventário Alfa | H5: 46023 | I5: 46263 | K5: =IF(OR($B5="",$D5=""),"",UPPER(TRIM($B5))&"|"&UPPER(TRIM($D5))) | L5: =IF(OR($E5="",$F5=""),"",SUMIFS('Parâmetros e instruções'!$C$13:$C$21,'Parâmetros e instruções'!$A$13:$A$21,$E5,'Parâmetros e instruções'!$B$13:$B$21,$F5)) | M5: =IF($K5="","",IF($J5<>"",$J5,$L5)) | N5: =IF($K5="","",IFERROR(IF(MAXIFS(Contagens!$D$5:$D$104,Contagens!$G$5:$G$104,$K5,Contagens!$R$5:$R$104,"Concluída",Contagens!$U$5:$U$104,"OK")=0,"",MAXIFS(Contagens!$D$5:$D$104,Contagens!$G$5:$G$104,$K5,Contagens!$R$5:$R$104,"Concluída",Contagens!$U$5:$U$104,"OK")),"")) | O5: =IF(MAX(IF($I5="",0,$I5),IF($N5="",0,$N5))=0,"",MAX(IF($I5="",0,$I5),IF($N5="",0,$N5))) | P5: =IF(COUNTA($A5:$J5)=0,"",IF($A5<>"Sim","",IF(OR($H5="",$M5=""),"",IF($O5="",$H5,$O5+$M5)))) | Q5: =IF($P5="","",$P5-'Parâmetros e instruções'!$B$3) | R5: =IF(COUNTA($A5:$J5)=0,"",IF($A5<>"Sim","Inativo",IF($P5="","Cadastro incompleto",IF($P5<'Parâmetros e instruções'!$B$3,"Vencido",IF($P5='Parâmetros e instruções'!$B$3,"Vence hoje",IF($P5<='Parâmetros e instruções'!$B$3+'Parâmetros e instruções'!$B$6,"A vencer","Em dia")))))) | S5: =IF(COUNTA($A5:$J5)=0,"",IF(OR($A5<>"Sim",$U5<>"OK"),"",IF(AND($O5<>"",$P5>='Parâmetros e instruções'!$B$3),"Sim","Não"))) | T5: =IF(OR($A5<>"Sim",$P5="",$U5<>"OK"),"",COUNTIFS($A$5:$A$104,"Sim",$P$5:$P$104,">0",$P$5:$P$104,"<"&$P5,$U$5:$U$104,"OK")+COUNTIFS($A$5:$A5,"Sim",$P$5:$P5,$P5,$U$5:$U5,"OK")) | U5: =IF(COUNTA($A5:$J5)=0,"",IF(OR($A5="",$B5="",$C5="",$D5="",$E5="",$F5="",$G5="",$H5=""),"PREENCHER OBRIGATÓRIOS",IF(AND($A5="Sim",COUNTIFS($K$5:$K$104,$K5,$A$5:$A$104,"Sim")>1),"ID ITEM DUPLICADO",IF(OR($M5="",$M5<1,$M5>365),"FREQUÊNCIA INVÁLIDA",IF(AND($I5<>"",$I5>'Parâmetros e instruções'!$B$3),"ÚLTIMA CONTAGEM FUTURA","OK"))))) | X5: ='Parâmetros e instruções'!$J$13 | Y5: ='Parâmetros e instruções'!$K$13 | Z5: ='Parâmetros e instruções'!$L$13 | AA5: ='Parâmetros e instruções'!$E$13
A6: Sim | B6: SKU-FIC-002 | C6: Fone Nebulosa Fictício | D6: CD-FIC-A01-02 | E6: A | F6: Médio | G6: Equipe Inventário Beta | H6: 46023 | I6: 46254 | K6: =IF(OR($B6="",$D6=""),"",UPPER(TRIM($B6))&"|"&UPPER(TRIM($D6))) | L6: =IF(OR($E6="",$F6=""),"",SUMIFS('Parâmetros e instruções'!$C$13:$C$21,'Parâmetros e instruções'!$A$13:$A$21,$E6,'Parâmetros e instruções'!$B$13:$B$21,$F6)) | M6: =IF($K6="","",IF($J6<>"",$J6,$L6)) | N6: =IF($K6="","",IFERROR(IF(MAXIFS(Contagens!$D$5:$D$104,Contagens!$G$5:$G$104,$K6,Contagens!$R$5:$R$104,"Concluída",Contagens!$U$5:$U$104,"OK")=0,"",MAXIFS(Contagens!$D$5:$D$104,Contagens!$G$5:$G$104,$K6,Contagens!$R$5:$R$104,"Concluída",Contagens!$U$5:$U$104,"OK")),"")) | O6: =IF(MAX(IF($I6="",0,$I6),IF($N6="",0,$N6))=0,"",MAX(IF($I6="",0,$I6),IF($N6="",0,$N6))) | P6: =IF(COUNTA($A6:$J6)=0,"",IF($A6<>"Sim","",IF(OR($H6="",$M6=""),"",IF($O6="",$H6,$O6+$M6)))) | Q6: =IF($P6="","",$P6-'Parâmetros e instruções'!$B$3) | R6: =IF(COUNTA($A6:$J6)=0,"",IF($A6<>"Sim","Inativo",IF($P6="","Cadastro incompleto",IF($P6<'Parâmetros e instruções'!$B$3,"Vencido",IF($P6='Parâmetros e instruções'!$B$3,"Vence hoje",IF($P6<='Parâmetros e instruções'!$B$3+'Parâmetros e instruções'!$B$6,"A vencer","Em dia")))))) | S6: =IF(COUNTA($A6:$J6)=0,"",IF(OR($A6<>"Sim",$U6<>"OK"),"",IF(AND($O6<>"",$P6>='Parâmetros e instruções'!$B$3),"Sim","Não"))) | T6: =IF(OR($A6<>"Sim",$P6="",$U6<>"OK"),"",COUNTIFS($A$5:$A$104,"Sim",$P$5:$P$104,">0",$P$5:$P$104,"<"&$P6,$U$5:$U$104,"OK")+COUNTIFS($A$5:$A6,"Sim",$P$5:$P6,$P6,$U$5:$U6,"OK")) | U6: =IF(COUNTA($A6:$J6)=0,"",IF(OR($A6="",$B6="",$C6="",$D6="",$E6="",$F6="",$G6="",$H6=""),"PREENCHER OBRIGATÓRIOS",IF(AND($A6="Sim",COUNTIFS($K$5:$K$104,$K6,$A$5:$A$104,"Sim")>1),"ID ITEM DUPLICADO",IF(OR($M6="",$M6<1,$M6>365),"FREQUÊNCIA INVÁLIDA",IF(AND($I6<>"",$I6>'Parâmetros e instruções'!$B$3),"ÚLTIMA CONTAGEM FUTURA","OK"))))) | X6: ='Parâmetros e instruções'!$J$14 | Y6: ='Parâmetros e instruções'!$K$14 | Z6: ='Parâmetros e instruções'!$L$14 | AA6: ='Parâmetros e instruções'!$E$14
A7: Sim | B7: SKU-FIC-003 | C7: Luminária Órbita Fictícia | D7: CD-FIC-B02-01 | E7: B | F7: Alto | G7: Equipe Inventário Alfa | H7: 46023 | I7: 46249 | K7: =IF(OR($B7="",$D7=""),"",UPPER(TRIM($B7))&"|"&UPPER(TRIM($D7))) | L7: =IF(OR($E7="",$F7=""),"",SUMIFS('Parâmetros e instruções'!$C$13:$C$21,'Parâmetros e instruções'!$A$13:$A$21,$E7,'Parâmetros e instruções'!$B$13:$B$21,$F7)) | M7: =IF($K7="","",IF($J7<>"",$J7,$L7)) | N7: =IF($K7="","",IFERROR(IF(MAXIFS(Contagens!$D$5:$D$104,Contagens!$G$5:$G$104,$K7,Contagens!$R$5:$R$104,"Concluída",Contagens!$U$5:$U$104,"OK")=0,"",MAXIFS(Contagens!$D$5:$D$104,Contagens!$G$5:$G$104,$K7,Contagens!$R$5:$R$104,"Concluída",Contagens!$U$5:$U$104,"OK")),"")) | O7: =IF(MAX(IF($I7="",0,$I7),IF($N7="",0,$N7))=0,"",MAX(IF($I7="",0,$I7),IF($N7="",0,$N7))) | P7: =IF(COUNTA($A7:$J7)=0,"",IF($A7<>"Sim","",IF(OR($H7="",$M7=""),"",IF($O7="",$H7,$O7+$M7)))) | Q7: =IF($P7="","",$P7-'Parâmetros e instruções'!$B$3) | R7: =IF(COUNTA($A7:$J7)=0,"",IF($A7<>"Sim","Inativo",IF($P7="","Cadastro incompleto",IF($P7<'Parâmetros e instruções'!$B$3,"Vencido",IF($P7='Parâmetros e instruções'!$B$3,"Vence hoje",IF($P7<='Parâmetros e instruções'!$B$3+'Parâmetros e instruções'!$B$6,"A vencer","Em dia")))))) | S7: =IF(COUNTA($A7:$J7)=0,"",IF(OR($A7<>"Sim",$U7<>"OK"),"",IF(AND($O7<>"",$P7>='Parâmetros e instruções'!$B$3),"Sim","Não"))) | T7: =IF(OR($A7<>"Sim",$P7="",$U7<>"OK"),"",COUNTIFS($A$5:$A$104,"Sim",$P$5:$P$104,">0",$P$5:$P$104,"<"&$P7,$U$5:$U$104,"OK")+COUNTIFS($A$5:$A7,"Sim",$P$5:$P7,$P7,$U$5:$U7,"OK")) | U7: =IF(COUNTA($A7:$J7)=0,"",IF(OR($A7="",$B7="",$C7="",$D7="",$E7="",$F7="",$G7="",$H7=""),"PREENCHER OBRIGATÓRIOS",IF(AND($A7="Sim",COUNTIFS($K$5:$K$104,$K7,$A$5:$A$104,"Sim")>1),"ID ITEM DUPLICADO",IF(OR($M7="",$M7<1,$M7>365),"FREQUÊNCIA INVÁLIDA",IF(AND($I7<>"",$I7>'Parâmetros e instruções'!$B$3),"ÚLTIMA CONTAGEM FUTURA","OK"))))) | Y7: ='Parâmetros e instruções'!$K$15 | Z7: ='Parâmetros e instruções'!$L$15 | AA7: ='Parâmetros e instruções'!$E$15
A8: Sim | B8: SKU-FIC-004 | C8: Organizador Prisma Fictício | D8: CD-FIC-B02-02 | E8: B | F8: Médio | G8: Equipe Inventário Gama | H8: 46023 | I8: 46204 | K8: =IF(OR($B8="",$D8=""),"",UPPER(TRIM($B8))&"|"&UPPER(TRIM($D8))) | L8: =IF(OR($E8="",$F8=""),"",SUMIFS('Parâmetros e instruções'!$C$13:$C$21,'Parâmetros e instruções'!$A$13:$A$21,$E8,'Parâmetros e instruções'!$B$13:$B$21,$F8)) | M8: =IF($K8="","",IF($J8<>"",$J8,$L8)) | N8: =IF($K8="","",IFERROR(IF(MAXIFS(Contagens!$D$5:$D$104,Contagens!$G$5:$G$104,$K8,Contagens!$R$5:$R$104,"Concluída",Contagens!$U$5:$U$104,"OK")=0,"",MAXIFS(Contagens!$D$5:$D$104,Contagens!$G$5:$G$104,$K8,Contagens!$R$5:$R$104,"Concluída",Contagens!$U$5:$U$104,"OK")),"")) | O8: =IF(MAX(IF($I8="",0,$I8),IF($N8="",0,$N8))=0,"",MAX(IF($I8="",0,$I8),IF($N8="",0,$N8))) | P8: =IF(COUNTA($A8:$J8)=0,"",IF($A8<>"Sim","",IF(OR($H8="",$M8=""),"",IF($O8="",$H8,$O8+$M8)))) | Q8: =IF($P8="","",$P8-'Parâmetros e instruções'!$B$3) | R8: =IF(COUNTA($A8:$J8)=0,"",IF($A8<>"Sim","Inativo",IF($P8="","Cadastro incompleto",IF($P8<'Parâmetros e instruções'!$B$3,"Vencido",IF($P8='Parâmetros e instruções'!$B$3,"Vence hoje",IF($P8<='Parâmetros e instruções'!$B$3+'Parâmetros e instruções'!$B$6,"A vencer","Em dia")))))) | S8: =IF(COUNTA($A8:$J8)=0,"",IF(OR($A8<>"Sim",$U8<>"OK"),"",IF(AND($O8<>"",$P8>='Parâmetros e instruções'!$B$3),"Sim","Não"))) | T8: =IF(OR($A8<>"Sim",$P8="",$U8<>"OK"),"",COUNTIFS($A$5:$A$104,"Sim",$P$5:$P$104,">0",$P$5:$P$104,"<"&$P8,$U$5:$U$104,"OK")+COUNTIFS($A$5:$A8,"Sim",$P$5:$P8,$P8,$U$5:$U8,"OK")) | U8: =IF(COUNTA($A8:$J8)=0,"",IF(OR($A8="",$B8="",$C8="",$D8="",$E8="",$F8="",$G8="",$H8=""),"PREENCHER OBRIGATÓRIOS",IF(AND($A8="Sim",COUNTIFS($K$5:$K$104,$K8,$A$5:$A$104,"Sim")>1),"ID ITEM DUPLICADO",IF(OR($M8="",$M8<1,$M8>365),"FREQUÊNCIA INVÁLIDA",IF(AND($I8<>"",$I8>'Parâmetros e instruções'!$B$3),"ÚLTIMA CONTAGEM FUTURA","OK"))))) | AA8: ='Parâmetros e instruções'!$E$16
A9: Sim | B9: SKU-FIC-005 | C9: Cabo Cometa Fictício 2 m | D9: CD-FIC-C03-01 | E9: C | F9: Baixo | G9: Equipe Inventário Beta | H9: 46023 | I9: 46096 | K9: =IF(OR($B9="",$D9=""),"",UPPER(TRIM($B9))&"|"&UPPER(TRIM($D9))) | L9: =IF(OR($E9="",$F9=""),"",SUMIFS('Parâmetros e instruções'!$C$13:$C$21,'Parâmetros e instruções'!$A$13:$A$21,$E9,'Parâmetros e instruções'!$B$13:$B$21,$F9)) | M9: =IF($K9="","",IF($J9<>"",$J9,$L9)) | N9: =IF($K9="","",IFERROR(IF(MAXIFS(Contagens!$D$5:$D$104,Contagens!$G$5:$G$104,$K9,Contagens!$R$5:$R$104,"Concluída",Contagens!$U$5:$U$104,"OK")=0,"",MAXIFS(Contagens!$D$5:$D$104,Contagens!$G$5:$G$104,$K9,Contagens!$R$5:$R$104,"Concluída",Contagens!$U$5:$U$104,"OK")),"")) | O9: =IF(MAX(IF($I9="",0,$I9),IF($N9="",0,$N9))=0,"",MAX(IF($I9="",0,$I9),IF($N9="",0,$N9))) | P9: =IF(COUNTA($A9:$J9)=0,"",IF($A9<>"Sim","",IF(OR($H9="",$M9=""),"",IF($O9="",$H9,$O9+$M9)))) | Q9: =IF($P9="","",$P9-'Parâmetros e instruções'!$B$3) | R9: =IF(COUNTA($A9:$J9)=0,"",IF($A9<>"Sim","Inativo",IF($P9="","Cadastro incompleto",IF($P9<'Parâmetros e instruções'!$B$3,"Vencido",IF($P9='Parâmetros e instruções'!$B$3,"Vence hoje",IF($P9<='Parâmetros e instruções'!$B$3+'Parâmetros e instruções'!$B$6,"A vencer","Em dia")))))) | S9: =IF(COUNTA($A9:$J9)=0,"",IF(OR($A9<>"Sim",$U9<>"OK"),"",IF(AND($O9<>"",$P9>='Parâmetros e instruções'!$B$3),"Sim","Não"))) | T9: =IF(OR($A9<>"Sim",$P9="",$U9<>"OK"),"",COUNTIFS($A$5:$A$104,"Sim",$P$5:$P$104,">0",$P$5:$P$104,"<"&$P9,$U$5:$U$104,"OK")+COUNTIFS($A$5:$A9,"Sim",$P$5:$P9,$P9,$U$5:$U9,"OK")) | U9: =IF(COUNTA($A9:$J9)=0,"",IF(OR($A9="",$B9="",$C9="",$D9="",$E9="",$F9="",$G9="",$H9=""),"PREENCHER OBRIGATÓRIOS",IF(AND($A9="Sim",COUNTIFS($K$5:$K$104,$K9,$A$5:$A$104,"Sim")>1),"ID ITEM DUPLICADO",IF(OR($M9="",$M9<1,$M9>365),"FREQUÊNCIA INVÁLIDA",IF(AND($I9<>"",$I9>'Parâmetros e instruções'!$B$3),"ÚLTIMA CONTAGEM FUTURA","OK"))))) | AA9: ='Parâmetros e instruções'!$E$17
A10: Sim | B10: SKU-FIC-006 | C10: Suporte Eclipse Fictício | D10: CD-FIC-A03-02 | E10: A | F10: Alto | G10: Equipe Inventário Delta | H10: 46271 | K10: =IF(OR($B10="",$D10=""),"",UPPER(TRIM($B10))&"|"&UPPER(TRIM($D10))) | L10: =IF(OR($E10="",$F10=""),"",SUMIFS('Parâmetros e instruções'!$C$13:$C$21,'Parâmetros e instruções'!$A$13:$A$21,$E10,'Parâmetros e instruções'!$B$13:$B$21,$F10)) | M10: =IF($K10="","",IF($J10<>"",$J10,$L10)) | N10: =IF($K10="","",IFERROR(IF(MAXIFS(Contagens!$D$5:$D$104,Contagens!$G$5:$G$104,$K10,Contagens!$R$5:$R$104,"Concluída",Contagens!$U$5:$U$104,"OK")=0,"",MAXIFS(Contagens!$D$5:$D$104,Contagens!$G$5:$G$104,$K10,Contagens!$R$5:$R$104,"Concluída",Contagens!$U$5:$U$104,"OK")),"")) | O10: =IF(MAX(IF($I10="",0,$I10),IF($N10="",0,$N10))=0,"",MAX(IF($I10="",0,$I10),IF($N10="",0,$N10))) | P10: =IF(COUNTA($A10:$J10)=0,"",IF($A10<>"Sim","",IF(OR($H10="",$M10=""),"",IF($O10="",$H10,$O10+$M10)))) | Q10: =IF($P10="","",$P10-'Parâmetros e instruções'!$B$3) | R10: =IF(COUNTA($A10:$J10)=0,"",IF($A10<>"Sim","Inativo",IF($P10="","Cadastro incompleto",IF($P10<'Parâmetros e instruções'!$B$3,"Vencido",IF($P10='Parâmetros e instruções'!$B$3,"Vence hoje",IF($P10<='Parâmetros e instruções'!$B$3+'Parâmetros e instruções'!$B$6,"A vencer","Em dia")))))) | S10: =IF(COUNTA($A10:$J10)=0,"",IF(OR($A10<>"Sim",$U10<>"OK"),"",IF(AND($O10<>"",$P10>='Parâmetros e instruções'!$B$3),"Sim","Não"))) | T10: =IF(OR($A10<>"Sim",$P10="",$U10<>"OK"),"",COUNTIFS($A$5:$A$104,"Sim",$P$5:$P$104,">0",$P$5:$P$104,"<"&$P10,$U$5:$U$104,"OK")+COUNTIFS($A$5:$A10,"Sim",$P$5:$P10,$P10,$U$5:$U10,"OK")) | U10: =IF(COUNTA($A10:$J10)=0,"",IF(OR($A10="",$B10="",$C10="",$D10="",$E10="",$F10="",$G10="",$H10=""),"PREENCHER OBRIGATÓRIOS",IF(AND($A10="Sim",COUNTIFS($K$5:$K$104,$K10,$A$5:$A$104,"Sim")>1),"ID ITEM DUPLICADO",IF(OR($M10="",$M10<1,$M10>365),"FREQUÊNCIA INVÁLIDA",IF(AND($I10<>"",$I10>'Parâmetros e instruções'!$B$3),"ÚLTIMA CONTAGEM FUTURA","OK"))))) | AA10: ='Parâmetros e instruções'!$E$18
A11: Sim | B11: SKU-FIC-007 | C11: Mousepad Galáxia Fictício | D11: CD-FIC-C04-01 | E11: C | F11: Médio | G11: Equipe Inventário Gama | H11: 46023 | I11: 46152 | K11: =IF(OR($B11="",$D11=""),"",UPPER(TRIM($B11))&"|"&UPPER(TRIM($D11))) | L11: =IF(OR($E11="",$F11=""),"",SUMIFS('Parâmetros e instruções'!$C$13:$C$21,'Parâmetros e instruções'!$A$13:$A$21,$E11,'Parâmetros e instruções'!$B$13:$B$21,$F11)) | M11: =IF($K11="","",IF($J11<>"",$J11,$L11)) | N11: =IF($K11="","",IFERROR(IF(MAXIFS(Contagens!$D$5:$D$104,Contagens!$G$5:$G$104,$K11,Contagens!$R$5:$R$104,"Concluída",Contagens!$U$5:$U$104,"OK")=0,"",MAXIFS(Contagens!$D$5:$D$104,Contagens!$G$5:$G$104,$K11,Contagens!$R$5:$R$104,"Concluída",Contagens!$U$5:$U$104,"OK")),"")) | O11: =IF(MAX(IF($I11="",0,$I11),IF($N11="",0,$N11))=0,"",MAX(IF($I11="",0,$I11),IF($N11="",0,$N11))) | P11: =IF(COUNTA($A11:$J11)=0,"",IF($A11<>"Sim","",IF(OR($H11="",$M11=""),"",IF($O11="",$H11,$O11+$M11)))) | Q11: =IF($P11="","",$P11-'Parâmetros e instruções'!$B$3) | R11: =IF(COUNTA($A11:$J11)=0,"",IF($A11<>"Sim","Inativo",IF($P11="","Cadastro incompleto",IF($P11<'Parâmetros e instruções'!$B$3,"Vencido",IF($P11='Parâmetros e instruções'!$B$3,"Vence hoje",IF($P11<='Parâmetros e instruções'!$B$3+'Parâmetros e instruções'!$B$6,"A vencer","Em dia")))))) | S11: =IF(COUNTA($A11:$J11)=0,"",IF(OR($A11<>"Sim",$U11<>"OK"),"",IF(AND($O11<>"",$P11>='Parâmetros e instruções'!$B$3),"Sim","Não"))) | T11: =IF(OR($A11<>"Sim",$P11="",$U11<>"OK"),"",COUNTIFS($A$5:$A$104,"Sim",$P$5:$P$104,">0",$P$5:$P$104,"<"&$P11,$U$5:$U$104,"OK")+COUNTIFS($A$5:$A11,"Sim",$P$5:$P11,$P11,$U$5:$U11,"OK")) | U11: =IF(COUNTA($A11:$J11)=0,"",IF(OR($A11="",$B11="",$C11="",$D11="",$E11="",$F11="",$G11="",$H11=""),"PREENCHER OBRIGATÓRIOS",IF(AND($A11="Sim",COUNTIFS($K$5:$K$104,$K11,$A$5:$A$104,"Sim")>1),"ID ITEM DUPLICADO",IF(OR($M11="",$M11<1,$M11>365),"FREQUÊNCIA INVÁLIDA",IF(AND($I11<>"",$I11>'Parâmetros e instruções'!$B$3),"ÚLTIMA CONTAGEM FUTURA","OK"))))) | AA11: ='Parâmetros e instruções'!$E$19
A12: Sim | B12: SKU-FIC-008 | C12: Garrafa Horizonte Fictícia 750 ml | D12: CD-FIC-B04-02 | E12: B | F12: Baixo | G12: Equipe Inventário Delta | H12: 46023 | I12: 46235 | J12: 45 | K12: =IF(OR($B12="",$D12=""),"",UPPER(TRIM($B12))&"|"&UPPER(TRIM($D12))) | L12: =IF(OR($E12="",$F12=""),"",SUMIFS('Parâmetros e instruções'!$C$13:$C$21,'Parâmetros e instruções'!$A$13:$A$21,$E12,'Parâmetros e instruções'!$B$13:$B$21,$F12)) | M12: =IF($K12="","",IF($J12<>"",$J12,$L12)) | N12: =IF($K12="","",IFERROR(IF(MAXIFS(Contagens!$D$5:$D$104,Contagens!$G$5:$G$104,$K12,Contagens!$R$5:$R$104,"Concluída",Contagens!$U$5:$U$104,"OK")=0,"",MAXIFS(Contagens!$D$5:$D$104,Contagens!$G$5:$G$104,$K12,Contagens!$R$5:$R$104,"Concluída",Contagens!$U$5:$U$104,"OK")),"")) | O12: =IF(MAX(IF($I12="",0,$I12),IF($N12="",0,$N12))=0,"",MAX(IF($I12="",0,$I12),IF($N12="",0,$N12))) | P12: =IF(COUNTA($A12:$J12)=0,"",IF($A12<>"Sim","",IF(OR($H12="",$M12=""),"",IF($O12="",$H12,$O12+$M12)))) | Q12: =IF($P12="","",$P12-'Parâmetros e instruções'!$B$3) | R12: =IF(COUNTA($A12:$J12)=0,"",IF($A12<>"Sim","Inativo",IF($P12="","Cadastro incompleto",IF($P12<'Parâmetros e instruções'!$B$3,"Vencido",IF($P12='Parâmetros e instruções'!$B$3,"Vence hoje",IF($P12<='Parâmetros e instruções'!$B$3+'Parâmetros e instruções'!$B$6,"A vencer","Em dia")))))) | S12: =IF(COUNTA($A12:$J12)=0,"",IF(OR($A12<>"Sim",$U12<>"OK"),"",IF(AND($O12<>"",$P12>='Parâmetros e instruções'!$B$3),"Sim","Não"))) | T12: =IF(OR($A12<>"Sim",$P12="",$U12<>"OK"),"",COUNTIFS($A$5:$A$104,"Sim",$P$5:$P$104,">0",$P$5:$P$104,"<"&$P12,$U$5:$U$104,"OK")+COUNTIFS($A$5:$A12,"Sim",$P$5:$P12,$P12,$U$5:$U12,"OK")) | U12: =IF(COUNTA($A12:$J12)=0,"",IF(OR($A12="",$B12="",$C12="",$D12="",$E12="",$F12="",$G12="",$H12=""),"PREENCHER OBRIGATÓRIOS",IF(AND($A12="Sim",COUNTIFS($K$5:$K$104,$K12,$A$5:$A$104,"Sim")>1),"ID ITEM DUPLICADO",IF(OR($M12="",$M12<1,$M12>365),"FREQUÊNCIA INVÁLIDA",IF(AND($I12<>"",$I12>'Parâmetros e instruções'!$B$3),"ÚLTIMA CONTAGEM FUTURA","OK"))))) | AA12: ='Parâmetros e instruções'!$E$20
A13: Sim | B13: SKU-FIC-009 | C13: Caderno Vértice Fictício | D13: CD-FIC-C05-01 | E13: C | F13: Alto | G13: Equipe Inventário Alfa | H13: 46023 | I13: 46174 | K13: =IF(OR($B13="",$D13=""),"",UPPER(TRIM($B13))&"|"&UPPER(TRIM($D13))) | L13: =IF(OR($E13="",$F13=""),"",SUMIFS('Parâmetros e instruções'!$C$13:$C$21,'Parâmetros e instruções'!$A$13:$A$21,$E13,'Parâmetros e instruções'!$B$13:$B$21,$F13)) | M13: =IF($K13="","",IF($J13<>"",$J13,$L13)) | N13: =IF($K13="","",IFERROR(IF(MAXIFS(Contagens!$D$5:$D$104,Contagens!$G$5:$G$104,$K13,Contagens!$R$5:$R$104,"Concluída",Contagens!$U$5:$U$104,"OK")=0,"",MAXIFS(Contagens!$D$5:$D$104,Contagens!$G$5:$G$104,$K13,Contagens!$R$5:$R$104,"Concluída",Contagens!$U$5:$U$104,"OK")),"")) | O13: =IF(MAX(IF($I13="",0,$I13),IF($N13="",0,$N13))=0,"",MAX(IF($I13="",0,$I13),IF($N13="",0,$N13))) | P13: =IF(COUNTA($A13:$J13)=0,"",IF($A13<>"Sim","",IF(OR($H13="",$M13=""),"",IF($O13="",$H13,$O13+$M13)))) | Q13: =IF($P13="","",$P13-'Parâmetros e instruções'!$B$3) | R13: =IF(COUNTA($A13:$J13)=0,"",IF($A13<>"Sim","Inativo",IF($P13="","Cadastro incompleto",IF($P13<'Parâmetros e instruções'!$B$3,"Vencido",IF($P13='Parâmetros e instruções'!$B$3,"Vence hoje",IF($P13<='Parâmetros e instruções'!$B$3+'Parâmetros e instruções'!$B$6,"A vencer","Em dia")))))) | S13: =IF(COUNTA($A13:$J13)=0,"",IF(OR($A13<>"Sim",$U13<>"OK"),"",IF(AND($O13<>"",$P13>='Parâmetros e instruções'!$B$3),"Sim","Não"))) | T13: =IF(OR($A13<>"Sim",$P13="",$U13<>"OK"),"",COUNTIFS($A$5:$A$104,"Sim",$P$5:$P$104,">0",$P$5:$P$104,"<"&$P13,$U$5:$U$104,"OK")+COUNTIFS($A$5:$A13,"Sim",$P$5:$P13,$P13,$U$5:$U13,"OK")) | U13: =IF(COUNTA($A13:$J13)=0,"",IF(OR($A13="",$B13="",$C13="",$D13="",$E13="",$F13="",$G13="",$H13=""),"PREENCHER OBRIGATÓRIOS",IF(AND($A13="Sim",COUNTIFS($K$5:$K$104,$K13,$A$5:$A$104,"Sim")>1),"ID ITEM DUPLICADO",IF(OR($M13="",$M13<1,$M13>365),"FREQUÊNCIA INVÁLIDA",IF(AND($I13<>"",$I13>'Parâmetros e instruções'!$B$3),"ÚLTIMA CONTAGEM FUTURA","OK"))))) | AA13: ='Parâmetros e instruções'!$E$21
A14: Não | B14: SKU-FIC-010 | C14: Teclado Miragem Fictício | D14: CD-FIC-A05-02 | E14: A | F14: Baixo | G14: Equipe Inventário Beta | H14: 46023 | I14: 46264 | K14: =IF(OR($B14="",$D14=""),"",UPPER(TRIM($B14))&"|"&UPPER(TRIM($D14))) | L14: =IF(OR($E14="",$F14=""),"",SUMIFS('Parâmetros e instruções'!$C$13:$C$21,'Parâmetros e instruções'!$A$13:$A$21,$E14,'Parâmetros e instruções'!$B$13:$B$21,$F14)) | M14: =IF($K14="","",IF($J14<>"",$J14,$L14)) | N14: =IF($K14="","",IFERROR(IF(MAXIFS(Contagens!$D$5:$D$104,Contagens!$G$5:$G$104,$K14,Contagens!$R$5:$R$104,"Concluída",Contagens!$U$5:$U$104,"OK")=0,"",MAXIFS(Contagens!$D$5:$D$104,Contagens!$G$5:$G$104,$K14,Contagens!$R$5:$R$104,"Concluída",Contagens!$U$5:$U$104,"OK")),"")) | O14: =IF(MAX(IF($I14="",0,$I14),IF($N14="",0,$N14))=0,"",MAX(IF($I14="",0,$I14),IF($N14="",0,$N14))) | P14: =IF(COUNTA($A14:$J14)=0,"",IF($A14<>"Sim","",IF(OR($H14="",$M14=""),"",IF($O14="",$H14,$O14+$M14)))) | Q14: =IF($P14="","",$P14-'Parâmetros e instruções'!$B$3) | R14: =IF(COUNTA($A14:$J14)=0,"",IF($A14<>"Sim","Inativo",IF($P14="","Cadastro incompleto",IF($P14<'Parâmetros e instruções'!$B$3,"Vencido",IF($P14='Parâmetros e instruções'!$B$3,"Vence hoje",IF($P14<='Parâmetros e instruções'!$B$3+'Parâmetros e instruções'!$B$6,"A vencer","Em dia")))))) | S14: =IF(COUNTA($A14:$J14)=0,"",IF(OR($A14<>"Sim",$U14<>"OK"),"",IF(AND($O14<>"",$P14>='Parâmetros e instruções'!$B$3),"Sim","Não"))) | T14: =IF(OR($A14<>"Sim",$P14="",$U14<>"OK"),"",COUNTIFS($A$5:$A$104,"Sim",$P$5:$P$104,">0",$P$5:$P$104,"<"&$P14,$U$5:$U$104,"OK")+COUNTIFS($A$5:$A14,"Sim",$P$5:$P14,$P14,$U$5:$U14,"OK")) | U14: =IF(COUNTA($A14:$J14)=0,"",IF(OR($A14="",$B14="",$C14="",$D14="",$E14="",$F14="",$G14="",$H14=""),"PREENCHER OBRIGATÓRIOS",IF(AND($A14="Sim",COUNTIFS($K$5:$K$104,$K14,$A$5:$A$104,"Sim")>1),"ID ITEM DUPLICADO",IF(OR($M14="",$M14<1,$M14>365),"FREQUÊNCIA INVÁLIDA",IF(AND($I14<>"",$I14>'Parâmetros e instruções'!$B$3),"ÚLTIMA CONTAGEM FUTURA","OK"))))) | AA14: ='Parâmetros e instruções'!$E$22
K15: =IF(OR($B15="",$D15=""),"",UPPER(TRIM($B15))&"|"&UPPER(TRIM($D15))) | L15: =IF(OR($E15="",$F15=""),"",SUMIFS('Parâmetros e instruções'!$C$13:$C$21,'Parâmetros e instruções'!$A$13:$A$21,$E15,'Parâmetros e instruções'!$B$13:$B$21,$F15)) | M15: =IF($K15="","",IF($J15<>"",$J15,$L15)) | N15: =IF($K15="","",IFERROR(IF(MAXIFS(Contagens!$D$5:$D$104,Contagens!$G$5:$G$104,$K15,Contagens!$R$5:$R$104,"Concluída",Contagens!$U$5:$U$104,"OK")=0,"",MAXIFS(Contagens!$D$5:$D$104,Contagens!$G$5:$G$104,$K15,Contagens!$R$5:$R$104,"Concluída",Contagens!$U$5:$U$104,"OK")),"")) | O15: =IF(MAX(IF($I15="",0,$I15),IF($N15="",0,$N15))=0,"",MAX(IF($I15="",0,$I15),IF($N15="",0,$N15))) | P15: =IF(COUNTA($A15:$J15)=0,"",IF($A15<>"Sim","",IF(OR($H15="",$M15=""),"",IF($O15="",$H15,$O15+$M15)))) | Q15: =IF($P15="","",$P15-'Parâmetros e instruções'!$B$3) | R15: =IF(COUNTA($A15:$J15)=0,"",IF($A15<>"Sim","Inativo",IF($P15="","Cadastro incompleto",IF($P15<'Parâmetros e instruções'!$B$3,"Vencido",IF($P15='Parâmetros e instruções'!$B$3,"Vence hoje",IF($P15<='Parâmetros e instruções'!$B$3+'Parâmetros e instruções'!$B$6,"A vencer","Em dia")))))) | S15: =IF(COUNTA($A15:$J15)=0,"",IF(OR($A15<>"Sim",$U15<>"OK"),"",IF(AND($O15<>"",$P15>='Parâmetros e instruções'!$B$3),"Sim","Não"))) | T15: =IF(OR($A15<>"Sim",$P15="",$U15<>"OK"),"",COUNTIFS($A$5:$A$104,"Sim",$P$5:$P$104,">0",$P$5:$P$104,"<"&$P15,$U$5:$U$104,"OK")+COUNTIFS($A$5:$A15,"Sim",$P$5:$P15,$P15,$U$5:$U15,"OK")) | U15: =IF(COUNTA($A15:$J15)=0,"",IF(OR($A15="",$B15="",$C15="",$D15="",$E15="",$F15="",$G15="",$H15=""),"PREENCHER OBRIGATÓRIOS",IF(AND($A15="Sim",COUNTIFS($K$5:$K$104,$K15,$A$5:$A$104,"Sim")>1),"ID ITEM DUPLICADO",IF(OR($M15="",$M15<1,$M15>365),"FREQUÊNCIA INVÁLIDA",IF(AND($I15<>"",$I15>'Parâmetros e instruções'!$B$3),"ÚLTIMA CONTAGEM FUTURA","OK")))))
K16: =IF(OR($B16="",$D16=""),"",UPPER(TRIM($B16))&"|"&UPPER(TRIM($D16))) | L16: =IF(OR($E16="",$F16=""),"",SUMIFS('Parâmetros e instruções'!$C$13:$C$21,'Parâmetros e instruções'!$A$13:$A$21,$E16,'Parâmetros e instruções'!$B$13:$B$21,$F16)) | M16: =IF($K16="","",IF($J16<>"",$J16,$L16)) | N16: =IF($K16="","",IFERROR(IF(MAXIFS(Contagens!$D$5:$D$104,Contagens!$G$5:$G$104,$K16,Contagens!$R$5:$R$104,"Concluída",Contagens!$U$5:$U$104,"OK")=0,"",MAXIFS(Contagens!$D$5:$D$104,Contagens!$G$5:$G$104,$K16,Contagens!$R$5:$R$104,"Concluída",Contagens!$U$5:$U$104,"OK")),"")) | O16: =IF(MAX(IF($I16="",0,$I16),IF($N16="",0,$N16))=0,"",MAX(IF($I16="",0,$I16),IF($N16="",0,$N16))) | P16: =IF(COUNTA($A16:$J16)=0,"",IF($A16<>"Sim","",IF(OR($H16="",$M16=""),"",IF($O16="",$H16,$O16+$M16)))) | Q16: =IF($P16="","",$P16-'Parâmetros e instruções'!$B$3) | R16: =IF(COUNTA($A16:$J16)=0,"",IF($A16<>"Sim","Inativo",IF($P16="","Cadastro incompleto",IF($P16<'Parâmetros e instruções'!$B$3,"Vencido",IF($P16='Parâmetros e instruções'!$B$3,"Vence hoje",IF($P16<='Parâmetros e instruções'!$B$3+'Parâmetros e instruções'!$B$6,"A vencer","Em dia")))))) | S16: =IF(COUNTA($A16:$J16)=0,"",IF(OR($A16<>"Sim",$U16<>"OK"),"",IF(AND($O16<>"",$P16>='Parâmetros e instruções'!$B$3),"Sim","Não"))) | T16: =IF(OR($A16<>"Sim",$P16="",$U16<>"OK"),"",COUNTIFS($A$5:$A$104,"Sim",$P$5:$P$104,">0",$P$5:$P$104,"<"&$P16,$U$5:$U$104,"OK")+COUNTIFS($A$5:$A16,"Sim",$P$5:$P16,$P16,$U$5:$U16,"OK")) | U16: =IF(COUNTA($A16:$J16)=0,"",IF(OR($A16="",$B16="",$C16="",$D16="",$E16="",$F16="",$G16="",$H16=""),"PREENCHER OBRIGATÓRIOS",IF(AND($A16="Sim",COUNTIFS($K$5:$K$104,$K16,$A$5:$A$104,"Sim")>1),"ID ITEM DUPLICADO",IF(OR($M16="",$M16<1,$M16>365),"FREQUÊNCIA INVÁLIDA",IF(AND($I16<>"",$I16>'Parâmetros e instruções'!$B$3),"ÚLTIMA CONTAGEM FUTURA","OK")))))
K17: =IF(OR($B17="",$D17=""),"",UPPER(TRIM($B17))&"|"&UPPER(TRIM($D17))) | L17: =IF(OR($E17="",$F17=""),"",SUMIFS('Parâmetros e instruções'!$C$13:$C$21,'Parâmetros e instruções'!$A$13:$A$21,$E17,'Parâmetros e instruções'!$B$13:$B$21,$F17)) | M17: =IF($K17="","",IF($J17<>"",$J17,$L17)) | N17: =IF($K17="","",IFERROR(IF(MAXIFS(Contagens!$D$5:$D$104,Contagens!$G$5:$G$104,$K17,Contagens!$R$5:$R$104,"Concluída",Contagens!$U$5:$U$104,"OK")=0,"",MAXIFS(Contagens!$D$5:$D$104,Contagens!$G$5:$G$104,$K17,Contagens!$R$5:$R$104,"Concluída",Contagens!$U$5:$U$104,"OK")),"")) | O17: =IF(MAX(IF($I17="",0,$I17),IF($N17="",0,$N17))=0,"",MAX(IF($I17="",0,$I17),IF($N17="",0,$N17))) | P17: =IF(COUNTA($A17:$J17)=0,"",IF($A17<>"Sim","",IF(OR($H17="",$M17=""),"",IF($O17="",$H17,$O17+$M17)))) | Q17: =IF($P17="","",$P17-'Parâmetros e instruções'!$B$3) | R17: =IF(COUNTA($A17:$J17)=0,"",IF($A17<>"Sim","Inativo",IF($P17="","Cadastro incompleto",IF($P17<'Parâmetros e instruções'!$B$3,"Vencido",IF($P17='Parâmetros e instruções'!$B$3,"Vence hoje",IF($P17<='Parâmetros e instruções'!$B$3+'Parâmetros e instruções'!$B$6,"A vencer","Em dia")))))) | S17: =IF(COUNTA($A17:$J17)=0,"",IF(OR($A17<>"Sim",$U17<>"OK"),"",IF(AND($O17<>"",$P17>='Parâmetros e instruções'!$B$3),"Sim","Não"))) | T17: =IF(OR($A17<>"Sim",$P17="",$U17<>"OK"),"",COUNTIFS($A$5:$A$104,"Sim",$P$5:$P$104,">0",$P$5:$P$104,"<"&$P17,$U$5:$U$104,"OK")+COUNTIFS($A$5:$A17,"Sim",$P$5:$P17,$P17,$U$5:$U17,"OK")) | U17: =IF(COUNTA($A17:$J17)=0,"",IF(OR($A17="",$B17="",$C17="",$D17="",$E17="",$F17="",$G17="",$H17=""),"PREENCHER OBRIGATÓRIOS",IF(AND($A17="Sim",COUNTIFS($K$5:$K$104,$K17,$A$5:$A$104,"Sim")>1),"ID ITEM DUPLICADO",IF(OR($M17="",$M17<1,$M17>365),"FREQUÊNCIA INVÁLIDA",IF(AND($I17<>"",$I17>'Parâmetros e instruções'!$B$3),"ÚLTIMA CONTAGEM FUTURA","OK")))))
K18: =IF(OR($B18="",$D18=""),"",UPPER(TRIM($B18))&"|"&UPPER(TRIM($D18))) | L18: =IF(OR($E18="",$F18=""),"",SUMIFS('Parâmetros e instruções'!$C$13:$C$21,'Parâmetros e instruções'!$A$13:$A$21,$E18,'Parâmetros e instruções'!$B$13:$B$21,$F18)) | M18: =IF($K18="","",IF($J18<>"",$J18,$L18)) | N18: =IF($K18="","",IFERROR(IF(MAXIFS(Contagens!$D$5:$D$104,Contagens!$G$5:$G$104,$K18,Contagens!$R$5:$R$104,"Concluída",Contagens!$U$5:$U$104,"OK")=0,"",MAXIFS(Contagens!$D$5:$D$104,Contagens!$G$5:$G$104,$K18,Contagens!$R$5:$R$104,"Concluída",Contagens!$U$5:$U$104,"OK")),"")) | O18: =IF(MAX(IF($I18="",0,$I18),IF($N18="",0,$N18))=0,"",MAX(IF($I18="",0,$I18),IF($N18="",0,$N18))) | P18: =IF(COUNTA($A18:$J18)=0,"",IF($A18<>"Sim","",IF(OR($H18="",$M18=""),"",IF($O18="",$H18,$O18+$M18)))) | Q18: =IF($P18="","",$P18-'Parâmetros e instruções'!$B$3) | R18: =IF(COUNTA($A18:$J18)=0,"",IF($A18<>"Sim","Inativo",IF($P18="","Cadastro incompleto",IF($P18<'Parâmetros e instruções'!$B$3,"Vencido",IF($P18='Parâmetros e instruções'!$B$3,"Vence hoje",IF($P18<='Parâmetros e instruções'!$B$3+'Parâmetros e instruções'!$B$6,"A vencer","Em dia")))))) | S18: =IF(COUNTA($A18:$J18)=0,"",IF(OR($A18<>"Sim",$U18<>"OK"),"",IF(AND($O18<>"",$P18>='Parâmetros e instruções'!$B$3),"Sim","Não"))) | T18: =IF(OR($A18<>"Sim",$P18="",$U18<>"OK"),"",COUNTIFS($A$5:$A$104,"Sim",$P$5:$P$104,">0",$P$5:$P$104,"<"&$P18,$U$5:$U$104,"OK")+COUNTIFS($A$5:$A18,"Sim",$P$5:$P18,$P18,$U$5:$U18,"OK")) | U18: =IF(COUNTA($A18:$J18)=0,"",IF(OR($A18="",$B18="",$C18="",$D18="",$E18="",$F18="",$G18="",$H18=""),"PREENCHER OBRIGATÓRIOS",IF(AND($A18="Sim",COUNTIFS($K$5:$K$104,$K18,$A$5:$A$104,"Sim")>1),"ID ITEM DUPLICADO",IF(OR($M18="",$M18<1,$M18>365),"FREQUÊNCIA INVÁLIDA",IF(AND($I18<>"",$I18>'Parâmetros e instruções'!$B$3),"ÚLTIMA CONTAGEM FUTURA","OK")))))
K19: =IF(OR($B19="",$D19=""),"",UPPER(TRIM($B19))&"|"&UPPER(TRIM($D19))) | L19: =IF(OR($E19="",$F19=""),"",SUMIFS('Parâmetros e instruções'!$C$13:$C$21,'Parâmetros e instruções'!$A$13:$A$21,$E19,'Parâmetros e instruções'!$B$13:$B$21,$F19)) | M19: =IF($K19="","",IF($J19<>"",$J19,$L19)) | N19: =IF($K19="","",IFERROR(IF(MAXIFS(Contagens!$D$5:$D$104,Contagens!$G$5:$G$104,$K19,Contagens!$R$5:$R$104,"Concluída",Contagens!$U$5:$U$104,"OK")=0,"",MAXIFS(Contagens!$D$5:$D$104,Contagens!$G$5:$G$104,$K19,Contagens!$R$5:$R$104,"Concluída",Contagens!$U$5:$U$104,"OK")),"")) | O19: =IF(MAX(IF($I19="",0,$I19),IF($N19="",0,$N19))=0,"",MAX(IF($I19="",0,$I19),IF($N19="",0,$N19))) | P19: =IF(COUNTA($A19:$J19)=0,"",IF($A19<>"Sim","",IF(OR($H19="",$M19=""),"",IF($O19="",$H19,$O19+$M19)))) | Q19: =IF($P19="","",$P19-'Parâmetros e instruções'!$B$3) | R19: =IF(COUNTA($A19:$J19)=0,"",IF($A19<>"Sim","Inativo",IF($P19="","Cadastro incompleto",IF($P19<'Parâmetros e instruções'!$B$3,"Vencido",IF($P19='Parâmetros e instruções'!$B$3,"Vence hoje",IF($P19<='Parâmetros e instruções'!$B$3+'Parâmetros e instruções'!$B$6,"A vencer","Em dia")))))) | S19: =IF(COUNTA($A19:$J19)=0,"",IF(OR($A19<>"Sim",$U19<>"OK"),"",IF(AND($O19<>"",$P19>='Parâmetros e instruções'!$B$3),"Sim","Não"))) | T19: =IF(OR($A19<>"Sim",$P19="",$U19<>"OK"),"",COUNTIFS($A$5:$A$104,"Sim",$P$5:$P$104,">0",$P$5:$P$104,"<"&$P19,$U$5:$U$104,"OK")+COUNTIFS($A$5:$A19,"Sim",$P$5:$P19,$P19,$U$5:$U19,"OK")) | U19: =IF(COUNTA($A19:$J19)=0,"",IF(OR($A19="",$B19="",$C19="",$D19="",$E19="",$F19="",$G19="",$H19=""),"PREENCHER OBRIGATÓRIOS",IF(AND($A19="Sim",COUNTIFS($K$5:$K$104,$K19,$A$5:$A$104,"Sim")>1),"ID ITEM DUPLICADO",IF(OR($M19="",$M19<1,$M19>365),"FREQUÊNCIA INVÁLIDA",IF(AND($I19<>"",$I19>'Parâmetros e instruções'!$B$3),"ÚLTIMA CONTAGEM FUTURA","OK")))))
K20: =IF(OR($B20="",$D20=""),"",UPPER(TRIM($B20))&"|"&UPPER(TRIM($D20))) | L20: =IF(OR($E20="",$F20=""),"",SUMIFS('Parâmetros e instruções'!$C$13:$C$21,'Parâmetros e instruções'!$A$13:$A$21,$E20,'Parâmetros e instruções'!$B$13:$B$21,$F20)) | M20: =IF($K20="","",IF($J20<>"",$J20,$L20)) | N20: =IF($K20="","",IFERROR(IF(MAXIFS(Contagens!$D$5:$D$104,Contagens!$G$5:$G$104,$K20,Contagens!$R$5:$R$104,"Concluída",Contagens!$U$5:$U$104,"OK")=0,"",MAXIFS(Contagens!$D$5:$D$104,Contagens!$G$5:$G$104,$K20,Contagens!$R$5:$R$104,"Concluída",Contagens!$U$5:$U$104,"OK")),"")) | O20: =IF(MAX(IF($I20="",0,$I20),IF($N20="",0,$N20))=0,"",MAX(IF($I20="",0,$I20),IF($N20="",0,$N20))) | P20: =IF(COUNTA($A20:$J20)=0,"",IF($A20<>"Sim","",IF(OR($H20="",$M20=""),"",IF($O20="",$H20,$O20+$M20)))) | Q20: =IF($P20="","",$P20-'Parâmetros e instruções'!$B$3) | R20: =IF(COUNTA($A20:$J20)=0,"",IF($A20<>"Sim","Inativo",IF($P20="","Cadastro incompleto",IF($P20<'Parâmetros e instruções'!$B$3,"Vencido",IF($P20='Parâmetros e instruções'!$B$3,"Vence hoje",IF($P20<='Parâmetros e instruções'!$B$3+'Parâmetros e instruções'!$B$6,"A vencer","Em dia")))))) | S20: =IF(COUNTA($A20:$J20)=0,"",IF(OR($A20<>"Sim",$U20<>"OK"),"",IF(AND($O20<>"",$P20>='Parâmetros e instruções'!$B$3),"Sim","Não"))) | T20: =IF(OR($A20<>"Sim",$P20="",$U20<>"OK"),"",COUNTIFS($A$5:$A$104,"Sim",$P$5:$P$104,">0",$P$5:$P$104,"<"&$P20,$U$5:$U$104,"OK")+COUNTIFS($A$5:$A20,"Sim",$P$5:$P20,$P20,$U$5:$U20,"OK")) | U20: =IF(COUNTA($A20:$J20)=0,"",IF(OR($A20="",$B20="",$C20="",$D20="",$E20="",$F20="",$G20="",$H20=""),"PREENCHER OBRIGATÓRIOS",IF(AND($A20="Sim",COUNTIFS($K$5:$K$104,$K20,$A$5:$A$104,"Sim")>1),"ID ITEM DUPLICADO",IF(OR($M20="",$M20<1,$M20>365),"FREQUÊNCIA INVÁLIDA",IF(AND($I20<>"",$I20>'Parâmetros e instruções'!$B$3),"ÚLTIMA CONTAGEM FUTURA","OK")))))
K21: =IF(OR($B21="",$D21=""),"",UPPER(TRIM($B21))&"|"&UPPER(TRIM($D21))) | L21: =IF(OR($E21="",$F21=""),"",SUMIFS('Parâmetros e instruções'!$C$13:$C$21,'Parâmetros e instruções'!$A$13:$A$21,$E21,'Parâmetros e instruções'!$B$13:$B$21,$F21)) | M21: =IF($K21="","",IF($J21<>"",$J21,$L21)) | N21: =IF($K21="","",IFERROR(IF(MAXIFS(Contagens!$D$5:$D$104,Contagens!$G$5:$G$104,$K21,Contagens!$R$5:$R$104,"Concluída",Contagens!$U$5:$U$104,"OK")=0,"",MAXIFS(Contagens!$D$5:$D$104,Contagens!$G$5:$G$104,$K21,Contagens!$R$5:$R$104,"Concluída",Contagens!$U$5:$U$104,"OK")),"")) | O21: =IF(MAX(IF($I21="",0,$I21),IF($N21="",0,$N21))=0,"",MAX(IF($I21="",0,$I21),IF($N21="",0,$N21))) | P21: =IF(COUNTA($A21:$J21)=0,"",IF($A21<>"Sim","",IF(OR($H21="",$M21=""),"",IF($O21="",$H21,$O21+$M21)))) | Q21: =IF($P21="","",$P21-'Parâmetros e instruções'!$B$3) | R21: =IF(COUNTA($A21:$J21)=0,"",IF($A21<>"Sim","Inativo",IF($P21="","Cadastro incompleto",IF($P21<'Parâmetros e instruções'!$B$3,"Vencido",IF($P21='Parâmetros e instruções'!$B$3,"Vence hoje",IF($P21<='Parâmetros e instruções'!$B$3+'Parâmetros e instruções'!$B$6,"A vencer","Em dia")))))) | S21: =IF(COUNTA($A21:$J21)=0,"",IF(OR($A21<>"Sim",$U21<>"OK"),"",IF(AND($O21<>"",$P21>='Parâmetros e instruções'!$B$3),"Sim","Não"))) | T21: =IF(OR($A21<>"Sim",$P21="",$U21<>"OK"),"",COUNTIFS($A$5:$A$104,"Sim",$P$5:$P$104,">0",$P$5:$P$104,"<"&$P21,$U$5:$U$104,"OK")+COUNTIFS($A$5:$A21,"Sim",$P$5:$P21,$P21,$U$5:$U21,"OK")) | U21: =IF(COUNTA($A21:$J21)=0,"",IF(OR($A21="",$B21="",$C21="",$D21="",$E21="",$F21="",$G21="",$H21=""),"PREENCHER OBRIGATÓRIOS",IF(AND($A21="Sim",COUNTIFS($K$5:$K$104,$K21,$A$5:$A$104,"Sim")>1),"ID ITEM DUPLICADO",IF(OR($M21="",$M21<1,$M21>365),"FREQUÊNCIA INVÁLIDA",IF(AND($I21<>"",$I21>'Parâmetros e instruções'!$B$3),"ÚLTIMA CONTAGEM FUTURA","OK")))))
