Workbook

Sheet Resumo
A1: Painel do inventário rotativo
A3: Data de referência | B3: ='Parâmetros e instruções'!$B$3 | D3: Início do período | E3: ='Parâmetros e instruções'!$B$4 | G3: Fim do período | H3: ='Parâmetros e instruções'!$B$5
A4: Itens ativos válidos | D4: Cobertura do ciclo | G4: Itens vencidos | J4: A vencer na janela
B5: =COUNTIFS(Programa!$A$5:$A$104,"Sim",Programa!$U$5:$U$104,"OK") | E5: =IFERROR(COUNTIFS(Programa!$A$5:$A$104,"Sim",Programa!$U$5:$U$104,"OK",Programa!$S$5:$S$104,"Sim")/$B$5,"") | H5: =COUNTIFS(Programa!$A$5:$A$104,"Sim",Programa!$U$5:$U$104,"OK",Programa!$P$5:$P$104,">0",Programa!$P$5:$P$104,"<"&'Parâmetros e instruções'!$B$3) | K5: =COUNTIFS(Programa!$A$5:$A$104,"Sim",Programa!$U$5:$U$104,"OK",Programa!$P$5:$P$104,">="&'Parâmetros e instruções'!$B$3,Programa!$P$5:$P$104,"<="&'Parâmetros e instruções'!$B$3+'Parâmetros e instruções'!$B$6)
A7: Itens sem histórico | D7: Planejadas no período | G7: Concluídas no período | J7: Taxa de execução
B8: =COUNTIFS(Programa!$A$5:$A$104,"Sim",Programa!$U$5:$U$104,"OK",Programa!$O$5:$O$104,"") | E8: =COUNTIFS(Contagens!$C$5:$C$104,">="&'Parâmetros e instruções'!$B$4,Contagens!$C$5:$C$104,"<="&'Parâmetros e instruções'!$B$5,Contagens!$R$5:$R$104,"<>Cancelada",Contagens!$R$5:$R$104,"<>",Contagens!$U$5:$U$104,"OK") | H8: =COUNTIFS(Contagens!$D$5:$D$104,">="&'Parâmetros e instruções'!$B$4,Contagens!$D$5:$D$104,"<="&'Parâmetros e instruções'!$B$5,Contagens!$R$5:$R$104,"Concluída",Contagens!$U$5:$U$104,"OK") | K8: =IFERROR($H$8/$E$8,"")
A10: Acurácia no período | D10: Divergência absoluta | G10: Meta de cobertura | J10: Meta de acurácia
B11: =IFERROR(COUNTIFS(Contagens!$D$5:$D$104,">="&'Parâmetros e instruções'!$B$4,Contagens!$D$5:$D$104,"<="&'Parâmetros e instruções'!$B$5,Contagens!$R$5:$R$104,"Concluída",Contagens!$Q$5:$Q$104,"Sim",Contagens!$U$5:$U$104,"OK")/$H$8,"") | E11: =SUMIFS(Contagens!$P$5:$P$104,Contagens!$D$5:$D$104,">="&'Parâmetros e instruções'!$B$4,Contagens!$D$5:$D$104,"<="&'Parâmetros e instruções'!$B$5,Contagens!$R$5:$R$104,"Concluída",Contagens!$U$5:$U$104,"OK") | H11: ='Parâmetros e instruções'!$B$8 | K11: ='Parâmetros e instruções'!$B$9
A14: Alertas de revisão
A15: Parâmetros com erro | B15: =IF('Parâmetros e instruções'!$B$10="OK",0,1)
A16: Cadastros com erro | B16: =COUNTIFS(Programa!$U$5:$U$104,"<>",Programa!$U$5:$U$104,"<>OK")
A17: Contagens com erro | B17: =COUNTIFS(Contagens!$U$5:$U$104,"<>",Contagens!$U$5:$U$104,"<>OK")
A18: Itens ativos duplicados | B18: =COUNTIF(Programa!$U$5:$U$104,"ID ITEM DUPLICADO")
A19: Planejadas atrasadas | B19: =COUNTIFS(Contagens!$C$5:$C$104,">0",Contagens!$C$5:$C$104,"<"&'Parâmetros e instruções'!$B$3,Contagens!$R$5:$R$104,"Planejada")+COUNTIFS(Contagens!$C$5:$C$104,">0",Contagens!$C$5:$C$104,"<"&'Parâmetros e instruções'!$B$3,Contagens!$R$5:$R$104,"Em contagem")
A20: Itens sem cobertura | B20: =COUNTIFS(Programa!$A$5:$A$104,"Sim",Programa!$U$5:$U$104,"OK",Programa!$S$5:$S$104,"Não")
A21: Cobertura abaixo da meta | B21: =IF($E$5="","",IF($E$5<$H$11,1,0))
A24: Cobertura por classe ABC | G24: Resultados acumulados por rodada
A25: Classe ABC | B25: Itens ativos | C25: Itens cobertos | D25: Cobertura | G25: Rodada | H25: Concluídas | I25: Com divergência | J25: Acurácia | K25: Divergência absoluta
A26: A | B26: =COUNTIFS(Programa!$A$5:$A$104,"Sim",Programa!$E$5:$E$104,$A26,Programa!$U$5:$U$104,"OK") | C26: =COUNTIFS(Programa!$A$5:$A$104,"Sim",Programa!$E$5:$E$104,$A26,Programa!$S$5:$S$104,"Sim",Programa!$U$5:$U$104,"OK") | D26: =IFERROR($C26/$B26,"") | G26: ='Parâmetros e instruções'!G13 | H26: =IF($G26="","",COUNTIFS(Contagens!$B$5:$B$104,$G26,Contagens!$R$5:$R$104,"Concluída",Contagens!$U$5:$U$104,"OK")) | I26: =IF($G26="","",COUNTIFS(Contagens!$B$5:$B$104,$G26,Contagens!$R$5:$R$104,"Concluída",Contagens!$Q$5:$Q$104,"Não",Contagens!$U$5:$U$104,"OK")) | J26: =IFERROR(COUNTIFS(Contagens!$B$5:$B$104,$G26,Contagens!$R$5:$R$104,"Concluída",Contagens!$Q$5:$Q$104,"Sim",Contagens!$U$5:$U$104,"OK")/$H26,"") | K26: =IF($G26="","",SUMIFS(Contagens!$P$5:$P$104,Contagens!$B$5:$B$104,$G26,Contagens!$R$5:$R$104,"Concluída",Contagens!$U$5:$U$104,"OK"))
A27: B | B27: =COUNTIFS(Programa!$A$5:$A$104,"Sim",Programa!$E$5:$E$104,$A27,Programa!$U$5:$U$104,"OK") | C27: =COUNTIFS(Programa!$A$5:$A$104,"Sim",Programa!$E$5:$E$104,$A27,Programa!$S$5:$S$104,"Sim",Programa!$U$5:$U$104,"OK") | D27: =IFERROR($C27/$B27,"") | G27: ='Parâmetros e instruções'!G14 | H27: =IF($G27="","",COUNTIFS(Contagens!$B$5:$B$104,$G27,Contagens!$R$5:$R$104,"Concluída",Contagens!$U$5:$U$104,"OK")) | I27: =IF($G27="","",COUNTIFS(Contagens!$B$5:$B$104,$G27,Contagens!$R$5:$R$104,"Concluída",Contagens!$Q$5:$Q$104,"Não",Contagens!$U$5:$U$104,"OK")) | J27: =IFERROR(COUNTIFS(Contagens!$B$5:$B$104,$G27,Contagens!$R$5:$R$104,"Concluída",Contagens!$Q$5:$Q$104,"Sim",Contagens!$U$5:$U$104,"OK")/$H27,"") | K27: =IF($G27="","",SUMIFS(Contagens!$P$5:$P$104,Contagens!$B$5:$B$104,$G27,Contagens!$R$5:$R$104,"Concluída",Contagens!$U$5:$U$104,"OK"))
A28: C | B28: =COUNTIFS(Programa!$A$5:$A$104,"Sim",Programa!$E$5:$E$104,$A28,Programa!$U$5:$U$104,"OK") | C28: =COUNTIFS(Programa!$A$5:$A$104,"Sim",Programa!$E$5:$E$104,$A28,Programa!$S$5:$S$104,"Sim",Programa!$U$5:$U$104,"OK") | D28: =IFERROR($C28/$B28,"") | G28: ='Parâmetros e instruções'!G15 | H28: =IF($G28="","",COUNTIFS(Contagens!$B$5:$B$104,$G28,Contagens!$R$5:$R$104,"Concluída",Contagens!$U$5:$U$104,"OK")) | I28: =IF($G28="","",COUNTIFS(Contagens!$B$5:$B$104,$G28,Contagens!$R$5:$R$104,"Concluída",Contagens!$Q$5:$Q$104,"Não",Contagens!$U$5:$U$104,"OK")) | J28: =IFERROR(COUNTIFS(Contagens!$B$5:$B$104,$G28,Contagens!$R$5:$R$104,"Concluída",Contagens!$Q$5:$Q$104,"Sim",Contagens!$U$5:$U$104,"OK")/$H28,"") | K28: =IF($G28="","",SUMIFS(Contagens!$P$5:$P$104,Contagens!$B$5:$B$104,$G28,Contagens!$R$5:$R$104,"Concluída",Contagens!$U$5:$U$104,"OK"))
G29: ='Parâmetros e instruções'!G16 | H29: =IF($G29="","",COUNTIFS(Contagens!$B$5:$B$104,$G29,Contagens!$R$5:$R$104,"Concluída",Contagens!$U$5:$U$104,"OK")) | I29: =IF($G29="","",COUNTIFS(Contagens!$B$5:$B$104,$G29,Contagens!$R$5:$R$104,"Concluída",Contagens!$Q$5:$Q$104,"Não",Contagens!$U$5:$U$104,"OK")) | J29: =IFERROR(COUNTIFS(Contagens!$B$5:$B$104,$G29,Contagens!$R$5:$R$104,"Concluída",Contagens!$Q$5:$Q$104,"Sim",Contagens!$U$5:$U$104,"OK")/$H29,"") | K29: =IF($G29="","",SUMIFS(Contagens!$P$5:$P$104,Contagens!$B$5:$B$104,$G29,Contagens!$R$5:$R$104,"Concluída",Contagens!$U$5:$U$104,"OK"))
G30: ='Parâmetros e instruções'!G17 | H30: =IF($G30="","",COUNTIFS(Contagens!$B$5:$B$104,$G30,Contagens!$R$5:$R$104,"Concluída",Contagens!$U$5:$U$104,"OK")) | I30: =IF($G30="","",COUNTIFS(Contagens!$B$5:$B$104,$G30,Contagens!$R$5:$R$104,"Concluída",Contagens!$Q$5:$Q$104,"Não",Contagens!$U$5:$U$104,"OK")) | J30: =IFERROR(COUNTIFS(Contagens!$B$5:$B$104,$G30,Contagens!$R$5:$R$104,"Concluída",Contagens!$Q$5:$Q$104,"Sim",Contagens!$U$5:$U$104,"OK")/$H30,"") | K30: =IF($G30="","",SUMIFS(Contagens!$P$5:$P$104,Contagens!$B$5:$B$104,$G30,Contagens!$R$5:$R$104,"Concluída",Contagens!$U$5:$U$104,"OK"))
G31: ='Parâmetros e instruções'!G18 | H31: =IF($G31="","",COUNTIFS(Contagens!$B$5:$B$104,$G31,Contagens!$R$5:$R$104,"Concluída",Contagens!$U$5:$U$104,"OK")) | I31: =IF($G31="","",COUNTIFS(Contagens!$B$5:$B$104,$G31,Contagens!$R$5:$R$104,"Concluída",Contagens!$Q$5:$Q$104,"Não",Contagens!$U$5:$U$104,"OK")) | J31: =IFERROR(COUNTIFS(Contagens!$B$5:$B$104,$G31,Contagens!$R$5:$R$104,"Concluída",Contagens!$Q$5:$Q$104,"Sim",Contagens!$U$5:$U$104,"OK")/$H31,"") | K31: =IF($G31="","",SUMIFS(Contagens!$P$5:$P$104,Contagens!$B$5:$B$104,$G31,Contagens!$R$5:$R$104,"Concluída",Contagens!$U$5:$U$104,"OK"))
G32: ='Parâmetros e instruções'!G19 | H32: =IF($G32="","",COUNTIFS(Contagens!$B$5:$B$104,$G32,Contagens!$R$5:$R$104,"Concluída",Contagens!$U$5:$U$104,"OK")) | I32: =IF($G32="","",COUNTIFS(Contagens!$B$5:$B$104,$G32,Contagens!$R$5:$R$104,"Concluída",Contagens!$Q$5:$Q$104,"Não",Contagens!$U$5:$U$104,"OK")) | J32: =IFERROR(COUNTIFS(Contagens!$B$5:$B$104,$G32,Contagens!$R$5:$R$104,"Concluída",Contagens!$Q$5:$Q$104,"Sim",Contagens!$U$5:$U$104,"OK")/$H32,"") | K32: =IF($G32="","",SUMIFS(Contagens!$P$5:$P$104,Contagens!$B$5:$B$104,$G32,Contagens!$R$5:$R$104,"Concluída",Contagens!$U$5:$U$104,"OK"))
G33: ='Parâmetros e instruções'!G20 | H33: =IF($G33="","",COUNTIFS(Contagens!$B$5:$B$104,$G33,Contagens!$R$5:$R$104,"Concluída",Contagens!$U$5:$U$104,"OK")) | I33: =IF($G33="","",COUNTIFS(Contagens!$B$5:$B$104,$G33,Contagens!$R$5:$R$104,"Concluída",Contagens!$Q$5:$Q$104,"Não",Contagens!$U$5:$U$104,"OK")) | J33: =IFERROR(COUNTIFS(Contagens!$B$5:$B$104,$G33,Contagens!$R$5:$R$104,"Concluída",Contagens!$Q$5:$Q$104,"Sim",Contagens!$U$5:$U$104,"OK")/$H33,"") | K33: =IF($G33="","",SUMIFS(Contagens!$P$5:$P$104,Contagens!$B$5:$B$104,$G33,Contagens!$R$5:$R$104,"Concluída",Contagens!$U$5:$U$104,"OK"))
G34: ='Parâmetros e instruções'!G21 | H34: =IF($G34="","",COUNTIFS(Contagens!$B$5:$B$104,$G34,Contagens!$R$5:$R$104,"Concluída",Contagens!$U$5:$U$104,"OK")) | I34: =IF($G34="","",COUNTIFS(Contagens!$B$5:$B$104,$G34,Contagens!$R$5:$R$104,"Concluída",Contagens!$Q$5:$Q$104,"Não",Contagens!$U$5:$U$104,"OK")) | J34: =IFERROR(COUNTIFS(Contagens!$B$5:$B$104,$G34,Contagens!$R$5:$R$104,"Concluída",Contagens!$Q$5:$Q$104,"Sim",Contagens!$U$5:$U$104,"OK")/$H34,"") | K34: =IF($G34="","",SUMIFS(Contagens!$P$5:$P$104,Contagens!$B$5:$B$104,$G34,Contagens!$R$5:$R$104,"Concluída",Contagens!$U$5:$U$104,"OK"))
G35: ='Parâmetros e instruções'!G22 | H35: =IF($G35="","",COUNTIFS(Contagens!$B$5:$B$104,$G35,Contagens!$R$5:$R$104,"Concluída",Contagens!$U$5:$U$104,"OK")) | I35: =IF($G35="","",COUNTIFS(Contagens!$B$5:$B$104,$G35,Contagens!$R$5:$R$104,"Concluída",Contagens!$Q$5:$Q$104,"Não",Contagens!$U$5:$U$104,"OK")) | J35: =IFERROR(COUNTIFS(Contagens!$B$5:$B$104,$G35,Contagens!$R$5:$R$104,"Concluída",Contagens!$Q$5:$Q$104,"Sim",Contagens!$U$5:$U$104,"OK")/$H35,"") | K35: =IF($G35="","",SUMIFS(Contagens!$P$5:$P$104,Contagens!$B$5:$B$104,$G35,Contagens!$R$5:$R$104,"Concluída",Contagens!$U$5:$U$104,"OK"))
G36: ='Parâmetros e instruções'!G23 | H36: =IF($G36="","",COUNTIFS(Contagens!$B$5:$B$104,$G36,Contagens!$R$5:$R$104,"Concluída",Contagens!$U$5:$U$104,"OK")) | I36: =IF($G36="","",COUNTIFS(Contagens!$B$5:$B$104,$G36,Contagens!$R$5:$R$104,"Concluída",Contagens!$Q$5:$Q$104,"Não",Contagens!$U$5:$U$104,"OK")) | J36: =IFERROR(COUNTIFS(Contagens!$B$5:$B$104,$G36,Contagens!$R$5:$R$104,"Concluída",Contagens!$Q$5:$Q$104,"Sim",Contagens!$U$5:$U$104,"OK")/$H36,"") | K36: =IF($G36="","",SUMIFS(Contagens!$P$5:$P$104,Contagens!$B$5:$B$104,$G36,Contagens!$R$5:$R$104,"Concluída",Contagens!$U$5:$U$104,"OK"))
G37: ='Parâmetros e instruções'!G24 | H37: =IF($G37="","",COUNTIFS(Contagens!$B$5:$B$104,$G37,Contagens!$R$5:$R$104,"Concluída",Contagens!$U$5:$U$104,"OK")) | I37: =IF($G37="","",COUNTIFS(Contagens!$B$5:$B$104,$G37,Contagens!$R$5:$R$104,"Concluída",Contagens!$Q$5:$Q$104,"Não",Contagens!$U$5:$U$104,"OK")) | J37: =IFERROR(COUNTIFS(Contagens!$B$5:$B$104,$G37,Contagens!$R$5:$R$104,"Concluída",Contagens!$Q$5:$Q$104,"Sim",Contagens!$U$5:$U$104,"OK")/$H37,"") | K37: =IF($G37="","",SUMIFS(Contagens!$P$5:$P$104,Contagens!$B$5:$B$104,$G37,Contagens!$R$5:$R$104,"Concluída",Contagens!$U$5:$U$104,"OK"))

Sheet Agenda
A1: Agenda de contagens
A2: Data de referência | B2: ='Parâmetros e instruções'!$B$3 | D2: Janela de aviso | E2: ='Parâmetros e instruções'!$B$6 | F2: dias
A5: Ordem | B5: Próxima contagem | C5: Dias para vencer | D5: Situação | E5: SKU | F5: Produto | G5: Localização | H5: Classe ABC | I5: Risco | J5: Responsável | K5: Frequência aplicada | L5: Última contagem | M5: Coberto no ciclo?
A6: =IF($B6="","",ROWS($A$6:A6)) | B6: =IFERROR(INDEX(Programa!$P$5:$P$104,MATCH(ROWS($B$6:B6),Programa!$T$5:$T$104,0)),"") | C6: =IFERROR(INDEX(Programa!$Q$5:$Q$104,MATCH(ROWS($B$6:B6),Programa!$T$5:$T$104,0)),"") | D6: =IFERROR(INDEX(Programa!$R$5:$R$104,MATCH(ROWS($B$6:B6),Programa!$T$5:$T$104,0)),"") | E6: =IFERROR(INDEX(Programa!$B$5:$B$104,MATCH(ROWS($B$6:B6),Programa!$T$5:$T$104,0)),"") | F6: =IFERROR(INDEX(Programa!$C$5:$C$104,MATCH(ROWS($B$6:B6),Programa!$T$5:$T$104,0)),"") | G6: =IFERROR(INDEX(Programa!$D$5:$D$104,MATCH(ROWS($B$6:B6),Programa!$T$5:$T$104,0)),"") | H6: =IFERROR(INDEX(Programa!$E$5:$E$104,MATCH(ROWS($B$6:B6),Programa!$T$5:$T$104,0)),"") | I6: =IFERROR(INDEX(Programa!$F$5:$F$104,MATCH(ROWS($B$6:B6),Programa!$T$5:$T$104,0)),"") | J6: =IFERROR(INDEX(Programa!$G$5:$G$104,MATCH(ROWS($B$6:B6),Programa!$T$5:$T$104,0)),"") | K6: =IFERROR(INDEX(Programa!$M$5:$M$104,MATCH(ROWS($B$6:B6),Programa!$T$5:$T$104,0)),"") | L6: =IFERROR(INDEX(Programa!$O$5:$O$104,MATCH(ROWS($B$6:B6),Programa!$T$5:$T$104,0)),"") | M6: =IFERROR(INDEX(Programa!$S$5:$S$104,MATCH(ROWS($B$6:B6),Programa!$T$5:$T$104,0)),"")
A7: =IF($B7="","",ROWS($A$6:A7)) | B7: =IFERROR(INDEX(Programa!$P$5:$P$104,MATCH(ROWS($B$6:B7),Programa!$T$5:$T$104,0)),"") | C7: =IFERROR(INDEX(Programa!$Q$5:$Q$104,MATCH(ROWS($B$6:B7),Programa!$T$5:$T$104,0)),"") | D7: =IFERROR(INDEX(Programa!$R$5:$R$104,MATCH(ROWS($B$6:B7),Programa!$T$5:$T$104,0)),"") | E7: =IFERROR(INDEX(Programa!$B$5:$B$104,MATCH(ROWS($B$6:B7),Programa!$T$5:$T$104,0)),"") | F7: =IFERROR(INDEX(Programa!$C$5:$C$104,MATCH(ROWS($B$6:B7),Programa!$T$5:$T$104,0)),"") | G7: =IFERROR(INDEX(Programa!$D$5:$D$104,MATCH(ROWS($B$6:B7),Programa!$T$5:$T$104,0)),"") | H7: =IFERROR(INDEX(Programa!$E$5:$E$104,MATCH(ROWS($B$6:B7),Programa!$T$5:$T$104,0)),"") | I7: =IFERROR(INDEX(Programa!$F$5:$F$104,MATCH(ROWS($B$6:B7),Programa!$T$5:$T$104,0)),"") | J7: =IFERROR(INDEX(Programa!$G$5:$G$104,MATCH(ROWS($B$6:B7),Programa!$T$5:$T$104,0)),"") | K7: =IFERROR(INDEX(Programa!$M$5:$M$104,MATCH(ROWS($B$6:B7),Programa!$T$5:$T$104,0)),"") | L7: =IFERROR(INDEX(Programa!$O$5:$O$104,MATCH(ROWS($B$6:B7),Programa!$T$5:$T$104,0)),"") | M7: =IFERROR(INDEX(Programa!$S$5:$S$104,MATCH(ROWS($B$6:B7),Programa!$T$5:$T$104,0)),"")
A8: =IF($B8="","",ROWS($A$6:A8)) | B8: =IFERROR(INDEX(Programa!$P$5:$P$104,MATCH(ROWS($B$6:B8),Programa!$T$5:$T$104,0)),"") | C8: =IFERROR(INDEX(Programa!$Q$5:$Q$104,MATCH(ROWS($B$6:B8),Programa!$T$5:$T$104,0)),"") | D8: =IFERROR(INDEX(Programa!$R$5:$R$104,MATCH(ROWS($B$6:B8),Programa!$T$5:$T$104,0)),"") | E8: =IFERROR(INDEX(Programa!$B$5:$B$104,MATCH(ROWS($B$6:B8),Programa!$T$5:$T$104,0)),"") | F8: =IFERROR(INDEX(Programa!$C$5:$C$104,MATCH(ROWS($B$6:B8),Programa!$T$5:$T$104,0)),"") | G8: =IFERROR(INDEX(Programa!$D$5:$D$104,MATCH(ROWS($B$6:B8),Programa!$T$5:$T$104,0)),"") | H8: =IFERROR(INDEX(Programa!$E$5:$E$104,MATCH(ROWS($B$6:B8),Programa!$T$5:$T$104,0)),"") | I8: =IFERROR(INDEX(Programa!$F$5:$F$104,MATCH(ROWS($B$6:B8),Programa!$T$5:$T$104,0)),"") | J8: =IFERROR(INDEX(Programa!$G$5:$G$104,MATCH(ROWS($B$6:B8),Programa!$T$5:$T$104,0)),"") | K8: =IFERROR(INDEX(Programa!$M$5:$M$104,MATCH(ROWS($B$6:B8),Programa!$T$5:$T$104,0)),"") | L8: =IFERROR(INDEX(Programa!$O$5:$O$104,MATCH(ROWS($B$6:B8),Programa!$T$5:$T$104,0)),"") | M8: =IFERROR(INDEX(Programa!$S$5:$S$104,MATCH(ROWS($B$6:B8),Programa!$T$5:$T$104,0)),"")
A9: =IF($B9="","",ROWS($A$6:A9)) | B9: =IFERROR(INDEX(Programa!$P$5:$P$104,MATCH(ROWS($B$6:B9),Programa!$T$5:$T$104,0)),"") | C9: =IFERROR(INDEX(Programa!$Q$5:$Q$104,MATCH(ROWS($B$6:B9),Programa!$T$5:$T$104,0)),"") | D9: =IFERROR(INDEX(Programa!$R$5:$R$104,MATCH(ROWS($B$6:B9),Programa!$T$5:$T$104,0)),"") | E9: =IFERROR(INDEX(Programa!$B$5:$B$104,MATCH(ROWS($B$6:B9),Programa!$T$5:$T$104,0)),"") | F9: =IFERROR(INDEX(Programa!$C$5:$C$104,MATCH(ROWS($B$6:B9),Programa!$T$5:$T$104,0)),"") | G9: =IFERROR(INDEX(Programa!$D$5:$D$104,MATCH(ROWS($B$6:B9),Programa!$T$5:$T$104,0)),"") | H9: =IFERROR(INDEX(Programa!$E$5:$E$104,MATCH(ROWS($B$6:B9),Programa!$T$5:$T$104,0)),"") | I9: =IFERROR(INDEX(Programa!$F$5:$F$104,MATCH(ROWS($B$6:B9),Programa!$T$5:$T$104,0)),"") | J9: =IFERROR(INDEX(Programa!$G$5:$G$104,MATCH(ROWS($B$6:B9),Programa!$T$5:$T$104,0)),"") | K9: =IFERROR(INDEX(Programa!$M$5:$M$104,MATCH(ROWS($B$6:B9),Programa!$T$5:$T$104,0)),"") | L9: =IFERROR(INDEX(Programa!$O$5:$O$104,MATCH(ROWS($B$6:B9),Programa!$T$5:$T$104,0)),"") | M9: =IFERROR(INDEX(Programa!$S$5:$S$104,MATCH(ROWS($B$6:B9),Programa!$T$5:$T$104,0)),"")
A10: =IF($B10="","",ROWS($A$6:A10)) | B10: =IFERROR(INDEX(Programa!$P$5:$P$104,MATCH(ROWS($B$6:B10),Programa!$T$5:$T$104,0)),"") | C10: =IFERROR(INDEX(Programa!$Q$5:$Q$104,MATCH(ROWS($B$6:B10),Programa!$T$5:$T$104,0)),"") | D10: =IFERROR(INDEX(Programa!$R$5:$R$104,MATCH(ROWS($B$6:B10),Programa!$T$5:$T$104,0)),"") | E10: =IFERROR(INDEX(Programa!$B$5:$B$104,MATCH(ROWS($B$6:B10),Programa!$T$5:$T$104,0)),"") | F10: =IFERROR(INDEX(Programa!$C$5:$C$104,MATCH(ROWS($B$6:B10),Programa!$T$5:$T$104,0)),"") | G10: =IFERROR(INDEX(Programa!$D$5:$D$104,MATCH(ROWS($B$6:B10),Programa!$T$5:$T$104,0)),"") | H10: =IFERROR(INDEX(Programa!$E$5:$E$104,MATCH(ROWS($B$6:B10),Programa!$T$5:$T$104,0)),"") | I10: =IFERROR(INDEX(Programa!$F$5:$F$104,MATCH(ROWS($B$6:B10),Programa!$T$5:$T$104,0)),"") | J10: =IFERROR(INDEX(Programa!$G$5:$G$104,MATCH(ROWS($B$6:B10),Programa!$T$5:$T$104,0)),"") | K10: =IFERROR(INDEX(Programa!$M$5:$M$104,MATCH(ROWS($B$6:B10),Programa!$T$5:$T$104,0)),"") | L10: =IFERROR(INDEX(Programa!$O$5:$O$104,MATCH(ROWS($B$6:B10),Programa!$T$5:$T$104,0)),"") | M10: =IFERROR(INDEX(Programa!$S$5:$S$104,MATCH(ROWS($B$6:B10),Programa!$T$5:$T$104,0)),"")
A11: =IF($B11="","",ROWS($A$6:A11)) | B11: =IFERROR(INDEX(Programa!$P$5:$P$104,MATCH(ROWS($B$6:B11),Programa!$T$5:$T$104,0)),"") | C11: =IFERROR(INDEX(Programa!$Q$5:$Q$104,MATCH(ROWS($B$6:B11),Programa!$T$5:$T$104,0)),"") | D11: =IFERROR(INDEX(Programa!$R$5:$R$104,MATCH(ROWS($B$6:B11),Programa!$T$5:$T$104,0)),"") | E11: =IFERROR(INDEX(Programa!$B$5:$B$104,MATCH(ROWS($B$6:B11),Programa!$T$5:$T$104,0)),"") | F11: =IFERROR(INDEX(Programa!$C$5:$C$104,MATCH(ROWS($B$6:B11),Programa!$T$5:$T$104,0)),"") | G11: =IFERROR(INDEX(Programa!$D$5:$D$104,MATCH(ROWS($B$6:B11),Programa!$T$5:$T$104,0)),"") | H11: =IFERROR(INDEX(Programa!$E$5:$E$104,MATCH(ROWS($B$6:B11),Programa!$T$5:$T$104,0)),"") | I11: =IFERROR(INDEX(Programa!$F$5:$F$104,MATCH(ROWS($B$6:B11),Programa!$T$5:$T$104,0)),"") | J11: =IFERROR(INDEX(Programa!$G$5:$G$104,MATCH(ROWS($B$6:B11),Programa!$T$5:$T$104,0)),"") | K11: =IFERROR(INDEX(Programa!$M$5:$M$104,MATCH(ROWS($B$6:B11),Programa!$T$5:$T$104,0)),"") | L11: =IFERROR(INDEX(Programa!$O$5:$O$104,MATCH(ROWS($B$6:B11),Programa!$T$5:$T$104,0)),"") | M11: =IFERROR(INDEX(Programa!$S$5:$S$104,MATCH(ROWS($B$6:B11),Programa!$T$5:$T$104,0)),"")
A12: =IF($B12="","",ROWS($A$6:A12)) | B12: =IFERROR(INDEX(Programa!$P$5:$P$104,MATCH(ROWS($B$6:B12),Programa!$T$5:$T$104,0)),"") | C12: =IFERROR(INDEX(Programa!$Q$5:$Q$104,MATCH(ROWS($B$6:B12),Programa!$T$5:$T$104,0)),"") | D12: =IFERROR(INDEX(Programa!$R$5:$R$104,MATCH(ROWS($B$6:B12),Programa!$T$5:$T$104,0)),"") | E12: =IFERROR(INDEX(Programa!$B$5:$B$104,MATCH(ROWS($B$6:B12),Programa!$T$5:$T$104,0)),"") | F12: =IFERROR(INDEX(Programa!$C$5:$C$104,MATCH(ROWS($B$6:B12),Programa!$T$5:$T$104,0)),"") | G12: =IFERROR(INDEX(Programa!$D$5:$D$104,MATCH(ROWS($B$6:B12),Programa!$T$5:$T$104,0)),"") | H12: =IFERROR(INDEX(Programa!$E$5:$E$104,MATCH(ROWS($B$6:B12),Programa!$T$5:$T$104,0)),"") | I12: =IFERROR(INDEX(Programa!$F$5:$F$104,MATCH(ROWS($B$6:B12),Programa!$T$5:$T$104,0)),"") | J12: =IFERROR(INDEX(Programa!$G$5:$G$104,MATCH(ROWS($B$6:B12),Programa!$T$5:$T$104,0)),"") | K12: =IFERROR(INDEX(Programa!$M$5:$M$104,MATCH(ROWS($B$6:B12),Programa!$T$5:$T$104,0)),"") | L12: =IFERROR(INDEX(Programa!$O$5:$O$104,MATCH(ROWS($B$6:B12),Programa!$T$5:$T$104,0)),"") | M12: =IFERROR(INDEX(Programa!$S$5:$S$104,MATCH(ROWS($B$6:B12),Programa!$T$5:$T$104,0)),"")
A13: =IF($B13="","",ROWS($A$6:A13)) | B13: =IFERROR(INDEX(Programa!$P$5:$P$104,MATCH(ROWS($B$6:B13),Programa!$T$5:$T$104,0)),"") | C13: =IFERROR(INDEX(Programa!$Q$5:$Q$104,MATCH(ROWS($B$6:B13),Programa!$T$5:$T$104,0)),"") | D13: =IFERROR(INDEX(Programa!$R$5:$R$104,MATCH(ROWS($B$6:B13),Programa!$T$5:$T$104,0)),"") | E13: =IFERROR(INDEX(Programa!$B$5:$B$104,MATCH(ROWS($B$6:B13),Programa!$T$5:$T$104,0)),"") | F13: =IFERROR(INDEX(Programa!$C$5:$C$104,MATCH(ROWS($B$6:B13),Programa!$T$5:$T$104,0)),"") | G13: =IFERROR(INDEX(Programa!$D$5:$D$104,MATCH(ROWS($B$6:B13),Programa!$T$5:$T$104,0)),"") | H13: =IFERROR(INDEX(Programa!$E$5:$E$104,MATCH(ROWS($B$6:B13),Programa!$T$5:$T$104,0)),"") | I13: =IFERROR(INDEX(Programa!$F$5:$F$104,MATCH(ROWS($B$6:B13),Programa!$T$5:$T$104,0)),"") | J13: =IFERROR(INDEX(Programa!$G$5:$G$104,MATCH(ROWS($B$6:B13),Programa!$T$5:$T$104,0)),"") | K13: =IFERROR(INDEX(Programa!$M$5:$M$104,MATCH(ROWS($B$6:B13),Programa!$T$5:$T$104,0)),"") | L13: =IFERROR(INDEX(Programa!$O$5:$O$104,MATCH(ROWS($B$6:B13),Programa!$T$5:$T$104,0)),"") | M13: =IFERROR(INDEX(Programa!$S$5:$S$104,MATCH(ROWS($B$6:B13),Programa!$T$5:$T$104,0)),"")
A14: =IF($B14="","",ROWS($A$6:A14)) | B14: =IFERROR(INDEX(Programa!$P$5:$P$104,MATCH(ROWS($B$6:B14),Programa!$T$5:$T$104,0)),"") | C14: =IFERROR(INDEX(Programa!$Q$5:$Q$104,MATCH(ROWS($B$6:B14),Programa!$T$5:$T$104,0)),"") | D14: =IFERROR(INDEX(Programa!$R$5:$R$104,MATCH(ROWS($B$6:B14),Programa!$T$5:$T$104,0)),"") | E14: =IFERROR(INDEX(Programa!$B$5:$B$104,MATCH(ROWS($B$6:B14),Programa!$T$5:$T$104,0)),"") | F14: =IFERROR(INDEX(Programa!$C$5:$C$104,MATCH(ROWS($B$6:B14),Programa!$T$5:$T$104,0)),"") | G14: =IFERROR(INDEX(Programa!$D$5:$D$104,MATCH(ROWS($B$6:B14),Programa!$T$5:$T$104,0)),"") | H14: =IFERROR(INDEX(Programa!$E$5:$E$104,MATCH(ROWS($B$6:B14),Programa!$T$5:$T$104,0)),"") | I14: =IFERROR(INDEX(Programa!$F$5:$F$104,MATCH(ROWS($B$6:B14),Programa!$T$5:$T$104,0)),"") | J14: =IFERROR(INDEX(Programa!$G$5:$G$104,MATCH(ROWS($B$6:B14),Programa!$T$5:$T$104,0)),"") | K14: =IFERROR(INDEX(Programa!$M$5:$M$104,MATCH(ROWS($B$6:B14),Programa!$T$5:$T$104,0)),"") | L14: =IFERROR(INDEX(Programa!$O$5:$O$104,MATCH(ROWS($B$6:B14),Programa!$T$5:$T$104,0)),"") | M14: =IFERROR(INDEX(Programa!$S$5:$S$104,MATCH(ROWS($B$6:B14),Programa!$T$5:$T$104,0)),"")
A15: =IF($B15="","",ROWS($A$6:A15)) | B15: =IFERROR(INDEX(Programa!$P$5:$P$104,MATCH(ROWS($B$6:B15),Programa!$T$5:$T$104,0)),"") | C15: =IFERROR(INDEX(Programa!$Q$5:$Q$104,MATCH(ROWS($B$6:B15),Programa!$T$5:$T$104,0)),"") | D15: =IFERROR(INDEX(Programa!$R$5:$R$104,MATCH(ROWS($B$6:B15),Programa!$T$5:$T$104,0)),"") | E15: =IFERROR(INDEX(Programa!$B$5:$B$104,MATCH(ROWS($B$6:B15),Programa!$T$5:$T$104,0)),"") | F15: =IFERROR(INDEX(Programa!$C$5:$C$104,MATCH(ROWS($B$6:B15),Programa!$T$5:$T$104,0)),"") | G15: =IFERROR(INDEX(Programa!$D$5:$D$104,MATCH(ROWS($B$6:B15),Programa!$T$5:$T$104,0)),"") | H15: =IFERROR(INDEX(Programa!$E$5:$E$104,MATCH(ROWS($B$6:B15),Programa!$T$5:$T$104,0)),"") | I15: =IFERROR(INDEX(Programa!$F$5:$F$104,MATCH(ROWS($B$6:B15),Programa!$T$5:$T$104,0)),"") | J15: =IFERROR(INDEX(Programa!$G$5:$G$104,MATCH(ROWS($B$6:B15),Programa!$T$5:$T$104,0)),"") | K15: =IFERROR(INDEX(Programa!$M$5:$M$104,MATCH(ROWS($B$6:B15),Programa!$T$5:$T$104,0)),"") | L15: =IFERROR(INDEX(Programa!$O$5:$O$104,MATCH(ROWS($B$6:B15),Programa!$T$5:$T$104,0)),"") | M15: =IFERROR(INDEX(Programa!$S$5:$S$104,MATCH(ROWS($B$6:B15),Programa!$T$5:$T$104,0)),"")
A16: =IF($B16="","",ROWS($A$6:A16)) | B16: =IFERROR(INDEX(Programa!$P$5:$P$104,MATCH(ROWS($B$6:B16),Programa!$T$5:$T$104,0)),"") | C16: =IFERROR(INDEX(Programa!$Q$5:$Q$104,MATCH(ROWS($B$6:B16),Programa!$T$5:$T$104,0)),"") | D16: =IFERROR(INDEX(Programa!$R$5:$R$104,MATCH(ROWS($B$6:B16),Programa!$T$5:$T$104,0)),"") | E16: =IFERROR(INDEX(Programa!$B$5:$B$104,MATCH(ROWS($B$6:B16),Programa!$T$5:$T$104,0)),"") | F16: =IFERROR(INDEX(Programa!$C$5:$C$104,MATCH(ROWS($B$6:B16),Programa!$T$5:$T$104,0)),"") | G16: =IFERROR(INDEX(Programa!$D$5:$D$104,MATCH(ROWS($B$6:B16),Programa!$T$5:$T$104,0)),"") | H16: =IFERROR(INDEX(Programa!$E$5:$E$104,MATCH(ROWS($B$6:B16),Programa!$T$5:$T$104,0)),"") | I16: =IFERROR(INDEX(Programa!$F$5:$F$104,MATCH(ROWS($B$6:B16),Programa!$T$5:$T$104,0)),"") | J16: =IFERROR(INDEX(Programa!$G$5:$G$104,MATCH(ROWS($B$6:B16),Programa!$T$5:$T$104,0)),"") | K16: =IFERROR(INDEX(Programa!$M$5:$M$104,MATCH(ROWS($B$6:B16),Programa!$T$5:$T$104,0)),"") | L16: =IFERROR(INDEX(Programa!$O$5:$O$104,MATCH(ROWS($B$6:B16),Programa!$T$5:$T$104,0)),"") | M16: =IFERROR(INDEX(Programa!$S$5:$S$104,MATCH(ROWS($B$6:B16),Programa!$T$5:$T$104,0)),"")
A17: =IF($B17="","",ROWS($A$6:A17)) | B17: =IFERROR(INDEX(Programa!$P$5:$P$104,MATCH(ROWS($B$6:B17),Programa!$T$5:$T$104,0)),"") | C17: =IFERROR(INDEX(Programa!$Q$5:$Q$104,MATCH(ROWS($B$6:B17),Programa!$T$5:$T$104,0)),"") | D17: =IFERROR(INDEX(Programa!$R$5:$R$104,MATCH(ROWS($B$6:B17),Programa!$T$5:$T$104,0)),"") | E17: =IFERROR(INDEX(Programa!$B$5:$B$104,MATCH(ROWS($B$6:B17),Programa!$T$5:$T$104,0)),"") | F17: =IFERROR(INDEX(Programa!$C$5:$C$104,MATCH(ROWS($B$6:B17),Programa!$T$5:$T$104,0)),"") | G17: =IFERROR(INDEX(Programa!$D$5:$D$104,MATCH(ROWS($B$6:B17),Programa!$T$5:$T$104,0)),"") | H17: =IFERROR(INDEX(Programa!$E$5:$E$104,MATCH(ROWS($B$6:B17),Programa!$T$5:$T$104,0)),"") | I17: =IFERROR(INDEX(Programa!$F$5:$F$104,MATCH(ROWS($B$6:B17),Programa!$T$5:$T$104,0)),"") | J17: =IFERROR(INDEX(Programa!$G$5:$G$104,MATCH(ROWS($B$6:B17),Programa!$T$5:$T$104,0)),"") | K17: =IFERROR(INDEX(Programa!$M$5:$M$104,MATCH(ROWS($B$6:B17),Programa!$T$5:$T$104,0)),"") | L17: =IFERROR(INDEX(Programa!$O$5:$O$104,MATCH(ROWS($B$6:B17),Programa!$T$5:$T$104,0)),"") | M17: =IFERROR(INDEX(Programa!$S$5:$S$104,MATCH(ROWS($B$6:B17),Programa!$T$5:$T$104,0)),"")
... A105: =IF($B105="","",ROWS($A$6:A105)) | B105: =IFERROR(INDEX(Programa!$P$5:$P$104,MATCH(ROWS($B$6:B105),Programa!$T$5:$T$104,0)),"") | C105: =IFERROR(INDEX(Programa!$Q$5:$Q$104,MATCH(ROWS($B$6:B105),Programa!$T$5:$T$104,0)),"") | D105: =IFERROR(INDEX(Programa!$R$5:$R$104,MATCH(ROWS($B$6:B105),Programa!$T$5:$T$104,0)),"") | E105: =IFERROR(INDEX(Programa!$B$5:$B$104,MATCH(ROWS($B$6:B105),Programa!$T$5:$T$104,0)),"") | F105: =IFERROR(INDEX(Programa!$C$5:$C$104,MATCH(ROWS($B$6:B105),Programa!$T$5:$T$104,0)),"") | G105: =IFERROR(INDEX(Programa!$D$5:$D$104,MATCH(ROWS($B$6:B105),Programa!$T$5:$T$104,0)),"") | H105: =IFERROR(INDEX(Programa!$E$5:$E$104,MATCH(ROWS($B$6:B105),Programa!$T$5:$T$104,0)),"") | I105: =IFERROR(INDEX(Programa!$F$5:$F$104,MATCH(ROWS($B$6:B105),Programa!$T$5:$T$104,0)),"") | J105: =IFERROR(INDEX(Programa!$G$5:$G$104,MATCH(ROWS($B$6:B105),Programa!$T$5:$T$104,0)),"") | K105: =IFERROR(INDEX(Programa!$M$5:$M$104,MATCH(ROWS($B$6:B105),Programa!$T$5:$T$104,0)),"") | L105: =IFERROR(INDEX(Programa!$O$5:$O$104,MATCH(ROWS($B$6:B105),Programa!$T$5:$T$104,0)),"") | M105: =IFERROR(INDEX(Programa!$S$5:$S$104,MATCH(ROWS($B$6:B105),Programa!$T$5:$T$104,0)),"")

Sheet Programa
A1: Programa recorrente de inventário rotativo
A2: Preencha apenas as colunas amarelas. Cada linha representa uma combinação única de SKU e localização.
A4: Ativo? | B4: SKU | C4: Produto | D4: Localização | E4: Classe ABC | F4: Risco | G4: Responsável | H4: Data de início | I4: Última contagem informada | J4: Frequência personalizada (dias) | K4: ID item | L4: Frequência sugerida (dias) | M4: Frequência aplicada (dias) | N4: Última contagem concluída | O4: Última contagem válida | P4: Próxima contagem | Q4: Dias para vencer | R4: Situação | S4: Coberto no ciclo? | T4: Ordem da agenda | U4: Checagem
A5: Sim | B5: SKU-FIC-001 | C5: Cafeteira Aurora Fictícia 220 V | D5: CD-FIC-A01-01 | E5: A | F5: Alto | G5: Equipe Inventário Alfa | H5: 46023 | I5: 46263 | K5: =IF(OR($B5="",$D5=""),"",UPPER(TRIM($B5))&"|"&UPPER(TRIM($D5))) | L5: =IF(OR($E5="",$F5=""),"",SUMIFS('Parâmetros e instruções'!$C$13:$C$21,'Parâmetros e instruções'!$A$13:$A$21,$E5,'Parâmetros e instruções'!$B$13:$B$21,$F5)) | M5: =IF($K5="","",IF($J5<>"",$J5,$L5)) | N5: =IF($K5="","",IFERROR(IF(MAXIFS(Contagens!$D$5:$D$104,Contagens!$G$5:$G$104,$K5,Contagens!$R$5:$R$104,"Concluída",Contagens!$U$5:$U$104,"OK")=0,"",MAXIFS(Contagens!$D$5:$D$104,Contagens!$G$5:$G$104,$K5,Contagens!$R$5:$R$104,"Concluída",Contagens!$U$5:$U$104,"OK")),"")) | O5: =IF(MAX(IF($I5="",0,$I5),IF($N5="",0,$N5))=0,"",MAX(IF($I5="",0,$I5),IF($N5="",0,$N5))) | P5: =IF(COUNTA($A5:$J5)=0,"",IF($A5<>"Sim","",IF(OR($H5="",$M5=""),"",IF($O5="",$H5,$O5+$M5)))) | Q5: =IF($P5="","",$P5-'Parâmetros e instruções'!$B$3) | R5: =IF(COUNTA($A5:$J5)=0,"",IF($A5<>"Sim","Inativo",IF($P5="","Cadastro incompleto",IF($P5<'Parâmetros e instruções'!$B$3,"Vencido",IF($P5='Parâmetros e instruções'!$B$3,"Vence hoje",IF($P5<='Parâmetros e instruções'!$B$3+'Parâmetros e instruções'!$B$6,"A vencer","Em dia")))))) | S5: =IF(COUNTA($A5:$J5)=0,"",IF(OR($A5<>"Sim",$U5<>"OK"),"",IF(AND($O5<>"",$P5>='Parâmetros e instruções'!$B$3),"Sim","Não"))) | T5: =IF(OR($A5<>"Sim",$P5="",$U5<>"OK"),"",COUNTIFS($A$5:$A$104,"Sim",$P$5:$P$104,">0",$P$5:$P$104,"<"&$P5,$U$5:$U$104,"OK")+COUNTIFS($A$5:$A5,"Sim",$P$5:$P5,$P5,$U$5:$U5,"OK")) | U5: =IF(COUNTA($A5:$J5)=0,"",IF(OR($A5="",$B5="",$C5="",$D5="",$E5="",$F5="",$G5="",$H5=""),"PREENCHER OBRIGATÓRIOS",IF(AND($A5="Sim",COUNTIFS($K$5:$K$104,$K5,$A$5:$A$104,"Sim")>1),"ID ITEM DUPLICADO",IF(OR($M5="",$M5<1,$M5>365),"FREQUÊNCIA INVÁLIDA",IF(AND($I5<>"",$I5>'Parâmetros e instruções'!$B$3),"ÚLTIMA CONTAGEM FUTURA","OK"))))) | X5: ='Parâmetros e instruções'!$J$13 | Y5: ='Parâmetros e instruções'!$K$13 | Z5: ='Parâmetros e instruções'!$L$13 | AA5: ='Parâmetros e instruções'!$E$13
A6: Sim | B6: SKU-FIC-002 | C6: Fone Nebulosa Fictício | D6: CD-FIC-A01-02 | E6: A | F6: Médio | G6: Equipe Inventário Beta | H6: 46023 | I6: 46254 | K6: =IF(OR($B6="",$D6=""),"",UPPER(TRIM($B6))&"|"&UPPER(TRIM($D6))) | L6: =IF(OR($E6="",$F6=""),"",SUMIFS('Parâmetros e instruções'!$C$13:$C$21,'Parâmetros e instruções'!$A$13:$A$21,$E6,'Parâmetros e instruções'!$B$13:$B$21,$F6)) | M6: =IF($K6="","",IF($J6<>"",$J6,$L6)) | N6: =IF($K6="","",IFERROR(IF(MAXIFS(Contagens!$D$5:$D$104,Contagens!$G$5:$G$104,$K6,Contagens!$R$5:$R$104,"Concluída",Contagens!$U$5:$U$104,"OK")=0,"",MAXIFS(Contagens!$D$5:$D$104,Contagens!$G$5:$G$104,$K6,Contagens!$R$5:$R$104,"Concluída",Contagens!$U$5:$U$104,"OK")),"")) | O6: =IF(MAX(IF($I6="",0,$I6),IF($N6="",0,$N6))=0,"",MAX(IF($I6="",0,$I6),IF($N6="",0,$N6))) | P6: =IF(COUNTA($A6:$J6)=0,"",IF($A6<>"Sim","",IF(OR($H6="",$M6=""),"",IF($O6="",$H6,$O6+$M6)))) | Q6: =IF($P6="","",$P6-'Parâmetros e instruções'!$B$3) | R6: =IF(COUNTA($A6:$J6)=0,"",IF($A6<>"Sim","Inativo",IF($P6="","Cadastro incompleto",IF($P6<'Parâmetros e instruções'!$B$3,"Vencido",IF($P6='Parâmetros e instruções'!$B$3,"Vence hoje",IF($P6<='Parâmetros e instruções'!$B$3+'Parâmetros e instruções'!$B$6,"A vencer","Em dia")))))) | S6: =IF(COUNTA($A6:$J6)=0,"",IF(OR($A6<>"Sim",$U6<>"OK"),"",IF(AND($O6<>"",$P6>='Parâmetros e instruções'!$B$3),"Sim","Não"))) | T6: =IF(OR($A6<>"Sim",$P6="",$U6<>"OK"),"",COUNTIFS($A$5:$A$104,"Sim",$P$5:$P$104,">0",$P$5:$P$104,"<"&$P6,$U$5:$U$104,"OK")+COUNTIFS($A$5:$A6,"Sim",$P$5:$P6,$P6,$U$5:$U6,"OK")) | U6: =IF(COUNTA($A6:$J6)=0,"",IF(OR($A6="",$B6="",$C6="",$D6="",$E6="",$F6="",$G6="",$H6=""),"PREENCHER OBRIGATÓRIOS",IF(AND($A6="Sim",COUNTIFS($K$5:$K$104,$K6,$A$5:$A$104,"Sim")>1),"ID ITEM DUPLICADO",IF(OR($M6="",$M6<1,$M6>365),"FREQUÊNCIA INVÁLIDA",IF(AND($I6<>"",$I6>'Parâmetros e instruções'!$B$3),"ÚLTIMA CONTAGEM FUTURA","OK"))))) | X6: ='Parâmetros e instruções'!$J$14 | Y6: ='Parâmetros e instruções'!$K$14 | Z6: ='Parâmetros e instruções'!$L$14 | AA6: ='Parâmetros e instruções'!$E$14
A7: Sim | B7: SKU-FIC-003 | C7: Luminária Órbita Fictícia | D7: CD-FIC-B02-01 | E7: B | F7: Alto | G7: Equipe Inventário Alfa | H7: 46023 | I7: 46249 | K7: =IF(OR($B7="",$D7=""),"",UPPER(TRIM($B7))&"|"&UPPER(TRIM($D7))) | L7: =IF(OR($E7="",$F7=""),"",SUMIFS('Parâmetros e instruções'!$C$13:$C$21,'Parâmetros e instruções'!$A$13:$A$21,$E7,'Parâmetros e instruções'!$B$13:$B$21,$F7)) | M7: =IF($K7="","",IF($J7<>"",$J7,$L7)) | N7: =IF($K7="","",IFERROR(IF(MAXIFS(Contagens!$D$5:$D$104,Contagens!$G$5:$G$104,$K7,Contagens!$R$5:$R$104,"Concluída",Contagens!$U$5:$U$104,"OK")=0,"",MAXIFS(Contagens!$D$5:$D$104,Contagens!$G$5:$G$104,$K7,Contagens!$R$5:$R$104,"Concluída",Contagens!$U$5:$U$104,"OK")),"")) | O7: =IF(MAX(IF($I7="",0,$I7),IF($N7="",0,$N7))=0,"",MAX(IF($I7="",0,$I7),IF($N7="",0,$N7))) | P7: =IF(COUNTA($A7:$J7)=0,"",IF($A7<>"Sim","",IF(OR($H7="",$M7=""),"",IF($O7="",$H7,$O7+$M7)))) | Q7: =IF($P7="","",$P7-'Parâmetros e instruções'!$B$3) | R7: =IF(COUNTA($A7:$J7)=0,"",IF($A7<>"Sim","Inativo",IF($P7="","Cadastro incompleto",IF($P7<'Parâmetros e instruções'!$B$3,"Vencido",IF($P7='Parâmetros e instruções'!$B$3,"Vence hoje",IF($P7<='Parâmetros e instruções'!$B$3+'Parâmetros e instruções'!$B$6,"A vencer","Em dia")))))) | S7: =IF(COUNTA($A7:$J7)=0,"",IF(OR($A7<>"Sim",$U7<>"OK"),"",IF(AND($O7<>"",$P7>='Parâmetros e instruções'!$B$3),"Sim","Não"))) | T7: =IF(OR($A7<>"Sim",$P7="",$U7<>"OK"),"",COUNTIFS($A$5:$A$104,"Sim",$P$5:$P$104,">0",$P$5:$P$104,"<"&$P7,$U$5:$U$104,"OK")+COUNTIFS($A$5:$A7,"Sim",$P$5:$P7,$P7,$U$5:$U7,"OK")) | U7: =IF(COUNTA($A7:$J7)=0,"",IF(OR($A7="",$B7="",$C7="",$D7="",$E7="",$F7="",$G7="",$H7=""),"PREENCHER OBRIGATÓRIOS",IF(AND($A7="Sim",COUNTIFS($K$5:$K$104,$K7,$A$5:$A$104,"Sim")>1),"ID ITEM DUPLICADO",IF(OR($M7="",$M7<1,$M7>365),"FREQUÊNCIA INVÁLIDA",IF(AND($I7<>"",$I7>'Parâmetros e instruções'!$B$3),"ÚLTIMA CONTAGEM FUTURA","OK"))))) | Y7: ='Parâmetros e instruções'!$K$15 | Z7: ='Parâmetros e instruções'!$L$15 | AA7: ='Parâmetros e instruções'!$E$15
A8: Sim | B8: SKU-FIC-004 | C8: Organizador Prisma Fictício | D8: CD-FIC-B02-02 | E8: B | F8: Médio | G8: Equipe Inventário Gama | H8: 46023 | I8: 46204 | K8: =IF(OR($B8="",$D8=""),"",UPPER(TRIM($B8))&"|"&UPPER(TRIM($D8))) | L8: =IF(OR($E8="",$F8=""),"",SUMIFS('Parâmetros e instruções'!$C$13:$C$21,'Parâmetros e instruções'!$A$13:$A$21,$E8,'Parâmetros e instruções'!$B$13:$B$21,$F8)) | M8: =IF($K8="","",IF($J8<>"",$J8,$L8)) | N8: =IF($K8="","",IFERROR(IF(MAXIFS(Contagens!$D$5:$D$104,Contagens!$G$5:$G$104,$K8,Contagens!$R$5:$R$104,"Concluída",Contagens!$U$5:$U$104,"OK")=0,"",MAXIFS(Contagens!$D$5:$D$104,Contagens!$G$5:$G$104,$K8,Contagens!$R$5:$R$104,"Concluída",Contagens!$U$5:$U$104,"OK")),"")) | O8: =IF(MAX(IF($I8="",0,$I8),IF($N8="",0,$N8))=0,"",MAX(IF($I8="",0,$I8),IF($N8="",0,$N8))) | P8: =IF(COUNTA($A8:$J8)=0,"",IF($A8<>"Sim","",IF(OR($H8="",$M8=""),"",IF($O8="",$H8,$O8+$M8)))) | Q8: =IF($P8="","",$P8-'Parâmetros e instruções'!$B$3) | R8: =IF(COUNTA($A8:$J8)=0,"",IF($A8<>"Sim","Inativo",IF($P8="","Cadastro incompleto",IF($P8<'Parâmetros e instruções'!$B$3,"Vencido",IF($P8='Parâmetros e instruções'!$B$3,"Vence hoje",IF($P8<='Parâmetros e instruções'!$B$3+'Parâmetros e instruções'!$B$6,"A vencer","Em dia")))))) | S8: =IF(COUNTA($A8:$J8)=0,"",IF(OR($A8<>"Sim",$U8<>"OK"),"",IF(AND($O8<>"",$P8>='Parâmetros e instruções'!$B$3),"Sim","Não"))) | T8: =IF(OR($A8<>"Sim",$P8="",$U8<>"OK"),"",COUNTIFS($A$5:$A$104,"Sim",$P$5:$P$104,">0",$P$5:$P$104,"<"&$P8,$U$5:$U$104,"OK")+COUNTIFS($A$5:$A8,"Sim",$P$5:$P8,$P8,$U$5:$U8,"OK")) | U8: =IF(COUNTA($A8:$J8)=0,"",IF(OR($A8="",$B8="",$C8="",$D8="",$E8="",$F8="",$G8="",$H8=""),"PREENCHER OBRIGATÓRIOS",IF(AND($A8="Sim",COUNTIFS($K$5:$K$104,$K8,$A$5:$A$104,"Sim")>1),"ID ITEM DUPLICADO",IF(OR($M8="",$M8<1,$M8>365),"FREQUÊNCIA INVÁLIDA",IF(AND($I8<>"",$I8>'Parâmetros e instruções'!$B$3),"ÚLTIMA CONTAGEM FUTURA","OK"))))) | AA8: ='Parâmetros e instruções'!$E$16
A9: Sim | B9: SKU-FIC-005 | C9: Cabo Cometa Fictício 2 m | D9: CD-FIC-C03-01 | E9: C | F9: Baixo | G9: Equipe Inventário Beta | H9: 46023 | I9: 46096 | K9: =IF(OR($B9="",$D9=""),"",UPPER(TRIM($B9))&"|"&UPPER(TRIM($D9))) | L9: =IF(OR($E9="",$F9=""),"",SUMIFS('Parâmetros e instruções'!$C$13:$C$21,'Parâmetros e instruções'!$A$13:$A$21,$E9,'Parâmetros e instruções'!$B$13:$B$21,$F9)) | M9: =IF($K9="","",IF($J9<>"",$J9,$L9)) | N9: =IF($K9="","",IFERROR(IF(MAXIFS(Contagens!$D$5:$D$104,Contagens!$G$5:$G$104,$K9,Contagens!$R$5:$R$104,"Concluída",Contagens!$U$5:$U$104,"OK")=0,"",MAXIFS(Contagens!$D$5:$D$104,Contagens!$G$5:$G$104,$K9,Contagens!$R$5:$R$104,"Concluída",Contagens!$U$5:$U$104,"OK")),"")) | O9: =IF(MAX(IF($I9="",0,$I9),IF($N9="",0,$N9))=0,"",MAX(IF($I9="",0,$I9),IF($N9="",0,$N9))) | P9: =IF(COUNTA($A9:$J9)=0,"",IF($A9<>"Sim","",IF(OR($H9="",$M9=""),"",IF($O9="",$H9,$O9+$M9)))) | Q9: =IF($P9="","",$P9-'Parâmetros e instruções'!$B$3) | R9: =IF(COUNTA($A9:$J9)=0,"",IF($A9<>"Sim","Inativo",IF($P9="","Cadastro incompleto",IF($P9<'Parâmetros e instruções'!$B$3,"Vencido",IF($P9='Parâmetros e instruções'!$B$3,"Vence hoje",IF($P9<='Parâmetros e instruções'!$B$3+'Parâmetros e instruções'!$B$6,"A vencer","Em dia")))))) | S9: =IF(COUNTA($A9:$J9)=0,"",IF(OR($A9<>"Sim",$U9<>"OK"),"",IF(AND($O9<>"",$P9>='Parâmetros e instruções'!$B$3),"Sim","Não"))) | T9: =IF(OR($A9<>"Sim",$P9="",$U9<>"OK"),"",COUNTIFS($A$5:$A$104,"Sim",$P$5:$P$104,">0",$P$5:$P$104,"<"&$P9,$U$5:$U$104,"OK")+COUNTIFS($A$5:$A9,"Sim",$P$5:$P9,$P9,$U$5:$U9,"OK")) | U9: =IF(COUNTA($A9:$J9)=0,"",IF(OR($A9="",$B9="",$C9="",$D9="",$E9="",$F9="",$G9="",$H9=""),"PREENCHER OBRIGATÓRIOS",IF(AND($A9="Sim",COUNTIFS($K$5:$K$104,$K9,$A$5:$A$104,"Sim")>1),"ID ITEM DUPLICADO",IF(OR($M9="",$M9<1,$M9>365),"FREQUÊNCIA INVÁLIDA",IF(AND($I9<>"",$I9>'Parâmetros e instruções'!$B$3),"ÚLTIMA CONTAGEM FUTURA","OK"))))) | AA9: ='Parâmetros e instruções'!$E$17
A10: Sim | B10: SKU-FIC-006 | C10: Suporte Eclipse Fictício | D10: CD-FIC-A03-02 | E10: A | F10: Alto | G10: Equipe Inventário Delta | H10: 46271 | K10: =IF(OR($B10="",$D10=""),"",UPPER(TRIM($B10))&"|"&UPPER(TRIM($D10))) | L10: =IF(OR($E10="",$F10=""),"",SUMIFS('Parâmetros e instruções'!$C$13:$C$21,'Parâmetros e instruções'!$A$13:$A$21,$E10,'Parâmetros e instruções'!$B$13:$B$21,$F10)) | M10: =IF($K10="","",IF($J10<>"",$J10,$L10)) | N10: =IF($K10="","",IFERROR(IF(MAXIFS(Contagens!$D$5:$D$104,Contagens!$G$5:$G$104,$K10,Contagens!$R$5:$R$104,"Concluída",Contagens!$U$5:$U$104,"OK")=0,"",MAXIFS(Contagens!$D$5:$D$104,Contagens!$G$5:$G$104,$K10,Contagens!$R$5:$R$104,"Concluída",Contagens!$U$5:$U$104,"OK")),"")) | O10: =IF(MAX(IF($I10="",0,$I10),IF($N10="",0,$N10))=0,"",MAX(IF($I10="",0,$I10),IF($N10="",0,$N10))) | P10: =IF(COUNTA($A10:$J10)=0,"",IF($A10<>"Sim","",IF(OR($H10="",$M10=""),"",IF($O10="",$H10,$O10+$M10)))) | Q10: =IF($P10="","",$P10-'Parâmetros e instruções'!$B$3) | R10: =IF(COUNTA($A10:$J10)=0,"",IF($A10<>"Sim","Inativo",IF($P10="","Cadastro incompleto",IF($P10<'Parâmetros e instruções'!$B$3,"Vencido",IF($P10='Parâmetros e instruções'!$B$3,"Vence hoje",IF($P10<='Parâmetros e instruções'!$B$3+'Parâmetros e instruções'!$B$6,"A vencer","Em dia")))))) | S10: =IF(COUNTA($A10:$J10)=0,"",IF(OR($A10<>"Sim",$U10<>"OK"),"",IF(AND($O10<>"",$P10>='Parâmetros e instruções'!$B$3),"Sim","Não"))) | T10: =IF(OR($A10<>"Sim",$P10="",$U10<>"OK"),"",COUNTIFS($A$5:$A$104,"Sim",$P$5:$P$104,">0",$P$5:$P$104,"<"&$P10,$U$5:$U$104,"OK")+COUNTIFS($A$5:$A10,"Sim",$P$5:$P10,$P10,$U$5:$U10,"OK")) | U10: =IF(COUNTA($A10:$J10)=0,"",IF(OR($A10="",$B10="",$C10="",$D10="",$E10="",$F10="",$G10="",$H10=""),"PREENCHER OBRIGATÓRIOS",IF(AND($A10="Sim",COUNTIFS($K$5:$K$104,$K10,$A$5:$A$104,"Sim")>1),"ID ITEM DUPLICADO",IF(OR($M10="",$M10<1,$M10>365),"FREQUÊNCIA INVÁLIDA",IF(AND($I10<>"",$I10>'Parâmetros e instruções'!$B$3),"ÚLTIMA CONTAGEM FUTURA","OK"))))) | AA10: ='Parâmetros e instruções'!$E$18
A11: Sim | B11: SKU-FIC-007 | C11: Mousepad Galáxia Fictício | D11: CD-FIC-C04-01 | E11: C | F11: Médio | G11: Equipe Inventário Gama | H11: 46023 | I11: 46152 | K11: =IF(OR($B11="",$D11=""),"",UPPER(TRIM($B11))&"|"&UPPER(TRIM($D11))) | L11: =IF(OR($E11="",$F11=""),"",SUMIFS('Parâmetros e instruções'!$C$13:$C$21,'Parâmetros e instruções'!$A$13:$A$21,$E11,'Parâmetros e instruções'!$B$13:$B$21,$F11)) | M11: =IF($K11="","",IF($J11<>"",$J11,$L11)) | N11: =IF($K11="","",IFERROR(IF(MAXIFS(Contagens!$D$5:$D$104,Contagens!$G$5:$G$104,$K11,Contagens!$R$5:$R$104,"Concluída",Contagens!$U$5:$U$104,"OK")=0,"",MAXIFS(Contagens!$D$5:$D$104,Contagens!$G$5:$G$104,$K11,Contagens!$R$5:$R$104,"Concluída",Contagens!$U$5:$U$104,"OK")),"")) | O11: =IF(MAX(IF($I11="",0,$I11),IF($N11="",0,$N11))=0,"",MAX(IF($I11="",0,$I11),IF($N11="",0,$N11))) | P11: =IF(COUNTA($A11:$J11)=0,"",IF($A11<>"Sim","",IF(OR($H11="",$M11=""),"",IF($O11="",$H11,$O11+$M11)))) | Q11: =IF($P11="","",$P11-'Parâmetros e instruções'!$B$3) | R11: =IF(COUNTA($A11:$J11)=0,"",IF($A11<>"Sim","Inativo",IF($P11="","Cadastro incompleto",IF($P11<'Parâmetros e instruções'!$B$3,"Vencido",IF($P11='Parâmetros e instruções'!$B$3,"Vence hoje",IF($P11<='Parâmetros e instruções'!$B$3+'Parâmetros e instruções'!$B$6,"A vencer","Em dia")))))) | S11: =IF(COUNTA($A11:$J11)=0,"",IF(OR($A11<>"Sim",$U11<>"OK"),"",IF(AND($O11<>"",$P11>='Parâmetros e instruções'!$B$3),"Sim","Não"))) | T11: =IF(OR($A11<>"Sim",$P11="",$U11<>"OK"),"",COUNTIFS($A$5:$A$104,"Sim",$P$5:$P$104,">0",$P$5:$P$104,"<"&$P11,$U$5:$U$104,"OK")+COUNTIFS($A$5:$A11,"Sim",$P$5:$P11,$P11,$U$5:$U11,"OK")) | U11: =IF(COUNTA($A11:$J11)=0,"",IF(OR($A11="",$B11="",$C11="",$D11="",$E11="",$F11="",$G11="",$H11=""),"PREENCHER OBRIGATÓRIOS",IF(AND($A11="Sim",COUNTIFS($K$5:$K$104,$K11,$A$5:$A$104,"Sim")>1),"ID ITEM DUPLICADO",IF(OR($M11="",$M11<1,$M11>365),"FREQUÊNCIA INVÁLIDA",IF(AND($I11<>"",$I11>'Parâmetros e instruções'!$B$3),"ÚLTIMA CONTAGEM FUTURA","OK"))))) | AA11: ='Parâmetros e instruções'!$E$19
A12: Sim | B12: SKU-FIC-008 | C12: Garrafa Horizonte Fictícia 750 ml | D12: CD-FIC-B04-02 | E12: B | F12: Baixo | G12: Equipe Inventário Delta | H12: 46023 | I12: 46235 | J12: 45 | K12: =IF(OR($B12="",$D12=""),"",UPPER(TRIM($B12))&"|"&UPPER(TRIM($D12))) | L12: =IF(OR($E12="",$F12=""),"",SUMIFS('Parâmetros e instruções'!$C$13:$C$21,'Parâmetros e instruções'!$A$13:$A$21,$E12,'Parâmetros e instruções'!$B$13:$B$21,$F12)) | M12: =IF($K12="","",IF($J12<>"",$J12,$L12)) | N12: =IF($K12="","",IFERROR(IF(MAXIFS(Contagens!$D$5:$D$104,Contagens!$G$5:$G$104,$K12,Contagens!$R$5:$R$104,"Concluída",Contagens!$U$5:$U$104,"OK")=0,"",MAXIFS(Contagens!$D$5:$D$104,Contagens!$G$5:$G$104,$K12,Contagens!$R$5:$R$104,"Concluída",Contagens!$U$5:$U$104,"OK")),"")) | O12: =IF(MAX(IF($I12="",0,$I12),IF($N12="",0,$N12))=0,"",MAX(IF($I12="",0,$I12),IF($N12="",0,$N12))) | P12: =IF(COUNTA($A12:$J12)=0,"",IF($A12<>"Sim","",IF(OR($H12="",$M12=""),"",IF($O12="",$H12,$O12+$M12)))) | Q12: =IF($P12="","",$P12-'Parâmetros e instruções'!$B$3) | R12: =IF(COUNTA($A12:$J12)=0,"",IF($A12<>"Sim","Inativo",IF($P12="","Cadastro incompleto",IF($P12<'Parâmetros e instruções'!$B$3,"Vencido",IF($P12='Parâmetros e instruções'!$B$3,"Vence hoje",IF($P12<='Parâmetros e instruções'!$B$3+'Parâmetros e instruções'!$B$6,"A vencer","Em dia")))))) | S12: =IF(COUNTA($A12:$J12)=0,"",IF(OR($A12<>"Sim",$U12<>"OK"),"",IF(AND($O12<>"",$P12>='Parâmetros e instruções'!$B$3),"Sim","Não"))) | T12: =IF(OR($A12<>"Sim",$P12="",$U12<>"OK"),"",COUNTIFS($A$5:$A$104,"Sim",$P$5:$P$104,">0",$P$5:$P$104,"<"&$P12,$U$5:$U$104,"OK")+COUNTIFS($A$5:$A12,"Sim",$P$5:$P12,$P12,$U$5:$U12,"OK")) | U12: =IF(COUNTA($A12:$J12)=0,"",IF(OR($A12="",$B12="",$C12="",$D12="",$E12="",$F12="",$G12="",$H12=""),"PREENCHER OBRIGATÓRIOS",IF(AND($A12="Sim",COUNTIFS($K$5:$K$104,$K12,$A$5:$A$104,"Sim")>1),"ID ITEM DUPLICADO",IF(OR($M12="",$M12<1,$M12>365),"FREQUÊNCIA INVÁLIDA",IF(AND($I12<>"",$I12>'Parâmetros e instruções'!$B$3),"ÚLTIMA CONTAGEM FUTURA","OK"))))) | AA12: ='Parâmetros e instruções'!$E$20
A13: Sim | B13: SKU-FIC-009 | C13: Caderno Vértice Fictício | D13: CD-FIC-C05-01 | E13: C | F13: Alto | G13: Equipe Inventário Alfa | H13: 46023 | I13: 46174 | K13: =IF(OR($B13="",$D13=""),"",UPPER(TRIM($B13))&"|"&UPPER(TRIM($D13))) | L13: =IF(OR($E13="",$F13=""),"",SUMIFS('Parâmetros e instruções'!$C$13:$C$21,'Parâmetros e instruções'!$A$13:$A$21,$E13,'Parâmetros e instruções'!$B$13:$B$21,$F13)) | M13: =IF($K13="","",IF($J13<>"",$J13,$L13)) | N13: =IF($K13="","",IFERROR(IF(MAXIFS(Contagens!$D$5:$D$104,Contagens!$G$5:$G$104,$K13,Contagens!$R$5:$R$104,"Concluída",Contagens!$U$5:$U$104,"OK")=0,"",MAXIFS(Contagens!$D$5:$D$104,Contagens!$G$5:$G$104,$K13,Contagens!$R$5:$R$104,"Concluída",Contagens!$U$5:$U$104,"OK")),"")) | O13: =IF(MAX(IF($I13="",0,$I13),IF($N13="",0,$N13))=0,"",MAX(IF($I13="",0,$I13),IF($N13="",0,$N13))) | P13: =IF(COUNTA($A13:$J13)=0,"",IF($A13<>"Sim","",IF(OR($H13="",$M13=""),"",IF($O13="",$H13,$O13+$M13)))) | Q13: =IF($P13="","",$P13-'Parâmetros e instruções'!$B$3) | R13: =IF(COUNTA($A13:$J13)=0,"",IF($A13<>"Sim","Inativo",IF($P13="","Cadastro incompleto",IF($P13<'Parâmetros e instruções'!$B$3,"Vencido",IF($P13='Parâmetros e instruções'!$B$3,"Vence hoje",IF($P13<='Parâmetros e instruções'!$B$3+'Parâmetros e instruções'!$B$6,"A vencer","Em dia")))))) | S13: =IF(COUNTA($A13:$J13)=0,"",IF(OR($A13<>"Sim",$U13<>"OK"),"",IF(AND($O13<>"",$P13>='Parâmetros e instruções'!$B$3),"Sim","Não"))) | T13: =IF(OR($A13<>"Sim",$P13="",$U13<>"OK"),"",COUNTIFS($A$5:$A$104,"Sim",$P$5:$P$104,">0",$P$5:$P$104,"<"&$P13,$U$5:$U$104,"OK")+COUNTIFS($A$5:$A13,"Sim",$P$5:$P13,$P13,$U$5:$U13,"OK")) | U13: =IF(COUNTA($A13:$J13)=0,"",IF(OR($A13="",$B13="",$C13="",$D13="",$E13="",$F13="",$G13="",$H13=""),"PREENCHER OBRIGATÓRIOS",IF(AND($A13="Sim",COUNTIFS($K$5:$K$104,$K13,$A$5:$A$104,"Sim")>1),"ID ITEM DUPLICADO",IF(OR($M13="",$M13<1,$M13>365),"FREQUÊNCIA INVÁLIDA",IF(AND($I13<>"",$I13>'Parâmetros e instruções'!$B$3),"ÚLTIMA CONTAGEM FUTURA","OK"))))) | AA13: ='Parâmetros e instruções'!$E$21
A14: Não | B14: SKU-FIC-010 | C14: Teclado Miragem Fictício | D14: CD-FIC-A05-02 | E14: A | F14: Baixo | G14: Equipe Inventário Beta | H14: 46023 | I14: 46264 | K14: =IF(OR($B14="",$D14=""),"",UPPER(TRIM($B14))&"|"&UPPER(TRIM($D14))) | L14: =IF(OR($E14="",$F14=""),"",SUMIFS('Parâmetros e instruções'!$C$13:$C$21,'Parâmetros e instruções'!$A$13:$A$21,$E14,'Parâmetros e instruções'!$B$13:$B$21,$F14)) | M14: =IF($K14="","",IF($J14<>"",$J14,$L14)) | N14: =IF($K14="","",IFERROR(IF(MAXIFS(Contagens!$D$5:$D$104,Contagens!$G$5:$G$104,$K14,Contagens!$R$5:$R$104,"Concluída",Contagens!$U$5:$U$104,"OK")=0,"",MAXIFS(Contagens!$D$5:$D$104,Contagens!$G$5:$G$104,$K14,Contagens!$R$5:$R$104,"Concluída",Contagens!$U$5:$U$104,"OK")),"")) | O14: =IF(MAX(IF($I14="",0,$I14),IF($N14="",0,$N14))=0,"",MAX(IF($I14="",0,$I14),IF($N14="",0,$N14))) | P14: =IF(COUNTA($A14:$J14)=0,"",IF($A14<>"Sim","",IF(OR($H14="",$M14=""),"",IF($O14="",$H14,$O14+$M14)))) | Q14: =IF($P14="","",$P14-'Parâmetros e instruções'!$B$3) | R14: =IF(COUNTA($A14:$J14)=0,"",IF($A14<>"Sim","Inativo",IF($P14="","Cadastro incompleto",IF($P14<'Parâmetros e instruções'!$B$3,"Vencido",IF($P14='Parâmetros e instruções'!$B$3,"Vence hoje",IF($P14<='Parâmetros e instruções'!$B$3+'Parâmetros e instruções'!$B$6,"A vencer","Em dia")))))) | S14: =IF(COUNTA($A14:$J14)=0,"",IF(OR($A14<>"Sim",$U14<>"OK"),"",IF(AND($O14<>"",$P14>='Parâmetros e instruções'!$B$3),"Sim","Não"))) | T14: =IF(OR($A14<>"Sim",$P14="",$U14<>"OK"),"",COUNTIFS($A$5:$A$104,"Sim",$P$5:$P$104,">0",$P$5:$P$104,"<"&$P14,$U$5:$U$104,"OK")+COUNTIFS($A$5:$A14,"Sim",$P$5:$P14,$P14,$U$5:$U14,"OK")) | U14: =IF(COUNTA($A14:$J14)=0,"",IF(OR($A14="",$B14="",$C14="",$D14="",$E14="",$F14="",$G14="",$H14=""),"PREENCHER OBRIGATÓRIOS",IF(AND($A14="Sim",COUNTIFS($K$5:$K$104,$K14,$A$5:$A$104,"Sim")>1),"ID ITEM DUPLICADO",IF(OR($M14="",$M14<1,$M14>365),"FREQUÊNCIA INVÁLIDA",IF(AND($I14<>"",$I14>'Parâmetros e instruções'!$B$3),"ÚLTIMA CONTAGEM FUTURA","OK"))))) | AA14: ='Parâmetros e instruções'!$E$22
K15: =IF(OR($B15="",$D15=""),"",UPPER(TRIM($B15))&"|"&UPPER(TRIM($D15))) | L15: =IF(OR($E15="",$F15=""),"",SUMIFS('Parâmetros e instruções'!$C$13:$C$21,'Parâmetros e instruções'!$A$13:$A$21,$E15,'Parâmetros e instruções'!$B$13:$B$21,$F15)) | M15: =IF($K15="","",IF($J15<>"",$J15,$L15)) | N15: =IF($K15="","",IFERROR(IF(MAXIFS(Contagens!$D$5:$D$104,Contagens!$G$5:$G$104,$K15,Contagens!$R$5:$R$104,"Concluída",Contagens!$U$5:$U$104,"OK")=0,"",MAXIFS(Contagens!$D$5:$D$104,Contagens!$G$5:$G$104,$K15,Contagens!$R$5:$R$104,"Concluída",Contagens!$U$5:$U$104,"OK")),"")) | O15: =IF(MAX(IF($I15="",0,$I15),IF($N15="",0,$N15))=0,"",MAX(IF($I15="",0,$I15),IF($N15="",0,$N15))) | P15: =IF(COUNTA($A15:$J15)=0,"",IF($A15<>"Sim","",IF(OR($H15="",$M15=""),"",IF($O15="",$H15,$O15+$M15)))) | Q15: =IF($P15="","",$P15-'Parâmetros e instruções'!$B$3) | R15: =IF(COUNTA($A15:$J15)=0,"",IF($A15<>"Sim","Inativo",IF($P15="","Cadastro incompleto",IF($P15<'Parâmetros e instruções'!$B$3,"Vencido",IF($P15='Parâmetros e instruções'!$B$3,"Vence hoje",IF($P15<='Parâmetros e instruções'!$B$3+'Parâmetros e instruções'!$B$6,"A vencer","Em dia")))))) | S15: =IF(COUNTA($A15:$J15)=0,"",IF(OR($A15<>"Sim",$U15<>"OK"),"",IF(AND($O15<>"",$P15>='Parâmetros e instruções'!$B$3),"Sim","Não"))) | T15: =IF(OR($A15<>"Sim",$P15="",$U15<>"OK"),"",COUNTIFS($A$5:$A$104,"Sim",$P$5:$P$104,">0",$P$5:$P$104,"<"&$P15,$U$5:$U$104,"OK")+COUNTIFS($A$5:$A15,"Sim",$P$5:$P15,$P15,$U$5:$U15,"OK")) | U15: =IF(COUNTA($A15:$J15)=0,"",IF(OR($A15="",$B15="",$C15="",$D15="",$E15="",$F15="",$G15="",$H15=""),"PREENCHER OBRIGATÓRIOS",IF(AND($A15="Sim",COUNTIFS($K$5:$K$104,$K15,$A$5:$A$104,"Sim")>1),"ID ITEM DUPLICADO",IF(OR($M15="",$M15<1,$M15>365),"FREQUÊNCIA INVÁLIDA",IF(AND($I15<>"",$I15>'Parâmetros e instruções'!$B$3),"ÚLTIMA CONTAGEM FUTURA","OK")))))
K16: =IF(OR($B16="",$D16=""),"",UPPER(TRIM($B16))&"|"&UPPER(TRIM($D16))) | L16: =IF(OR($E16="",$F16=""),"",SUMIFS('Parâmetros e instruções'!$C$13:$C$21,'Parâmetros e instruções'!$A$13:$A$21,$E16,'Parâmetros e instruções'!$B$13:$B$21,$F16)) | M16: =IF($K16="","",IF($J16<>"",$J16,$L16)) | N16: =IF($K16="","",IFERROR(IF(MAXIFS(Contagens!$D$5:$D$104,Contagens!$G$5:$G$104,$K16,Contagens!$R$5:$R$104,"Concluída",Contagens!$U$5:$U$104,"OK")=0,"",MAXIFS(Contagens!$D$5:$D$104,Contagens!$G$5:$G$104,$K16,Contagens!$R$5:$R$104,"Concluída",Contagens!$U$5:$U$104,"OK")),"")) | O16: =IF(MAX(IF($I16="",0,$I16),IF($N16="",0,$N16))=0,"",MAX(IF($I16="",0,$I16),IF($N16="",0,$N16))) | P16: =IF(COUNTA($A16:$J16)=0,"",IF($A16<>"Sim","",IF(OR($H16="",$M16=""),"",IF($O16="",$H16,$O16+$M16)))) | Q16: =IF($P16="","",$P16-'Parâmetros e instruções'!$B$3) | R16: =IF(COUNTA($A16:$J16)=0,"",IF($A16<>"Sim","Inativo",IF($P16="","Cadastro incompleto",IF($P16<'Parâmetros e instruções'!$B$3,"Vencido",IF($P16='Parâmetros e instruções'!$B$3,"Vence hoje",IF($P16<='Parâmetros e instruções'!$B$3+'Parâmetros e instruções'!$B$6,"A vencer","Em dia")))))) | S16: =IF(COUNTA($A16:$J16)=0,"",IF(OR($A16<>"Sim",$U16<>"OK"),"",IF(AND($O16<>"",$P16>='Parâmetros e instruções'!$B$3),"Sim","Não"))) | T16: =IF(OR($A16<>"Sim",$P16="",$U16<>"OK"),"",COUNTIFS($A$5:$A$104,"Sim",$P$5:$P$104,">0",$P$5:$P$104,"<"&$P16,$U$5:$U$104,"OK")+COUNTIFS($A$5:$A16,"Sim",$P$5:$P16,$P16,$U$5:$U16,"OK")) | U16: =IF(COUNTA($A16:$J16)=0,"",IF(OR($A16="",$B16="",$C16="",$D16="",$E16="",$F16="",$G16="",$H16=""),"PREENCHER OBRIGATÓRIOS",IF(AND($A16="Sim",COUNTIFS($K$5:$K$104,$K16,$A$5:$A$104,"Sim")>1),"ID ITEM DUPLICADO",IF(OR($M16="",$M16<1,$M16>365),"FREQUÊNCIA INVÁLIDA",IF(AND($I16<>"",$I16>'Parâmetros e instruções'!$B$3),"ÚLTIMA CONTAGEM FUTURA","OK")))))
K17: =IF(OR($B17="",$D17=""),"",UPPER(TRIM($B17))&"|"&UPPER(TRIM($D17))) | L17: =IF(OR($E17="",$F17=""),"",SUMIFS('Parâmetros e instruções'!$C$13:$C$21,'Parâmetros e instruções'!$A$13:$A$21,$E17,'Parâmetros e instruções'!$B$13:$B$21,$F17)) | M17: =IF($K17="","",IF($J17<>"",$J17,$L17)) | N17: =IF($K17="","",IFERROR(IF(MAXIFS(Contagens!$D$5:$D$104,Contagens!$G$5:$G$104,$K17,Contagens!$R$5:$R$104,"Concluída",Contagens!$U$5:$U$104,"OK")=0,"",MAXIFS(Contagens!$D$5:$D$104,Contagens!$G$5:$G$104,$K17,Contagens!$R$5:$R$104,"Concluída",Contagens!$U$5:$U$104,"OK")),"")) | O17: =IF(MAX(IF($I17="",0,$I17),IF($N17="",0,$N17))=0,"",MAX(IF($I17="",0,$I17),IF($N17="",0,$N17))) | P17: =IF(COUNTA($A17:$J17)=0,"",IF($A17<>"Sim","",IF(OR($H17="",$M17=""),"",IF($O17="",$H17,$O17+$M17)))) | Q17: =IF($P17="","",$P17-'Parâmetros e instruções'!$B$3) | R17: =IF(COUNTA($A17:$J17)=0,"",IF($A17<>"Sim","Inativo",IF($P17="","Cadastro incompleto",IF($P17<'Parâmetros e instruções'!$B$3,"Vencido",IF($P17='Parâmetros e instruções'!$B$3,"Vence hoje",IF($P17<='Parâmetros e instruções'!$B$3+'Parâmetros e instruções'!$B$6,"A vencer","Em dia")))))) | S17: =IF(COUNTA($A17:$J17)=0,"",IF(OR($A17<>"Sim",$U17<>"OK"),"",IF(AND($O17<>"",$P17>='Parâmetros e instruções'!$B$3),"Sim","Não"))) | T17: =IF(OR($A17<>"Sim",$P17="",$U17<>"OK"),"",COUNTIFS($A$5:$A$104,"Sim",$P$5:$P$104,">0",$P$5:$P$104,"<"&$P17,$U$5:$U$104,"OK")+COUNTIFS($A$5:$A17,"Sim",$P$5:$P17,$P17,$U$5:$U17,"OK")) | U17: =IF(COUNTA($A17:$J17)=0,"",IF(OR($A17="",$B17="",$C17="",$D17="",$E17="",$F17="",$G17="",$H17=""),"PREENCHER OBRIGATÓRIOS",IF(AND($A17="Sim",COUNTIFS($K$5:$K$104,$K17,$A$5:$A$104,"Sim")>1),"ID ITEM DUPLICADO",IF(OR($M17="",$M17<1,$M17>365),"FREQUÊNCIA INVÁLIDA",IF(AND($I17<>"",$I17>'Parâmetros e instruções'!$B$3),"ÚLTIMA CONTAGEM FUTURA","OK")))))
K18: =IF(OR($B18="",$D18=""),"",UPPER(TRIM($B18))&"|"&UPPER(TRIM($D18))) | L18: =IF(OR($E18="",$F18=""),"",SUMIFS('Parâmetros e instruções'!$C$13:$C$21,'Parâmetros e instruções'!$A$13:$A$21,$E18,'Parâmetros e instruções'!$B$13:$B$21,$F18)) | M18: =IF($K18="","",IF($J18<>"",$J18,$L18)) | N18: =IF($K18="","",IFERROR(IF(MAXIFS(Contagens!$D$5:$D$104,Contagens!$G$5:$G$104,$K18,Contagens!$R$5:$R$104,"Concluída",Contagens!$U$5:$U$104,"OK")=0,"",MAXIFS(Contagens!$D$5:$D$104,Contagens!$G$5:$G$104,$K18,Contagens!$R$5:$R$104,"Concluída",Contagens!$U$5:$U$104,"OK")),"")) | O18: =IF(MAX(IF($I18="",0,$I18),IF($N18="",0,$N18))=0,"",MAX(IF($I18="",0,$I18),IF($N18="",0,$N18))) | P18: =IF(COUNTA($A18:$J18)=0,"",IF($A18<>"Sim","",IF(OR($H18="",$M18=""),"",IF($O18="",$H18,$O18+$M18)))) | Q18: =IF($P18="","",$P18-'Parâmetros e instruções'!$B$3) | R18: =IF(COUNTA($A18:$J18)=0,"",IF($A18<>"Sim","Inativo",IF($P18="","Cadastro incompleto",IF($P18<'Parâmetros e instruções'!$B$3,"Vencido",IF($P18='Parâmetros e instruções'!$B$3,"Vence hoje",IF($P18<='Parâmetros e instruções'!$B$3+'Parâmetros e instruções'!$B$6,"A vencer","Em dia")))))) | S18: =IF(COUNTA($A18:$J18)=0,"",IF(OR($A18<>"Sim",$U18<>"OK"),"",IF(AND($O18<>"",$P18>='Parâmetros e instruções'!$B$3),"Sim","Não"))) | T18: =IF(OR($A18<>"Sim",$P18="",$U18<>"OK"),"",COUNTIFS($A$5:$A$104,"Sim",$P$5:$P$104,">0",$P$5:$P$104,"<"&$P18,$U$5:$U$104,"OK")+COUNTIFS($A$5:$A18,"Sim",$P$5:$P18,$P18,$U$5:$U18,"OK")) | U18: =IF(COUNTA($A18:$J18)=0,"",IF(OR($A18="",$B18="",$C18="",$D18="",$E18="",$F18="",$G18="",$H18=""),"PREENCHER OBRIGATÓRIOS",IF(AND($A18="Sim",COUNTIFS($K$5:$K$104,$K18,$A$5:$A$104,"Sim")>1),"ID ITEM DUPLICADO",IF(OR($M18="",$M18<1,$M18>365),"FREQUÊNCIA INVÁLIDA",IF(AND($I18<>"",$I18>'Parâmetros e instruções'!$B$3),"ÚLTIMA CONTAGEM FUTURA","OK")))))
K19: =IF(OR($B19="",$D19=""),"",UPPER(TRIM($B19))&"|"&UPPER(TRIM($D19))) | L19: =IF(OR($E19="",$F19=""),"",SUMIFS('Parâmetros e instruções'!$C$13:$C$21,'Parâmetros e instruções'!$A$13:$A$21,$E19,'Parâmetros e instruções'!$B$13:$B$21,$F19)) | M19: =IF($K19="","",IF($J19<>"",$J19,$L19)) | N19: =IF($K19="","",IFERROR(IF(MAXIFS(Contagens!$D$5:$D$104,Contagens!$G$5:$G$104,$K19,Contagens!$R$5:$R$104,"Concluída",Contagens!$U$5:$U$104,"OK")=0,"",MAXIFS(Contagens!$D$5:$D$104,Contagens!$G$5:$G$104,$K19,Contagens!$R$5:$R$104,"Concluída",Contagens!$U$5:$U$104,"OK")),"")) | O19: =IF(MAX(IF($I19="",0,$I19),IF($N19="",0,$N19))=0,"",MAX(IF($I19="",0,$I19),IF($N19="",0,$N19))) | P19: =IF(COUNTA($A19:$J19)=0,"",IF($A19<>"Sim","",IF(OR($H19="",$M19=""),"",IF($O19="",$H19,$O19+$M19)))) | Q19: =IF($P19="","",$P19-'Parâmetros e instruções'!$B$3) | R19: =IF(COUNTA($A19:$J19)=0,"",IF($A19<>"Sim","Inativo",IF($P19="","Cadastro incompleto",IF($P19<'Parâmetros e instruções'!$B$3,"Vencido",IF($P19='Parâmetros e instruções'!$B$3,"Vence hoje",IF($P19<='Parâmetros e instruções'!$B$3+'Parâmetros e instruções'!$B$6,"A vencer","Em dia")))))) | S19: =IF(COUNTA($A19:$J19)=0,"",IF(OR($A19<>"Sim",$U19<>"OK"),"",IF(AND($O19<>"",$P19>='Parâmetros e instruções'!$B$3),"Sim","Não"))) | T19: =IF(OR($A19<>"Sim",$P19="",$U19<>"OK"),"",COUNTIFS($A$5:$A$104,"Sim",$P$5:$P$104,">0",$P$5:$P$104,"<"&$P19,$U$5:$U$104,"OK")+COUNTIFS($A$5:$A19,"Sim",$P$5:$P19,$P19,$U$5:$U19,"OK")) | U19: =IF(COUNTA($A19:$J19)=0,"",IF(OR($A19="",$B19="",$C19="",$D19="",$E19="",$F19="",$G19="",$H19=""),"PREENCHER OBRIGATÓRIOS",IF(AND($A19="Sim",COUNTIFS($K$5:$K$104,$K19,$A$5:$A$104,"Sim")>1),"ID ITEM DUPLICADO",IF(OR($M19="",$M19<1,$M19>365),"FREQUÊNCIA INVÁLIDA",IF(AND($I19<>"",$I19>'Parâmetros e instruções'!$B$3),"ÚLTIMA CONTAGEM FUTURA","OK")))))
K20: =IF(OR($B20="",$D20=""),"",UPPER(TRIM($B20))&"|"&UPPER(TRIM($D20))) | L20: =IF(OR($E20="",$F20=""),"",SUMIFS('Parâmetros e instruções'!$C$13:$C$21,'Parâmetros e instruções'!$A$13:$A$21,$E20,'Parâmetros e instruções'!$B$13:$B$21,$F20)) | M20: =IF($K20="","",IF($J20<>"",$J20,$L20)) | N20: =IF($K20="","",IFERROR(IF(MAXIFS(Contagens!$D$5:$D$104,Contagens!$G$5:$G$104,$K20,Contagens!$R$5:$R$104,"Concluída",Contagens!$U$5:$U$104,"OK")=0,"",MAXIFS(Contagens!$D$5:$D$104,Contagens!$G$5:$G$104,$K20,Contagens!$R$5:$R$104,"Concluída",Contagens!$U$5:$U$104,"OK")),"")) | O20: =IF(MAX(IF($I20="",0,$I20),IF($N20="",0,$N20))=0,"",MAX(IF($I20="",0,$I20),IF($N20="",0,$N20))) | P20: =IF(COUNTA($A20:$J20)=0,"",IF($A20<>"Sim","",IF(OR($H20="",$M20=""),"",IF($O20="",$H20,$O20+$M20)))) | Q20: =IF($P20="","",$P20-'Parâmetros e instruções'!$B$3) | R20: =IF(COUNTA($A20:$J20)=0,"",IF($A20<>"Sim","Inativo",IF($P20="","Cadastro incompleto",IF($P20<'Parâmetros e instruções'!$B$3,"Vencido",IF($P20='Parâmetros e instruções'!$B$3,"Vence hoje",IF($P20<='Parâmetros e instruções'!$B$3+'Parâmetros e instruções'!$B$6,"A vencer","Em dia")))))) | S20: =IF(COUNTA($A20:$J20)=0,"",IF(OR($A20<>"Sim",$U20<>"OK"),"",IF(AND($O20<>"",$P20>='Parâmetros e instruções'!$B$3),"Sim","Não"))) | T20: =IF(OR($A20<>"Sim",$P20="",$U20<>"OK"),"",COUNTIFS($A$5:$A$104,"Sim",$P$5:$P$104,">0",$P$5:$P$104,"<"&$P20,$U$5:$U$104,"OK")+COUNTIFS($A$5:$A20,"Sim",$P$5:$P20,$P20,$U$5:$U20,"OK")) | U20: =IF(COUNTA($A20:$J20)=0,"",IF(OR($A20="",$B20="",$C20="",$D20="",$E20="",$F20="",$G20="",$H20=""),"PREENCHER OBRIGATÓRIOS",IF(AND($A20="Sim",COUNTIFS($K$5:$K$104,$K20,$A$5:$A$104,"Sim")>1),"ID ITEM DUPLICADO",IF(OR($M20="",$M20<1,$M20>365),"FREQUÊNCIA INVÁLIDA",IF(AND($I20<>"",$I20>'Parâmetros e instruções'!$B$3),"ÚLTIMA CONTAGEM FUTURA","OK")))))
K21: =IF(OR($B21="",$D21=""),"",UPPER(TRIM($B21))&"|"&UPPER(TRIM($D21))) | L21: =IF(OR($E21="",$F21=""),"",SUMIFS('Parâmetros e instruções'!$C$13:$C$21,'Parâmetros e instruções'!$A$13:$A$21,$E21,'Parâmetros e instruções'!$B$13:$B$21,$F21)) | M21: =IF($K21="","",IF($J21<>"",$J21,$L21)) | N21: =IF($K21="","",IFERROR(IF(MAXIFS(Contagens!$D$5:$D$104,Contagens!$G$5:$G$104,$K21,Contagens!$R$5:$R$104,"Concluída",Contagens!$U$5:$U$104,"OK")=0,"",MAXIFS(Contagens!$D$5:$D$104,Contagens!$G$5:$G$104,$K21,Contagens!$R$5:$R$104,"Concluída",Contagens!$U$5:$U$104,"OK")),"")) | O21: =IF(MAX(IF($I21="",0,$I21),IF($N21="",0,$N21))=0,"",MAX(IF($I21="",0,$I21),IF($N21="",0,$N21))) | P21: =IF(COUNTA($A21:$J21)=0,"",IF($A21<>"Sim","",IF(OR($H21="",$M21=""),"",IF($O21="",$H21,$O21+$M21)))) | Q21: =IF($P21="","",$P21-'Parâmetros e instruções'!$B$3) | R21: =IF(COUNTA($A21:$J21)=0,"",IF($A21<>"Sim","Inativo",IF($P21="","Cadastro incompleto",IF($P21<'Parâmetros e instruções'!$B$3,"Vencido",IF($P21='Parâmetros e instruções'!$B$3,"Vence hoje",IF($P21<='Parâmetros e instruções'!$B$3+'Parâmetros e instruções'!$B$6,"A vencer","Em dia")))))) | S21: =IF(COUNTA($A21:$J21)=0,"",IF(OR($A21<>"Sim",$U21<>"OK"),"",IF(AND($O21<>"",$P21>='Parâmetros e instruções'!$B$3),"Sim","Não"))) | T21: =IF(OR($A21<>"Sim",$P21="",$U21<>"OK"),"",COUNTIFS($A$5:$A$104,"Sim",$P$5:$P$104,">0",$P$5:$P$104,"<"&$P21,$U$5:$U$104,"OK")+COUNTIFS($A$5:$A21,"Sim",$P$5:$P21,$P21,$U$5:$U21,"OK")) | U21: =IF(COUNTA($A21:$J21)=0,"",IF(OR($A21="",$B21="",$C21="",$D21="",$E21="",$F21="",$G21="",$H21=""),"PREENCHER OBRIGATÓRIOS",IF(AND($A21="Sim",COUNTIFS($K$5:$K$104,$K21,$A$5:$A$104,"Sim")>1),"ID ITEM DUPLICADO",IF(OR($M21="",$M21<1,$M21>365),"FREQUÊNCIA INVÁLIDA",IF(AND($I21<>"",$I21>'Parâmetros e instruções'!$B$3),"ÚLTIMA CONTAGEM FUTURA","OK")))))
K22: =IF(OR($B22="",$D22=""),"",UPPER(TRIM($B22))&"|"&UPPER(TRIM($D22))) | L22: =IF(OR($E22="",$F22=""),"",SUMIFS('Parâmetros e instruções'!$C$13:$C$21,'Parâmetros e instruções'!$A$13:$A$21,$E22,'Parâmetros e instruções'!$B$13:$B$21,$F22)) | M22: =IF($K22="","",IF($J22<>"",$J22,$L22)) | N22: =IF($K22="","",IFERROR(IF(MAXIFS(Contagens!$D$5:$D$104,Contagens!$G$5:$G$104,$K22,Contagens!$R$5:$R$104,"Concluída",Contagens!$U$5:$U$104,"OK")=0,"",MAXIFS(Contagens!$D$5:$D$104,Contagens!$G$5:$G$104,$K22,Contagens!$R$5:$R$104,"Concluída",Contagens!$U$5:$U$104,"OK")),"")) | O22: =IF(MAX(IF($I22="",0,$I22),IF($N22="",0,$N22))=0,"",MAX(IF($I22="",0,$I22),IF($N22="",0,$N22))) | P22: =IF(COUNTA($A22:$J22)=0,"",IF($A22<>"Sim","",IF(OR($H22="",$M22=""),"",IF($O22="",$H22,$O22+$M22)))) | Q22: =IF($P22="","",$P22-'Parâmetros e instruções'!$B$3) | R22: =IF(COUNTA($A22:$J22)=0,"",IF($A22<>"Sim","Inativo",IF($P22="","Cadastro incompleto",IF($P22<'Parâmetros e instruções'!$B$3,"Vencido",IF($P22='Parâmetros e instruções'!$B$3,"Vence hoje",IF($P22<='Parâmetros e instruções'!$B$3+'Parâmetros e instruções'!$B$6,"A vencer","Em dia")))))) | S22: =IF(COUNTA($A22:$J22)=0,"",IF(OR($A22<>"Sim",$U22<>"OK"),"",IF(AND($O22<>"",$P22>='Parâmetros e instruções'!$B$3),"Sim","Não"))) | T22: =IF(OR($A22<>"Sim",$P22="",$U22<>"OK"),"",COUNTIFS($A$5:$A$104,"Sim",$P$5:$P$104,">0",$P$5:$P$104,"<"&$P22,$U$5:$U$104,"OK")+COUNTIFS($A$5:$A22,"Sim",$P$5:$P22,$P22,$U$5:$U22,"OK")) | U22: =IF(COUNTA($A22:$J22)=0,"",IF(OR($A22="",$B22="",$C22="",$D22="",$E22="",$F22="",$G22="",$H22=""),"PREENCHER OBRIGATÓRIOS",IF(AND($A22="Sim",COUNTIFS($K$5:$K$104,$K22,$A$5:$A$104,"Sim")>1),"ID ITEM DUPLICADO",IF(OR($M22="",$M22<1,$M22>365),"FREQUÊNCIA INVÁLIDA",IF(AND($I22<>"",$I22>'Parâmetros e instruções'!$B$3),"ÚLTIMA CONTAGEM FUTURA","OK")))))
K23: =IF(OR($B23="",$D23=""),"",UPPER(TRIM($B23))&"|"&UPPER(TRIM($D23))) | L23: =IF(OR($E23="",$F23=""),"",SUMIFS('Parâmetros e instruções'!$C$13:$C$21,'Parâmetros e instruções'!$A$13:$A$21,$E23,'Parâmetros e instruções'!$B$13:$B$21,$F23)) | M23: =IF($K23="","",IF($J23<>"",$J23,$L23)) | N23: =IF($K23="","",IFERROR(IF(MAXIFS(Contagens!$D$5:$D$104,Contagens!$G$5:$G$104,$K23,Contagens!$R$5:$R$104,"Concluída",Contagens!$U$5:$U$104,"OK")=0,"",MAXIFS(Contagens!$D$5:$D$104,Contagens!$G$5:$G$104,$K23,Contagens!$R$5:$R$104,"Concluída",Contagens!$U$5:$U$104,"OK")),"")) | O23: =IF(MAX(IF($I23="",0,$I23),IF($N23="",0,$N23))=0,"",MAX(IF($I23="",0,$I23),IF($N23="",0,$N23))) | P23: =IF(COUNTA($A23:$J23)=0,"",IF($A23<>"Sim","",IF(OR($H23="",$M23=""),"",IF($O23="",$H23,$O23+$M23)))) | Q23: =IF($P23="","",$P23-'Parâmetros e instruções'!$B$3) | R23: =IF(COUNTA($A23:$J23)=0,"",IF($A23<>"Sim","Inativo",IF($P23="","Cadastro incompleto",IF($P23<'Parâmetros e instruções'!$B$3,"Vencido",IF($P23='Parâmetros e instruções'!$B$3,"Vence hoje",IF($P23<='Parâmetros e instruções'!$B$3+'Parâmetros e instruções'!$B$6,"A vencer","Em dia")))))) | S23: =IF(COUNTA($A23:$J23)=0,"",IF(OR($A23<>"Sim",$U23<>"OK"),"",IF(AND($O23<>"",$P23>='Parâmetros e instruções'!$B$3),"Sim","Não"))) | T23: =IF(OR($A23<>"Sim",$P23="",$U23<>"OK"),"",COUNTIFS($A$5:$A$104,"Sim",$P$5:$P$104,">0",$P$5:$P$104,"<"&$P23,$U$5:$U$104,"OK")+COUNTIFS($A$5:$A23,"Sim",$P$5:$P23,$P23,$U$5:$U23,"OK")) | U23: =IF(COUNTA($A23:$J23)=0,"",IF(OR($A23="",$B23="",$C23="",$D23="",$E23="",$F23="",$G23="",$H23=""),"PREENCHER OBRIGATÓRIOS",IF(AND($A23="Sim",COUNTIFS($K$5:$K$104,$K23,$A$5:$A$104,"Sim")>1),"ID ITEM DUPLICADO",IF(OR($M23="",$M23<1,$M23>365),"FREQUÊNCIA INVÁLIDA",IF(AND($I23<>"",$I23>'Parâmetros e instruções'!$B$3),"ÚLTIMA CONTAGEM FUTURA","OK")))))
K24: =IF(OR($B24="",$D24=""),"",UPPER(TRIM($B24))&"|"&UPPER(TRIM($D24))) | L24: =IF(OR($E24="",$F24=""),"",SUMIFS('Parâmetros e instruções'!$C$13:$C$21,'Parâmetros e instruções'!$A$13:$A$21,$E24,'Parâmetros e instruções'!$B$13:$B$21,$F24)) | M24: =IF($K24="","",IF($J24<>"",$J24,$L24)) | N24: =IF($K24="","",IFERROR(IF(MAXIFS(Contagens!$D$5:$D$104,Contagens!$G$5:$G$104,$K24,Contagens!$R$5:$R$104,"Concluída",Contagens!$U$5:$U$104,"OK")=0,"",MAXIFS(Contagens!$D$5:$D$104,Contagens!$G$5:$G$104,$K24,Contagens!$R$5:$R$104,"Concluída",Contagens!$U$5:$U$104,"OK")),"")) | O24: =IF(MAX(IF($I24="",0,$I24),IF($N24="",0,$N24))=0,"",MAX(IF($I24="",0,$I24),IF($N24="",0,$N24))) | P24: =IF(COUNTA($A24:$J24)=0,"",IF($A24<>"Sim","",IF(OR($H24="",$M24=""),"",IF($O24="",$H24,$O24+$M24)))) | Q24: =IF($P24="","",$P24-'Parâmetros e instruções'!$B$3) | R24: =IF(COUNTA($A24:$J24)=0,"",IF($A24<>"Sim","Inativo",IF($P24="","Cadastro incompleto",IF($P24<'Parâmetros e instruções'!$B$3,"Vencido",IF($P24='Parâmetros e instruções'!$B$3,"Vence hoje",IF($P24<='Parâmetros e instruções'!$B$3+'Parâmetros e instruções'!$B$6,"A vencer","Em dia")))))) | S24: =IF(COUNTA($A24:$J24)=0,"",IF(OR($A24<>"Sim",$U24<>"OK"),"",IF(AND($O24<>"",$P24>='Parâmetros e instruções'!$B$3),"Sim","Não"))) | T24: =IF(OR($A24<>"Sim",$P24="",$U24<>"OK"),"",COUNTIFS($A$5:$A$104,"Sim",$P$5:$P$104,">0",$P$5:$P$104,"<"&$P24,$U$5:$U$104,"OK")+COUNTIFS($A$5:$A24,"Sim",$P$5:$P24,$P24,$U$5:$U24,"OK")) | U24: =IF(COUNTA($A24:$J24)=0,"",IF(OR($A24="",$B24="",$C24="",$D24="",$E24="",$F24="",$G24="",$H24=""),"PREENCHER OBRIGATÓRIOS",IF(AND($A24="Sim",COUNTIFS($K$5:$K$104,$K24,$A$5:$A$104,"Sim")>1),"ID ITEM DUPLICADO",IF(OR($M24="",$M24<1,$M24>365),"FREQUÊNCIA INVÁLIDA",IF(AND($I24<>"",$I24>'Parâmetros e instruções'!$B$3),"ÚLTIMA CONTAGEM FUTURA","OK")))))
K25: =IF(OR($B25="",$D25=""),"",UPPER(TRIM($B25))&"|"&UPPER(TRIM($D25))) | L25: =IF(OR($E25="",$F25=""),"",SUMIFS('Parâmetros e instruções'!$C$13:$C$21,'Parâmetros e instruções'!$A$13:$A$21,$E25,'Parâmetros e instruções'!$B$13:$B$21,$F25)) | M25: =IF($K25="","",IF($J25<>"",$J25,$L25)) | N25: =IF($K25="","",IFERROR(IF(MAXIFS(Contagens!$D$5:$D$104,Contagens!$G$5:$G$104,$K25,Contagens!$R$5:$R$104,"Concluída",Contagens!$U$5:$U$104,"OK")=0,"",MAXIFS(Contagens!$D$5:$D$104,Contagens!$G$5:$G$104,$K25,Contagens!$R$5:$R$104,"Concluída",Contagens!$U$5:$U$104,"OK")),"")) | O25: =IF(MAX(IF($I25="",0,$I25),IF($N25="",0,$N25))=0,"",MAX(IF($I25="",0,$I25),IF($N25="",0,$N25))) | P25: =IF(COUNTA($A25:$J25)=0,"",IF($A25<>"Sim","",IF(OR($H25="",$M25=""),"",IF($O25="",$H25,$O25+$M25)))) | Q25: =IF($P25="","",$P25-'Parâmetros e instruções'!$B$3) | R25: =IF(COUNTA($A25:$J25)=0,"",IF($A25<>"Sim","Inativo",IF($P25="","Cadastro incompleto",IF($P25<'Parâmetros e instruções'!$B$3,"Vencido",IF($P25='Parâmetros e instruções'!$B$3,"Vence hoje",IF($P25<='Parâmetros e instruções'!$B$3+'Parâmetros e instruções'!$B$6,"A vencer","Em dia")))))) | S25: =IF(COUNTA($A25:$J25)=0,"",IF(OR($A25<>"Sim",$U25<>"OK"),"",IF(AND($O25<>"",$P25>='Parâmetros e instruções'!$B$3),"Sim","Não"))) | T25: =IF(OR($A25<>"Sim",$P25="",$U25<>"OK"),"",COUNTIFS($A$5:$A$104,"Sim",$P$5:$P$104,">0",$P$5:$P$104,"<"&$P25,$U$5:$U$104,"OK")+COUNTIFS($A$5:$A25,"Sim",$P$5:$P25,$P25,$U$5:$U25,"OK")) | U25: =IF(COUNTA($A25:$J25)=0,"",IF(OR($A25="",$B25="",$C25="",$D25="",$E25="",$F25="",$G25="",$H25=""),"PREENCHER OBRIGATÓRIOS",IF(AND($A25="Sim",COUNTIFS($K$5:$K$104,$K25,$A$5:$A$104,"Sim")>1),"ID ITEM DUPLICADO",IF(OR($M25="",$M25<1,$M25>365),"FREQUÊNCIA INVÁLIDA",IF(AND($I25<>"",$I25>'Parâmetros e instruções'!$B$3),"ÚLTIMA CONTAGEM FUTURA","OK")))))
K26: =IF(OR($B26="",$D26=""),"",UPPER(TRIM($B26))&"|"&UPPER(TRIM($D26))) | L26: =IF(OR($E26="",$F26=""),"",SUMIFS('Parâmetros e instruções'!$C$13:$C$21,'Parâmetros e instruções'!$A$13:$A$21,$E26,'Parâmetros e instruções'!$B$13:$B$21,$F26)) | M26: =IF($K26="","",IF($J26<>"",$J26,$L26)) | N26: =IF($K26="","",IFERROR(IF(MAXIFS(Contagens!$D$5:$D$104,Contagens!$G$5:$G$104,$K26,Contagens!$R$5:$R$104,"Concluída",Contagens!$U$5:$U$104,"OK")=0,"",MAXIFS(Contagens!$D$5:$D$104,Contagens!$G$5:$G$104,$K26,Contagens!$R$5:$R$104,"Concluída",Contagens!$U$5:$U$104,"OK")),"")) | O26: =IF(MAX(IF($I26="",0,$I26),IF($N26="",0,$N26))=0,"",MAX(IF($I26="",0,$I26),IF($N26="",0,$N26))) | P26: =IF(COUNTA($A26:$J26)=0,"",IF($A26<>"Sim","",IF(OR($H26="",$M26=""),"",IF($O26="",$H26,$O26+$M26)))) | Q26: =IF($P26="","",$P26-'Parâmetros e instruções'!$B$3) | R26: =IF(COUNTA($A26:$J26)=0,"",IF($A26<>"Sim","Inativo",IF($P26="","Cadastro incompleto",IF($P26<'Parâmetros e instruções'!$B$3,"Vencido",IF($P26='Parâmetros e instruções'!$B$3,"Vence hoje",IF($P26<='Parâmetros e instruções'!$B$3+'Parâmetros e instruções'!$B$6,"A vencer","Em dia")))))) | S26: =IF(COUNTA($A26:$J26)=0,"",IF(OR($A26<>"Sim",$U26<>"OK"),"",IF(AND($O26<>"",$P26>='Parâmetros e instruções'!$B$3),"Sim","Não"))) | T26: =IF(OR($A26<>"Sim",$P26="",$U26<>"OK"),"",COUNTIFS($A$5:$A$104,"Sim",$P$5:$P$104,">0",$P$5:$P$104,"<"&$P26,$U$5:$U$104,"OK")+COUNTIFS($A$5:$A26,"Sim",$P$5:$P26,$P26,$U$5:$U26,"OK")) | U26: =IF(COUNTA($A26:$J26)=0,"",IF(OR($A26="",$B26="",$C26="",$D26="",$E26="",$F26="",$G26="",$H26=""),"PREENCHER OBRIGATÓRIOS",IF(AND($A26="Sim",COUNTIFS($K$5:$K$104,$K26,$A$5:$A$104,"Sim")>1),"ID ITEM DUPLICADO",IF(OR($M26="",$M26<1,$M26>365),"FREQUÊNCIA INVÁLIDA",IF(AND($I26<>"",$I26>'Parâmetros e instruções'!$B$3),"ÚLTIMA CONTAGEM FUTURA","OK")))))
... K104: =IF(OR($B104="",$D104=""),"",UPPER(TRIM($B104))&"|"&UPPER(TRIM($D104))) | L104: =IF(OR($E104="",$F104=""),"",SUMIFS('Parâmetros e instruções'!$C$13:$C$21,'Parâmetros e instruções'!$A$13:$A$21,$E104,'Parâmetros e instruções'!$B$13:$B$21,$F104)) | M104: =IF($K104="","",IF($J104<>"",$J104,$L104)) | N104: =IF($K104="","",IFERROR(IF(MAXIFS(Contagens!$D$5:$D$104,Contagens!$G$5:$G$104,$K104,Contagens!$R$5:$R$104,"Concluída",Contagens!$U$5:$U$104,"OK")=0,"",MAXIFS(Contagens!$D$5:$D$104,Contagens!$G$5:$G$104,$K104,Contagens!$R$5:$R$104,"Concluída",Contagens!$U$5:$U$104,"OK")),"")) | O104: =IF(MAX(IF($I104="",0,$I104),IF($N104="",0,$N104))=0,"",MAX(IF($I104="",0,$I104),IF($N104="",0,$N104))) | P104: =IF(COUNTA($A104:$J104)=0,"",IF($A104<>"Sim","",IF(OR($H104="",$M104=""),"",IF($O104="",$H104,$O104+$M104)))) | Q104: =IF($P104="","",$P104-'Parâmetros e instruções'!$B$3) | R104: =IF(COUNTA($A104:$J104)=0,"",IF($A104<>"Sim","Inativo",IF($P104="","Cadastro incompleto",IF($P104<'Parâmetros e instruções'!$B$3,"Vencido",IF($P104='Parâmetros e instruções'!$B$3,"Vence hoje",IF($P104<='Parâmetros e instruções'!$B$3+'Parâmetros e instruções'!$B$6,"A vencer","Em dia")))))) | S104: =IF(COUNTA($A104:$J104)=0,"",IF(OR($A104<>"Sim",$U104<>"OK"),"",IF(AND($O104<>"",$P104>='Parâmetros e instruções'!$B$3),"Sim","Não"))) | T104: =IF(OR($A104<>"Sim",$P104="",$U104<>"OK"),"",COUNTIFS($A$5:$A$104,"Sim",$P$5:$P$104,">0",$P$5:$P$104,"<"&$P104,$U$5:$U$104,"OK")+COUNTIFS($A$5:$A104,"Sim",$P$5:$P104,$P104,$U$5:$U104,"OK")) | U104: =IF(COUNTA($A104:$J104)=0,"",IF(OR($A104="",$B104="",$C104="",$D104="",$E104="",$F104="",$G104="",$H104=""),"PREENCHER OBRIGATÓRIOS",IF(AND($A104="Sim",COUNTIFS($K$5:$K$104,$K104,$A$5:$A$104,"Sim")>1),"ID ITEM DUPLICADO",IF(OR($M104="",$M104<1,$M104>365),"FREQUÊNCIA INVÁLIDA",IF(AND($I104<>"",$I104>'Parâmetros e instruções'!$B$3),"ÚLTIMA CONTAGEM FUTURA","OK")))))

Sheet Contagens
A1: Registro de contagens do inventário rotativo
A2: Registre uma linha por atividade. A segunda contagem, quando preenchida, passa a ser a quantidade final.
A4: ID contagem | B4: Rodada | C4: Data planejada | D4: Data da contagem | E4: SKU | F4: Localização | G4: ID item | H4: Responsável | I4: Quantidade no sistema | J4: 1ª contagem | K4: 2ª contagem | L4: Quantidade final | M4: Divergência em quantidade | N4: Custo unitário | O4: Divergência em R$ | P4: Divergência absoluta em R$ | Q4: Acurado? | R4: Status | S4: Motivo da divergência | T4: Ação de tratamento | U4: Checagem
A5: CONT-FIC-0001 | B5: FIC-2026-36 | C5: 46270 | D5: 46270 | E5: SKU-FIC-001 | F5: CD-FIC-A01-01 | G5: =IF(OR($E5="",$F5=""),"",UPPER(TRIM($E5))&"|"&UPPER(TRIM($F5))) | H5: Equipe Inventário Alfa | I5: 20 | J5: 20 | L5: =IF(AND($J5="",$K5=""),"",IF($K5<>"",$K5,$J5)) | M5: =IF(OR($L5="",$I5=""),"",$L5-$I5) | N5: 189.9 | O5: =IF(OR($M5="",$N5=""),"",$M5*$N5) | P5: =IF($O5="","",ABS($O5)) | Q5: =IF($M5="","",IF(ABS($M5)<='Parâmetros e instruções'!$B$7,"Sim","Não")) | R5: Concluída | U5: =IF(COUNTA($A5:$F5,$H5:$K5,$N5,$R5:$T5)=0,"",IF(OR($A5="",$B5="",$C5="",$E5="",$F5="",$H5="",$R5=""),"PREENCHER OBRIGATÓRIOS",IF(COUNTIF($A$5:$A$104,$A5)>1,"ID CONTAGEM DUPLICADO",IF(COUNTIF(Programa!$K$5:$K$104,$G5)=0,"ITEM NÃO CADASTRADO",IF(AND(OR($R5="Planejada",$R5="Em contagem"),COUNTIFS(Programa!$K$5:$K$104,$G5,Programa!$A$5:$A$104,"Sim")=0),"ITEM INATIVO",IF(AND($R5="Concluída",OR($D5="",$I5="",$J5="")),"CONCLUSÃO INCOMPLETA",IF(AND($D5<>"",$D5>'Parâmetros e instruções'!$B$3),"DATA FUTURA",IF(AND($R5="Concluída",$M5<>0,$N5=""),"CUSTO AUSENTE",IF(AND($R5="Concluída",IFERROR(ABS($M5),0)>'Parâmetros e instruções'!$B$7,OR($S5="",$T5="")),"DIVERGÊNCIA SEM TRATATIVA","OK"))))))))) | W5: ='Parâmetros e instruções'!$G$13 | X5: =Programa!$B$5 | Y5: =Programa!$D$5 | Z5: ='Parâmetros e instruções'!$E$13 | AA5: ='Parâmetros e instruções'!$M$13
A6: CONT-FIC-0002 | B6: FIC-2026-34 | C6: 46254 | D6: 46254 | E6: SKU-FIC-002 | F6: CD-FIC-A01-02 | G6: =IF(OR($E6="",$F6=""),"",UPPER(TRIM($E6))&"|"&UPPER(TRIM($F6))) | H6: Equipe Inventário Beta | I6: 50 | J6: 49 | K6: 49 | L6: =IF(AND($J6="",$K6=""),"",IF($K6<>"",$K6,$J6)) | M6: =IF(OR($L6="",$I6=""),"",$L6-$I6) | N6: 79.9 | O6: =IF(OR($M6="",$N6=""),"",$M6*$N6) | P6: =IF($O6="","",ABS($O6)) | Q6: =IF($M6="","",IF(ABS($M6)<='Parâmetros e instruções'!$B$7,"Sim","Não")) | R6: Concluída | S6: Diferença fictícia de separação | T6: Recontar e revisar o endereço | U6: =IF(COUNTA($A6:$F6,$H6:$K6,$N6,$R6:$T6)=0,"",IF(OR($A6="",$B6="",$C6="",$E6="",$F6="",$H6="",$R6=""),"PREENCHER OBRIGATÓRIOS",IF(COUNTIF($A$5:$A$104,$A6)>1,"ID CONTAGEM DUPLICADO",IF(COUNTIF(Programa!$K$5:$K$104,$G6)=0,"ITEM NÃO CADASTRADO",IF(AND(OR($R6="Planejada",$R6="Em contagem"),COUNTIFS(Programa!$K$5:$K$104,$G6,Programa!$A$5:$A$104,"Sim")=0),"ITEM INATIVO",IF(AND($R6="Concluída",OR($D6="",$I6="",$J6="")),"CONCLUSÃO INCOMPLETA",IF(AND($D6<>"",$D6>'Parâmetros e instruções'!$B$3),"DATA FUTURA",IF(AND($R6="Concluída",$M6<>0,$N6=""),"CUSTO AUSENTE",IF(AND($R6="Concluída",IFERROR(ABS($M6),0)>'Parâmetros e instruções'!$B$7,OR($S6="",$T6="")),"DIVERGÊNCIA SEM TRATATIVA","OK"))))))))) | W6: ='Parâmetros e instruções'!$G$14 | X6: =Programa!$B$6 | Y6: =Programa!$D$6 | Z6: ='Parâmetros e instruções'!$E$14 | AA6: ='Parâmetros e instruções'!$M$14
A7: CONT-FIC-0003 | B7: FIC-2026-33 | C7: 46249 | D7: 46249 | E7: SKU-FIC-003 | F7: CD-FIC-B02-01 | G7: =IF(OR($E7="",$F7=""),"",UPPER(TRIM($E7))&"|"&UPPER(TRIM($F7))) | H7: Equipe Inventário Alfa | I7: 30 | J7: 30 | L7: =IF(AND($J7="",$K7=""),"",IF($K7<>"",$K7,$J7)) | M7: =IF(OR($L7="",$I7=""),"",$L7-$I7) | N7: 129.5 | O7: =IF(OR($M7="",$N7=""),"",$M7*$N7) | P7: =IF($O7="","",ABS($O7)) | Q7: =IF($M7="","",IF(ABS($M7)<='Parâmetros e instruções'!$B$7,"Sim","Não")) | R7: Concluída | U7: =IF(COUNTA($A7:$F7,$H7:$K7,$N7,$R7:$T7)=0,"",IF(OR($A7="",$B7="",$C7="",$E7="",$F7="",$H7="",$R7=""),"PREENCHER OBRIGATÓRIOS",IF(COUNTIF($A$5:$A$104,$A7)>1,"ID CONTAGEM DUPLICADO",IF(COUNTIF(Programa!$K$5:$K$104,$G7)=0,"ITEM NÃO CADASTRADO",IF(AND(OR($R7="Planejada",$R7="Em contagem"),COUNTIFS(Programa!$K$5:$K$104,$G7,Programa!$A$5:$A$104,"Sim")=0),"ITEM INATIVO",IF(AND($R7="Concluída",OR($D7="",$I7="",$J7="")),"CONCLUSÃO INCOMPLETA",IF(AND($D7<>"",$D7>'Parâmetros e instruções'!$B$3),"DATA FUTURA",IF(AND($R7="Concluída",$M7<>0,$N7=""),"CUSTO AUSENTE",IF(AND($R7="Concluída",IFERROR(ABS($M7),0)>'Parâmetros e instruções'!$B$7,OR($S7="",$T7="")),"DIVERGÊNCIA SEM TRATATIVA","OK"))))))))) | W7: ='Parâmetros e instruções'!$G$15 | X7: =Programa!$B$7 | Y7: =Programa!$D$7 | Z7: ='Parâmetros e instruções'!$E$15 | AA7: ='Parâmetros e instruções'!$M$15
A8: CONT-FIC-0004 | B8: FIC-2026-27 | C8: 46204 | D8: 46204 | E8: SKU-FIC-004 | F8: CD-FIC-B02-02 | G8: =IF(OR($E8="",$F8=""),"",UPPER(TRIM($E8))&"|"&UPPER(TRIM($F8))) | H8: Equipe Inventário Gama | I8: 80 | J8: 82 | K8: 82 | L8: =IF(AND($J8="",$K8=""),"",IF($K8<>"",$K8,$J8)) | M8: =IF(OR($L8="",$I8=""),"",$L8-$I8) | N8: 24.9 | O8: =IF(OR($M8="",$N8=""),"",$M8*$N8) | P8: =IF($O8="","",ABS($O8)) | Q8: =IF($M8="","",IF(ABS($M8)<='Parâmetros e instruções'!$B$7,"Sim","Não")) | R8: Concluída | S8: Unidade fictícia em endereço vizinho | T8: Regularizar a posição após revisão | U8: =IF(COUNTA($A8:$F8,$H8:$K8,$N8,$R8:$T8)=0,"",IF(OR($A8="",$B8="",$C8="",$E8="",$F8="",$H8="",$R8=""),"PREENCHER OBRIGATÓRIOS",IF(COUNTIF($A$5:$A$104,$A8)>1,"ID CONTAGEM DUPLICADO",IF(COUNTIF(Programa!$K$5:$K$104,$G8)=0,"ITEM NÃO CADASTRADO",IF(AND(OR($R8="Planejada",$R8="Em contagem"),COUNTIFS(Programa!$K$5:$K$104,$G8,Programa!$A$5:$A$104,"Sim")=0),"ITEM INATIVO",IF(AND($R8="Concluída",OR($D8="",$I8="",$J8="")),"CONCLUSÃO INCOMPLETA",IF(AND($D8<>"",$D8>'Parâmetros e instruções'!$B$3),"DATA FUTURA",IF(AND($R8="Concluída",$M8<>0,$N8=""),"CUSTO AUSENTE",IF(AND($R8="Concluída",IFERROR(ABS($M8),0)>'Parâmetros e instruções'!$B$7,OR($S8="",$T8="")),"DIVERGÊNCIA SEM TRATATIVA","OK"))))))))) | W8: ='Parâmetros e instruções'!$G$16 | X8: =Programa!$B$8 | Y8: =Programa!$D$8 | Z8: ='Parâmetros e instruções'!$E$16 | AA8: ='Parâmetros e instruções'!$M$16
A9: CONT-FIC-0005 | B9: FIC-2026-11 | C9: 46096 | D9: 46096 | E9: SKU-FIC-005 | F9: CD-FIC-C03-01 | G9: =IF(OR($E9="",$F9=""),"",UPPER(TRIM($E9))&"|"&UPPER(TRIM($F9))) | H9: Equipe Inventário Beta | I9: 200 | J9: 200 | L9: =IF(AND($J9="",$K9=""),"",IF($K9<>"",$K9,$J9)) | M9: =IF(OR($L9="",$I9=""),"",$L9-$I9) | N9: 19.9 | O9: =IF(OR($M9="",$N9=""),"",$M9*$N9) | P9: =IF($O9="","",ABS($O9)) | Q9: =IF($M9="","",IF(ABS($M9)<='Parâmetros e instruções'!$B$7,"Sim","Não")) | R9: Concluída | U9: =IF(COUNTA($A9:$F9,$H9:$K9,$N9,$R9:$T9)=0,"",IF(OR($A9="",$B9="",$C9="",$E9="",$F9="",$H9="",$R9=""),"PREENCHER OBRIGATÓRIOS",IF(COUNTIF($A$5:$A$104,$A9)>1,"ID CONTAGEM DUPLICADO",IF(COUNTIF(Programa!$K$5:$K$104,$G9)=0,"ITEM NÃO CADASTRADO",IF(AND(OR($R9="Planejada",$R9="Em contagem"),COUNTIFS(Programa!$K$5:$K$104,$G9,Programa!$A$5:$A$104,"Sim")=0),"ITEM INATIVO",IF(AND($R9="Concluída",OR($D9="",$I9="",$J9="")),"CONCLUSÃO INCOMPLETA",IF(AND($D9<>"",$D9>'Parâmetros e instruções'!$B$3),"DATA FUTURA",IF(AND($R9="Concluída",$M9<>0,$N9=""),"CUSTO AUSENTE",IF(AND($R9="Concluída",IFERROR(ABS($M9),0)>'Parâmetros e instruções'!$B$7,OR($S9="",$T9="")),"DIVERGÊNCIA SEM TRATATIVA","OK"))))))))) | W9: ='Parâmetros e instruções'!$G$17 | X9: =Programa!$B$9 | Y9: =Programa!$D$9 | Z9: ='Parâmetros e instruções'!$E$17
A10: CONT-FIC-0006 | B10: FIC-2026-36 | C10: 46271 | E10: SKU-FIC-006 | F10: CD-FIC-A03-02 | G10: =IF(OR($E10="",$F10=""),"",UPPER(TRIM($E10))&"|"&UPPER(TRIM($F10))) | H10: Equipe Inventário Delta | L10: =IF(AND($J10="",$K10=""),"",IF($K10<>"",$K10,$J10)) | M10: =IF(OR($L10="",$I10=""),"",$L10-$I10) | O10: =IF(OR($M10="",$N10=""),"",$M10*$N10) | P10: =IF($O10="","",ABS($O10)) | Q10: =IF($M10="","",IF(ABS($M10)<='Parâmetros e instruções'!$B$7,"Sim","Não")) | R10: Planejada | U10: =IF(COUNTA($A10:$F10,$H10:$K10,$N10,$R10:$T10)=0,"",IF(OR($A10="",$B10="",$C10="",$E10="",$F10="",$H10="",$R10=""),"PREENCHER OBRIGATÓRIOS",IF(COUNTIF($A$5:$A$104,$A10)>1,"ID CONTAGEM DUPLICADO",IF(COUNTIF(Programa!$K$5:$K$104,$G10)=0,"ITEM NÃO CADASTRADO",IF(AND(OR($R10="Planejada",$R10="Em contagem"),COUNTIFS(Programa!$K$5:$K$104,$G10,Programa!$A$5:$A$104,"Sim")=0),"ITEM INATIVO",IF(AND($R10="Concluída",OR($D10="",$I10="",$J10="")),"CONCLUSÃO INCOMPLETA",IF(AND($D10<>"",$D10>'Parâmetros e instruções'!$B$3),"DATA FUTURA",IF(AND($R10="Concluída",$M10<>0,$N10=""),"CUSTO AUSENTE",IF(AND($R10="Concluída",IFERROR(ABS($M10),0)>'Parâmetros e instruções'!$B$7,OR($S10="",$T10="")),"DIVERGÊNCIA SEM TRATATIVA","OK"))))))))) | W10: ='Parâmetros e instruções'!$G$18 | X10: =Programa!$B$10 | Y10: =Programa!$D$10 | Z10: ='Parâmetros e instruções'!$E$18
A11: CONT-FIC-0007 | B11: FIC-2026-36 | C11: 46271 | E11: SKU-FIC-007 | F11: CD-FIC-C04-01 | G11: =IF(OR($E11="",$F11=""),"",UPPER(TRIM($E11))&"|"&UPPER(TRIM($F11))) | H11: Equipe Inventário Gama | L11: =IF(AND($J11="",$K11=""),"",IF($K11<>"",$K11,$J11)) | M11: =IF(OR($L11="",$I11=""),"",$L11-$I11) | O11: =IF(OR($M11="",$N11=""),"",$M11*$N11) | P11: =IF($O11="","",ABS($O11)) | Q11: =IF($M11="","",IF(ABS($M11)<='Parâmetros e instruções'!$B$7,"Sim","Não")) | R11: Em contagem | U11: =IF(COUNTA($A11:$F11,$H11:$K11,$N11,$R11:$T11)=0,"",IF(OR($A11="",$B11="",$C11="",$E11="",$F11="",$H11="",$R11=""),"PREENCHER OBRIGATÓRIOS",IF(COUNTIF($A$5:$A$104,$A11)>1,"ID CONTAGEM DUPLICADO",IF(COUNTIF(Programa!$K$5:$K$104,$G11)=0,"ITEM NÃO CADASTRADO",IF(AND(OR($R11="Planejada",$R11="Em contagem"),COUNTIFS(Programa!$K$5:$K$104,$G11,Programa!$A$5:$A$104,"Sim")=0),"ITEM INATIVO",IF(AND($R11="Concluída",OR($D11="",$I11="",$J11="")),"CONCLUSÃO INCOMPLETA",IF(AND($D11<>"",$D11>'Parâmetros e instruções'!$B$3),"DATA FUTURA",IF(AND($R11="Concluída",$M11<>0,$N11=""),"CUSTO AUSENTE",IF(AND($R11="Concluída",IFERROR(ABS($M11),0)>'Parâmetros e instruções'!$B$7,OR($S11="",$T11="")),"DIVERGÊNCIA SEM TRATATIVA","OK"))))))))) | W11: ='Parâmetros e instruções'!$G$19 | X11: =Programa!$B$11 | Y11: =Programa!$D$11 | Z11: ='Parâmetros e instruções'!$E$19
A12: CONT-FIC-0008 | B12: FIC-2026-31 | C12: 46235 | D12: 46235 | E12: SKU-FIC-008 | F12: CD-FIC-B04-02 | G12: =IF(OR($E12="",$F12=""),"",UPPER(TRIM($E12))&"|"&UPPER(TRIM($F12))) | H12: Equipe Inventário Delta | I12: 40 | J12: 40 | L12: =IF(AND($J12="",$K12=""),"",IF($K12<>"",$K12,$J12)) | M12: =IF(OR($L12="",$I12=""),"",$L12-$I12) | N12: 44.9 | O12: =IF(OR($M12="",$N12=""),"",$M12*$N12) | P12: =IF($O12="","",ABS($O12)) | Q12: =IF($M12="","",IF(ABS($M12)<='Parâmetros e instruções'!$B$7,"Sim","Não")) | R12: Concluída | U12: =IF(COUNTA($A12:$F12,$H12:$K12,$N12,$R12:$T12)=0,"",IF(OR($A12="",$B12="",$C12="",$E12="",$F12="",$H12="",$R12=""),"PREENCHER OBRIGATÓRIOS",IF(COUNTIF($A$5:$A$104,$A12)>1,"ID CONTAGEM DUPLICADO",IF(COUNTIF(Programa!$K$5:$K$104,$G12)=0,"ITEM NÃO CADASTRADO",IF(AND(OR($R12="Planejada",$R12="Em contagem"),COUNTIFS(Programa!$K$5:$K$104,$G12,Programa!$A$5:$A$104,"Sim")=0),"ITEM INATIVO",IF(AND($R12="Concluída",OR($D12="",$I12="",$J12="")),"CONCLUSÃO INCOMPLETA",IF(AND($D12<>"",$D12>'Parâmetros e instruções'!$B$3),"DATA FUTURA",IF(AND($R12="Concluída",$M12<>0,$N12=""),"CUSTO AUSENTE",IF(AND($R12="Concluída",IFERROR(ABS($M12),0)>'Parâmetros e instruções'!$B$7,OR($S12="",$T12="")),"DIVERGÊNCIA SEM TRATATIVA","OK"))))))))) | W12: ='Parâmetros e instruções'!$G$20 | X12: =Programa!$B$12 | Y12: =Programa!$D$12 | Z12: ='Parâmetros e instruções'!$E$20
A13: CONT-FIC-0009 | B13: FIC-2026-23 | C13: 46174 | D13: 46174 | E13: SKU-FIC-009 | F13: CD-FIC-C05-01 | G13: =IF(OR($E13="",$F13=""),"",UPPER(TRIM($E13))&"|"&UPPER(TRIM($F13))) | H13: Equipe Inventário Alfa | I13: 100 | J13: 97 | K13: 97 | L13: =IF(AND($J13="",$K13=""),"",IF($K13<>"",$K13,$J13)) | M13: =IF(OR($L13="",$I13=""),"",$L13-$I13) | N13: 16.9 | O13: =IF(OR($M13="",$N13=""),"",$M13*$N13) | P13: =IF($O13="","",ABS($O13)) | Q13: =IF($M13="","",IF(ABS($M13)<='Parâmetros e instruções'!$B$7,"Sim","Não")) | R13: Concluída | S13: Avaria fictícia não baixada | T13: Segregar e encaminhar ajuste interno | U13: =IF(COUNTA($A13:$F13,$H13:$K13,$N13,$R13:$T13)=0,"",IF(OR($A13="",$B13="",$C13="",$E13="",$F13="",$H13="",$R13=""),"PREENCHER OBRIGATÓRIOS",IF(COUNTIF($A$5:$A$104,$A13)>1,"ID CONTAGEM DUPLICADO",IF(COUNTIF(Programa!$K$5:$K$104,$G13)=0,"ITEM NÃO CADASTRADO",IF(AND(OR($R13="Planejada",$R13="Em contagem"),COUNTIFS(Programa!$K$5:$K$104,$G13,Programa!$A$5:$A$104,"Sim")=0),"ITEM INATIVO",IF(AND($R13="Concluída",OR($D13="",$I13="",$J13="")),"CONCLUSÃO INCOMPLETA",IF(AND($D13<>"",$D13>'Parâmetros e instruções'!$B$3),"DATA FUTURA",IF(AND($R13="Concluída",$M13<>0,$N13=""),"CUSTO AUSENTE",IF(AND($R13="Concluída",IFERROR(ABS($M13),0)>'Parâmetros e instruções'!$B$7,OR($S13="",$T13="")),"DIVERGÊNCIA SEM TRATATIVA","OK"))))))))) | W13: ='Parâmetros e instruções'!$G$21 | X13: =Programa!$B$13 | Y13: =Programa!$D$13 | Z13: ='Parâmetros e instruções'!$E$21
A14: CONT-FIC-0010 | B14: FIC-2026-36 | C14: 46270 | E14: SKU-FIC-010 | F14: CD-FIC-A05-02 | G14: =IF(OR($E14="",$F14=""),"",UPPER(TRIM($E14))&"|"&UPPER(TRIM($F14))) | H14: Equipe Inventário Beta | L14: =IF(AND($J14="",$K14=""),"",IF($K14<>"",$K14,$J14)) | M14: =IF(OR($L14="",$I14=""),"",$L14-$I14) | O14: =IF(OR($M14="",$N14=""),"",$M14*$N14) | P14: =IF($O14="","",ABS($O14)) | Q14: =IF($M14="","",IF(ABS($M14)<='Parâmetros e instruções'!$B$7,"Sim","Não")) | R14: Cancelada | S14: Atividade fictícia cancelada | U14: =IF(COUNTA($A14:$F14,$H14:$K14,$N14,$R14:$T14)=0,"",IF(OR($A14="",$B14="",$C14="",$E14="",$F14="",$H14="",$R14=""),"PREENCHER OBRIGATÓRIOS",IF(COUNTIF($A$5:$A$104,$A14)>1,"ID CONTAGEM DUPLICADO",IF(COUNTIF(Programa!$K$5:$K$104,$G14)=0,"ITEM NÃO CADASTRADO",IF(AND(OR($R14="Planejada",$R14="Em contagem"),COUNTIFS(Programa!$K$5:$K$104,$G14,Programa!$A$5:$A$104,"Sim")=0),"ITEM INATIVO",IF(AND($R14="Concluída",OR($D14="",$I14="",$J14="")),"CONCLUSÃO INCOMPLETA",IF(AND($D14<>"",$D14>'Parâmetros e instruções'!$B$3),"DATA FUTURA",IF(AND($R14="Concluída",$M14<>0,$N14=""),"CUSTO AUSENTE",IF(AND($R14="Concluída",IFERROR(ABS($M14),0)>'Parâmetros e instruções'!$B$7,OR($S14="",$T14="")),"DIVERGÊNCIA SEM TRATATIVA","OK"))))))))) | W14: ='Parâmetros e instruções'!$G$22 | X14: =Programa!$B$14 | Y14: =Programa!$D$14 | Z14: ='Parâmetros e instruções'!$E$22
G15: =IF(OR($E15="",$F15=""),"",UPPER(TRIM($E15))&"|"&UPPER(TRIM($F15))) | L15: =IF(AND($J15="",$K15=""),"",IF($K15<>"",$K15,$J15)) | M15: =IF(OR($L15="",$I15=""),"",$L15-$I15) | O15: =IF(OR($M15="",$N15=""),"",$M15*$N15) | P15: =IF($O15="","",ABS($O15)) | Q15: =IF($M15="","",IF(ABS($M15)<='Parâmetros e instruções'!$B$7,"Sim","Não")) | U15: =IF(COUNTA($A15:$F15,$H15:$K15,$N15,$R15:$T15)=0,"",IF(OR($A15="",$B15="",$C15="",$E15="",$F15="",$H15="",$R15=""),"PREENCHER OBRIGATÓRIOS",IF(COUNTIF($A$5:$A$104,$A15)>1,"ID CONTAGEM DUPLICADO",IF(COUNTIF(Programa!$K$5:$K$104,$G15)=0,"ITEM NÃO CADASTRADO",IF(AND(OR($R15="Planejada",$R15="Em contagem"),COUNTIFS(Programa!$K$5:$K$104,$G15,Programa!$A$5:$A$104,"Sim")=0),"ITEM INATIVO",IF(AND($R15="Concluída",OR($D15="",$I15="",$J15="")),"CONCLUSÃO INCOMPLETA",IF(AND($D15<>"",$D15>'Parâmetros e instruções'!$B$3),"DATA FUTURA",IF(AND($R15="Concluída",$M15<>0,$N15=""),"CUSTO AUSENTE",IF(AND($R15="Concluída",IFERROR(ABS($M15),0)>'Parâmetros e instruções'!$B$7,OR($S15="",$T15="")),"DIVERGÊNCIA SEM TRATATIVA","OK"))))))))) | W15: ='Parâmetros e instruções'!$G$23 | X15: =Programa!$B$15 | Y15: =Programa!$D$15
G16: =IF(OR($E16="",$F16=""),"",UPPER(TRIM($E16))&"|"&UPPER(TRIM($F16))) | L16: =IF(AND($J16="",$K16=""),"",IF($K16<>"",$K16,$J16)) | M16: =IF(OR($L16="",$I16=""),"",$L16-$I16) | O16: =IF(OR($M16="",$N16=""),"",$M16*$N16) | P16: =IF($O16="","",ABS($O16)) | Q16: =IF($M16="","",IF(ABS($M16)<='Parâmetros e instruções'!$B$7,"Sim","Não")) | U16: =IF(COUNTA($A16:$F16,$H16:$K16,$N16,$R16:$T16)=0,"",IF(OR($A16="",$B16="",$C16="",$E16="",$F16="",$H16="",$R16=""),"PREENCHER OBRIGATÓRIOS",IF(COUNTIF($A$5:$A$104,$A16)>1,"ID CONTAGEM DUPLICADO",IF(COUNTIF(Programa!$K$5:$K$104,$G16)=0,"ITEM NÃO CADASTRADO",IF(AND(OR($R16="Planejada",$R16="Em contagem"),COUNTIFS(Programa!$K$5:$K$104,$G16,Programa!$A$5:$A$104,"Sim")=0),"ITEM INATIVO",IF(AND($R16="Concluída",OR($D16="",$I16="",$J16="")),"CONCLUSÃO INCOMPLETA",IF(AND($D16<>"",$D16>'Parâmetros e instruções'!$B$3),"DATA FUTURA",IF(AND($R16="Concluída",$M16<>0,$N16=""),"CUSTO AUSENTE",IF(AND($R16="Concluída",IFERROR(ABS($M16),0)>'Parâmetros e instruções'!$B$7,OR($S16="",$T16="")),"DIVERGÊNCIA SEM TRATATIVA","OK"))))))))) | W16: ='Parâmetros e instruções'!$G$24 | X16: =Programa!$B$16 | Y16: =Programa!$D$16
G17: =IF(OR($E17="",$F17=""),"",UPPER(TRIM($E17))&"|"&UPPER(TRIM($F17))) | L17: =IF(AND($J17="",$K17=""),"",IF($K17<>"",$K17,$J17)) | M17: =IF(OR($L17="",$I17=""),"",$L17-$I17) | O17: =IF(OR($M17="",$N17=""),"",$M17*$N17) | P17: =IF($O17="","",ABS($O17)) | Q17: =IF($M17="","",IF(ABS($M17)<='Parâmetros e instruções'!$B$7,"Sim","Não")) | U17: =IF(COUNTA($A17:$F17,$H17:$K17,$N17,$R17:$T17)=0,"",IF(OR($A17="",$B17="",$C17="",$E17="",$F17="",$H17="",$R17=""),"PREENCHER OBRIGATÓRIOS",IF(COUNTIF($A$5:$A$104,$A17)>1,"ID CONTAGEM DUPLICADO",IF(COUNTIF(Programa!$K$5:$K$104,$G17)=0,"ITEM NÃO CADASTRADO",IF(AND(OR($R17="Planejada",$R17="Em contagem"),COUNTIFS(Programa!$K$5:$K$104,$G17,Programa!$A$5:$A$104,"Sim")=0),"ITEM INATIVO",IF(AND($R17="Concluída",OR($D17="",$I17="",$J17="")),"CONCLUSÃO INCOMPLETA",IF(AND($D17<>"",$D17>'Parâmetros e instruções'!$B$3),"DATA FUTURA",IF(AND($R17="Concluída",$M17<>0,$N17=""),"CUSTO AUSENTE",IF(AND($R17="Concluída",IFERROR(ABS($M17),0)>'Parâmetros e instruções'!$B$7,OR($S17="",$T17="")),"DIVERGÊNCIA SEM TRATATIVA","OK"))))))))) | X17: =Programa!$B$17 | Y17: =Programa!$D$17
G18: =IF(OR($E18="",$F18=""),"",UPPER(TRIM($E18))&"|"&UPPER(TRIM($F18))) | L18: =IF(AND($J18="",$K18=""),"",IF($K18<>"",$K18,$J18)) | M18: =IF(OR($L18="",$I18=""),"",$L18-$I18) | O18: =IF(OR($M18="",$N18=""),"",$M18*$N18) | P18: =IF($O18="","",ABS($O18)) | Q18: =IF($M18="","",IF(ABS($M18)<='Parâmetros e instruções'!$B$7,"Sim","Não")) | U18: =IF(COUNTA($A18:$F18,$H18:$K18,$N18,$R18:$T18)=0,"",IF(OR($A18="",$B18="",$C18="",$E18="",$F18="",$H18="",$R18=""),"PREENCHER OBRIGATÓRIOS",IF(COUNTIF($A$5:$A$104,$A18)>1,"ID CONTAGEM DUPLICADO",IF(COUNTIF(Programa!$K$5:$K$104,$G18)=0,"ITEM NÃO CADASTRADO",IF(AND(OR($R18="Planejada",$R18="Em contagem"),COUNTIFS(Programa!$K$5:$K$104,$G18,Programa!$A$5:$A$104,"Sim")=0),"ITEM INATIVO",IF(AND($R18="Concluída",OR($D18="",$I18="",$J18="")),"CONCLUSÃO INCOMPLETA",IF(AND($D18<>"",$D18>'Parâmetros e instruções'!$B$3),"DATA FUTURA",IF(AND($R18="Concluída",$M18<>0,$N18=""),"CUSTO AUSENTE",IF(AND($R18="Concluída",IFERROR(ABS($M18),0)>'Parâmetros e instruções'!$B$7,OR($S18="",$T18="")),"DIVERGÊNCIA SEM TRATATIVA","OK"))))))))) | X18: =Programa!$B$18 | Y18: =Programa!$D$18
G19: =IF(OR($E19="",$F19=""),"",UPPER(TRIM($E19))&"|"&UPPER(TRIM($F19))) | L19: =IF(AND($J19="",$K19=""),"",IF($K19<>"",$K19,$J19)) | M19: =IF(OR($L19="",$I19=""),"",$L19-$I19) | O19: =IF(OR($M19="",$N19=""),"",$M19*$N19) | P19: =IF($O19="","",ABS($O19)) | Q19: =IF($M19="","",IF(ABS($M19)<='Parâmetros e instruções'!$B$7,"Sim","Não")) | U19: =IF(COUNTA($A19:$F19,$H19:$K19,$N19,$R19:$T19)=0,"",IF(OR($A19="",$B19="",$C19="",$E19="",$F19="",$H19="",$R19=""),"PREENCHER OBRIGATÓRIOS",IF(COUNTIF($A$5:$A$104,$A19)>1,"ID CONTAGEM DUPLICADO",IF(COUNTIF(Programa!$K$5:$K$104,$G19)=0,"ITEM NÃO CADASTRADO",IF(AND(OR($R19="Planejada",$R19="Em contagem"),COUNTIFS(Programa!$K$5:$K$104,$G19,Programa!$A$5:$A$104,"Sim")=0),"ITEM INATIVO",IF(AND($R19="Concluída",OR($D19="",$I19="",$J19="")),"CONCLUSÃO INCOMPLETA",IF(AND($D19<>"",$D19>'Parâmetros e instruções'!$B$3),"DATA FUTURA",IF(AND($R19="Concluída",$M19<>0,$N19=""),"CUSTO AUSENTE",IF(AND($R19="Concluída",IFERROR(ABS($M19),0)>'Parâmetros e instruções'!$B$7,OR($S19="",$T19="")),"DIVERGÊNCIA SEM TRATATIVA","OK"))))))))) | X19: =Programa!$B$19 | Y19: =Programa!$D$19
G20: =IF(OR($E20="",$F20=""),"",UPPER(TRIM($E20))&"|"&UPPER(TRIM($F20))) | L20: =IF(AND($J20="",$K20=""),"",IF($K20<>"",$K20,$J20)) | M20: =IF(OR($L20="",$I20=""),"",$L20-$I20) | O20: =IF(OR($M20="",$N20=""),"",$M20*$N20) | P20: =IF($O20="","",ABS($O20)) | Q20: =IF($M20="","",IF(ABS($M20)<='Parâmetros e instruções'!$B$7,"Sim","Não")) | U20: =IF(COUNTA($A20:$F20,$H20:$K20,$N20,$R20:$T20)=0,"",IF(OR($A20="",$B20="",$C20="",$E20="",$F20="",$H20="",$R20=""),"PREENCHER OBRIGATÓRIOS",IF(COUNTIF($A$5:$A$104,$A20)>1,"ID CONTAGEM DUPLICADO",IF(COUNTIF(Programa!$K$5:$K$104,$G20)=0,"ITEM NÃO CADASTRADO",IF(AND(OR($R20="Planejada",$R20="Em contagem"),COUNTIFS(Programa!$K$5:$K$104,$G20,Programa!$A$5:$A$104,"Sim")=0),"ITEM INATIVO",IF(AND($R20="Concluída",OR($D20="",$I20="",$J20="")),"CONCLUSÃO INCOMPLETA",IF(AND($D20<>"",$D20>'Parâmetros e instruções'!$B$3),"DATA FUTURA",IF(AND($R20="Concluída",$M20<>0,$N20=""),"CUSTO AUSENTE",IF(AND($R20="Concluída",IFERROR(ABS($M20),0)>'Parâmetros e instruções'!$B$7,OR($S20="",$T20="")),"DIVERGÊNCIA SEM TRATATIVA","OK"))))))))) | X20: =Programa!$B$20 | Y20: =Programa!$D$20
G21: =IF(OR($E21="",$F21=""),"",UPPER(TRIM($E21))&"|"&UPPER(TRIM($F21))) | L21: =IF(AND($J21="",$K21=""),"",IF($K21<>"",$K21,$J21)) | M21: =IF(OR($L21="",$I21=""),"",$L21-$I21) | O21: =IF(OR($M21="",$N21=""),"",$M21*$N21) | P21: =IF($O21="","",ABS($O21)) | Q21: =IF($M21="","",IF(ABS($M21)<='Parâmetros e instruções'!$B$7,"Sim","Não")) | U21: =IF(COUNTA($A21:$F21,$H21:$K21,$N21,$R21:$T21)=0,"",IF(OR($A21="",$B21="",$C21="",$E21="",$F21="",$H21="",$R21=""),"PREENCHER OBRIGATÓRIOS",IF(COUNTIF($A$5:$A$104,$A21)>1,"ID CONTAGEM DUPLICADO",IF(COUNTIF(Programa!$K$5:$K$104,$G21)=0,"ITEM NÃO CADASTRADO",IF(AND(OR($R21="Planejada",$R21="Em contagem"),COUNTIFS(Programa!$K$5:$K$104,$G21,Programa!$A$5:$A$104,"Sim")=0),"ITEM INATIVO",IF(AND($R21="Concluída",OR($D21="",$I21="",$J21="")),"CONCLUSÃO INCOMPLETA",IF(AND($D21<>"",$D21>'Parâmetros e instruções'!$B$3),"DATA FUTURA",IF(AND($R21="Concluída",$M21<>0,$N21=""),"CUSTO AUSENTE",IF(AND($R21="Concluída",IFERROR(ABS($M21),0)>'Parâmetros e instruções'!$B$7,OR($S21="",$T21="")),"DIVERGÊNCIA SEM TRATATIVA","OK"))))))))) | X21: =Programa!$B$21 | Y21: =Programa!$D$21
G22: =IF(OR($E22="",$F22=""),"",UPPER(TRIM($E22))&"|"&UPPER(TRIM($F22))) | L22: =IF(AND($J22="",$K22=""),"",IF($K22<>"",$K22,$J22)) | M22: =IF(OR($L22="",$I22=""),"",$L22-$I22) | O22: =IF(OR($M22="",$N22=""),"",$M22*$N22) | P22: =IF($O22="","",ABS($O22)) | Q22: =IF($M22="","",IF(ABS($M22)<='Parâmetros e instruções'!$B$7,"Sim","Não")) | U22: =IF(COUNTA($A22:$F22,$H22:$K22,$N22,$R22:$T22)=0,"",IF(OR($A22="",$B22="",$C22="",$E22="",$F22="",$H22="",$R22=""),"PREENCHER OBRIGATÓRIOS",IF(COUNTIF($A$5:$A$104,$A22)>1,"ID CONTAGEM DUPLICADO",IF(COUNTIF(Programa!$K$5:$K$104,$G22)=0,"ITEM NÃO CADASTRADO",IF(AND(OR($R22="Planejada",$R22="Em contagem"),COUNTIFS(Programa!$K$5:$K$104,$G22,Programa!$A$5:$A$104,"Sim")=0),"ITEM INATIVO",IF(AND($R22="Concluída",OR($D22="",$I22="",$J22="")),"CONCLUSÃO INCOMPLETA",IF(AND($D22<>"",$D22>'Parâmetros e instruções'!$B$3),"DATA FUTURA",IF(AND($R22="Concluída",$M22<>0,$N22=""),"CUSTO AUSENTE",IF(AND($R22="Concluída",IFERROR(ABS($M22),0)>'Parâmetros e instruções'!$B$7,OR($S22="",$T22="")),"DIVERGÊNCIA SEM TRATATIVA","OK"))))))))) | X22: =Programa!$B$22 | Y22: =Programa!$D$22
G23: =IF(OR($E23="",$F23=""),"",UPPER(TRIM($E23))&"|"&UPPER(TRIM($F23))) | L23: =IF(AND($J23="",$K23=""),"",IF($K23<>"",$K23,$J23)) | M23: =IF(OR($L23="",$I23=""),"",$L23-$I23) | O23: =IF(OR($M23="",$N23=""),"",$M23*$N23) | P23: =IF($O23="","",ABS($O23)) | Q23: =IF($M23="","",IF(ABS($M23)<='Parâmetros e instruções'!$B$7,"Sim","Não")) | U23: =IF(COUNTA($A23:$F23,$H23:$K23,$N23,$R23:$T23)=0,"",IF(OR($A23="",$B23="",$C23="",$E23="",$F23="",$H23="",$R23=""),"PREENCHER OBRIGATÓRIOS",IF(COUNTIF($A$5:$A$104,$A23)>1,"ID CONTAGEM DUPLICADO",IF(COUNTIF(Programa!$K$5:$K$104,$G23)=0,"ITEM NÃO CADASTRADO",IF(AND(OR($R23="Planejada",$R23="Em contagem"),COUNTIFS(Programa!$K$5:$K$104,$G23,Programa!$A$5:$A$104,"Sim")=0),"ITEM INATIVO",IF(AND($R23="Concluída",OR($D23="",$I23="",$J23="")),"CONCLUSÃO INCOMPLETA",IF(AND($D23<>"",$D23>'Parâmetros e instruções'!$B$3),"DATA FUTURA",IF(AND($R23="Concluída",$M23<>0,$N23=""),"CUSTO AUSENTE",IF(AND($R23="Concluída",IFERROR(ABS($M23),0)>'Parâmetros e instruções'!$B$7,OR($S23="",$T23="")),"DIVERGÊNCIA SEM TRATATIVA","OK"))))))))) | X23: =Programa!$B$23 | Y23: =Programa!$D$23
G24: =IF(OR($E24="",$F24=""),"",UPPER(TRIM($E24))&"|"&UPPER(TRIM($F24))) | L24: =IF(AND($J24="",$K24=""),"",IF($K24<>"",$K24,$J24)) | M24: =IF(OR($L24="",$I24=""),"",$L24-$I24) | O24: =IF(OR($M24="",$N24=""),"",$M24*$N24) | P24: =IF($O24="","",ABS($O24)) | Q24: =IF($M24="","",IF(ABS($M24)<='Parâmetros e instruções'!$B$7,"Sim","Não")) | U24: =IF(COUNTA($A24:$F24,$H24:$K24,$N24,$R24:$T24)=0,"",IF(OR($A24="",$B24="",$C24="",$E24="",$F24="",$H24="",$R24=""),"PREENCHER OBRIGATÓRIOS",IF(COUNTIF($A$5:$A$104,$A24)>1,"ID CONTAGEM DUPLICADO",IF(COUNTIF(Programa!$K$5:$K$104,$G24)=0,"ITEM NÃO CADASTRADO",IF(AND(OR($R24="Planejada",$R24="Em contagem"),COUNTIFS(Programa!$K$5:$K$104,$G24,Programa!$A$5:$A$104,"Sim")=0),"ITEM INATIVO",IF(AND($R24="Concluída",OR($D24="",$I24="",$J24="")),"CONCLUSÃO INCOMPLETA",IF(AND($D24<>"",$D24>'Parâmetros e instruções'!$B$3),"DATA FUTURA",IF(AND($R24="Concluída",$M24<>0,$N24=""),"CUSTO AUSENTE",IF(AND($R24="Concluída",IFERROR(ABS($M24),0)>'Parâmetros e instruções'!$B$7,OR($S24="",$T24="")),"DIVERGÊNCIA SEM TRATATIVA","OK"))))))))) | X24: =Programa!$B$24 | Y24: =Programa!$D$24
G25: =IF(OR($E25="",$F25=""),"",UPPER(TRIM($E25))&"|"&UPPER(TRIM($F25))) | L25: =IF(AND($J25="",$K25=""),"",IF($K25<>"",$K25,$J25)) | M25: =IF(OR($L25="",$I25=""),"",$L25-$I25) | O25: =IF(OR($M25="",$N25=""),"",$M25*$N25) | P25: =IF($O25="","",ABS($O25)) | Q25: =IF($M25="","",IF(ABS($M25)<='Parâmetros e instruções'!$B$7,"Sim","Não")) | U25: =IF(COUNTA($A25:$F25,$H25:$K25,$N25,$R25:$T25)=0,"",IF(OR($A25="",$B25="",$C25="",$E25="",$F25="",$H25="",$R25=""),"PREENCHER OBRIGATÓRIOS",IF(COUNTIF($A$5:$A$104,$A25)>1,"ID CONTAGEM DUPLICADO",IF(COUNTIF(Programa!$K$5:$K$104,$G25)=0,"ITEM NÃO CADASTRADO",IF(AND(OR($R25="Planejada",$R25="Em contagem"),COUNTIFS(Programa!$K$5:$K$104,$G25,Programa!$A$5:$A$104,"Sim")=0),"ITEM INATIVO",IF(AND($R25="Concluída",OR($D25="",$I25="",$J25="")),"CONCLUSÃO INCOMPLETA",IF(AND($D25<>"",$D25>'Parâmetros e instruções'!$B$3),"DATA FUTURA",IF(AND($R25="Concluída",$M25<>0,$N25=""),"CUSTO AUSENTE",IF(AND($R25="Concluída",IFERROR(ABS($M25),0)>'Parâmetros e instruções'!$B$7,OR($S25="",$T25="")),"DIVERGÊNCIA SEM TRATATIVA","OK"))))))))) | X25: =Programa!$B$25 | Y25: =Programa!$D$25
G26: =IF(OR($E26="",$F26=""),"",UPPER(TRIM($E26))&"|"&UPPER(TRIM($F26))) | L26: =IF(AND($J26="",$K26=""),"",IF($K26<>"",$K26,$J26)) | M26: =IF(OR($L26="",$I26=""),"",$L26-$I26) | O26: =IF(OR($M26="",$N26=""),"",$M26*$N26) | P26: =IF($O26="","",ABS($O26)) | Q26: =IF($M26="","",IF(ABS($M26)<='Parâmetros e instruções'!$B$7,"Sim","Não")) | U26: =IF(COUNTA($A26:$F26,$H26:$K26,$N26,$R26:$T26)=0,"",IF(OR($A26="",$B26="",$C26="",$E26="",$F26="",$H26="",$R26=""),"PREENCHER OBRIGATÓRIOS",IF(COUNTIF($A$5:$A$104,$A26)>1,"ID CONTAGEM DUPLICADO",IF(COUNTIF(Programa!$K$5:$K$104,$G26)=0,"ITEM NÃO CADASTRADO",IF(AND(OR($R26="Planejada",$R26="Em contagem"),COUNTIFS(Programa!$K$5:$K$104,$G26,Programa!$A$5:$A$104,"Sim")=0),"ITEM INATIVO",IF(AND($R26="Concluída",OR($D26="",$I26="",$J26="")),"CONCLUSÃO INCOMPLETA",IF(AND($D26<>"",$D26>'Parâmetros e instruções'!$B$3),"DATA FUTURA",IF(AND($R26="Concluída",$M26<>0,$N26=""),"CUSTO AUSENTE",IF(AND($R26="Concluída",IFERROR(ABS($M26),0)>'Parâmetros e instruções'!$B$7,OR($S26="",$T26="")),"DIVERGÊNCIA SEM TRATATIVA","OK"))))))))) | X26: =Programa!$B$26 | Y26: =Programa!$D$26
G27: =IF(OR($E27="",$F27=""),"",UPPER(TRIM($E27))&"|"&UPPER(TRIM($F27))) | L27: =IF(AND($J27="",$K27=""),"",IF($K27<>"",$K27,$J27)) | M27: =IF(OR($L27="",$I27=""),"",$L27-$I27) | O27: =IF(OR($M27="",$N27=""),"",$M27*$N27) | P27: =IF($O27="","",ABS($O27)) | Q27: =IF($M27="","",IF(ABS($M27)<='Parâmetros e instruções'!$B$7,"Sim","Não")) | U27: =IF(COUNTA($A27:$F27,$H27:$K27,$N27,$R27:$T27)=0,"",IF(OR($A27="",$B27="",$C27="",$E27="",$F27="",$H27="",$R27=""),"PREENCHER OBRIGATÓRIOS",IF(COUNTIF($A$5:$A$104,$A27)>1,"ID CONTAGEM DUPLICADO",IF(COUNTIF(Programa!$K$5:$K$104,$G27)=0,"ITEM NÃO CADASTRADO",IF(AND(OR($R27="Planejada",$R27="Em contagem"),COUNTIFS(Programa!$K$5:$K$104,$G27,Programa!$A$5:$A$104,"Sim")=0),"ITEM INATIVO",IF(AND($R27="Concluída",OR($D27="",$I27="",$J27="")),"CONCLUSÃO INCOMPLETA",IF(AND($D27<>"",$D27>'Parâmetros e instruções'!$B$3),"DATA FUTURA",IF(AND($R27="Concluída",$M27<>0,$N27=""),"CUSTO AUSENTE",IF(AND($R27="Concluída",IFERROR(ABS($M27),0)>'Parâmetros e instruções'!$B$7,OR($S27="",$T27="")),"DIVERGÊNCIA SEM TRATATIVA","OK"))))))))) | X27: =Programa!$B$27 | Y27: =Programa!$D$27
G28: =IF(OR($E28="",$F28=""),"",UPPER(TRIM($E28))&"|"&UPPER(TRIM($F28))) | L28: =IF(AND($J28="",$K28=""),"",IF($K28<>"",$K28,$J28)) | M28: =IF(OR($L28="",$I28=""),"",$L28-$I28) | O28: =IF(OR($M28="",$N28=""),"",$M28*$N28) | P28: =IF($O28="","",ABS($O28)) | Q28: =IF($M28="","",IF(ABS($M28)<='Parâmetros e instruções'!$B$7,"Sim","Não")) | U28: =IF(COUNTA($A28:$F28,$H28:$K28,$N28,$R28:$T28)=0,"",IF(OR($A28="",$B28="",$C28="",$E28="",$F28="",$H28="",$R28=""),"PREENCHER OBRIGATÓRIOS",IF(COUNTIF($A$5:$A$104,$A28)>1,"ID CONTAGEM DUPLICADO",IF(COUNTIF(Programa!$K$5:$K$104,$G28)=0,"ITEM NÃO CADASTRADO",IF(AND(OR($R28="Planejada",$R28="Em contagem"),COUNTIFS(Programa!$K$5:$K$104,$G28,Programa!$A$5:$A$104,"Sim")=0),"ITEM INATIVO",IF(AND($R28="Concluída",OR($D28="",$I28="",$J28="")),"CONCLUSÃO INCOMPLETA",IF(AND($D28<>"",$D28>'Parâmetros e instruções'!$B$3),"DATA FUTURA",IF(AND($R28="Concluída",$M28<>0,$N28=""),"CUSTO AUSENTE",IF(AND($R28="Concluída",IFERROR(ABS($M28),0)>'Parâmetros e instruções'!$B$7,OR($S28="",$T28="")),"DIVERGÊNCIA SEM TRATATIVA","OK"))))))))) | X28: =Programa!$B$28 | Y28: =Programa!$D$28
G29: =IF(OR($E29="",$F29=""),"",UPPER(TRIM($E29))&"|"&UPPER(TRIM($F29))) | L29: =IF(AND($J29="",$K29=""),"",IF($K29<>"",$K29,$J29)) | M29: =IF(OR($L29="",$I29=""),"",$L29-$I29) | O29: =IF(OR($M29="",$N29=""),"",$M29*$N29) | P29: =IF($O29="","",ABS($O29)) | Q29: =IF($M29="","",IF(ABS($M29)<='Parâmetros e instruções'!$B$7,"Sim","Não")) | U29: =IF(COUNTA($A29:$F29,$H29:$K29,$N29,$R29:$T29)=0,"",IF(OR($A29="",$B29="",$C29="",$E29="",$F29="",$H29="",$R29=""),"PREENCHER OBRIGATÓRIOS",IF(COUNTIF($A$5:$A$104,$A29)>1,"ID CONTAGEM DUPLICADO",IF(COUNTIF(Programa!$K$5:$K$104,$G29)=0,"ITEM NÃO CADASTRADO",IF(AND(OR($R29="Planejada",$R29="Em contagem"),COUNTIFS(Programa!$K$5:$K$104,$G29,Programa!$A$5:$A$104,"Sim")=0),"ITEM INATIVO",IF(AND($R29="Concluída",OR($D29="",$I29="",$J29="")),"CONCLUSÃO INCOMPLETA",IF(AND($D29<>"",$D29>'Parâmetros e instruções'!$B$3),"DATA FUTURA",IF(AND($R29="Concluída",$M29<>0,$N29=""),"CUSTO AUSENTE",IF(AND($R29="Concluída",IFERROR(ABS($M29),0)>'Parâmetros e instruções'!$B$7,OR($S29="",$T29="")),"DIVERGÊNCIA SEM TRATATIVA","OK"))))))))) | X29: =Programa!$B$29 | Y29: =Programa!$D$29
G30: =IF(OR($E30="",$F30=""),"",UPPER(TRIM($E30))&"|"&UPPER(TRIM($F30))) | L30: =IF(AND($J30="",$K30=""),"",IF($K30<>"",$K30,$J30)) | M30: =IF(OR($L30="",$I30=""),"",$L30-$I30) | O30: =IF(OR($M30="",$N30=""),"",$M30*$N30) | P30: =IF($O30="","",ABS($O30)) | Q30: =IF($M30="","",IF(ABS($M30)<='Parâmetros e instruções'!$B$7,"Sim","Não")) | U30: =IF(COUNTA($A30:$F30,$H30:$K30,$N30,$R30:$T30)=0,"",IF(OR($A30="",$B30="",$C30="",$E30="",$F30="",$H30="",$R30=""),"PREENCHER OBRIGATÓRIOS",IF(COUNTIF($A$5:$A$104,$A30)>1,"ID CONTAGEM DUPLICADO",IF(COUNTIF(Programa!$K$5:$K$104,$G30)=0,"ITEM NÃO CADASTRADO",IF(AND(OR($R30="Planejada",$R30="Em contagem"),COUNTIFS(Programa!$K$5:$K$104,$G30,Programa!$A$5:$A$104,"Sim")=0),"ITEM INATIVO",IF(AND($R30="Concluída",OR($D30="",$I30="",$J30="")),"CONCLUSÃO INCOMPLETA",IF(AND($D30<>"",$D30>'Parâmetros e instruções'!$B$3),"DATA FUTURA",IF(AND($R30="Concluída",$M30<>0,$N30=""),"CUSTO AUSENTE",IF(AND($R30="Concluída",IFERROR(ABS($M30),0)>'Parâmetros e instruções'!$B$7,OR($S30="",$T30="")),"DIVERGÊNCIA SEM TRATATIVA","OK"))))))))) | X30: =Programa!$B$30 | Y30: =Programa!$D$30
G31: =IF(OR($E31="",$F31=""),"",UPPER(TRIM($E31))&"|"&UPPER(TRIM($F31))) | L31: =IF(AND($J31="",$K31=""),"",IF($K31<>"",$K31,$J31)) | M31: =IF(OR($L31="",$I31=""),"",$L31-$I31) | O31: =IF(OR($M31="",$N31=""),"",$M31*$N31) | P31: =IF($O31="","",ABS($O31)) | Q31: =IF($M31="","",IF(ABS($M31)<='Parâmetros e instruções'!$B$7,"Sim","Não")) | U31: =IF(COUNTA($A31:$F31,$H31:$K31,$N31,$R31:$T31)=0,"",IF(OR($A31="",$B31="",$C31="",$E31="",$F31="",$H31="",$R31=""),"PREENCHER OBRIGATÓRIOS",IF(COUNTIF($A$5:$A$104,$A31)>1,"ID CONTAGEM DUPLICADO",IF(COUNTIF(Programa!$K$5:$K$104,$G31)=0,"ITEM NÃO CADASTRADO",IF(AND(OR($R31="Planejada",$R31="Em contagem"),COUNTIFS(Programa!$K$5:$K$104,$G31,Programa!$A$5:$A$104,"Sim")=0),"ITEM INATIVO",IF(AND($R31="Concluída",OR($D31="",$I31="",$J31="")),"CONCLUSÃO INCOMPLETA",IF(AND($D31<>"",$D31>'Parâmetros e instruções'!$B$3),"DATA FUTURA",IF(AND($R31="Concluída",$M31<>0,$N31=""),"CUSTO AUSENTE",IF(AND($R31="Concluída",IFERROR(ABS($M31),0)>'Parâmetros e instruções'!$B$7,OR($S31="",$T31="")),"DIVERGÊNCIA SEM TRATATIVA","OK"))))))))) | X31: =Programa!$B$31 | Y31: =Programa!$D$31
G32: =IF(OR($E32="",$F32=""),"",UPPER(TRIM($E32))&"|"&UPPER(TRIM($F32))) | L32: =IF(AND($J32="",$K32=""),"",IF($K32<>"",$K32,$J32)) | M32: =IF(OR($L32="",$I32=""),"",$L32-$I32) | O32: =IF(OR($M32="",$N32=""),"",$M32*$N32) | P32: =IF($O32="","",ABS($O32)) | Q32: =IF($M32="","",IF(ABS($M32)<='Parâmetros e instruções'!$B$7,"Sim","Não")) | U32: =IF(COUNTA($A32:$F32,$H32:$K32,$N32,$R32:$T32)=0,"",IF(OR($A32="",$B32="",$C32="",$E32="",$F32="",$H32="",$R32=""),"PREENCHER OBRIGATÓRIOS",IF(COUNTIF($A$5:$A$104,$A32)>1,"ID CONTAGEM DUPLICADO",IF(COUNTIF(Programa!$K$5:$K$104,$G32)=0,"ITEM NÃO CADASTRADO",IF(AND(OR($R32="Planejada",$R32="Em contagem"),COUNTIFS(Programa!$K$5:$K$104,$G32,Programa!$A$5:$A$104,"Sim")=0),"ITEM INATIVO",IF(AND($R32="Concluída",OR($D32="",$I32="",$J32="")),"CONCLUSÃO INCOMPLETA",IF(AND($D32<>"",$D32>'Parâmetros e instruções'!$B$3),"DATA FUTURA",IF(AND($R32="Concluída",$M32<>0,$N32=""),"CUSTO AUSENTE",IF(AND($R32="Concluída",IFERROR(ABS($M32),0)>'Parâmetros e instruções'!$B$7,OR($S32="",$T32="")),"DIVERGÊNCIA SEM TRATATIVA","OK"))))))))) | X32: =Programa!$B$32 | Y32: =Programa!$D$32
G33: =IF(OR($E33="",$F33=""),"",UPPER(TRIM($E33))&"|"&UPPER(TRIM($F33))) | L33: =IF(AND($J33="",$K33=""),"",IF($K33<>"",$K33,$J33)) | M33: =IF(OR($L33="",$I33=""),"",$L33-$I33) | O33: =IF(OR($M33="",$N33=""),"",$M33*$N33) | P33: =IF($O33="","",ABS($O33)) | Q33: =IF($M33="","",IF(ABS($M33)<='Parâmetros e instruções'!$B$7,"Sim","Não")) | U33: =IF(COUNTA($A33:$F33,$H33:$K33,$N33,$R33:$T33)=0,"",IF(OR($A33="",$B33="",$C33="",$E33="",$F33="",$H33="",$R33=""),"PREENCHER OBRIGATÓRIOS",IF(COUNTIF($A$5:$A$104,$A33)>1,"ID CONTAGEM DUPLICADO",IF(COUNTIF(Programa!$K$5:$K$104,$G33)=0,"ITEM NÃO CADASTRADO",IF(AND(OR($R33="Planejada",$R33="Em contagem"),COUNTIFS(Programa!$K$5:$K$104,$G33,Programa!$A$5:$A$104,"Sim")=0),"ITEM INATIVO",IF(AND($R33="Concluída",OR($D33="",$I33="",$J33="")),"CONCLUSÃO INCOMPLETA",IF(AND($D33<>"",$D33>'Parâmetros e instruções'!$B$3),"DATA FUTURA",IF(AND($R33="Concluída",$M33<>0,$N33=""),"CUSTO AUSENTE",IF(AND($R33="Concluída",IFERROR(ABS($M33),0)>'Parâmetros e instruções'!$B$7,OR($S33="",$T33="")),"DIVERGÊNCIA SEM TRATATIVA","OK"))))))))) | X33: =Programa!$B$33 | Y33: =Programa!$D$33
G34: =IF(OR($E34="",$F34=""),"",UPPER(TRIM($E34))&"|"&UPPER(TRIM($F34))) | L34: =IF(AND($J34="",$K34=""),"",IF($K34<>"",$K34,$J34)) | M34: =IF(OR($L34="",$I34=""),"",$L34-$I34) | O34: =IF(OR($M34="",$N34=""),"",$M34*$N34) | P34: =IF($O34="","",ABS($O34)) | Q34: =IF($M34="","",IF(ABS($M34)<='Parâmetros e instruções'!$B$7,"Sim","Não")) | U34: =IF(COUNTA($A34:$F34,$H34:$K34,$N34,$R34:$T34)=0,"",IF(OR($A34="",$B34="",$C34="",$E34="",$F34="",$H34="",$R34=""),"PREENCHER OBRIGATÓRIOS",IF(COUNTIF($A$5:$A$104,$A34)>1,"ID CONTAGEM DUPLICADO",IF(COUNTIF(Programa!$K$5:$K$104,$G34)=0,"ITEM NÃO CADASTRADO",IF(AND(OR($R34="Planejada",$R34="Em contagem"),COUNTIFS(Programa!$K$5:$K$104,$G34,Programa!$A$5:$A$104,"Sim")=0),"ITEM INATIVO",IF(AND($R34="Concluída",OR($D34="",$I34="",$J34="")),"CONCLUSÃO INCOMPLETA",IF(AND($D34<>"",$D34>'Parâmetros e instruções'!$B$3),"DATA FUTURA",IF(AND($R34="Concluída",$M34<>0,$N34=""),"CUSTO AUSENTE",IF(AND($R34="Concluída",IFERROR(ABS($M34),0)>'Parâmetros e instruções'!$B$7,OR($S34="",$T34="")),"DIVERGÊNCIA SEM TRATATIVA","OK"))))))))) | X34: =Programa!$B$34 | Y34: =Programa!$D$34
G35: =IF(OR($E35="",$F35=""),"",UPPER(TRIM($E35))&"|"&UPPER(TRIM($F35))) | L35: =IF(AND($J35="",$K35=""),"",IF($K35<>"",$K35,$J35)) | M35: =IF(OR($L35="",$I35=""),"",$L35-$I35) | O35: =IF(OR($M35="",$N35=""),"",$M35*$N35) | P35: =IF($O35="","",ABS($O35)) | Q35: =IF($M35="","",IF(ABS($M35)<='Parâmetros e instruções'!$B$7,"Sim","Não")) | U35: =IF(COUNTA($A35:$F35,$H35:$K35,$N35,$R35:$T35)=0,"",IF(OR($A35="",$B35="",$C35="",$E35="",$F35="",$H35="",$R35=""),"PREENCHER OBRIGATÓRIOS",IF(COUNTIF($A$5:$A$104,$A35)>1,"ID CONTAGEM DUPLICADO",IF(COUNTIF(Programa!$K$5:$K$104,$G35)=0,"ITEM NÃO CADASTRADO",IF(AND(OR($R35="Planejada",$R35="Em contagem"),COUNTIFS(Programa!$K$5:$K$104,$G35,Programa!$A$5:$A$104,"Sim")=0),"ITEM INATIVO",IF(AND($R35="Concluída",OR($D35="",$I35="",$J35="")),"CONCLUSÃO INCOMPLETA",IF(AND($D35<>"",$D35>'Parâmetros e instruções'!$B$3),"DATA FUTURA",IF(AND($R35="Concluída",$M35<>0,$N35=""),"CUSTO AUSENTE",IF(AND($R35="Concluída",IFERROR(ABS($M35),0)>'Parâmetros e instruções'!$B$7,OR($S35="",$T35="")),"DIVERGÊNCIA SEM TRATATIVA","OK"))))))))) | X35: =Programa!$B$35 | Y35: =Programa!$D$35
G36: =IF(OR($E36="",$F36=""),"",UPPER(TRIM($E36))&"|"&UPPER(TRIM($F36))) | L36: =IF(AND($J36="",$K36=""),"",IF($K36<>"",$K36,$J36)) | M36: =IF(OR($L36="",$I36=""),"",$L36-$I36) | O36: =IF(OR($M36="",$N36=""),"",$M36*$N36) | P36: =IF($O36="","",ABS($O36)) | Q36: =IF($M36="","",IF(ABS($M36)<='Parâmetros e instruções'!$B$7,"Sim","Não")) | U36: =IF(COUNTA($A36:$F36,$H36:$K36,$N36,$R36:$T36)=0,"",IF(OR($A36="",$B36="",$C36="",$E36="",$F36="",$H36="",$R36=""),"PREENCHER OBRIGATÓRIOS",IF(COUNTIF($A$5:$A$104,$A36)>1,"ID CONTAGEM DUPLICADO",IF(COUNTIF(Programa!$K$5:$K$104,$G36)=0,"ITEM NÃO CADASTRADO",IF(AND(OR($R36="Planejada",$R36="Em contagem"),COUNTIFS(Programa!$K$5:$K$104,$G36,Programa!$A$5:$A$104,"Sim")=0),"ITEM INATIVO",IF(AND($R36="Concluída",OR($D36="",$I36="",$J36="")),"CONCLUSÃO INCOMPLETA",IF(AND($D36<>"",$D36>'Parâmetros e instruções'!$B$3),"DATA FUTURA",IF(AND($R36="Concluída",$M36<>0,$N36=""),"CUSTO AUSENTE",IF(AND($R36="Concluída",IFERROR(ABS($M36),0)>'Parâmetros e instruções'!$B$7,OR($S36="",$T36="")),"DIVERGÊNCIA SEM TRATATIVA","OK"))))))))) | X36: =Programa!$B$36 | Y36: =Programa!$D$36
G37: =IF(OR($E37="",$F37=""),"",UPPER(TRIM($E37))&"|"&UPPER(TRIM($F37))) | L37: =IF(AND($J37="",$K37=""),"",IF($K37<>"",$K37,$J37)) | M37: =IF(OR($L37="",$I37=""),"",$L37-$I37) | O37: =IF(OR($M37="",$N37=""),"",$M37*$N37) | P37: =IF($O37="","",ABS($O37)) | Q37: =IF($M37="","",IF(ABS($M37)<='Parâmetros e instruções'!$B$7,"Sim","Não")) | U37: =IF(COUNTA($A37:$F37,$H37:$K37,$N37,$R37:$T37)=0,"",IF(OR($A37="",$B37="",$C37="",$E37="",$F37="",$H37="",$R37=""),"PREENCHER OBRIGATÓRIOS",IF(COUNTIF($A$5:$A$104,$A37)>1,"ID CONTAGEM DUPLICADO",IF(COUNTIF(Programa!$K$5:$K$104,$G37)=0,"ITEM NÃO CADASTRADO",IF(AND(OR($R37="Planejada",$R37="Em contagem"),COUNTIFS(Programa!$K$5:$K$104,$G37,Programa!$A$5:$A$104,"Sim")=0),"ITEM INATIVO",IF(AND($R37="Concluída",OR($D37="",$I37="",$J37="")),"CONCLUSÃO INCOMPLETA",IF(AND($D37<>"",$D37>'Parâmetros e instruções'!$B$3),"DATA FUTURA",IF(AND($R37="Concluída",$M37<>0,$N37=""),"CUSTO AUSENTE",IF(AND($R37="Concluída",IFERROR(ABS($M37),0)>'Parâmetros e instruções'!$B$7,OR($S37="",$T37="")),"DIVERGÊNCIA SEM TRATATIVA","OK"))))))))) | X37: =Programa!$B$37 | Y37: =Programa!$D$37
G38: =IF(OR($E38="",$F38=""),"",UPPER(TRIM($E38))&"|"&UPPER(TRIM($F38))) | L38: =IF(AND($J38="",$K38=""),"",IF($K38<>"",$K38,$J38)) | M38: =IF(OR($L38="",$I38=""),"",$L38-$I38) | O38: =IF(OR($M38="",$N38=""),"",$M38*$N38) | P38: =IF($O38="","",ABS($O38)) | Q38: =IF($M38="","",IF(ABS($M38)<='Parâmetros e instruções'!$B$7,"Sim","Não")) | U38: =IF(COUNTA($A38:$F38,$H38:$K38,$N38,$R38:$T38)=0,"",IF(OR($A38="",$B38="",$C38="",$E38="",$F38="",$H38="",$R38=""),"PREENCHER OBRIGATÓRIOS",IF(COUNTIF($A$5:$A$104,$A38)>1,"ID CONTAGEM DUPLICADO",IF(COUNTIF(Programa!$K$5:$K$104,$G38)=0,"ITEM NÃO CADASTRADO",IF(AND(OR($R38="Planejada",$R38="Em contagem"),COUNTIFS(Programa!$K$5:$K$104,$G38,Programa!$A$5:$A$104,"Sim")=0),"ITEM INATIVO",IF(AND($R38="Concluída",OR($D38="",$I38="",$J38="")),"CONCLUSÃO INCOMPLETA",IF(AND($D38<>"",$D38>'Parâmetros e instruções'!$B$3),"DATA FUTURA",IF(AND($R38="Concluída",$M38<>0,$N38=""),"CUSTO AUSENTE",IF(AND($R38="Concluída",IFERROR(ABS($M38),0)>'Parâmetros e instruções'!$B$7,OR($S38="",$T38="")),"DIVERGÊNCIA SEM TRATATIVA","OK"))))))))) | X38: =Programa!$B$38 | Y38: =Programa!$D$38
G39: =IF(OR($E39="",$F39=""),"",UPPER(TRIM($E39))&"|"&UPPER(TRIM($F39))) | L39: =IF(AND($J39="",$K39=""),"",IF($K39<>"",$K39,$J39)) | M39: =IF(OR($L39="",$I39=""),"",$L39-$I39) | O39: =IF(OR($M39="",$N39=""),"",$M39*$N39) | P39: =IF($O39="","",ABS($O39)) | Q39: =IF($M39="","",IF(ABS($M39)<='Parâmetros e instruções'!$B$7,"Sim","Não")) | U39: =IF(COUNTA($A39:$F39,$H39:$K39,$N39,$R39:$T39)=0,"",IF(OR($A39="",$B39="",$C39="",$E39="",$F39="",$H39="",$R39=""),"PREENCHER OBRIGATÓRIOS",IF(COUNTIF($A$5:$A$104,$A39)>1,"ID CONTAGEM DUPLICADO",IF(COUNTIF(Programa!$K$5:$K$104,$G39)=0,"ITEM NÃO CADASTRADO",IF(AND(OR($R39="Planejada",$R39="Em contagem"),COUNTIFS(Programa!$K$5:$K$104,$G39,Programa!$A$5:$A$104,"Sim")=0),"ITEM INATIVO",IF(AND($R39="Concluída",OR($D39="",$I39="",$J39="")),"CONCLUSÃO INCOMPLETA",IF(AND($D39<>"",$D39>'Parâmetros e instruções'!$B$3),"DATA FUTURA",IF(AND($R39="Concluída",$M39<>0,$N39=""),"CUSTO AUSENTE",IF(AND($R39="Concluída",IFERROR(ABS($M39),0)>'Parâmetros e instruções'!$B$7,OR($S39="",$T39="")),"DIVERGÊNCIA SEM TRATATIVA","OK"))))))))) | X39: =Programa!$B$39 | Y39: =Programa!$D$39
G40: =IF(OR($E40="",$F40=""),"",UPPER(TRIM($E40))&"|"&UPPER(TRIM($F40))) | L40: =IF(AND($J40="",$K40=""),"",IF($K40<>"",$K40,$J40)) | M40: =IF(OR($L40="",$I40=""),"",$L40-$I40) | O40: =IF(OR($M40="",$N40=""),"",$M40*$N40) | P40: =IF($O40="","",ABS($O40)) | Q40: =IF($M40="","",IF(ABS($M40)<='Parâmetros e instruções'!$B$7,"Sim","Não")) | U40: =IF(COUNTA($A40:$F40,$H40:$K40,$N40,$R40:$T40)=0,"",IF(OR($A40="",$B40="",$C40="",$E40="",$F40="",$H40="",$R40=""),"PREENCHER OBRIGATÓRIOS",IF(COUNTIF($A$5:$A$104,$A40)>1,"ID CONTAGEM DUPLICADO",IF(COUNTIF(Programa!$K$5:$K$104,$G40)=0,"ITEM NÃO CADASTRADO",IF(AND(OR($R40="Planejada",$R40="Em contagem"),COUNTIFS(Programa!$K$5:$K$104,$G40,Programa!$A$5:$A$104,"Sim")=0),"ITEM INATIVO",IF(AND($R40="Concluída",OR($D40="",$I40="",$J40="")),"CONCLUSÃO INCOMPLETA",IF(AND($D40<>"",$D40>'Parâmetros e instruções'!$B$3),"DATA FUTURA",IF(AND($R40="Concluída",$M40<>0,$N40=""),"CUSTO AUSENTE",IF(AND($R40="Concluída",IFERROR(ABS($M40),0)>'Parâmetros e instruções'!$B$7,OR($S40="",$T40="")),"DIVERGÊNCIA SEM TRATATIVA","OK"))))))))) | X40: =Programa!$B$40 | Y40: =Programa!$D$40
G41: =IF(OR($E41="",$F41=""),"",UPPER(TRIM($E41))&"|"&UPPER(TRIM($F41))) | L41: =IF(AND($J41="",$K41=""),"",IF($K41<>"",$K41,$J41)) | M41: =IF(OR($L41="",$I41=""),"",$L41-$I41) | O41: =IF(OR($M41="",$N41=""),"",$M41*$N41) | P41: =IF($O41="","",ABS($O41)) | Q41: =IF($M41="","",IF(ABS($M41)<='Parâmetros e instruções'!$B$7,"Sim","Não")) | U41: =IF(COUNTA($A41:$F41,$H41:$K41,$N41,$R41:$T41)=0,"",IF(OR($A41="",$B41="",$C41="",$E41="",$F41="",$H41="",$R41=""),"PREENCHER OBRIGATÓRIOS",IF(COUNTIF($A$5:$A$104,$A41)>1,"ID CONTAGEM DUPLICADO",IF(COUNTIF(Programa!$K$5:$K$104,$G41)=0,"ITEM NÃO CADASTRADO",IF(AND(OR($R41="Planejada",$R41="Em contagem"),COUNTIFS(Programa!$K$5:$K$104,$G41,Programa!$A$5:$A$104,"Sim")=0),"ITEM INATIVO",IF(AND($R41="Concluída",OR($D41="",$I41="",$J41="")),"CONCLUSÃO INCOMPLETA",IF(AND($D41<>"",$D41>'Parâmetros e instruções'!$B$3),"DATA FUTURA",IF(AND($R41="Concluída",$M41<>0,$N41=""),"CUSTO AUSENTE",IF(AND($R41="Concluída",IFERROR(ABS($M41),0)>'Parâmetros e instruções'!$B$7,OR($S41="",$T41="")),"DIVERGÊNCIA SEM TRATATIVA","OK"))))))))) | X41: =Programa!$B$41 | Y41: =Programa!$D$41
G42: =IF(OR($E42="",$F42=""),"",UPPER(TRIM($E42))&"|"&UPPER(TRIM($F42))) | L42: =IF(AND($J42="",$K42=""),"",IF($K42<>"",$K42,$J42)) | M42: =IF(OR($L42="",$I42=""),"",$L42-$I42) | O42: =IF(OR($M42="",$N42=""),"",$M42*$N42) | P42: =IF($O42="","",ABS($O42)) | Q42: =IF($M42="","",IF(ABS($M42)<='Parâmetros e instruções'!$B$7,"Sim","Não")) | U42: =IF(COUNTA($A42:$F42,$H42:$K42,$N42,$R42:$T42)=0,"",IF(OR($A42="",$B42="",$C42="",$E42="",$F42="",$H42="",$R42=""),"PREENCHER OBRIGATÓRIOS",IF(COUNTIF($A$5:$A$104,$A42)>1,"ID CONTAGEM DUPLICADO",IF(COUNTIF(Programa!$K$5:$K$104,$G42)=0,"ITEM NÃO CADASTRADO",IF(AND(OR($R42="Planejada",$R42="Em contagem"),COUNTIFS(Programa!$K$5:$K$104,$G42,Programa!$A$5:$A$104,"Sim")=0),"ITEM INATIVO",IF(AND($R42="Concluída",OR($D42="",$I42="",$J42="")),"CONCLUSÃO INCOMPLETA",IF(AND($D42<>"",$D42>'Parâmetros e instruções'!$B$3),"DATA FUTURA",IF(AND($R42="Concluída",$M42<>0,$N42=""),"CUSTO AUSENTE",IF(AND($R42="Concluída",IFERROR(ABS($M42),0)>'Parâmetros e instruções'!$B$7,OR($S42="",$T42="")),"DIVERGÊNCIA SEM TRATATIVA","OK"))))))))) | X42: =Programa!$B$42 | Y42: =Programa!$D$42
G43: =IF(OR($E43="",$F43=""),"",UPPER(TRIM($E43))&"|"&UPPER(TRIM($F43))) | L43: =IF(AND($J43="",$K43=""),"",IF($K43<>"",$K43,$J43)) | M43: =IF(OR($L43="",$I43=""),"",$L43-$I43) | O43: =IF(OR($M43="",$N43=""),"",$M43*$N43) | P43: =IF($O43="","",ABS($O43)) | Q43: =IF($M43="","",IF(ABS($M43)<='Parâmetros e instruções'!$B$7,"Sim","Não")) | U43: =IF(COUNTA($A43:$F43,$H43:$K43,$N43,$R43:$T43)=0,"",IF(OR($A43="",$B43="",$C43="",$E43="",$F43="",$H43="",$R43=""),"PREENCHER OBRIGATÓRIOS",IF(COUNTIF($A$5:$A$104,$A43)>1,"ID CONTAGEM DUPLICADO",IF(COUNTIF(Programa!$K$5:$K$104,$G43)=0,"ITEM NÃO CADASTRADO",IF(AND(OR($R43="Planejada",$R43="Em contagem"),COUNTIFS(Programa!$K$5:$K$104,$G43,Programa!$A$5:$A$104,"Sim")=0),"ITEM INATIVO",IF(AND($R43="Concluída",OR($D43="",$I43="",$J43="")),"CONCLUSÃO INCOMPLETA",IF(AND($D43<>"",$D43>'Parâmetros e instruções'!$B$3),"DATA FUTURA",IF(AND($R43="Concluída",$M43<>0,$N43=""),"CUSTO AUSENTE",IF(AND($R43="Concluída",IFERROR(ABS($M43),0)>'Parâmetros e instruções'!$B$7,OR($S43="",$T43="")),"DIVERGÊNCIA SEM TRATATIVA","OK"))))))))) | X43: =Programa!$B$43 | Y43: =Programa!$D$43
G44: =IF(OR($E44="",$F44=""),"",UPPER(TRIM($E44))&"|"&UPPER(TRIM($F44))) | L44: =IF(AND($J44="",$K44=""),"",IF($K44<>"",$K44,$J44)) | M44: =IF(OR($L44="",$I44=""),"",$L44-$I44) | O44: =IF(OR($M44="",$N44=""),"",$M44*$N44) | P44: =IF($O44="","",ABS($O44)) | Q44: =IF($M44="","",IF(ABS($M44)<='Parâmetros e instruções'!$B$7,"Sim","Não")) | U44: =IF(COUNTA($A44:$F44,$H44:$K44,$N44,$R44:$T44)=0,"",IF(OR($A44="",$B44="",$C44="",$E44="",$F44="",$H44="",$R44=""),"PREENCHER OBRIGATÓRIOS",IF(COUNTIF($A$5:$A$104,$A44)>1,"ID CONTAGEM DUPLICADO",IF(COUNTIF(Programa!$K$5:$K$104,$G44)=0,"ITEM NÃO CADASTRADO",IF(AND(OR($R44="Planejada",$R44="Em contagem"),COUNTIFS(Programa!$K$5:$K$104,$G44,Programa!$A$5:$A$104,"Sim")=0),"ITEM INATIVO",IF(AND($R44="Concluída",OR($D44="",$I44="",$J44="")),"CONCLUSÃO INCOMPLETA",IF(AND($D44<>"",$D44>'Parâmetros e instruções'!$B$3),"DATA FUTURA",IF(AND($R44="Concluída",$M44<>0,$N44=""),"CUSTO AUSENTE",IF(AND($R44="Concluída",IFERROR(ABS($M44),0)>'Parâmetros e instruções'!$B$7,OR($S44="",$T44="")),"DIVERGÊNCIA SEM TRATATIVA","OK"))))))))) | X44: =Programa!$B$44 | Y44: =Programa!$D$44
G45: =IF(OR($E45="",$F45=""),"",UPPER(TRIM($E45))&"|"&UPPER(TRIM($F45))) | L45: =IF(AND($J45="",$K45=""),"",IF($K45<>"",$K45,$J45)) | M45: =IF(OR($L45="",$I45=""),"",$L45-$I45) | O45: =IF(OR($M45="",$N45=""),"",$M45*$N45) | P45: =IF($O45="","",ABS($O45)) | Q45: =IF($M45="","",IF(ABS($M45)<='Parâmetros e instruções'!$B$7,"Sim","Não")) | U45: =IF(COUNTA($A45:$F45,$H45:$K45,$N45,$R45:$T45)=0,"",IF(OR($A45="",$B45="",$C45="",$E45="",$F45="",$H45="",$R45=""),"PREENCHER OBRIGATÓRIOS",IF(COUNTIF($A$5:$A$104,$A45)>1,"ID CONTAGEM DUPLICADO",IF(COUNTIF(Programa!$K$5:$K$104,$G45)=0,"ITEM NÃO CADASTRADO",IF(AND(OR($R45="Planejada",$R45="Em contagem"),COUNTIFS(Programa!$K$5:$K$104,$G45,Programa!$A$5:$A$104,"Sim")=0),"ITEM INATIVO",IF(AND($R45="Concluída",OR($D45="",$I45="",$J45="")),"CONCLUSÃO INCOMPLETA",IF(AND($D45<>"",$D45>'Parâmetros e instruções'!$B$3),"DATA FUTURA",IF(AND($R45="Concluída",$M45<>0,$N45=""),"CUSTO AUSENTE",IF(AND($R45="Concluída",IFERROR(ABS($M45),0)>'Parâmetros e instruções'!$B$7,OR($S45="",$T45="")),"DIVERGÊNCIA SEM TRATATIVA","OK"))))))))) | X45: =Programa!$B$45 | Y45: =Programa!$D$45
G46: =IF(OR($E46="",$F46=""),"",UPPER(TRIM($E46))&"|"&UPPER(TRIM($F46))) | L46: =IF(AND($J46="",$K46=""),"",IF($K46<>"",$K46,$J46)) | M46: =IF(OR($L46="",$I46=""),"",$L46-$I46) | O46: =IF(OR($M46="",$N46=""),"",$M46*$N46) | P46: =IF($O46="","",ABS($O46)) | Q46: =IF($M46="","",IF(ABS($M46)<='Parâmetros e instruções'!$B$7,"Sim","Não")) | U46: =IF(COUNTA($A46:$F46,$H46:$K46,$N46,$R46:$T46)=0,"",IF(OR($A46="",$B46="",$C46="",$E46="",$F46="",$H46="",$R46=""),"PREENCHER OBRIGATÓRIOS",IF(COUNTIF($A$5:$A$104,$A46)>1,"ID CONTAGEM DUPLICADO",IF(COUNTIF(Programa!$K$5:$K$104,$G46)=0,"ITEM NÃO CADASTRADO",IF(AND(OR($R46="Planejada",$R46="Em contagem"),COUNTIFS(Programa!$K$5:$K$104,$G46,Programa!$A$5:$A$104,"Sim")=0),"ITEM INATIVO",IF(AND($R46="Concluída",OR($D46="",$I46="",$J46="")),"CONCLUSÃO INCOMPLETA",IF(AND($D46<>"",$D46>'Parâmetros e instruções'!$B$3),"DATA FUTURA",IF(AND($R46="Concluída",$M46<>0,$N46=""),"CUSTO AUSENTE",IF(AND($R46="Concluída",IFERROR(ABS($M46),0)>'Parâmetros e instruções'!$B$7,OR($S46="",$T46="")),"DIVERGÊNCIA SEM TRATATIVA","OK"))))))))) | X46: =Programa!$B$46 | Y46: =Programa!$D$46
G47: =IF(OR($E47="",$F47=""),"",UPPER(TRIM($E47))&"|"&UPPER(TRIM($F47))) | L47: =IF(AND($J47="",$K47=""),"",IF($K47<>"",$K47,$J47)) | M47: =IF(OR($L47="",$I47=""),"",$L47-$I47) | O47: =IF(OR($M47="",$N47=""),"",$M47*$N47) | P47: =IF($O47="","",ABS($O47)) | Q47: =IF($M47="","",IF(ABS($M47)<='Parâmetros e instruções'!$B$7,"Sim","Não")) | U47: =IF(COUNTA($A47:$F47,$H47:$K47,$N47,$R47:$T47)=0,"",IF(OR($A47="",$B47="",$C47="",$E47="",$F47="",$H47="",$R47=""),"PREENCHER OBRIGATÓRIOS",IF(COUNTIF($A$5:$A$104,$A47)>1,"ID CONTAGEM DUPLICADO",IF(COUNTIF(Programa!$K$5:$K$104,$G47)=0,"ITEM NÃO CADASTRADO",IF(AND(OR($R47="Planejada",$R47="Em contagem"),COUNTIFS(Programa!$K$5:$K$104,$G47,Programa!$A$5:$A$104,"Sim")=0),"ITEM INATIVO",IF(AND($R47="Concluída",OR($D47="",$I47="",$J47="")),"CONCLUSÃO INCOMPLETA",IF(AND($D47<>"",$D47>'Parâmetros e instruções'!$B$3),"DATA FUTURA",IF(AND($R47="Concluída",$M47<>0,$N47=""),"CUSTO AUSENTE",IF(AND($R47="Concluída",IFERROR(ABS($M47),0)>'Parâmetros e instruções'!$B$7,OR($S47="",$T47="")),"DIVERGÊNCIA SEM TRATATIVA","OK"))))))))) | X47: =Programa!$B$47 | Y47: =Programa!$D$47
G48: =IF(OR($E48="",$F48=""),"",UPPER(TRIM($E48))&"|"&UPPER(TRIM($F48))) | L48: =IF(AND($J48="",$K48=""),"",IF($K48<>"",$K48,$J48)) | M48: =IF(OR($L48="",$I48=""),"",$L48-$I48) | O48: =IF(OR($M48="",$N48=""),"",$M48*$N48) | P48: =IF($O48="","",ABS($O48)) | Q48: =IF($M48="","",IF(ABS($M48)<='Parâmetros e instruções'!$B$7,"Sim","Não")) | U48: =IF(COUNTA($A48:$F48,$H48:$K48,$N48,$R48:$T48)=0,"",IF(OR($A48="",$B48="",$C48="",$E48="",$F48="",$H48="",$R48=""),"PREENCHER OBRIGATÓRIOS",IF(COUNTIF($A$5:$A$104,$A48)>1,"ID CONTAGEM DUPLICADO",IF(COUNTIF(Programa!$K$5:$K$104,$G48)=0,"ITEM NÃO CADASTRADO",IF(AND(OR($R48="Planejada",$R48="Em contagem"),COUNTIFS(Programa!$K$5:$K$104,$G48,Programa!$A$5:$A$104,"Sim")=0),"ITEM INATIVO",IF(AND($R48="Concluída",OR($D48="",$I48="",$J48="")),"CONCLUSÃO INCOMPLETA",IF(AND($D48<>"",$D48>'Parâmetros e instruções'!$B$3),"DATA FUTURA",IF(AND($R48="Concluída",$M48<>0,$N48=""),"CUSTO AUSENTE",IF(AND($R48="Concluída",IFERROR(ABS($M48),0)>'Parâmetros e instruções'!$B$7,OR($S48="",$T48="")),"DIVERGÊNCIA SEM TRATATIVA","OK"))))))))) | X48: =Programa!$B$48 | Y48: =Programa!$D$48
G49: =IF(OR($E49="",$F49=""),"",UPPER(TRIM($E49))&"|"&UPPER(TRIM($F49))) | L49: =IF(AND($J49="",$K49=""),"",IF($K49<>"",$K49,$J49)) | M49: =IF(OR($L49="",$I49=""),"",$L49-$I49) | O49: =IF(OR($M49="",$N49=""),"",$M49*$N49) | P49: =IF($O49="","",ABS($O49)) | Q49: =IF($M49="","",IF(ABS($M49)<='Parâmetros e instruções'!$B$7,"Sim","Não")) | U49: =IF(COUNTA($A49:$F49,$H49:$K49,$N49,$R49:$T49)=0,"",IF(OR($A49="",$B49="",$C49="",$E49="",$F49="",$H49="",$R49=""),"PREENCHER OBRIGATÓRIOS",IF(COUNTIF($A$5:$A$104,$A49)>1,"ID CONTAGEM DUPLICADO",IF(COUNTIF(Programa!$K$5:$K$104,$G49)=0,"ITEM NÃO CADASTRADO",IF(AND(OR($R49="Planejada",$R49="Em contagem"),COUNTIFS(Programa!$K$5:$K$104,$G49,Programa!$A$5:$A$104,"Sim")=0),"ITEM INATIVO",IF(AND($R49="Concluída",OR($D49="",$I49="",$J49="")),"CONCLUSÃO INCOMPLETA",IF(AND($D49<>"",$D49>'Parâmetros e instruções'!$B$3),"DATA FUTURA",IF(AND($R49="Concluída",$M49<>0,$N49=""),"CUSTO AUSENTE",IF(AND($R49="Concluída",IFERROR(ABS($M49),0)>'Parâmetros e instruções'!$B$7,OR($S49="",$T49="")),"DIVERGÊNCIA SEM TRATATIVA","OK"))))))))) | X49: =Programa!$B$49 | Y49: =Programa!$D$49
G50: =IF(OR($E50="",$F50=""),"",UPPER(TRIM($E50))&"|"&UPPER(TRIM($F50))) | L50: =IF(AND($J50="",$K50=""),"",IF($K50<>"",$K50,$J50)) | M50: =IF(OR($L50="",$I50=""),"",$L50-$I50) | O50: =IF(OR($M50="",$N50=""),"",$M50*$N50) | P50: =IF($O50="","",ABS($O50)) | Q50: =IF($M50="","",IF(ABS($M50)<='Parâmetros e instruções'!$B$7,"Sim","Não")) | U50: =IF(COUNTA($A50:$F50,$H50:$K50,$N50,$R50:$T50)=0,"",IF(OR($A50="",$B50="",$C50="",$E50="",$F50="",$H50="",$R50=""),"PREENCHER OBRIGATÓRIOS",IF(COUNTIF($A$5:$A$104,$A50)>1,"ID CONTAGEM DUPLICADO",IF(COUNTIF(Programa!$K$5:$K$104,$G50)=0,"ITEM NÃO CADASTRADO",IF(AND(OR($R50="Planejada",$R50="Em contagem"),COUNTIFS(Programa!$K$5:$K$104,$G50,Programa!$A$5:$A$104,"Sim")=0),"ITEM INATIVO",IF(AND($R50="Concluída",OR($D50="",$I50="",$J50="")),"CONCLUSÃO INCOMPLETA",IF(AND($D50<>"",$D50>'Parâmetros e instruções'!$B$3),"DATA FUTURA",IF(AND($R50="Concluída",$M50<>0,$N50=""),"CUSTO AUSENTE",IF(AND($R50="Concluída",IFERROR(ABS($M50),0)>'Parâmetros e instruções'!$B$7,OR($S50="",$T50="")),"DIVERGÊNCIA SEM TRATATIVA","OK"))))))))) | X50: =Programa!$B$50 | Y50: =Programa!$D$50
G51: =IF(OR($E51="",$F51=""),"",UPPER(TRIM($E51))&"|"&UPPER(TRIM($F51))) | L51: =IF(AND($J51="",$K51=""),"",IF($K51<>"",$K51,$J51)) | M51: =IF(OR($L51="",$I51=""),"",$L51-$I51) | O51: =IF(OR($M51="",$N51=""),"",$M51*$N51) | P51: =IF($O51="","",ABS($O51)) | Q51: =IF($M51="","",IF(ABS($M51)<='Parâmetros e instruções'!$B$7,"Sim","Não")) | U51: =IF(COUNTA($A51:$F51,$H51:$K51,$N51,$R51:$T51)=0,"",IF(OR($A51="",$B51="",$C51="",$E51="",$F51="",$H51="",$R51=""),"PREENCHER OBRIGATÓRIOS",IF(COUNTIF($A$5:$A$104,$A51)>1,"ID CONTAGEM DUPLICADO",IF(COUNTIF(Programa!$K$5:$K$104,$G51)=0,"ITEM NÃO CADASTRADO",IF(AND(OR($R51="Planejada",$R51="Em contagem"),COUNTIFS(Programa!$K$5:$K$104,$G51,Programa!$A$5:$A$104,"Sim")=0),"ITEM INATIVO",IF(AND($R51="Concluída",OR($D51="",$I51="",$J51="")),"CONCLUSÃO INCOMPLETA",IF(AND($D51<>"",$D51>'Parâmetros e instruções'!$B$3),"DATA FUTURA",IF(AND($R51="Concluída",$M51<>0,$N51=""),"CUSTO AUSENTE",IF(AND($R51="Concluída",IFERROR(ABS($M51),0)>'Parâmetros e instruções'!$B$7,OR($S51="",$T51="")),"DIVERGÊNCIA SEM TRATATIVA","OK"))))))))) | X51: =Programa!$B$51 | Y51: =Programa!$D$51
G52: =IF(OR($E52="",$F52=""),"",UPPER(TRIM($E52))&"|"&UPPER(TRIM($F52))) | L52: =IF(AND($J52="",$K52=""),"",IF($K52<>"",$K52,$J52)) | M52: =IF(OR($L52="",$I52=""),"",$L52-$I52) | O52: =IF(OR($M52="",$N52=""),"",$M52*$N52) | P52: =IF($O52="","",ABS($O52)) | Q52: =IF($M52="","",IF(ABS($M52)<='Parâmetros e instruções'!$B$7,"Sim","Não")) | U52: =IF(COUNTA($A52:$F52,$H52:$K52,$N52,$R52:$T52)=0,"",IF(OR($A52="",$B52="",$C52="",$E52="",$F52="",$H52="",$R52=""),"PREENCHER OBRIGATÓRIOS",IF(COUNTIF($A$5:$A$104,$A52)>1,"ID CONTAGEM DUPLICADO",IF(COUNTIF(Programa!$K$5:$K$104,$G52)=0,"ITEM NÃO CADASTRADO",IF(AND(OR($R52="Planejada",$R52="Em contagem"),COUNTIFS(Programa!$K$5:$K$104,$G52,Programa!$A$5:$A$104,"Sim")=0),"ITEM INATIVO",IF(AND($R52="Concluída",OR($D52="",$I52="",$J52="")),"CONCLUSÃO INCOMPLETA",IF(AND($D52<>"",$D52>'Parâmetros e instruções'!$B$3),"DATA FUTURA",IF(AND($R52="Concluída",$M52<>0,$N52=""),"CUSTO AUSENTE",IF(AND($R52="Concluída",IFERROR(ABS($M52),0)>'Parâmetros e instruções'!$B$7,OR($S52="",$T52="")),"DIVERGÊNCIA SEM TRATATIVA","OK"))))))))) | X52: =Programa!$B$52 | Y52: =Programa!$D$52
G53: =IF(OR($E53="",$F53=""),"",UPPER(TRIM($E53))&"|"&UPPER(TRIM($F53))) | L53: =IF(AND($J53="",$K53=""),"",IF($K53<>"",$K53,$J53)) | M53: =IF(OR($L53="",$I53=""),"",$L53-$I53) | O53: =IF(OR($M53="",$N53=""),"",$M53*$N53) | P53: =IF($O53="","",ABS($O53)) | Q53: =IF($M53="","",IF(ABS($M53)<='Parâmetros e instruções'!$B$7,"Sim","Não")) | U53: =IF(COUNTA($A53:$F53,$H53:$K53,$N53,$R53:$T53)=0,"",IF(OR($A53="",$B53="",$C53="",$E53="",$F53="",$H53="",$R53=""),"PREENCHER OBRIGATÓRIOS",IF(COUNTIF($A$5:$A$104,$A53)>1,"ID CONTAGEM DUPLICADO",IF(COUNTIF(Programa!$K$5:$K$104,$G53)=0,"ITEM NÃO CADASTRADO",IF(AND(OR($R53="Planejada",$R53="Em contagem"),COUNTIFS(Programa!$K$5:$K$104,$G53,Programa!$A$5:$A$104,"Sim")=0),"ITEM INATIVO",IF(AND($R53="Concluída",OR($D53="",$I53="",$J53="")),"CONCLUSÃO INCOMPLETA",IF(AND($D53<>"",$D53>'Parâmetros e instruções'!$B$3),"DATA FUTURA",IF(AND($R53="Concluída",$M53<>0,$N53=""),"CUSTO AUSENTE",IF(AND($R53="Concluída",IFERROR(ABS($M53),0)>'Parâmetros e instruções'!$B$7,OR($S53="",$T53="")),"DIVERGÊNCIA SEM TRATATIVA","OK"))))))))) | X53: =Programa!$B$53 | Y53: =Programa!$D$53
G54: =IF(OR($E54="",$F54=""),"",UPPER(TRIM($E54))&"|"&UPPER(TRIM($F54))) | L54: =IF(AND($J54="",$K54=""),"",IF($K54<>"",$K54,$J54)) | M54: =IF(OR($L54="",$I54=""),"",$L54-$I54) | O54: =IF(OR($M54="",$N54=""),"",$M54*$N54) | P54: =IF($O54="","",ABS($O54)) | Q54: =IF($M54="","",IF(ABS($M54)<='Parâmetros e instruções'!$B$7,"Sim","Não")) | U54: =IF(COUNTA($A54:$F54,$H54:$K54,$N54,$R54:$T54)=0,"",IF(OR($A54="",$B54="",$C54="",$E54="",$F54="",$H54="",$R54=""),"PREENCHER OBRIGATÓRIOS",IF(COUNTIF($A$5:$A$104,$A54)>1,"ID CONTAGEM DUPLICADO",IF(COUNTIF(Programa!$K$5:$K$104,$G54)=0,"ITEM NÃO CADASTRADO",IF(AND(OR($R54="Planejada",$R54="Em contagem"),COUNTIFS(Programa!$K$5:$K$104,$G54,Programa!$A$5:$A$104,"Sim")=0),"ITEM INATIVO",IF(AND($R54="Concluída",OR($D54="",$I54="",$J54="")),"CONCLUSÃO INCOMPLETA",IF(AND($D54<>"",$D54>'Parâmetros e instruções'!$B$3),"DATA FUTURA",IF(AND($R54="Concluída",$M54<>0,$N54=""),"CUSTO AUSENTE",IF(AND($R54="Concluída",IFERROR(ABS($M54),0)>'Parâmetros e instruções'!$B$7,OR($S54="",$T54="")),"DIVERGÊNCIA SEM TRATATIVA","OK"))))))))) | X54: =Programa!$B$54 | Y54: =Programa!$D$54
G55: =IF(OR($E55="",$F55=""),"",UPPER(TRIM($E55))&"|"&UPPER(TRIM($F55))) | L55: =IF(AND($J55="",$K55=""),"",IF($K55<>"",$K55,$J55)) | M55: =IF(OR($L55="",$I55=""),"",$L55-$I55) | O55: =IF(OR($M55="",$N55=""),"",$M55*$N55) | P55: =IF($O55="","",ABS($O55)) | Q55: =IF($M55="","",IF(ABS($M55)<='Parâmetros e instruções'!$B$7,"Sim","Não")) | U55: =IF(COUNTA($A55:$F55,$H55:$K55,$N55,$R55:$T55)=0,"",IF(OR($A55="",$B55="",$C55="",$E55="",$F55="",$H55="",$R55=""),"PREENCHER OBRIGATÓRIOS",IF(COUNTIF($A$5:$A$104,$A55)>1,"ID CONTAGEM DUPLICADO",IF(COUNTIF(Programa!$K$5:$K$104,$G55)=0,"ITEM NÃO CADASTRADO",IF(AND(OR($R55="Planejada",$R55="Em contagem"),COUNTIFS(Programa!$K$5:$K$104,$G55,Programa!$A$5:$A$104,"Sim")=0),"ITEM INATIVO",IF(AND($R55="Concluída",OR($D55="",$I55="",$J55="")),"CONCLUSÃO INCOMPLETA",IF(AND($D55<>"",$D55>'Parâmetros e instruções'!$B$3),"DATA FUTURA",IF(AND($R55="Concluída",$M55<>0,$N55=""),"CUSTO AUSENTE",IF(AND($R55="Concluída",IFERROR(ABS($M55),0)>'Parâmetros e instruções'!$B$7,OR($S55="",$T55="")),"DIVERGÊNCIA SEM TRATATIVA","OK"))))))))) | X55: =Programa!$B$55 | Y55: =Programa!$D$55
G56: =IF(OR($E56="",$F56=""),"",UPPER(TRIM($E56))&"|"&UPPER(TRIM($F56))) | L56: =IF(AND($J56="",$K56=""),"",IF($K56<>"",$K56,$J56)) | M56: =IF(OR($L56="",$I56=""),"",$L56-$I56) | O56: =IF(OR($M56="",$N56=""),"",$M56*$N56) | P56: =IF($O56="","",ABS($O56)) | Q56: =IF($M56="","",IF(ABS($M56)<='Parâmetros e instruções'!$B$7,"Sim","Não")) | U56: =IF(COUNTA($A56:$F56,$H56:$K56,$N56,$R56:$T56)=0,"",IF(OR($A56="",$B56="",$C56="",$E56="",$F56="",$H56="",$R56=""),"PREENCHER OBRIGATÓRIOS",IF(COUNTIF($A$5:$A$104,$A56)>1,"ID CONTAGEM DUPLICADO",IF(COUNTIF(Programa!$K$5:$K$104,$G56)=0,"ITEM NÃO CADASTRADO",IF(AND(OR($R56="Planejada",$R56="Em contagem"),COUNTIFS(Programa!$K$5:$K$104,$G56,Programa!$A$5:$A$104,"Sim")=0),"ITEM INATIVO",IF(AND($R56="Concluída",OR($D56="",$I56="",$J56="")),"CONCLUSÃO INCOMPLETA",IF(AND($D56<>"",$D56>'Parâmetros e instruções'!$B$3),"DATA FUTURA",IF(AND($R56="Concluída",$M56<>0,$N56=""),"CUSTO AUSENTE",IF(AND($R56="Concluída",IFERROR(ABS($M56),0)>'Parâmetros e instruções'!$B$7,OR($S56="",$T56="")),"DIVERGÊNCIA SEM TRATATIVA","OK"))))))))) | X56: =Programa!$B$56 | Y56: =Programa!$D$56
G57: =IF(OR($E57="",$F57=""),"",UPPER(TRIM($E57))&"|"&UPPER(TRIM($F57))) | L57: =IF(AND($J57="",$K57=""),"",IF($K57<>"",$K57,$J57)) | M57: =IF(OR($L57="",$I57=""),"",$L57-$I57) | O57: =IF(OR($M57="",$N57=""),"",$M57*$N57) | P57: =IF($O57="","",ABS($O57)) | Q57: =IF($M57="","",IF(ABS($M57)<='Parâmetros e instruções'!$B$7,"Sim","Não")) | U57: =IF(COUNTA($A57:$F57,$H57:$K57,$N57,$R57:$T57)=0,"",IF(OR($A57="",$B57="",$C57="",$E57="",$F57="",$H57="",$R57=""),"PREENCHER OBRIGATÓRIOS",IF(COUNTIF($A$5:$A$104,$A57)>1,"ID CONTAGEM DUPLICADO",IF(COUNTIF(Programa!$K$5:$K$104,$G57)=0,"ITEM NÃO CADASTRADO",IF(AND(OR($R57="Planejada",$R57="Em contagem"),COUNTIFS(Programa!$K$5:$K$104,$G57,Programa!$A$5:$A$104,"Sim")=0),"ITEM INATIVO",IF(AND($R57="Concluída",OR($D57="",$I57="",$J57="")),"CONCLUSÃO INCOMPLETA",IF(AND($D57<>"",$D57>'Parâmetros e instruções'!$B$3),"DATA FUTURA",IF(AND($R57="Concluída",$M57<>0,$N57=""),"CUSTO AUSENTE",IF(AND($R57="Concluída",IFERROR(ABS($M57),0)>'Parâmetros e instruções'!$B$7,OR($S57="",$T57="")),"DIVERGÊNCIA SEM TRATATIVA","OK"))))))))) | X57: =Programa!$B$57 | Y57: =Programa!$D$57
G58: =IF(OR($E58="",$F58=""),"",UPPER(TRIM($E58))&"|"&UPPER(TRIM($F58))) | L58: =IF(AND($J58="",$K58=""),"",IF($K58<>"",$K58,$J58)) | M58: =IF(OR($L58="",$I58=""),"",$L58-$I58) | O58: =IF(OR($M58="",$N58=""),"",$M58*$N58) | P58: =IF($O58="","",ABS($O58)) | Q58: =IF($M58="","",IF(ABS($M58)<='Parâmetros e instruções'!$B$7,"Sim","Não")) | U58: =IF(COUNTA($A58:$F58,$H58:$K58,$N58,$R58:$T58)=0,"",IF(OR($A58="",$B58="",$C58="",$E58="",$F58="",$H58="",$R58=""),"PREENCHER OBRIGATÓRIOS",IF(COUNTIF($A$5:$A$104,$A58)>1,"ID CONTAGEM DUPLICADO",IF(COUNTIF(Programa!$K$5:$K$104,$G58)=0,"ITEM NÃO CADASTRADO",IF(AND(OR($R58="Planejada",$R58="Em contagem"),COUNTIFS(Programa!$K$5:$K$104,$G58,Programa!$A$5:$A$104,"Sim")=0),"ITEM INATIVO",IF(AND($R58="Concluída",OR($D58="",$I58="",$J58="")),"CONCLUSÃO INCOMPLETA",IF(AND($D58<>"",$D58>'Parâmetros e instruções'!$B$3),"DATA FUTURA",IF(AND($R58="Concluída",$M58<>0,$N58=""),"CUSTO AUSENTE",IF(AND($R58="Concluída",IFERROR(ABS($M58),0)>'Parâmetros e instruções'!$B$7,OR($S58="",$T58="")),"DIVERGÊNCIA SEM TRATATIVA","OK"))))))))) | X58: =Programa!$B$58 | Y58: =Programa!$D$58
G59: =IF(OR($E59="",$F59=""),"",UPPER(TRIM($E59))&"|"&UPPER(TRIM($F59))) | L59: =IF(AND($J59="",$K59=""),"",IF($K59<>"",$K59,$J59)) | M59: =IF(OR($L59="",$I59=""),"",$L59-$I59) | O59: =IF(OR($M59="",$N59=""),"",$M59*$N59) | P59: =IF($O59="","",ABS($O59)) | Q59: =IF($M59="","",IF(ABS($M59)<='Parâmetros e instruções'!$B$7,"Sim","Não")) | U59: =IF(COUNTA($A59:$F59,$H59:$K59,$N59,$R59:$T59)=0,"",IF(OR($A59="",$B59="",$C59="",$E59="",$F59="",$H59="",$R59=""),"PREENCHER OBRIGATÓRIOS",IF(COUNTIF($A$5:$A$104,$A59)>1,"ID CONTAGEM DUPLICADO",IF(COUNTIF(Programa!$K$5:$K$104,$G59)=0,"ITEM NÃO CADASTRADO",IF(AND(OR($R59="Planejada",$R59="Em contagem"),COUNTIFS(Programa!$K$5:$K$104,$G59,Programa!$A$5:$A$104,"Sim")=0),"ITEM INATIVO",IF(AND($R59="Concluída",OR($D59="",$I59="",$J59="")),"CONCLUSÃO INCOMPLETA",IF(AND($D59<>"",$D59>'Parâmetros e instruções'!$B$3),"DATA FUTURA",IF(AND($R59="Concluída",$M59<>0,$N59=""),"CUSTO AUSENTE",IF(AND($R59="Concluída",IFERROR(ABS($M59),0)>'Parâmetros e instruções'!$B$7,OR($S59="",$T59="")),"DIVERGÊNCIA SEM TRATATIVA","OK"))))))))) | X59: =Programa!$B$59 | Y59: =Programa!$D$59
G60: =IF(OR($E60="",$F60=""),"",UPPER(TRIM($E60))&"|"&UPPER(TRIM($F60))) | L60: =IF(AND($J60="",$K60=""),"",IF($K60<>"",$K60,$J60)) | M60: =IF(OR($L60="",$I60=""),"",$L60-$I60) | O60: =IF(OR($M60="",$N60=""),"",$M60*$N60) | P60: =IF($O60="","",ABS($O60)) | Q60: =IF($M60="","",IF(ABS($M60)<='Parâmetros e instruções'!$B$7,"Sim","Não")) | U60: =IF(COUNTA($A60:$F60,$H60:$K60,$N60,$R60:$T60)=0,"",IF(OR($A60="",$B60="",$C60="",$E60="",$F60="",$H60="",$R60=""),"PREENCHER OBRIGATÓRIOS",IF(COUNTIF($A$5:$A$104,$A60)>1,"ID CONTAGEM DUPLICADO",IF(COUNTIF(Programa!$K$5:$K$104,$G60)=0,"ITEM NÃO CADASTRADO",IF(AND(OR($R60="Planejada",$R60="Em contagem"),COUNTIFS(Programa!$K$5:$K$104,$G60,Programa!$A$5:$A$104,"Sim")=0),"ITEM INATIVO",IF(AND($R60="Concluída",OR($D60="",$I60="",$J60="")),"CONCLUSÃO INCOMPLETA",IF(AND($D60<>"",$D60>'Parâmetros e instruções'!$B$3),"DATA FUTURA",IF(AND($R60="Concluída",$M60<>0,$N60=""),"CUSTO AUSENTE",IF(AND($R60="Concluída",IFERROR(ABS($M60),0)>'Parâmetros e instruções'!$B$7,OR($S60="",$T60="")),"DIVERGÊNCIA SEM TRATATIVA","OK"))))))))) | X60: =Programa!$B$60 | Y60: =Programa!$D$60
G61: =IF(OR($E61="",$F61=""),"",UPPER(TRIM($E61))&"|"&UPPER(TRIM($F61))) | L61: =IF(AND($J61="",$K61=""),"",IF($K61<>"",$K61,$J61)) | M61: =IF(OR($L61="",$I61=""),"",$L61-$I61) | O61: =IF(OR($M61="",$N61=""),"",$M61*$N61) | P61: =IF($O61="","",ABS($O61)) | Q61: =IF($M61="","",IF(ABS($M61)<='Parâmetros e instruções'!$B$7,"Sim","Não")) | U61: =IF(COUNTA($A61:$F61,$H61:$K61,$N61,$R61:$T61)=0,"",IF(OR($A61="",$B61="",$C61="",$E61="",$F61="",$H61="",$R61=""),"PREENCHER OBRIGATÓRIOS",IF(COUNTIF($A$5:$A$104,$A61)>1,"ID CONTAGEM DUPLICADO",IF(COUNTIF(Programa!$K$5:$K$104,$G61)=0,"ITEM NÃO CADASTRADO",IF(AND(OR($R61="Planejada",$R61="Em contagem"),COUNTIFS(Programa!$K$5:$K$104,$G61,Programa!$A$5:$A$104,"Sim")=0),"ITEM INATIVO",IF(AND($R61="Concluída",OR($D61="",$I61="",$J61="")),"CONCLUSÃO INCOMPLETA",IF(AND($D61<>"",$D61>'Parâmetros e instruções'!$B$3),"DATA FUTURA",IF(AND($R61="Concluída",$M61<>0,$N61=""),"CUSTO AUSENTE",IF(AND($R61="Concluída",IFERROR(ABS($M61),0)>'Parâmetros e instruções'!$B$7,OR($S61="",$T61="")),"DIVERGÊNCIA SEM TRATATIVA","OK"))))))))) | X61: =Programa!$B$61 | Y61: =Programa!$D$61
G62: =IF(OR($E62="",$F62=""),"",UPPER(TRIM($E62))&"|"&UPPER(TRIM($F62))) | L62: =IF(AND($J62="",$K62=""),"",IF($K62<>"",$K62,$J62)) | M62: =IF(OR($L62="",$I62=""),"",$L62-$I62) | O62: =IF(OR($M62="",$N62=""),"",$M62*$N62) | P62: =IF($O62="","",ABS($O62)) | Q62: =IF($M62="","",IF(ABS($M62)<='Parâmetros e instruções'!$B$7,"Sim","Não")) | U62: =IF(COUNTA($A62:$F62,$H62:$K62,$N62,$R62:$T62)=0,"",IF(OR($A62="",$B62="",$C62="",$E62="",$F62="",$H62="",$R62=""),"PREENCHER OBRIGATÓRIOS",IF(COUNTIF($A$5:$A$104,$A62)>1,"ID CONTAGEM DUPLICADO",IF(COUNTIF(Programa!$K$5:$K$104,$G62)=0,"ITEM NÃO CADASTRADO",IF(AND(OR($R62="Planejada",$R62="Em contagem"),COUNTIFS(Programa!$K$5:$K$104,$G62,Programa!$A$5:$A$104,"Sim")=0),"ITEM INATIVO",IF(AND($R62="Concluída",OR($D62="",$I62="",$J62="")),"CONCLUSÃO INCOMPLETA",IF(AND($D62<>"",$D62>'Parâmetros e instruções'!$B$3),"DATA FUTURA",IF(AND($R62="Concluída",$M62<>0,$N62=""),"CUSTO AUSENTE",IF(AND($R62="Concluída",IFERROR(ABS($M62),0)>'Parâmetros e instruções'!$B$7,OR($S62="",$T62="")),"DIVERGÊNCIA SEM TRATATIVA","OK"))))))))) | X62: =Programa!$B$62 | Y62: =Programa!$D$62
G63: =IF(OR($E63="",$F63=""),"",UPPER(TRIM($E63))&"|"&UPPER(TRIM($F63))) | L63: =IF(AND($J63="",$K63=""),"",IF($K63<>"",$K63,$J63)) | M63: =IF(OR($L63="",$I63=""),"",$L63-$I63) | O63: =IF(OR($M63="",$N63=""),"",$M63*$N63) | P63: =IF($O63="","",ABS($O63)) | Q63: =IF($M63="","",IF(ABS($M63)<='Parâmetros e instruções'!$B$7,"Sim","Não")) | U63: =IF(COUNTA($A63:$F63,$H63:$K63,$N63,$R63:$T63)=0,"",IF(OR($A63="",$B63="",$C63="",$E63="",$F63="",$H63="",$R63=""),"PREENCHER OBRIGATÓRIOS",IF(COUNTIF($A$5:$A$104,$A63)>1,"ID CONTAGEM DUPLICADO",IF(COUNTIF(Programa!$K$5:$K$104,$G63)=0,"ITEM NÃO CADASTRADO",IF(AND(OR($R63="Planejada",$R63="Em contagem"),COUNTIFS(Programa!$K$5:$K$104,$G63,Programa!$A$5:$A$104,"Sim")=0),"ITEM INATIVO",IF(AND($R63="Concluída",OR($D63="",$I63="",$J63="")),"CONCLUSÃO INCOMPLETA",IF(AND($D63<>"",$D63>'Parâmetros e instruções'!$B$3),"DATA FUTURA",IF(AND($R63="Concluída",$M63<>0,$N63=""),"CUSTO AUSENTE",IF(AND($R63="Concluída",IFERROR(ABS($M63),0)>'Parâmetros e instruções'!$B$7,OR($S63="",$T63="")),"DIVERGÊNCIA SEM TRATATIVA","OK"))))))))) | X63: =Programa!$B$63 | Y63: =Programa!$D$63
G64: =IF(OR($E64="",$F64=""),"",UPPER(TRIM($E64))&"|"&UPPER(TRIM($F64))) | L64: =IF(AND($J64="",$K64=""),"",IF($K64<>"",$K64,$J64)) | M64: =IF(OR($L64="",$I64=""),"",$L64-$I64) | O64: =IF(OR($M64="",$N64=""),"",$M64*$N64) | P64: =IF($O64="","",ABS($O64)) | Q64: =IF($M64="","",IF(ABS($M64)<='Parâmetros e instruções'!$B$7,"Sim","Não")) | U64: =IF(COUNTA($A64:$F64,$H64:$K64,$N64,$R64:$T64)=0,"",IF(OR($A64="",$B64="",$C64="",$E64="",$F64="",$H64="",$R64=""),"PREENCHER OBRIGATÓRIOS",IF(COUNTIF($A$5:$A$104,$A64)>1,"ID CONTAGEM DUPLICADO",IF(COUNTIF(Programa!$K$5:$K$104,$G64)=0,"ITEM NÃO CADASTRADO",IF(AND(OR($R64="Planejada",$R64="Em contagem"),COUNTIFS(Programa!$K$5:$K$104,$G64,Programa!$A$5:$A$104,"Sim")=0),"ITEM INATIVO",IF(AND($R64="Concluída",OR($D64="",$I64="",$J64="")),"CONCLUSÃO INCOMPLETA",IF(AND($D64<>"",$D64>'Parâmetros e instruções'!$B$3),"DATA FUTURA",IF(AND($R64="Concluída",$M64<>0,$N64=""),"CUSTO AUSENTE",IF(AND($R64="Concluída",IFERROR(ABS($M64),0)>'Parâmetros e instruções'!$B$7,OR($S64="",$T64="")),"DIVERGÊNCIA SEM TRATATIVA","OK"))))))))) | X64: =Programa!$B$64 | Y64: =Programa!$D$64
G65: =IF(OR($E65="",$F65=""),"",UPPER(TRIM($E65))&"|"&UPPER(TRIM($F65))) | L65: =IF(AND($J65="",$K65=""),"",IF($K65<>"",$K65,$J65)) | M65: =IF(OR($L65="",$I65=""),"",$L65-$I65) | O65: =IF(OR($M65="",$N65=""),"",$M65*$N65) | P65: =IF($O65="","",ABS($O65)) | Q65: =IF($M65="","",IF(ABS($M65)<='Parâmetros e instruções'!$B$7,"Sim","Não")) | U65: =IF(COUNTA($A65:$F65,$H65:$K65,$N65,$R65:$T65)=0,"",IF(OR($A65="",$B65="",$C65="",$E65="",$F65="",$H65="",$R65=""),"PREENCHER OBRIGATÓRIOS",IF(COUNTIF($A$5:$A$104,$A65)>1,"ID CONTAGEM DUPLICADO",IF(COUNTIF(Programa!$K$5:$K$104,$G65)=0,"ITEM NÃO CADASTRADO",IF(AND(OR($R65="Planejada",$R65="Em contagem"),COUNTIFS(Programa!$K$5:$K$104,$G65,Programa!$A$5:$A$104,"Sim")=0),"ITEM INATIVO",IF(AND($R65="Concluída",OR($D65="",$I65="",$J65="")),"CONCLUSÃO INCOMPLETA",IF(AND($D65<>"",$D65>'Parâmetros e instruções'!$B$3),"DATA FUTURA",IF(AND($R65="Concluída",$M65<>0,$N65=""),"CUSTO AUSENTE",IF(AND($R65="Concluída",IFERROR(ABS($M65),0)>'Parâmetros e instruções'!$B$7,OR($S65="",$T65="")),"DIVERGÊNCIA SEM TRATATIVA","OK"))))))))) | X65: =Programa!$B$65 | Y65: =Programa!$D$65
G66: =IF(OR($E66="",$F66=""),"",UPPER(TRIM($E66))&"|"&UPPER(TRIM($F66))) | L66: =IF(AND($J66="",$K66=""),"",IF($K66<>"",$K66,$J66)) | M66: =IF(OR($L66="",$I66=""),"",$L66-$I66) | O66: =IF(OR($M66="",$N66=""),"",$M66*$N66) | P66: =IF($O66="","",ABS($O66)) | Q66: =IF($M66="","",IF(ABS($M66)<='Parâmetros e instruções'!$B$7,"Sim","Não")) | U66: =IF(COUNTA($A66:$F66,$H66:$K66,$N66,$R66:$T66)=0,"",IF(OR($A66="",$B66="",$C66="",$E66="",$F66="",$H66="",$R66=""),"PREENCHER OBRIGATÓRIOS",IF(COUNTIF($A$5:$A$104,$A66)>1,"ID CONTAGEM DUPLICADO",IF(COUNTIF(Programa!$K$5:$K$104,$G66)=0,"ITEM NÃO CADASTRADO",IF(AND(OR($R66="Planejada",$R66="Em contagem"),COUNTIFS(Programa!$K$5:$K$104,$G66,Programa!$A$5:$A$104,"Sim")=0),"ITEM INATIVO",IF(AND($R66="Concluída",OR($D66="",$I66="",$J66="")),"CONCLUSÃO INCOMPLETA",IF(AND($D66<>"",$D66>'Parâmetros e instruções'!$B$3),"DATA FUTURA",IF(AND($R66="Concluída",$M66<>0,$N66=""),"CUSTO AUSENTE",IF(AND($R66="Concluída",IFERROR(ABS($M66),0)>'Parâmetros e instruções'!$B$7,OR($S66="",$T66="")),"DIVERGÊNCIA SEM TRATATIVA","OK"))))))))) | X66: =Programa!$B$66 | Y66: =Programa!$D$66
G67: =IF(OR($E67="",$F67=""),"",UPPER(TRIM($E67))&"|"&UPPER(TRIM($F67))) | L67: =IF(AND($J67="",$K67=""),"",IF($K67<>"",$K67,$J67)) | M67: =IF(OR($L67="",$I67=""),"",$L67-$I67) | O67: =IF(OR($M67="",$N67=""),"",$M67*$N67) | P67: =IF($O67="","",ABS($O67)) | Q67: =IF($M67="","",IF(ABS($M67)<='Parâmetros e instruções'!$B$7,"Sim","Não")) | U67: =IF(COUNTA($A67:$F67,$H67:$K67,$N67,$R67:$T67)=0,"",IF(OR($A67="",$B67="",$C67="",$E67="",$F67="",$H67="",$R67=""),"PREENCHER OBRIGATÓRIOS",IF(COUNTIF($A$5:$A$104,$A67)>1,"ID CONTAGEM DUPLICADO",IF(COUNTIF(Programa!$K$5:$K$104,$G67)=0,"ITEM NÃO CADASTRADO",IF(AND(OR($R67="Planejada",$R67="Em contagem"),COUNTIFS(Programa!$K$5:$K$104,$G67,Programa!$A$5:$A$104,"Sim")=0),"ITEM INATIVO",IF(AND($R67="Concluída",OR($D67="",$I67="",$J67="")),"CONCLUSÃO INCOMPLETA",IF(AND($D67<>"",$D67>'Parâmetros e instruções'!$B$3),"DATA FUTURA",IF(AND($R67="Concluída",$M67<>0,$N67=""),"CUSTO AUSENTE",IF(AND($R67="Concluída",IFERROR(ABS($M67),0)>'Parâmetros e instruções'!$B$7,OR($S67="",$T67="")),"DIVERGÊNCIA SEM TRATATIVA","OK"))))))))) | X67: =Programa!$B$67 | Y67: =Programa!$D$67
G68: =IF(OR($E68="",$F68=""),"",UPPER(TRIM($E68))&"|"&UPPER(TRIM($F68))) | L68: =IF(AND($J68="",$K68=""),"",IF($K68<>"",$K68,$J68)) | M68: =IF(OR($L68="",$I68=""),"",$L68-$I68) | O68: =IF(OR($M68="",$N68=""),"",$M68*$N68) | P68: =IF($O68="","",ABS($O68)) | Q68: =IF($M68="","",IF(ABS($M68)<='Parâmetros e instruções'!$B$7,"Sim","Não")) | U68: =IF(COUNTA($A68:$F68,$H68:$K68,$N68,$R68:$T68)=0,"",IF(OR($A68="",$B68="",$C68="",$E68="",$F68="",$H68="",$R68=""),"PREENCHER OBRIGATÓRIOS",IF(COUNTIF($A$5:$A$104,$A68)>1,"ID CONTAGEM DUPLICADO",IF(COUNTIF(Programa!$K$5:$K$104,$G68)=0,"ITEM NÃO CADASTRADO",IF(AND(OR($R68="Planejada",$R68="Em contagem"),COUNTIFS(Programa!$K$5:$K$104,$G68,Programa!$A$5:$A$104,"Sim")=0),"ITEM INATIVO",IF(AND($R68="Concluída",OR($D68="",$I68="",$J68="")),"CONCLUSÃO INCOMPLETA",IF(AND($D68<>"",$D68>'Parâmetros e instruções'!$B$3),"DATA FUTURA",IF(AND($R68="Concluída",$M68<>0,$N68=""),"CUSTO AUSENTE",IF(AND($R68="Concluída",IFERROR(ABS($M68),0)>'Parâmetros e instruções'!$B$7,OR($S68="",$T68="")),"DIVERGÊNCIA SEM TRATATIVA","OK"))))))))) | X68: =Programa!$B$68 | Y68: =Programa!$D$68
G69: =IF(OR($E69="",$F69=""),"",UPPER(TRIM($E69))&"|"&UPPER(TRIM($F69))) | L69: =IF(AND($J69="",$K69=""),"",IF($K69<>"",$K69,$J69)) | M69: =IF(OR($L69="",$I69=""),"",$L69-$I69) | O69: =IF(OR($M69="",$N69=""),"",$M69*$N69) | P69: =IF($O69="","",ABS($O69)) | Q69: =IF($M69="","",IF(ABS($M69)<='Parâmetros e instruções'!$B$7,"Sim","Não")) | U69: =IF(COUNTA($A69:$F69,$H69:$K69,$N69,$R69:$T69)=0,"",IF(OR($A69="",$B69="",$C69="",$E69="",$F69="",$H69="",$R69=""),"PREENCHER OBRIGATÓRIOS",IF(COUNTIF($A$5:$A$104,$A69)>1,"ID CONTAGEM DUPLICADO",IF(COUNTIF(Programa!$K$5:$K$104,$G69)=0,"ITEM NÃO CADASTRADO",IF(AND(OR($R69="Planejada",$R69="Em contagem"),COUNTIFS(Programa!$K$5:$K$104,$G69,Programa!$A$5:$A$104,"Sim")=0),"ITEM INATIVO",IF(AND($R69="Concluída",OR($D69="",$I69="",$J69="")),"CONCLUSÃO INCOMPLETA",IF(AND($D69<>"",$D69>'Parâmetros e instruções'!$B$3),"DATA FUTURA",IF(AND($R69="Concluída",$M69<>0,$N69=""),"CUSTO AUSENTE",IF(AND($R69="Concluída",IFERROR(ABS($M69),0)>'Parâmetros e instruções'!$B$7,OR($S69="",$T69="")),"DIVERGÊNCIA SEM TRATATIVA","OK"))))))))) | X69: =Programa!$B$69 | Y69: =Programa!$D$69
G70: =IF(OR($E70="",$F70=""),"",UPPER(TRIM($E70))&"|"&UPPER(TRIM($F70))) | L70: =IF(AND($J70="",$K70=""),"",IF($K70<>"",$K70,$J70)) | M70: =IF(OR($L70="",$I70=""),"",$L70-$I70) | O70: =IF(OR($M70="",$N70=""),"",$M70*$N70) | P70: =IF($O70="","",ABS($O70)) | Q70: =IF($M70="","",IF(ABS($M70)<='Parâmetros e instruções'!$B$7,"Sim","Não")) | U70: =IF(COUNTA($A70:$F70,$H70:$K70,$N70,$R70:$T70)=0,"",IF(OR($A70="",$B70="",$C70="",$E70="",$F70="",$H70="",$R70=""),"PREENCHER OBRIGATÓRIOS",IF(COUNTIF($A$5:$A$104,$A70)>1,"ID CONTAGEM DUPLICADO",IF(COUNTIF(Programa!$K$5:$K$104,$G70)=0,"ITEM NÃO CADASTRADO",IF(AND(OR($R70="Planejada",$R70="Em contagem"),COUNTIFS(Programa!$K$5:$K$104,$G70,Programa!$A$5:$A$104,"Sim")=0),"ITEM INATIVO",IF(AND($R70="Concluída",OR($D70="",$I70="",$J70="")),"CONCLUSÃO INCOMPLETA",IF(AND($D70<>"",$D70>'Parâmetros e instruções'!$B$3),"DATA FUTURA",IF(AND($R70="Concluída",$M70<>0,$N70=""),"CUSTO AUSENTE",IF(AND($R70="Concluída",IFERROR(ABS($M70),0)>'Parâmetros e instruções'!$B$7,OR($S70="",$T70="")),"DIVERGÊNCIA SEM TRATATIVA","OK"))))))))) | X70: =Programa!$B$70 | Y70: =Programa!$D$70
G71: =IF(OR($E71="",$F71=""),"",UPPER(TRIM($E71))&"|"&UPPER(TRIM($F71))) | L71: =IF(AND($J71="",$K71=""),"",IF($K71<>"",$K71,$J71)) | M71: =IF(OR($L71="",$I71=""),"",$L71-$I71) | O71: =IF(OR($M71="",$N71=""),"",$M71*$N71) | P71: =IF($O71="","",ABS($O71)) | Q71: =IF($M71="","",IF(ABS($M71)<='Parâmetros e instruções'!$B$7,"Sim","Não")) | U71: =IF(COUNTA($A71:$F71,$H71:$K71,$N71,$R71:$T71)=0,"",IF(OR($A71="",$B71="",$C71="",$E71="",$F71="",$H71="",$R71=""),"PREENCHER OBRIGATÓRIOS",IF(COUNTIF($A$5:$A$104,$A71)>1,"ID CONTAGEM DUPLICADO",IF(COUNTIF(Programa!$K$5:$K$104,$G71)=0,"ITEM NÃO CADASTRADO",IF(AND(OR($R71="Planejada",$R71="Em contagem"),COUNTIFS(Programa!$K$5:$K$104,$G71,Programa!$A$5:$A$104,"Sim")=0),"ITEM INATIVO",IF(AND($R71="Concluída",OR($D71="",$I71="",$J71="")),"CONCLUSÃO INCOMPLETA",IF(AND($D71<>"",$D71>'Parâmetros e instruções'!$B$3),"DATA FUTURA",IF(AND($R71="Concluída",$M71<>0,$N71=""),"CUSTO AUSENTE",IF(AND($R71="Concluída",IFERROR(ABS($M71),0)>'Parâmetros e instruções'!$B$7,OR($S71="",$T71="")),"DIVERGÊNCIA SEM TRATATIVA","OK"))))))))) | X71: =Programa!$B$71 | Y71: =Programa!$D$71
G72: =IF(OR($E72="",$F72=""),"",UPPER(TRIM($E72))&"|"&UPPER(TRIM($F72))) | L72: =IF(AND($J72="",$K72=""),"",IF($K72<>"",$K72,$J72)) | M72: =IF(OR($L72="",$I72=""),"",$L72-$I72) | O72: =IF(OR($M72="",$N72=""),"",$M72*$N72) | P72: =IF($O72="","",ABS($O72)) | Q72: =IF($M72="","",IF(ABS($M72)<='Parâmetros e instruções'!$B$7,"Sim","Não")) | U72: =IF(COUNTA($A72:$F72,$H72:$K72,$N72,$R72:$T72)=0,"",IF(OR($A72="",$B72="",$C72="",$E72="",$F72="",$H72="",$R72=""),"PREENCHER OBRIGATÓRIOS",IF(COUNTIF($A$5:$A$104,$A72)>1,"ID CONTAGEM DUPLICADO",IF(COUNTIF(Programa!$K$5:$K$104,$G72)=0,"ITEM NÃO CADASTRADO",IF(AND(OR($R72="Planejada",$R72="Em contagem"),COUNTIFS(Programa!$K$5:$K$104,$G72,Programa!$A$5:$A$104,"Sim")=0),"ITEM INATIVO",IF(AND($R72="Concluída",OR($D72="",$I72="",$J72="")),"CONCLUSÃO INCOMPLETA",IF(AND($D72<>"",$D72>'Parâmetros e instruções'!$B$3),"DATA FUTURA",IF(AND($R72="Concluída",$M72<>0,$N72=""),"CUSTO AUSENTE",IF(AND($R72="Concluída",IFERROR(ABS($M72),0)>'Parâmetros e instruções'!$B$7,OR($S72="",$T72="")),"DIVERGÊNCIA SEM TRATATIVA","OK"))))))))) | X72: =Programa!$B$72 | Y72: =Programa!$D$72
G73: =IF(OR($E73="",$F73=""),"",UPPER(TRIM($E73))&"|"&UPPER(TRIM($F73))) | L73: =IF(AND($J73="",$K73=""),"",IF($K73<>"",$K73,$J73)) | M73: =IF(OR($L73="",$I73=""),"",$L73-$I73) | O73: =IF(OR($M73="",$N73=""),"",$M73*$N73) | P73: =IF($O73="","",ABS($O73)) | Q73: =IF($M73="","",IF(ABS($M73)<='Parâmetros e instruções'!$B$7,"Sim","Não")) | U73: =IF(COUNTA($A73:$F73,$H73:$K73,$N73,$R73:$T73)=0,"",IF(OR($A73="",$B73="",$C73="",$E73="",$F73="",$H73="",$R73=""),"PREENCHER OBRIGATÓRIOS",IF(COUNTIF($A$5:$A$104,$A73)>1,"ID CONTAGEM DUPLICADO",IF(COUNTIF(Programa!$K$5:$K$104,$G73)=0,"ITEM NÃO CADASTRADO",IF(AND(OR($R73="Planejada",$R73="Em contagem"),COUNTIFS(Programa!$K$5:$K$104,$G73,Programa!$A$5:$A$104,"Sim")=0),"ITEM INATIVO",IF(AND($R73="Concluída",OR($D73="",$I73="",$J73="")),"CONCLUSÃO INCOMPLETA",IF(AND($D73<>"",$D73>'Parâmetros e instruções'!$B$3),"DATA FUTURA",IF(AND($R73="Concluída",$M73<>0,$N73=""),"CUSTO AUSENTE",IF(AND($R73="Concluída",IFERROR(ABS($M73),0)>'Parâmetros e instruções'!$B$7,OR($S73="",$T73="")),"DIVERGÊNCIA SEM TRATATIVA","OK"))))))))) | X73: =Programa!$B$73 | Y73: =Programa!$D$73
G74: =IF(OR($E74="",$F74=""),"",UPPER(TRIM($E74))&"|"&UPPER(TRIM($F74))) | L74: =IF(AND($J74="",$K74=""),"",IF($K74<>"",$K74,$J74)) | M74: =IF(OR($L74="",$I74=""),"",$L74-$I74) | O74: =IF(OR($M74="",$N74=""),"",$M74*$N74) | P74: =IF($O74="","",ABS($O74)) | Q74: =IF($M74="","",IF(ABS($M74)<='Parâmetros e instruções'!$B$7,"Sim","Não")) | U74: =IF(COUNTA($A74:$F74,$H74:$K74,$N74,$R74:$T74)=0,"",IF(OR($A74="",$B74="",$C74="",$E74="",$F74="",$H74="",$R74=""),"PREENCHER OBRIGATÓRIOS",IF(COUNTIF($A$5:$A$104,$A74)>1,"ID CONTAGEM DUPLICADO",IF(COUNTIF(Programa!$K$5:$K$104,$G74)=0,"ITEM NÃO CADASTRADO",IF(AND(OR($R74="Planejada",$R74="Em contagem"),COUNTIFS(Programa!$K$5:$K$104,$G74,Programa!$A$5:$A$104,"Sim")=0),"ITEM INATIVO",IF(AND($R74="Concluída",OR($D74="",$I74="",$J74="")),"CONCLUSÃO INCOMPLETA",IF(AND($D74<>"",$D74>'Parâmetros e instruções'!$B$3),"DATA FUTURA",IF(AND($R74="Concluída",$M74<>0,$N74=""),"CUSTO AUSENTE",IF(AND($R74="Concluída",IFERROR(ABS($M74),0)>'Parâmetros e instruções'!$B$7,OR($S74="",$T74="")),"DIVERGÊNCIA SEM TRATATIVA","OK"))))))))) | X74: =Programa!$B$74 | Y74: =Programa!$D$74
G75: =IF(OR($E75="",$F75=""),"",UPPER(TRIM($E75))&"|"&UPPER(TRIM($F75))) | L75: =IF(AND($J75="",$K75=""),"",IF($K75<>"",$K75,$J75)) | M75: =IF(OR($L75="",$I75=""),"",$L75-$I75) | O75: =IF(OR($M75="",$N75=""),"",$M75*$N75) | P75: =IF($O75="","",ABS($O75)) | Q75: =IF($M75="","",IF(ABS($M75)<='Parâmetros e instruções'!$B$7,"Sim","Não")) | U75: =IF(COUNTA($A75:$F75,$H75:$K75,$N75,$R75:$T75)=0,"",IF(OR($A75="",$B75="",$C75="",$E75="",$F75="",$H75="",$R75=""),"PREENCHER OBRIGATÓRIOS",IF(COUNTIF($A$5:$A$104,$A75)>1,"ID CONTAGEM DUPLICADO",IF(COUNTIF(Programa!$K$5:$K$104,$G75)=0,"ITEM NÃO CADASTRADO",IF(AND(OR($R75="Planejada",$R75="Em contagem"),COUNTIFS(Programa!$K$5:$K$104,$G75,Programa!$A$5:$A$104,"Sim")=0),"ITEM INATIVO",IF(AND($R75="Concluída",OR($D75="",$I75="",$J75="")),"CONCLUSÃO INCOMPLETA",IF(AND($D75<>"",$D75>'Parâmetros e instruções'!$B$3),"DATA FUTURA",IF(AND($R75="Concluída",$M75<>0,$N75=""),"CUSTO AUSENTE",IF(AND($R75="Concluída",IFERROR(ABS($M75),0)>'Parâmetros e instruções'!$B$7,OR($S75="",$T75="")),"DIVERGÊNCIA SEM TRATATIVA","OK"))))))))) | X75: =Programa!$B$75 | Y75: =Programa!$D$75
G76: =IF(OR($E76="",$F76=""),"",UPPER(TRIM($E76))&"|"&UPPER(TRIM($F76))) | L76: =IF(AND($J76="",$K76=""),"",IF($K76<>"",$K76,$J76)) | M76: =IF(OR($L76="",$I76=""),"",$L76-$I76) | O76: =IF(OR($M76="",$N76=""),"",$M76*$N76) | P76: =IF($O76="","",ABS($O76)) | Q76: =IF($M76="","",IF(ABS($M76)<='Parâmetros e instruções'!$B$7,"Sim","Não")) | U76: =IF(COUNTA($A76:$F76,$H76:$K76,$N76,$R76:$T76)=0,"",IF(OR($A76="",$B76="",$C76="",$E76="",$F76="",$H76="",$R76=""),"PREENCHER OBRIGATÓRIOS",IF(COUNTIF($A$5:$A$104,$A76)>1,"ID CONTAGEM DUPLICADO",IF(COUNTIF(Programa!$K$5:$K$104,$G76)=0,"ITEM NÃO CADASTRADO",IF(AND(OR($R76="Planejada",$R76="Em contagem"),COUNTIFS(Programa!$K$5:$K$104,$G76,Programa!$A$5:$A$104,"Sim")=0),"ITEM INATIVO",IF(AND($R76="Concluída",OR($D76="",$I76="",$J76="")),"CONCLUSÃO INCOMPLETA",IF(AND($D76<>"",$D76>'Parâmetros e instruções'!$B$3),"DATA FUTURA",IF(AND($R76="Concluída",$M76<>0,$N76=""),"CUSTO AUSENTE",IF(AND($R76="Concluída",IFERROR(ABS($M76),0)>'Parâmetros e instruções'!$B$7,OR($S76="",$T76="")),"DIVERGÊNCIA SEM TRATATIVA","OK"))))))))) | X76: =Programa!$B$76 | Y76: =Programa!$D$76
G77: =IF(OR($E77="",$F77=""),"",UPPER(TRIM($E77))&"|"&UPPER(TRIM($F77))) | L77: =IF(AND($J77="",$K77=""),"",IF($K77<>"",$K77,$J77)) | M77: =IF(OR($L77="",$I77=""),"",$L77-$I77) | O77: =IF(OR($M77="",$N77=""),"",$M77*$N77) | P77: =IF($O77="","",ABS($O77)) | Q77: =IF($M77="","",IF(ABS($M77)<='Parâmetros e instruções'!$B$7,"Sim","Não")) | U77: =IF(COUNTA($A77:$F77,$H77:$K77,$N77,$R77:$T77)=0,"",IF(OR($A77="",$B77="",$C77="",$E77="",$F77="",$H77="",$R77=""),"PREENCHER OBRIGATÓRIOS",IF(COUNTIF($A$5:$A$104,$A77)>1,"ID CONTAGEM DUPLICADO",IF(COUNTIF(Programa!$K$5:$K$104,$G77)=0,"ITEM NÃO CADASTRADO",IF(AND(OR($R77="Planejada",$R77="Em contagem"),COUNTIFS(Programa!$K$5:$K$104,$G77,Programa!$A$5:$A$104,"Sim")=0),"ITEM INATIVO",IF(AND($R77="Concluída",OR($D77="",$I77="",$J77="")),"CONCLUSÃO INCOMPLETA",IF(AND($D77<>"",$D77>'Parâmetros e instruções'!$B$3),"DATA FUTURA",IF(AND($R77="Concluída",$M77<>0,$N77=""),"CUSTO AUSENTE",IF(AND($R77="Concluída",IFERROR(ABS($M77),0)>'Parâmetros e instruções'!$B$7,OR($S77="",$T77="")),"DIVERGÊNCIA SEM TRATATIVA","OK"))))))))) | X77: =Programa!$B$77 | Y77: =Programa!$D$77
G78: =IF(OR($E78="",$F78=""),"",UPPER(TRIM($E78))&"|"&UPPER(TRIM($F78))) | L78: =IF(AND($J78="",$K78=""),"",IF($K78<>"",$K78,$J78)) | M78: =IF(OR($L78="",$I78=""),"",$L78-$I78) | O78: =IF(OR($M78="",$N78=""),"",$M78*$N78) | P78: =IF($O78="","",ABS($O78)) | Q78: =IF($M78="","",IF(ABS($M78)<='Parâmetros e instruções'!$B$7,"Sim","Não")) | U78: =IF(COUNTA($A78:$F78,$H78:$K78,$N78,$R78:$T78)=0,"",IF(OR($A78="",$B78="",$C78="",$E78="",$F78="",$H78="",$R78=""),"PREENCHER OBRIGATÓRIOS",IF(COUNTIF($A$5:$A$104,$A78)>1,"ID CONTAGEM DUPLICADO",IF(COUNTIF(Programa!$K$5:$K$104,$G78)=0,"ITEM NÃO CADASTRADO",IF(AND(OR($R78="Planejada",$R78="Em contagem"),COUNTIFS(Programa!$K$5:$K$104,$G78,Programa!$A$5:$A$104,"Sim")=0),"ITEM INATIVO",IF(AND($R78="Concluída",OR($D78="",$I78="",$J78="")),"CONCLUSÃO INCOMPLETA",IF(AND($D78<>"",$D78>'Parâmetros e instruções'!$B$3),"DATA FUTURA",IF(AND($R78="Concluída",$M78<>0,$N78=""),"CUSTO AUSENTE",IF(AND($R78="Concluída",IFERROR(ABS($M78),0)>'Parâmetros e instruções'!$B$7,OR($S78="",$T78="")),"DIVERGÊNCIA SEM TRATATIVA","OK"))))))))) | X78: =Programa!$B$78 | Y78: =Programa!$D$78
G79: =IF(OR($E79="",$F79=""),"",UPPER(TRIM($E79))&"|"&UPPER(TRIM($F79))) | L79: =IF(AND($J79="",$K79=""),"",IF($K79<>"",$K79,$J79)) | M79: =IF(OR($L79="",$I79=""),"",$L79-$I79) | O79: =IF(OR($M79="",$N79=""),"",$M79*$N79) | P79: =IF($O79="","",ABS($O79)) | Q79: =IF($M79="","",IF(ABS($M79)<='Parâmetros e instruções'!$B$7,"Sim","Não")) | U79: =IF(COUNTA($A79:$F79,$H79:$K79,$N79,$R79:$T79)=0,"",IF(OR($A79="",$B79="",$C79="",$E79="",$F79="",$H79="",$R79=""),"PREENCHER OBRIGATÓRIOS",IF(COUNTIF($A$5:$A$104,$A79)>1,"ID CONTAGEM DUPLICADO",IF(COUNTIF(Programa!$K$5:$K$104,$G79)=0,"ITEM NÃO CADASTRADO",IF(AND(OR($R79="Planejada",$R79="Em contagem"),COUNTIFS(Programa!$K$5:$K$104,$G79,Programa!$A$5:$A$104,"Sim")=0),"ITEM INATIVO",IF(AND($R79="Concluída",OR($D79="",$I79="",$J79="")),"CONCLUSÃO INCOMPLETA",IF(AND($D79<>"",$D79>'Parâmetros e instruções'!$B$3),"DATA FUTURA",IF(AND($R79="Concluída",$M79<>0,$N79=""),"CUSTO AUSENTE",IF(AND($R79="Concluída",IFERROR(ABS($M79),0)>'Parâmetros e instruções'!$B$7,OR($S79="",$T79="")),"DIVERGÊNCIA SEM TRATATIVA","OK"))))))))) | X79: =Programa!$B$79 | Y79: =Programa!$D$79
G80: =IF(OR($E80="",$F80=""),"",UPPER(TRIM($E80))&"|"&UPPER(TRIM($F80))) | L80: =IF(AND($J80="",$K80=""),"",IF($K80<>"",$K80,$J80)) | M80: =IF(OR($L80="",$I80=""),"",$L80-$I80) | O80: =IF(OR($M80="",$N80=""),"",$M80*$N80) | P80: =IF($O80="","",ABS($O80)) | Q80: =IF($M80="","",IF(ABS($M80)<='Parâmetros e instruções'!$B$7,"Sim","Não")) | U80: =IF(COUNTA($A80:$F80,$H80:$K80,$N80,$R80:$T80)=0,"",IF(OR($A80="",$B80="",$C80="",$E80="",$F80="",$H80="",$R80=""),"PREENCHER OBRIGATÓRIOS",IF(COUNTIF($A$5:$A$104,$A80)>1,"ID CONTAGEM DUPLICADO",IF(COUNTIF(Programa!$K$5:$K$104,$G80)=0,"ITEM NÃO CADASTRADO",IF(AND(OR($R80="Planejada",$R80="Em contagem"),COUNTIFS(Programa!$K$5:$K$104,$G80,Programa!$A$5:$A$104,"Sim")=0),"ITEM INATIVO",IF(AND($R80="Concluída",OR($D80="",$I80="",$J80="")),"CONCLUSÃO INCOMPLETA",IF(AND($D80<>"",$D80>'Parâmetros e instruções'!$B$3),"DATA FUTURA",IF(AND($R80="Concluída",$M80<>0,$N80=""),"CUSTO AUSENTE",IF(AND($R80="Concluída",IFERROR(ABS($M80),0)>'Parâmetros e instruções'!$B$7,OR($S80="",$T80="")),"DIVERGÊNCIA SEM TRATATIVA","OK"))))))))) | X80: =Programa!$B$80 | Y80: =Programa!$D$80
G81: =IF(OR($E81="",$F81=""),"",UPPER(TRIM($E81))&"|"&UPPER(TRIM($F81))) | L81: =IF(AND($J81="",$K81=""),"",IF($K81<>"",$K81,$J81)) | M81: =IF(OR($L81="",$I81=""),"",$L81-$I81) | O81: =IF(OR($M81="",$N81=""),"",$M81*$N81) | P81: =IF($O81="","",ABS($O81)) | Q81: =IF($M81="","",IF(ABS($M81)<='Parâmetros e instruções'!$B$7,"Sim","Não")) | U81: =IF(COUNTA($A81:$F81,$H81:$K81,$N81,$R81:$T81)=0,"",IF(OR($A81="",$B81="",$C81="",$E81="",$F81="",$H81="",$R81=""),"PREENCHER OBRIGATÓRIOS",IF(COUNTIF($A$5:$A$104,$A81)>1,"ID CONTAGEM DUPLICADO",IF(COUNTIF(Programa!$K$5:$K$104,$G81)=0,"ITEM NÃO CADASTRADO",IF(AND(OR($R81="Planejada",$R81="Em contagem"),COUNTIFS(Programa!$K$5:$K$104,$G81,Programa!$A$5:$A$104,"Sim")=0),"ITEM INATIVO",IF(AND($R81="Concluída",OR($D81="",$I81="",$J81="")),"CONCLUSÃO INCOMPLETA",IF(AND($D81<>"",$D81>'Parâmetros e instruções'!$B$3),"DATA FUTURA",IF(AND($R81="Concluída",$M81<>0,$N81=""),"CUSTO AUSENTE",IF(AND($R81="Concluída",IFERROR(ABS($M81),0)>'Parâmetros e instruções'!$B$7,OR($S81="",$T81="")),"DIVERGÊNCIA SEM TRATATIVA","OK"))))))))) | X81: =Programa!$B$81 | Y81: =Programa!$D$81
G82: =IF(OR($E82="",$F82=""),"",UPPER(TRIM($E82))&"|"&UPPER(TRIM($F82))) | L82: =IF(AND($J82="",$K82=""),"",IF($K82<>"",$K82,$J82)) | M82: =IF(OR($L82="",$I82=""),"",$L82-$I82) | O82: =IF(OR($M82="",$N82=""),"",$M82*$N82) | P82: =IF($O82="","",ABS($O82)) | Q82: =IF($M82="","",IF(ABS($M82)<='Parâmetros e instruções'!$B$7,"Sim","Não")) | U82: =IF(COUNTA($A82:$F82,$H82:$K82,$N82,$R82:$T82)=0,"",IF(OR($A82="",$B82="",$C82="",$E82="",$F82="",$H82="",$R82=""),"PREENCHER OBRIGATÓRIOS",IF(COUNTIF($A$5:$A$104,$A82)>1,"ID CONTAGEM DUPLICADO",IF(COUNTIF(Programa!$K$5:$K$104,$G82)=0,"ITEM NÃO CADASTRADO",IF(AND(OR($R82="Planejada",$R82="Em contagem"),COUNTIFS(Programa!$K$5:$K$104,$G82,Programa!$A$5:$A$104,"Sim")=0),"ITEM INATIVO",IF(AND($R82="Concluída",OR($D82="",$I82="",$J82="")),"CONCLUSÃO INCOMPLETA",IF(AND($D82<>"",$D82>'Parâmetros e instruções'!$B$3),"DATA FUTURA",IF(AND($R82="Concluída",$M82<>0,$N82=""),"CUSTO AUSENTE",IF(AND($R82="Concluída",IFERROR(ABS($M82),0)>'Parâmetros e instruções'!$B$7,OR($S82="",$T82="")),"DIVERGÊNCIA SEM TRATATIVA","OK"))))))))) | X82: =Programa!$B$82 | Y82: =Programa!$D$82
G83: =IF(OR($E83="",$F83=""),"",UPPER(TRIM($E83))&"|"&UPPER(TRIM($F83))) | L83: =IF(AND($J83="",$K83=""),"",IF($K83<>"",$K83,$J83)) | M83: =IF(OR($L83="",$I83=""),"",$L83-$I83) | O83: =IF(OR($M83="",$N83=""),"",$M83*$N83) | P83: =IF($O83="","",ABS($O83)) | Q83: =IF($M83="","",IF(ABS($M83)<='Parâmetros e instruções'!$B$7,"Sim","Não")) | U83: =IF(COUNTA($A83:$F83,$H83:$K83,$N83,$R83:$T83)=0,"",IF(OR($A83="",$B83="",$C83="",$E83="",$F83="",$H83="",$R83=""),"PREENCHER OBRIGATÓRIOS",IF(COUNTIF($A$5:$A$104,$A83)>1,"ID CONTAGEM DUPLICADO",IF(COUNTIF(Programa!$K$5:$K$104,$G83)=0,"ITEM NÃO CADASTRADO",IF(AND(OR($R83="Planejada",$R83="Em contagem"),COUNTIFS(Programa!$K$5:$K$104,$G83,Programa!$A$5:$A$104,"Sim")=0),"ITEM INATIVO",IF(AND($R83="Concluída",OR($D83="",$I83="",$J83="")),"CONCLUSÃO INCOMPLETA",IF(AND($D83<>"",$D83>'Parâmetros e instruções'!$B$3),"DATA FUTURA",IF(AND($R83="Concluída",$M83<>0,$N83=""),"CUSTO AUSENTE",IF(AND($R83="Concluída",IFERROR(ABS($M83),0)>'Parâmetros e instruções'!$B$7,OR($S83="",$T83="")),"DIVERGÊNCIA SEM TRATATIVA","OK"))))))))) | X83: =Programa!$B$83 | Y83: =Programa!$D$83
G84: =IF(OR($E84="",$F84=""),"",UPPER(TRIM($E84))&"|"&UPPER(TRIM($F84))) | L84: =IF(AND($J84="",$K84=""),"",IF($K84<>"",$K84,$J84)) | M84: =IF(OR($L84="",$I84=""),"",$L84-$I84) | O84: =IF(OR($M84="",$N84=""),"",$M84*$N84) | P84: =IF($O84="","",ABS($O84)) | Q84: =IF($M84="","",IF(ABS($M84)<='Parâmetros e instruções'!$B$7,"Sim","Não")) | U84: =IF(COUNTA($A84:$F84,$H84:$K84,$N84,$R84:$T84)=0,"",IF(OR($A84="",$B84="",$C84="",$E84="",$F84="",$H84="",$R84=""),"PREENCHER OBRIGATÓRIOS",IF(COUNTIF($A$5:$A$104,$A84)>1,"ID CONTAGEM DUPLICADO",IF(COUNTIF(Programa!$K$5:$K$104,$G84)=0,"ITEM NÃO CADASTRADO",IF(AND(OR($R84="Planejada",$R84="Em contagem"),COUNTIFS(Programa!$K$5:$K$104,$G84,Programa!$A$5:$A$104,"Sim")=0),"ITEM INATIVO",IF(AND($R84="Concluída",OR($D84="",$I84="",$J84="")),"CONCLUSÃO INCOMPLETA",IF(AND($D84<>"",$D84>'Parâmetros e instruções'!$B$3),"DATA FUTURA",IF(AND($R84="Concluída",$M84<>0,$N84=""),"CUSTO AUSENTE",IF(AND($R84="Concluída",IFERROR(ABS($M84),0)>'Parâmetros e instruções'!$B$7,OR($S84="",$T84="")),"DIVERGÊNCIA SEM TRATATIVA","OK"))))))))) | X84: =Programa!$B$84 | Y84: =Programa!$D$84
G85: =IF(OR($E85="",$F85=""),"",UPPER(TRIM($E85))&"|"&UPPER(TRIM($F85))) | L85: =IF(AND($J85="",$K85=""),"",IF($K85<>"",$K85,$J85)) | M85: =IF(OR($L85="",$I85=""),"",$L85-$I85) | O85: =IF(OR($M85="",$N85=""),"",$M85*$N85) | P85: =IF($O85="","",ABS($O85)) | Q85: =IF($M85="","",IF(ABS($M85)<='Parâmetros e instruções'!$B$7,"Sim","Não")) | U85: =IF(COUNTA($A85:$F85,$H85:$K85,$N85,$R85:$T85)=0,"",IF(OR($A85="",$B85="",$C85="",$E85="",$F85="",$H85="",$R85=""),"PREENCHER OBRIGATÓRIOS",IF(COUNTIF($A$5:$A$104,$A85)>1,"ID CONTAGEM DUPLICADO",IF(COUNTIF(Programa!$K$5:$K$104,$G85)=0,"ITEM NÃO CADASTRADO",IF(AND(OR($R85="Planejada",$R85="Em contagem"),COUNTIFS(Programa!$K$5:$K$104,$G85,Programa!$A$5:$A$104,"Sim")=0),"ITEM INATIVO",IF(AND($R85="Concluída",OR($D85="",$I85="",$J85="")),"CONCLUSÃO INCOMPLETA",IF(AND($D85<>"",$D85>'Parâmetros e instruções'!$B$3),"DATA FUTURA",IF(AND($R85="Concluída",$M85<>0,$N85=""),"CUSTO AUSENTE",IF(AND($R85="Concluída",IFERROR(ABS($M85),0)>'Parâmetros e instruções'!$B$7,OR($S85="",$T85="")),"DIVERGÊNCIA SEM TRATATIVA","OK"))))))))) | X85: =Programa!$B$85 | Y85: =Programa!$D$85
G86: =IF(OR($E86="",$F86=""),"",UPPER(TRIM($E86))&"|"&UPPER(TRIM($F86))) | L86: =IF(AND($J86="",$K86=""),"",IF($K86<>"",$K86,$J86)) | M86: =IF(OR($L86="",$I86=""),"",$L86-$I86) | O86: =IF(OR($M86="",$N86=""),"",$M86*$N86) | P86: =IF($O86="","",ABS($O86)) | Q86: =IF($M86="","",IF(ABS($M86)<='Parâmetros e instruções'!$B$7,"Sim","Não")) | U86: =IF(COUNTA($A86:$F86,$H86:$K86,$N86,$R86:$T86)=0,"",IF(OR($A86="",$B86="",$C86="",$E86="",$F86="",$H86="",$R86=""),"PREENCHER OBRIGATÓRIOS",IF(COUNTIF($A$5:$A$104,$A86)>1,"ID CONTAGEM DUPLICADO",IF(COUNTIF(Programa!$K$5:$K$104,$G86)=0,"ITEM NÃO CADASTRADO",IF(AND(OR($R86="Planejada",$R86="Em contagem"),COUNTIFS(Programa!$K$5:$K$104,$G86,Programa!$A$5:$A$104,"Sim")=0),"ITEM INATIVO",IF(AND($R86="Concluída",OR($D86="",$I86="",$J86="")),"CONCLUSÃO INCOMPLETA",IF(AND($D86<>"",$D86>'Parâmetros e instruções'!$B$3),"DATA FUTURA",IF(AND($R86="Concluída",$M86<>0,$N86=""),"CUSTO AUSENTE",IF(AND($R86="Concluída",IFERROR(ABS($M86),0)>'Parâmetros e instruções'!$B$7,OR($S86="",$T86="")),"DIVERGÊNCIA SEM TRATATIVA","OK"))))))))) | X86: =Programa!$B$86 | Y86: =Programa!$D$86
G87: =IF(OR($E87="",$F87=""),"",UPPER(TRIM($E87))&"|"&UPPER(TRIM($F87))) | L87: =IF(AND($J87="",$K87=""),"",IF($K87<>"",$K87,$J87)) | M87: =IF(OR($L87="",$I87=""),"",$L87-$I87) | O87: =IF(OR($M87="",$N87=""),"",$M87*$N87) | P87: =IF($O87="","",ABS($O87)) | Q87: =IF($M87="","",IF(ABS($M87)<='Parâmetros e instruções'!$B$7,"Sim","Não")) | U87: =IF(COUNTA($A87:$F87,$H87:$K87,$N87,$R87:$T87)=0,"",IF(OR($A87="",$B87="",$C87="",$E87="",$F87="",$H87="",$R87=""),"PREENCHER OBRIGATÓRIOS",IF(COUNTIF($A$5:$A$104,$A87)>1,"ID CONTAGEM DUPLICADO",IF(COUNTIF(Programa!$K$5:$K$104,$G87)=0,"ITEM NÃO CADASTRADO",IF(AND(OR($R87="Planejada",$R87="Em contagem"),COUNTIFS(Programa!$K$5:$K$104,$G87,Programa!$A$5:$A$104,"Sim")=0),"ITEM INATIVO",IF(AND($R87="Concluída",OR($D87="",$I87="",$J87="")),"CONCLUSÃO INCOMPLETA",IF(AND($D87<>"",$D87>'Parâmetros e instruções'!$B$3),"DATA FUTURA",IF(AND($R87="Concluída",$M87<>0,$N87=""),"CUSTO AUSENTE",IF(AND($R87="Concluída",IFERROR(ABS($M87),0)>'Parâmetros e instruções'!$B$7,OR($S87="",$T87="")),"DIVERGÊNCIA SEM TRATATIVA","OK"))))))))) | X87: =Programa!$B$87 | Y87: =Programa!$D$87
G88: =IF(OR($E88="",$F88=""),"",UPPER(TRIM($E88))&"|"&UPPER(TRIM($F88))) | L88: =IF(AND($J88="",$K88=""),"",IF($K88<>"",$K88,$J88)) | M88: =IF(OR($L88="",$I88=""),"",$L88-$I88) | O88: =IF(OR($M88="",$N88=""),"",$M88*$N88) | P88: =IF($O88="","",ABS($O88)) | Q88: =IF($M88="","",IF(ABS($M88)<='Parâmetros e instruções'!$B$7,"Sim","Não")) | U88: =IF(COUNTA($A88:$F88,$H88:$K88,$N88,$R88:$T88)=0,"",IF(OR($A88="",$B88="",$C88="",$E88="",$F88="",$H88="",$R88=""),"PREENCHER OBRIGATÓRIOS",IF(COUNTIF($A$5:$A$104,$A88)>1,"ID CONTAGEM DUPLICADO",IF(COUNTIF(Programa!$K$5:$K$104,$G88)=0,"ITEM NÃO CADASTRADO",IF(AND(OR($R88="Planejada",$R88="Em contagem"),COUNTIFS(Programa!$K$5:$K$104,$G88,Programa!$A$5:$A$104,"Sim")=0),"ITEM INATIVO",IF(AND($R88="Concluída",OR($D88="",$I88="",$J88="")),"CONCLUSÃO INCOMPLETA",IF(AND($D88<>"",$D88>'Parâmetros e instruções'!$B$3),"DATA FUTURA",IF(AND($R88="Concluída",$M88<>0,$N88=""),"CUSTO AUSENTE",IF(AND($R88="Concluída",IFERROR(ABS($M88),0)>'Parâmetros e instruções'!$B$7,OR($S88="",$T88="")),"DIVERGÊNCIA SEM TRATATIVA","OK"))))))))) | X88: =Programa!$B$88 | Y88: =Programa!$D$88
G89: =IF(OR($E89="",$F89=""),"",UPPER(TRIM($E89))&"|"&UPPER(TRIM($F89))) | L89: =IF(AND($J89="",$K89=""),"",IF($K89<>"",$K89,$J89)) | M89: =IF(OR($L89="",$I89=""),"",$L89-$I89) | O89: =IF(OR($M89="",$N89=""),"",$M89*$N89) | P89: =IF($O89="","",ABS($O89)) | Q89: =IF($M89="","",IF(ABS($M89)<='Parâmetros e instruções'!$B$7,"Sim","Não")) | U89: =IF(COUNTA($A89:$F89,$H89:$K89,$N89,$R89:$T89)=0,"",IF(OR($A89="",$B89="",$C89="",$E89="",$F89="",$H89="",$R89=""),"PREENCHER OBRIGATÓRIOS",IF(COUNTIF($A$5:$A$104,$A89)>1,"ID CONTAGEM DUPLICADO",IF(COUNTIF(Programa!$K$5:$K$104,$G89)=0,"ITEM NÃO CADASTRADO",IF(AND(OR($R89="Planejada",$R89="Em contagem"),COUNTIFS(Programa!$K$5:$K$104,$G89,Programa!$A$5:$A$104,"Sim")=0),"ITEM INATIVO",IF(AND($R89="Concluída",OR($D89="",$I89="",$J89="")),"CONCLUSÃO INCOMPLETA",IF(AND($D89<>"",$D89>'Parâmetros e instruções'!$B$3),"DATA FUTURA",IF(AND($R89="Concluída",$M89<>0,$N89=""),"CUSTO AUSENTE",IF(AND($R89="Concluída",IFERROR(ABS($M89),0)>'Parâmetros e instruções'!$B$7,OR($S89="",$T89="")),"DIVERGÊNCIA SEM TRATATIVA","OK"))))))))) | X89: =Programa!$B$89 | Y89: =Programa!$D$89
G90: =IF(OR($E90="",$F90=""),"",UPPER(TRIM($E90))&"|"&UPPER(TRIM($F90))) | L90: =IF(AND($J90="",$K90=""),"",IF($K90<>"",$K90,$J90)) | M90: =IF(OR($L90="",$I90=""),"",$L90-$I90) | O90: =IF(OR($M90="",$N90=""),"",$M90*$N90) | P90: =IF($O90="","",ABS($O90)) | Q90: =IF($M90="","",IF(ABS($M90)<='Parâmetros e instruções'!$B$7,"Sim","Não")) | U90: =IF(COUNTA($A90:$F90,$H90:$K90,$N90,$R90:$T90)=0,"",IF(OR($A90="",$B90="",$C90="",$E90="",$F90="",$H90="",$R90=""),"PREENCHER OBRIGATÓRIOS",IF(COUNTIF($A$5:$A$104,$A90)>1,"ID CONTAGEM DUPLICADO",IF(COUNTIF(Programa!$K$5:$K$104,$G90)=0,"ITEM NÃO CADASTRADO",IF(AND(OR($R90="Planejada",$R90="Em contagem"),COUNTIFS(Programa!$K$5:$K$104,$G90,Programa!$A$5:$A$104,"Sim")=0),"ITEM INATIVO",IF(AND($R90="Concluída",OR($D90="",$I90="",$J90="")),"CONCLUSÃO INCOMPLETA",IF(AND($D90<>"",$D90>'Parâmetros e instruções'!$B$3),"DATA FUTURA",IF(AND($R90="Concluída",$M90<>0,$N90=""),"CUSTO AUSENTE",IF(AND($R90="Concluída",IFERROR(ABS($M90),0)>'Parâmetros e instruções'!$B$7,OR($S90="",$T90="")),"DIVERGÊNCIA SEM TRATATIVA","OK"))))))))) | X90: =Programa!$B$90 | Y90: =Programa!$D$90
G91: =IF(OR($E91="",$F91=""),"",UPPER(TRIM($E91))&"|"&UPPER(TRIM($F91))) | L91: =IF(AND($J91="",$K91=""),"",IF($K91<>"",$K91,$J91)) | M91: =IF(OR($L91="",$I91=""),"",$L91-$I91) | O91: =IF(OR($M91="",$N91=""),"",$M91*$N91) | P91: =IF($O91="","",ABS($O91)) | Q91: =IF($M91="","",IF(ABS($M91)<='Parâmetros e instruções'!$B$7,"Sim","Não")) | U91: =IF(COUNTA($A91:$F91,$H91:$K91,$N91,$R91:$T91)=0,"",IF(OR($A91="",$B91="",$C91="",$E91="",$F91="",$H91="",$R91=""),"PREENCHER OBRIGATÓRIOS",IF(COUNTIF($A$5:$A$104,$A91)>1,"ID CONTAGEM DUPLICADO",IF(COUNTIF(Programa!$K$5:$K$104,$G91)=0,"ITEM NÃO CADASTRADO",IF(AND(OR($R91="Planejada",$R91="Em contagem"),COUNTIFS(Programa!$K$5:$K$104,$G91,Programa!$A$5:$A$104,"Sim")=0),"ITEM INATIVO",IF(AND($R91="Concluída",OR($D91="",$I91="",$J91="")),"CONCLUSÃO INCOMPLETA",IF(AND($D91<>"",$D91>'Parâmetros e instruções'!$B$3),"DATA FUTURA",IF(AND($R91="Concluída",$M91<>0,$N91=""),"CUSTO AUSENTE",IF(AND($R91="Concluída",IFERROR(ABS($M91),0)>'Parâmetros e instruções'!$B$7,OR($S91="",$T91="")),"DIVERGÊNCIA SEM TRATATIVA","OK"))))))))) | X91: =Programa!$B$91 | Y91: =Programa!$D$91
G92: =IF(OR($E92="",$F92=""),"",UPPER(TRIM($E92))&"|"&UPPER(TRIM($F92))) | L92: =IF(AND($J92="",$K92=""),"",IF($K92<>"",$K92,$J92)) | M92: =IF(OR($L92="",$I92=""),"",$L92-$I92) | O92: =IF(OR($M92="",$N92=""),"",$M92*$N92) | P92: =IF($O92="","",ABS($O92)) | Q92: =IF($M92="","",IF(ABS($M92)<='Parâmetros e instruções'!$B$7,"Sim","Não")) | U92: =IF(COUNTA($A92:$F92,$H92:$K92,$N92,$R92:$T92)=0,"",IF(OR($A92="",$B92="",$C92="",$E92="",$F92="",$H92="",$R92=""),"PREENCHER OBRIGATÓRIOS",IF(COUNTIF($A$5:$A$104,$A92)>1,"ID CONTAGEM DUPLICADO",IF(COUNTIF(Programa!$K$5:$K$104,$G92)=0,"ITEM NÃO CADASTRADO",IF(AND(OR($R92="Planejada",$R92="Em contagem"),COUNTIFS(Programa!$K$5:$K$104,$G92,Programa!$A$5:$A$104,"Sim")=0),"ITEM INATIVO",IF(AND($R92="Concluída",OR($D92="",$I92="",$J92="")),"CONCLUSÃO INCOMPLETA",IF(AND($D92<>"",$D92>'Parâmetros e instruções'!$B$3),"DATA FUTURA",IF(AND($R92="Concluída",$M92<>0,$N92=""),"CUSTO AUSENTE",IF(AND($R92="Concluída",IFERROR(ABS($M92),0)>'Parâmetros e instruções'!$B$7,OR($S92="",$T92="")),"DIVERGÊNCIA SEM TRATATIVA","OK"))))))))) | X92: =Programa!$B$92 | Y92: =Programa!$D$92
G93: =IF(OR($E93="",$F93=""),"",UPPER(TRIM($E93))&"|"&UPPER(TRIM($F93))) | L93: =IF(AND($J93="",$K93=""),"",IF($K93<>"",$K93,$J93)) | M93: =IF(OR($L93="",$I93=""),"",$L93-$I93) | O93: =IF(OR($M93="",$N93=""),"",$M93*$N93) | P93: =IF($O93="","",ABS($O93)) | Q93: =IF($M93="","",IF(ABS($M93)<='Parâmetros e instruções'!$B$7,"Sim","Não")) | U93: =IF(COUNTA($A93:$F93,$H93:$K93,$N93,$R93:$T93)=0,"",IF(OR($A93="",$B93="",$C93="",$E93="",$F93="",$H93="",$R93=""),"PREENCHER OBRIGATÓRIOS",IF(COUNTIF($A$5:$A$104,$A93)>1,"ID CONTAGEM DUPLICADO",IF(COUNTIF(Programa!$K$5:$K$104,$G93)=0,"ITEM NÃO CADASTRADO",IF(AND(OR($R93="Planejada",$R93="Em contagem"),COUNTIFS(Programa!$K$5:$K$104,$G93,Programa!$A$5:$A$104,"Sim")=0),"ITEM INATIVO",IF(AND($R93="Concluída",OR($D93="",$I93="",$J93="")),"CONCLUSÃO INCOMPLETA",IF(AND($D93<>"",$D93>'Parâmetros e instruções'!$B$3),"DATA FUTURA",IF(AND($R93="Concluída",$M93<>0,$N93=""),"CUSTO AUSENTE",IF(AND($R93="Concluída",IFERROR(ABS($M93),0)>'Parâmetros e instruções'!$B$7,OR($S93="",$T93="")),"DIVERGÊNCIA SEM TRATATIVA","OK"))))))))) | X93: =Programa!$B$93 | Y93: =Programa!$D$93
G94: =IF(OR($E94="",$F94=""),"",UPPER(TRIM($E94))&"|"&UPPER(TRIM($F94))) | L94: =IF(AND($J94="",$K94=""),"",IF($K94<>"",$K94,$J94)) | M94: =IF(OR($L94="",$I94=""),"",$L94-$I94) | O94: =IF(OR($M94="",$N94=""),"",$M94*$N94) | P94: =IF($O94="","",ABS($O94)) | Q94: =IF($M94="","",IF(ABS($M94)<='Parâmetros e instruções'!$B$7,"Sim","Não")) | U94: =IF(COUNTA($A94:$F94,$H94:$K94,$N94,$R94:$T94)=0,"",IF(OR($A94="",$B94="",$C94="",$E94="",$F94="",$H94="",$R94=""),"PREENCHER OBRIGATÓRIOS",IF(COUNTIF($A$5:$A$104,$A94)>1,"ID CONTAGEM DUPLICADO",IF(COUNTIF(Programa!$K$5:$K$104,$G94)=0,"ITEM NÃO CADASTRADO",IF(AND(OR($R94="Planejada",$R94="Em contagem"),COUNTIFS(Programa!$K$5:$K$104,$G94,Programa!$A$5:$A$104,"Sim")=0),"ITEM INATIVO",IF(AND($R94="Concluída",OR($D94="",$I94="",$J94="")),"CONCLUSÃO INCOMPLETA",IF(AND($D94<>"",$D94>'Parâmetros e instruções'!$B$3),"DATA FUTURA",IF(AND($R94="Concluída",$M94<>0,$N94=""),"CUSTO AUSENTE",IF(AND($R94="Concluída",IFERROR(ABS($M94),0)>'Parâmetros e instruções'!$B$7,OR($S94="",$T94="")),"DIVERGÊNCIA SEM TRATATIVA","OK"))))))))) | X94: =Programa!$B$94 | Y94: =Programa!$D$94
G95: =IF(OR($E95="",$F95=""),"",UPPER(TRIM($E95))&"|"&UPPER(TRIM($F95))) | L95: =IF(AND($J95="",$K95=""),"",IF($K95<>"",$K95,$J95)) | M95: =IF(OR($L95="",$I95=""),"",$L95-$I95) | O95: =IF(OR($M95="",$N95=""),"",$M95*$N95) | P95: =IF($O95="","",ABS($O95)) | Q95: =IF($M95="","",IF(ABS($M95)<='Parâmetros e instruções'!$B$7,"Sim","Não")) | U95: =IF(COUNTA($A95:$F95,$H95:$K95,$N95,$R95:$T95)=0,"",IF(OR($A95="",$B95="",$C95="",$E95="",$F95="",$H95="",$R95=""),"PREENCHER OBRIGATÓRIOS",IF(COUNTIF($A$5:$A$104,$A95)>1,"ID CONTAGEM DUPLICADO",IF(COUNTIF(Programa!$K$5:$K$104,$G95)=0,"ITEM NÃO CADASTRADO",IF(AND(OR($R95="Planejada",$R95="Em contagem"),COUNTIFS(Programa!$K$5:$K$104,$G95,Programa!$A$5:$A$104,"Sim")=0),"ITEM INATIVO",IF(AND($R95="Concluída",OR($D95="",$I95="",$J95="")),"CONCLUSÃO INCOMPLETA",IF(AND($D95<>"",$D95>'Parâmetros e instruções'!$B$3),"DATA FUTURA",IF(AND($R95="Concluída",$M95<>0,$N95=""),"CUSTO AUSENTE",IF(AND($R95="Concluída",IFERROR(ABS($M95),0)>'Parâmetros e instruções'!$B$7,OR($S95="",$T95="")),"DIVERGÊNCIA SEM TRATATIVA","OK"))))))))) | X95: =Programa!$B$95 | Y95: =Programa!$D$95
G96: =IF(OR($E96="",$F96=""),"",UPPER(TRIM($E96))&"|"&UPPER(TRIM($F96))) | L96: =IF(AND($J96="",$K96=""),"",IF($K96<>"",$K96,$J96)) | M96: =IF(OR($L96="",$I96=""),"",$L96-$I96) | O96: =IF(OR($M96="",$N96=""),"",$M96*$N96) | P96: =IF($O96="","",ABS($O96)) | Q96: =IF($M96="","",IF(ABS($M96)<='Parâmetros e instruções'!$B$7,"Sim","Não")) | U96: =IF(COUNTA($A96:$F96,$H96:$K96,$N96,$R96:$T96)=0,"",IF(OR($A96="",$B96="",$C96="",$E96="",$F96="",$H96="",$R96=""),"PREENCHER OBRIGATÓRIOS",IF(COUNTIF($A$5:$A$104,$A96)>1,"ID CONTAGEM DUPLICADO",IF(COUNTIF(Programa!$K$5:$K$104,$G96)=0,"ITEM NÃO CADASTRADO",IF(AND(OR($R96="Planejada",$R96="Em contagem"),COUNTIFS(Programa!$K$5:$K$104,$G96,Programa!$A$5:$A$104,"Sim")=0),"ITEM INATIVO",IF(AND($R96="Concluída",OR($D96="",$I96="",$J96="")),"CONCLUSÃO INCOMPLETA",IF(AND($D96<>"",$D96>'Parâmetros e instruções'!$B$3),"DATA FUTURA",IF(AND($R96="Concluída",$M96<>0,$N96=""),"CUSTO AUSENTE",IF(AND($R96="Concluída",IFERROR(ABS($M96),0)>'Parâmetros e instruções'!$B$7,OR($S96="",$T96="")),"DIVERGÊNCIA SEM TRATATIVA","OK"))))))))) | X96: =Programa!$B$96 | Y96: =Programa!$D$96
G97: =IF(OR($E97="",$F97=""),"",UPPER(TRIM($E97))&"|"&UPPER(TRIM($F97))) | L97: =IF(AND($J97="",$K97=""),"",IF($K97<>"",$K97,$J97)) | M97: =IF(OR($L97="",$I97=""),"",$L97-$I97) | O97: =IF(OR($M97="",$N97=""),"",$M97*$N97) | P97: =IF($O97="","",ABS($O97)) | Q97: =IF($M97="","",IF(ABS($M97)<='Parâmetros e instruções'!$B$7,"Sim","Não")) | U97: =IF(COUNTA($A97:$F97,$H97:$K97,$N97,$R97:$T97)=0,"",IF(OR($A97="",$B97="",$C97="",$E97="",$F97="",$H97="",$R97=""),"PREENCHER OBRIGATÓRIOS",IF(COUNTIF($A$5:$A$104,$A97)>1,"ID CONTAGEM DUPLICADO",IF(COUNTIF(Programa!$K$5:$K$104,$G97)=0,"ITEM NÃO CADASTRADO",IF(AND(OR($R97="Planejada",$R97="Em contagem"),COUNTIFS(Programa!$K$5:$K$104,$G97,Programa!$A$5:$A$104,"Sim")=0),"ITEM INATIVO",IF(AND($R97="Concluída",OR($D97="",$I97="",$J97="")),"CONCLUSÃO INCOMPLETA",IF(AND($D97<>"",$D97>'Parâmetros e instruções'!$B$3),"DATA FUTURA",IF(AND($R97="Concluída",$M97<>0,$N97=""),"CUSTO AUSENTE",IF(AND($R97="Concluída",IFERROR(ABS($M97),0)>'Parâmetros e instruções'!$B$7,OR($S97="",$T97="")),"DIVERGÊNCIA SEM TRATATIVA","OK"))))))))) | X97: =Programa!$B$97 | Y97: =Programa!$D$97
G98: =IF(OR($E98="",$F98=""),"",UPPER(TRIM($E98))&"|"&UPPER(TRIM($F98))) | L98: =IF(AND($J98="",$K98=""),"",IF($K98<>"",$K98,$J98)) | M98: =IF(OR($L98="",$I98=""),"",$L98-$I98) | O98: =IF(OR($M98="",$N98=""),"",$M98*$N98) | P98: =IF($O98="","",ABS($O98)) | Q98: =IF($M98="","",IF(ABS($M98)<='Parâmetros e instruções'!$B$7,"Sim","Não")) | U98: =IF(COUNTA($A98:$F98,$H98:$K98,$N98,$R98:$T98)=0,"",IF(OR($A98="",$B98="",$C98="",$E98="",$F98="",$H98="",$R98=""),"PREENCHER OBRIGATÓRIOS",IF(COUNTIF($A$5:$A$104,$A98)>1,"ID CONTAGEM DUPLICADO",IF(COUNTIF(Programa!$K$5:$K$104,$G98)=0,"ITEM NÃO CADASTRADO",IF(AND(OR($R98="Planejada",$R98="Em contagem"),COUNTIFS(Programa!$K$5:$K$104,$G98,Programa!$A$5:$A$104,"Sim")=0),"ITEM INATIVO",IF(AND($R98="Concluída",OR($D98="",$I98="",$J98="")),"CONCLUSÃO INCOMPLETA",IF(AND($D98<>"",$D98>'Parâmetros e instruções'!$B$3),"DATA FUTURA",IF(AND($R98="Concluída",$M98<>0,$N98=""),"CUSTO AUSENTE",IF(AND($R98="Concluída",IFERROR(ABS($M98),0)>'Parâmetros e instruções'!$B$7,OR($S98="",$T98="")),"DIVERGÊNCIA SEM TRATATIVA","OK"))))))))) | X98: =Programa!$B$98 | Y98: =Programa!$D$98
G99: =IF(OR($E99="",$F99=""),"",UPPER(TRIM($E99))&"|"&UPPER(TRIM($F99))) | L99: =IF(AND($J99="",$K99=""),"",IF($K99<>"",$K99,$J99)) | M99: =IF(OR($L99="",$I99=""),"",$L99-$I99) | O99: =IF(OR($M99="",$N99=""),"",$M99*$N99) | P99: =IF($O99="","",ABS($O99)) | Q99: =IF($M99="","",IF(ABS($M99)<='Parâmetros e instruções'!$B$7,"Sim","Não")) | U99: =IF(COUNTA($A99:$F99,$H99:$K99,$N99,$R99:$T99)=0,"",IF(OR($A99="",$B99="",$C99="",$E99="",$F99="",$H99="",$R99=""),"PREENCHER OBRIGATÓRIOS",IF(COUNTIF($A$5:$A$104,$A99)>1,"ID CONTAGEM DUPLICADO",IF(COUNTIF(Programa!$K$5:$K$104,$G99)=0,"ITEM NÃO CADASTRADO",IF(AND(OR($R99="Planejada",$R99="Em contagem"),COUNTIFS(Programa!$K$5:$K$104,$G99,Programa!$A$5:$A$104,"Sim")=0),"ITEM INATIVO",IF(AND($R99="Concluída",OR($D99="",$I99="",$J99="")),"CONCLUSÃO INCOMPLETA",IF(AND($D99<>"",$D99>'Parâmetros e instruções'!$B$3),"DATA FUTURA",IF(AND($R99="Concluída",$M99<>0,$N99=""),"CUSTO AUSENTE",IF(AND($R99="Concluída",IFERROR(ABS($M99),0)>'Parâmetros e instruções'!$B$7,OR($S99="",$T99="")),"DIVERGÊNCIA SEM TRATATIVA","OK"))))))))) | X99: =Programa!$B$99 | Y99: =Programa!$D$99
G100: =IF(OR($E100="",$F100=""),"",UPPER(TRIM($E100))&"|"&UPPER(TRIM($F100))) | L100: =IF(AND($J100="",$K100=""),"",IF($K100<>"",$K100,$J100)) | M100: =IF(OR($L100="",$I100=""),"",$L100-$I100) | O100: =IF(OR($M100="",$N100=""),"",$M100*$N100) | P100: =IF($O100="","",ABS($O100)) | Q100: =IF($M100="","",IF(ABS($M100)<='Parâmetros e instruções'!$B$7,"Sim","Não")) | U100: =IF(COUNTA($A100:$F100,$H100:$K100,$N100,$R100:$T100)=0,"",IF(OR($A100="",$B100="",$C100="",$E100="",$F100="",$H100="",$R100=""),"PREENCHER OBRIGATÓRIOS",IF(COUNTIF($A$5:$A$104,$A100)>1,"ID CONTAGEM DUPLICADO",IF(COUNTIF(Programa!$K$5:$K$104,$G100)=0,"ITEM NÃO CADASTRADO",IF(AND(OR($R100="Planejada",$R100="Em contagem"),COUNTIFS(Programa!$K$5:$K$104,$G100,Programa!$A$5:$A$104,"Sim")=0),"ITEM INATIVO",IF(AND($R100="Concluída",OR($D100="",$I100="",$J100="")),"CONCLUSÃO INCOMPLETA",IF(AND($D100<>"",$D100>'Parâmetros e instruções'!$B$3),"DATA FUTURA",IF(AND($R100="Concluída",$M100<>0,$N100=""),"CUSTO AUSENTE",IF(AND($R100="Concluída",IFERROR(ABS($M100),0)>'Parâmetros e instruções'!$B$7,OR($S100="",$T100="")),"DIVERGÊNCIA SEM TRATATIVA","OK"))))))))) | X100: =Programa!$B$100 | Y100: =Programa!$D$100
G101: =IF(OR($E101="",$F101=""),"",UPPER(TRIM($E101))&"|"&UPPER(TRIM($F101))) | L101: =IF(AND($J101="",$K101=""),"",IF($K101<>"",$K101,$J101)) | M101: =IF(OR($L101="",$I101=""),"",$L101-$I101) | O101: =IF(OR($M101="",$N101=""),"",$M101*$N101) | P101: =IF($O101="","",ABS($O101)) | Q101: =IF($M101="","",IF(ABS($M101)<='Parâmetros e instruções'!$B$7,"Sim","Não")) | U101: =IF(COUNTA($A101:$F101,$H101:$K101,$N101,$R101:$T101)=0,"",IF(OR($A101="",$B101="",$C101="",$E101="",$F101="",$H101="",$R101=""),"PREENCHER OBRIGATÓRIOS",IF(COUNTIF($A$5:$A$104,$A101)>1,"ID CONTAGEM DUPLICADO",IF(COUNTIF(Programa!$K$5:$K$104,$G101)=0,"ITEM NÃO CADASTRADO",IF(AND(OR($R101="Planejada",$R101="Em contagem"),COUNTIFS(Programa!$K$5:$K$104,$G101,Programa!$A$5:$A$104,"Sim")=0),"ITEM INATIVO",IF(AND($R101="Concluída",OR($D101="",$I101="",$J101="")),"CONCLUSÃO INCOMPLETA",IF(AND($D101<>"",$D101>'Parâmetros e instruções'!$B$3),"DATA FUTURA",IF(AND($R101="Concluída",$M101<>0,$N101=""),"CUSTO AUSENTE",IF(AND($R101="Concluída",IFERROR(ABS($M101),0)>'Parâmetros e instruções'!$B$7,OR($S101="",$T101="")),"DIVERGÊNCIA SEM TRATATIVA","OK"))))))))) | X101: =Programa!$B$101 | Y101: =Programa!$D$101
...

Sheet Parâmetros e instruções
A1: Parâmetros e instruções
A3: Data de referência | B3: 46271
A4: Início do período do painel | B4: 46266
A5: Fim do período do painel | B5: 46295
A6: Janela de aviso, em dias | B6: 7
A7: Tolerância de divergência, em unidades | B7: 0
A8: Meta de cobertura | B8: 0.95
A9: Meta de acurácia | B9: 0.98
A10: Checagem dos parâmetros | B10: =IF(OR($B$3="",$B$4="",$B$5="",$B$6="",$B$7="",$B$8="",$B$9=""),"PREENCHER PARÂMETROS",IF($B$4>$B$5,"PERÍODO INVÁLIDO",IF(OR($B$8<0,$B$8>1,$B$9<0,$B$9>1),"METAS INVÁLIDAS","OK")))
A12: Classe ABC | B12: Risco | C12: Frequência padrão (dias) | E12: Responsáveis | G12: Rodadas | J12: Ativo? | K12: Classe ABC | L12: Risco | M12: Status de contagem
A13: A | B13: Alto | C13: 7 | E13: Equipe Inventário Alfa | G13: FIC-2026-11 | J13: Sim | K13: A | L13: Baixo | M13: Planejada
A14: A | B14: Médio | C14: 14 | E14: Equipe Inventário Beta | G14: FIC-2026-23 | J14: Não | K14: B | L14: Médio | M14: Em contagem
A15: A | B15: Baixo | C15: 30 | E15: Equipe Inventário Gama | G15: FIC-2026-27 | K15: C | L15: Alto | M15: Concluída
A16: B | B16: Alto | C16: 30 | E16: Equipe Inventário Delta | G16: FIC-2026-31 | M16: Cancelada
A17: B | B17: Médio | C17: 60 | E17: Turno Exemplo 01 | G17: FIC-2026-33
A18: B | B18: Baixo | C18: 90 | E18: Turno Exemplo 02 | G18: FIC-2026-34
A19: C | B19: Alto | C19: 60 | G19: FIC-2026-36
A20: C | B20: Médio | C20: 120 | G20: FIC-2026-37
A21: C | B21: Baixo | C21: 180 | G21: FIC-2026-38
G22: FIC-2026-39
G23: FIC-2026-40
G24: FIC-2026-41
A27: Como usar a planilha
A29: Fluxo recomendado
A30: 1. Atualize a data de referência, o período do painel e as metas.
A31: 2. Revise as frequências padrão por classe ABC e risco.
A32: 3. Cadastre cada combinação de SKU e localização na aba Programa.
A33: 4. Use a frequência personalizada somente quando a combinação precisar de uma exceção.
A34: 5. Consulte a aba Agenda para priorizar as próximas contagens.
A35: 6. Crie uma linha na aba Contagens para cada atividade planejada.
A36: 7. Ao concluir, informe a data, o saldo do sistema e a primeira contagem.
A37: 8. Use a segunda contagem quando houver recontagem; ela será considerada a quantidade final.
A38: 9. Registre motivo e ação quando a divergência ultrapassar a tolerância.
A39: 10. Revise os alertas do Resumo antes de usar os indicadores.
... A48: Esta planilha mantém uma programação recorrente e seletiva por SKU/localização. Ela não representa uma contagem geral de todo o estoque em uma data de corte.
