Workbook

Sheet Resumo
A1: Painel do lançamento de produto
A3: Produto | B3: =IF('Plano do Lançamento'!$H$2="","",'Plano do Lançamento'!$H$2) | E3: SKU | F3: =IF('Plano do Lançamento'!$E$2="","",'Plano do Lançamento'!$E$2)
A4: Canal | B4: =IF('Plano do Lançamento'!$K$2="","",'Plano do Lançamento'!$K$2) | E4: Data prevista de publicação | F4: =IF('Plano do Lançamento'!$B$3="","",'Plano do Lançamento'!$B$3)
A5: Responsável pelo lançamento | B5: =IF('Plano do Lançamento'!$N$2="","",'Plano do Lançamento'!$N$2) | E5: Dias até a publicação | F5: =IF($F$4="","",$F$4-TODAY())
A7: Recomendação operacional | B7: =IF(COUNTIF($B$17:$B$23,"<>OK")=0,"GO","NO-GO") | E7: =IF(AND($F$4<>"",$F$4<TODAY(),$B$7<>"GO"),"Data prevista ultrapassada",IF($B$7="GO","Todos os critérios obrigatórios foram atendidos","Consulte os impedimentos abaixo"))
A8: Recomendação calculada a partir das tarefas, dependências, aceites e aprovações registradas.
A10: Total de tarefas | B10: =COUNTIF('Plano do Lançamento'!$A$8:$A$107,"<>") | C10: Tarefas concluídas | D10: =COUNTIFS('Plano do Lançamento'!$A$8:$A$107,"<>",'Plano do Lançamento'!$H$8:$H$107,"Concluída") | E10: Percentual concluído | F10: =IF($B$10=0,"",$D$10/$B$10) | G10: Obrigatórias pendentes | H10: =COUNTIFS('Plano do Lançamento'!$A$8:$A$107,"<>",'Plano do Lançamento'!$N$8:$N$107,"Sim",'Plano do Lançamento'!$H$8:$H$107,"<>Concluída")
A12: Tarefas bloqueadas | B12: =COUNTIFS('Plano do Lançamento'!$A$8:$A$107,"<>",'Plano do Lançamento'!$H$8:$H$107,"Bloqueada") | C12: Prazos vencidos | D12: =COUNTIFS('Plano do Lançamento'!$A$8:$A$107,"<>",'Plano do Lançamento'!$G$8:$G$107,"<"&TODAY(),'Plano do Lançamento'!$H$8:$H$107,"<>Concluída",'Plano do Lançamento'!$H$8:$H$107,"<>Cancelada") | E12: Dependências pendentes | F12: =COUNTIFS('Plano do Lançamento'!$A$8:$A$107,"<>",'Plano do Lançamento'!$R$8:$R$107,"Sim") | G12: Aprovações obrigatórias pendentes | H12: =COUNTIF('Aprovações'!$E$4:$E$9,"Impede GO")
A14: Erros de preenchimento | B14: =COUNTIF('Plano do Lançamento'!$U$8:$U$107,"Sim") | C14: Marcos em aberto | D14: =COUNTIFS('Plano do Lançamento'!$A$8:$A$107,"<>",'Plano do Lançamento'!$C$8:$C$107,"Marco",'Plano do Lançamento'!$H$8:$H$107,"<>Concluída",'Plano do Lançamento'!$H$8:$H$107,"<>Cancelada")
A16: Critério | B16: Situação
A17: Dados básicos preenchidos | B17: =IF(AND('Plano do Lançamento'!$B$2<>"",'Plano do Lançamento'!$E$2<>"",'Plano do Lançamento'!$H$2<>"",'Plano do Lançamento'!$K$2<>"",'Plano do Lançamento'!$N$2<>"",'Plano do Lançamento'!$Q$2<>"",'Plano do Lançamento'!$B$3<>"",'Plano do Lançamento'!$E$3<>""),"OK","Pendente")
A18: Pelo menos uma tarefa obrigatória | B18: =IF(COUNTIFS('Plano do Lançamento'!$A$8:$A$107,"<>",'Plano do Lançamento'!$N$8:$N$107,"Sim")>0,"OK","Pendente")
A19: Tarefas obrigatórias concluídas | B19: =IF(COUNTIFS('Plano do Lançamento'!$A$8:$A$107,"<>",'Plano do Lançamento'!$N$8:$N$107,"Sim",'Plano do Lançamento'!$H$8:$H$107,"<>Concluída")=0,"OK","Pendente")
A20: Aceites obrigatórios registrados | B20: =IF('Configurações'!$B$6="Não","OK",IF(COUNTIFS('Plano do Lançamento'!$A$8:$A$107,"<>",'Plano do Lançamento'!$N$8:$N$107,"Sim",'Plano do Lançamento'!$M$8:$M$107,"<>Sim")=0,"OK","Pendente"))
A21: Sem bloqueios ou dependências pendentes | B21: =IF(COUNTIFS('Plano do Lançamento'!$A$8:$A$107,"<>",'Plano do Lançamento'!$R$8:$R$107,"Sim")+IF('Configurações'!$B$5="Sim",COUNTIFS('Plano do Lançamento'!$A$8:$A$107,"<>",'Plano do Lançamento'!$H$8:$H$107,"Bloqueada"),0)=0,"OK","Pendente")
A22: Aprovações obrigatórias concluídas | B22: =IF(COUNTIF('Aprovações'!$E$4:$E$9,"Impede GO")=0,"OK","Pendente")
A23: Sem erros de preenchimento | B23: =IF(COUNTIF('Plano do Lançamento'!$U$8:$U$107,"Sim")=0,"OK","Pendente")
A26: Status | B26: Quantidade | D26: Fase | E26: Quantidade
A27: =Configurações!B11 | B27: =COUNTIFS('Plano do Lançamento'!$A$8:$A$107,"<>",'Plano do Lançamento'!$H$8:$H$107,A27) | D27: =Configurações!A11 | E27: =COUNTIFS('Plano do Lançamento'!$A$8:$A$107,"<>",'Plano do Lançamento'!$B$8:$B$107,D27)
A28: =Configurações!B12 | B28: =COUNTIFS('Plano do Lançamento'!$A$8:$A$107,"<>",'Plano do Lançamento'!$H$8:$H$107,A28) | D28: =Configurações!A12 | E28: =COUNTIFS('Plano do Lançamento'!$A$8:$A$107,"<>",'Plano do Lançamento'!$B$8:$B$107,D28)
A29: =Configurações!B13 | B29: =COUNTIFS('Plano do Lançamento'!$A$8:$A$107,"<>",'Plano do Lançamento'!$H$8:$H$107,A29) | D29: =Configurações!A13 | E29: =COUNTIFS('Plano do Lançamento'!$A$8:$A$107,"<>",'Plano do Lançamento'!$B$8:$B$107,D29)
A30: =Configurações!B14 | B30: =COUNTIFS('Plano do Lançamento'!$A$8:$A$107,"<>",'Plano do Lançamento'!$H$8:$H$107,A30) | D30: =Configurações!A14 | E30: =COUNTIFS('Plano do Lançamento'!$A$8:$A$107,"<>",'Plano do Lançamento'!$B$8:$B$107,D30)
A31: =Configurações!B15 | B31: =COUNTIFS('Plano do Lançamento'!$A$8:$A$107,"<>",'Plano do Lançamento'!$H$8:$H$107,A31) | D31: =Configurações!A15 | E31: =COUNTIFS('Plano do Lançamento'!$A$8:$A$107,"<>",'Plano do Lançamento'!$B$8:$B$107,D31)
D32: =Configurações!A16 | E32: =COUNTIFS('Plano do Lançamento'!$A$8:$A$107,"<>",'Plano do Lançamento'!$B$8:$B$107,D32)
A35: Ordem | B35: ID | C35: Tarefa ou marco | D35: Prazo | E35: Responsável | F35: Situação | G35: Chave auxiliar
A36: 1 | B36: =IF($G36="","",INDEX('Plano do Lançamento'!$A$8:$A$107,MATCH($G36,'Plano do Lançamento'!$T$8:$T$107,0))) | C36: =IF($G36="","",INDEX('Plano do Lançamento'!$D$8:$D$107,MATCH($G36,'Plano do Lançamento'!$T$8:$T$107,0))) | D36: =IF($G36="","",INDEX('Plano do Lançamento'!$G$8:$G$107,MATCH($G36,'Plano do Lançamento'!$T$8:$T$107,0))) | E36: =IF($G36="","",INDEX('Plano do Lançamento'!$E$8:$E$107,MATCH($G36,'Plano do Lançamento'!$T$8:$T$107,0))) | F36: =IF($G36="","",INDEX('Plano do Lançamento'!$S$8:$S$107,MATCH($G36,'Plano do Lançamento'!$T$8:$T$107,0))) | G36: =IFERROR(AGGREGATE(15,6,'Plano do Lançamento'!$T$8:$T$107/('Plano do Lançamento'!$T$8:$T$107<>""),ROWS($A$36:A36)),"")
A37: 2 | B37: =IF($G37="","",INDEX('Plano do Lançamento'!$A$8:$A$107,MATCH($G37,'Plano do Lançamento'!$T$8:$T$107,0))) | C37: =IF($G37="","",INDEX('Plano do Lançamento'!$D$8:$D$107,MATCH($G37,'Plano do Lançamento'!$T$8:$T$107,0))) | D37: =IF($G37="","",INDEX('Plano do Lançamento'!$G$8:$G$107,MATCH($G37,'Plano do Lançamento'!$T$8:$T$107,0))) | E37: =IF($G37="","",INDEX('Plano do Lançamento'!$E$8:$E$107,MATCH($G37,'Plano do Lançamento'!$T$8:$T$107,0))) | F37: =IF($G37="","",INDEX('Plano do Lançamento'!$S$8:$S$107,MATCH($G37,'Plano do Lançamento'!$T$8:$T$107,0))) | G37: =IFERROR(AGGREGATE(15,6,'Plano do Lançamento'!$T$8:$T$107/('Plano do Lançamento'!$T$8:$T$107<>""),ROWS($A$36:A37)),"")
A38: 3 | B38: =IF($G38="","",INDEX('Plano do Lançamento'!$A$8:$A$107,MATCH($G38,'Plano do Lançamento'!$T$8:$T$107,0))) | C38: =IF($G38="","",INDEX('Plano do Lançamento'!$D$8:$D$107,MATCH($G38,'Plano do Lançamento'!$T$8:$T$107,0))) | D38: =IF($G38="","",INDEX('Plano do Lançamento'!$G$8:$G$107,MATCH($G38,'Plano do Lançamento'!$T$8:$T$107,0))) | E38: =IF($G38="","",INDEX('Plano do Lançamento'!$E$8:$E$107,MATCH($G38,'Plano do Lançamento'!$T$8:$T$107,0))) | F38: =IF($G38="","",INDEX('Plano do Lançamento'!$S$8:$S$107,MATCH($G38,'Plano do Lançamento'!$T$8:$T$107,0))) | G38: =IFERROR(AGGREGATE(15,6,'Plano do Lançamento'!$T$8:$T$107/('Plano do Lançamento'!$T$8:$T$107<>""),ROWS($A$36:A38)),"")
A39: 4 | B39: =IF($G39="","",INDEX('Plano do Lançamento'!$A$8:$A$107,MATCH($G39,'Plano do Lançamento'!$T$8:$T$107,0))) | C39: =IF($G39="","",INDEX('Plano do Lançamento'!$D$8:$D$107,MATCH($G39,'Plano do Lançamento'!$T$8:$T$107,0))) | D39: =IF($G39="","",INDEX('Plano do Lançamento'!$G$8:$G$107,MATCH($G39,'Plano do Lançamento'!$T$8:$T$107,0))) | E39: =IF($G39="","",INDEX('Plano do Lançamento'!$E$8:$E$107,MATCH($G39,'Plano do Lançamento'!$T$8:$T$107,0))) | F39: =IF($G39="","",INDEX('Plano do Lançamento'!$S$8:$S$107,MATCH($G39,'Plano do Lançamento'!$T$8:$T$107,0))) | G39: =IFERROR(AGGREGATE(15,6,'Plano do Lançamento'!$T$8:$T$107/('Plano do Lançamento'!$T$8:$T$107<>""),ROWS($A$36:A39)),"")
A40: 5 | B40: =IF($G40="","",INDEX('Plano do Lançamento'!$A$8:$A$107,MATCH($G40,'Plano do Lançamento'!$T$8:$T$107,0))) | C40: =IF($G40="","",INDEX('Plano do Lançamento'!$D$8:$D$107,MATCH($G40,'Plano do Lançamento'!$T$8:$T$107,0))) | D40: =IF($G40="","",INDEX('Plano do Lançamento'!$G$8:$G$107,MATCH($G40,'Plano do Lançamento'!$T$8:$T$107,0))) | E40: =IF($G40="","",INDEX('Plano do Lançamento'!$E$8:$E$107,MATCH($G40,'Plano do Lançamento'!$T$8:$T$107,0))) | F40: =IF($G40="","",INDEX('Plano do Lançamento'!$S$8:$S$107,MATCH($G40,'Plano do Lançamento'!$T$8:$T$107,0))) | G40: =IFERROR(AGGREGATE(15,6,'Plano do Lançamento'!$T$8:$T$107/('Plano do Lançamento'!$T$8:$T$107<>""),ROWS($A$36:A40)),"")

Sheet Plano do Lançamento
A1: Plano do lançamento de produto
A2: Empresa | B2: Loja Horizonte Fictícia | D2: SKU | E2: FIC-LUM-030 | G2: Produto | H2: Luminária Nuvem Lilás — 30 cm | J2: Canal | K2: Loja virtual | M2: Responsável pelo lançamento | N2: Equipe Produto | P2: Data de início | Q2: 46266
A3: Data prevista de publicação | B3: 46295 | D3: Objetivo do lançamento | E3: Publicar o SKU fictício com conteúdo, oferta, estoque e fluxo de compra preparados. | G3: Status do plano | H3: =IF(OR($E$2="",$H$2="",$B$3=""),"Dados incompletos",IF(COUNTIF($A$8:$A$107,"<>")=0,"Sem tarefas",IF(COUNTIFS($N$8:$N$107,"Sim",$H$8:$H$107,"<>Concluída")>0,"Em preparação",IF(COUNTIFS($N$8:$N$107,"Sim",$M$8:$M$107,"<>Sim")>0,"Aguardando aceite","Pronto para aprovação")))) | J3: Data da verificação | K3: =TODAY()
A7: ID da tarefa | B7: Fase | C7: Tipo | D7: Tarefa ou marco | E7: Responsável | F7: Início planejado | G7: Prazo | H7: Status | I7: Percentual concluído | J7: Dependência 1 | K7: Dependência 2 | L7: Critério de aceite | M7: Aceite atendido? | N7: Obrigatória para GO? | O7: Evidência ou observação | P7: Data de conclusão | Q7: Saldo do prazo (dias) | R7: Dependência pendente? | S7: Alerta | T7: Chave de ordenação | U7: Erro de preenchimento?
A8: LT-001 | B8: Planejamento | C8: Marco | D8: Aprovar escopo do lançamento | E8: Equipe Produto | F8: 46266 | G8: 46268 | H8: Concluída | I8: 1 | L8: Escopo, canal e data de publicação aprovados | M8: Sim | N8: Sim | O8: Escopo fictício versão 1 aprovado | P8: 46268 | Q8: =IF(OR($A8="",$G8=""),"",IF($H8="Concluída",IF($P8="","",$G8-$P8),$G8-TODAY())) | R8: =IF($A8="","",IF(OR(AND($J8<>"",COUNTIF($A$8:$A$107,$J8)>0,IFERROR(INDEX($H$8:$H$107,MATCH($J8,$A$8:$A$107,0)),"")<>"Concluída"),AND($K8<>"",COUNTIF($A$8:$A$107,$K8)>0,IFERROR(INDEX($H$8:$H$107,MATCH($K8,$A$8:$A$107,0)),"")<>"Concluída")),"Sim","Não")) | S8: =IF($A8="","",IF(COUNTIF($A$8:$A$107,$A8)>1,"ID duplicado",IF(LEFT($A8,3)<>"LT-","ID fora do padrão",IF(OR($J8=$A8,$K8=$A8),"Dependência aponta para a própria tarefa",IF(AND($J8<>"",$J8=$K8),"Dependência repetida",IF(OR(AND($J8<>"",COUNTIF($A$8:$A$107,$J8)=0),AND($K8<>"",COUNTIF($A$8:$A$107,$K8)=0)),"Dependência não encontrada",IF(OR($B8="",$C8="",$D8="",$E8="",$F8="",$G8="",$H8="",$I8="",$L8="",$M8="",$N8=""),"Campos obrigatórios incompletos",IF(OR($F8>$G8,AND($P8<>"",$P8<$F8)),"Datas em ordem inválida",IF(AND($H8="Concluída",$N8="Sim",'Configurações'!$B$6="Sim",$M8<>"Sim"),"Concluída sem aceite",IF(AND($H8="Concluída",$P8=""),"Falta data de conclusão",IF(AND($H8<>"Concluída",$P8<>""),"Data de conclusão inconsistente",IF(AND($H8="Concluída",$I8<>1),"% incompatível com concluída",IF(AND($H8="Não iniciada",$I8<>0),"% incompatível com não iniciada",IF(AND($H8="Concluída",$P8>$G8),"Concluída com atraso",IF($H8="Bloqueada","Tarefa bloqueada",IF($R8="Sim","Dependência pendente",IF(AND($G8<TODAY(),$H8<>"Concluída",$H8<>"Cancelada"),"Prazo vencido",IF(AND($G8>=TODAY(),$G8-TODAY()<='Configurações'!$B$4,$H8<>"Concluída",$H8<>"Cancelada"),"Prazo próximo","OK")))))))))))))))))) | T8: =IF(OR($A8="",$G8="",$H8="Concluída",$H8="Cancelada"),"",$G8+ROW()/100000) | U8: =IF($A8="","",IF(OR($S8="ID duplicado",$S8="ID fora do padrão",$S8="Dependência aponta para a própria tarefa",$S8="Dependência repetida",$S8="Dependência não encontrada",$S8="Campos obrigatórios incompletos",$S8="Datas em ordem inválida",$S8="Concluída sem aceite",$S8="Falta data de conclusão",$S8="Data de conclusão inconsistente",$S8="% incompatível com concluída",$S8="% incompatível com não iniciada"),"Sim","Não"))
A9: LT-002 | B9: Conteúdo | C9: Tarefa | D9: Produzir imagens principais do produto | E9: Equipe Conteúdo | F9: 46267 | G9: 46275 | H9: Em andamento | I9: 0.6 | J9: LT-001 | L9: Seis imagens fictícias entregues no padrão definido | M9: Não | N9: Sim | O9: Sessão fictícia realizada; faltam duas imagens | Q9: =IF(OR($A9="",$G9=""),"",IF($H9="Concluída",IF($P9="","",$G9-$P9),$G9-TODAY())) | R9: =IF($A9="","",IF(OR(AND($J9<>"",COUNTIF($A$8:$A$107,$J9)>0,IFERROR(INDEX($H$8:$H$107,MATCH($J9,$A$8:$A$107,0)),"")<>"Concluída"),AND($K9<>"",COUNTIF($A$8:$A$107,$K9)>0,IFERROR(INDEX($H$8:$H$107,MATCH($K9,$A$8:$A$107,0)),"")<>"Concluída")),"Sim","Não")) | S9: =IF($A9="","",IF(COUNTIF($A$8:$A$107,$A9)>1,"ID duplicado",IF(LEFT($A9,3)<>"LT-","ID fora do padrão",IF(OR($J9=$A9,$K9=$A9),"Dependência aponta para a própria tarefa",IF(AND($J9<>"",$J9=$K9),"Dependência repetida",IF(OR(AND($J9<>"",COUNTIF($A$8:$A$107,$J9)=0),AND($K9<>"",COUNTIF($A$8:$A$107,$K9)=0)),"Dependência não encontrada",IF(OR($B9="",$C9="",$D9="",$E9="",$F9="",$G9="",$H9="",$I9="",$L9="",$M9="",$N9=""),"Campos obrigatórios incompletos",IF(OR($F9>$G9,AND($P9<>"",$P9<$F9)),"Datas em ordem inválida",IF(AND($H9="Concluída",$N9="Sim",'Configurações'!$B$6="Sim",$M9<>"Sim"),"Concluída sem aceite",IF(AND($H9="Concluída",$P9=""),"Falta data de conclusão",IF(AND($H9<>"Concluída",$P9<>""),"Data de conclusão inconsistente",IF(AND($H9="Concluída",$I9<>1),"% incompatível com concluída",IF(AND($H9="Não iniciada",$I9<>0),"% incompatível com não iniciada",IF(AND($H9="Concluída",$P9>$G9),"Concluída com atraso",IF($H9="Bloqueada","Tarefa bloqueada",IF($R9="Sim","Dependência pendente",IF(AND($G9<TODAY(),$H9<>"Concluída",$H9<>"Cancelada"),"Prazo vencido",IF(AND($G9>=TODAY(),$G9-TODAY()<='Configurações'!$B$4,$H9<>"Concluída",$H9<>"Cancelada"),"Prazo próximo","OK")))))))))))))))))) | T9: =IF(OR($A9="",$G9="",$H9="Concluída",$H9="Cancelada"),"",$G9+ROW()/100000) | U9: =IF($A9="","",IF(OR($S9="ID duplicado",$S9="ID fora do padrão",$S9="Dependência aponta para a própria tarefa",$S9="Dependência repetida",$S9="Dependência não encontrada",$S9="Campos obrigatórios incompletos",$S9="Datas em ordem inválida",$S9="Concluída sem aceite",$S9="Falta data de conclusão",$S9="Data de conclusão inconsistente",$S9="% incompatível com concluída",$S9="% incompatível com não iniciada"),"Sim","Não"))
A10: LT-003 | B10: Conteúdo | C10: Tarefa | D10: Redigir título e descrição comercial | E10: Equipe Conteúdo | F10: 46267 | G10: 46270 | H10: Concluída | I10: 1 | J10: LT-001 | L10: Título e descrição aprovados pela equipe responsável | M10: Sim | N10: Sim | O10: Texto fictício aprovado | P10: 46270 | Q10: =IF(OR($A10="",$G10=""),"",IF($H10="Concluída",IF($P10="","",$G10-$P10),$G10-TODAY())) | R10: =IF($A10="","",IF(OR(AND($J10<>"",COUNTIF($A$8:$A$107,$J10)>0,IFERROR(INDEX($H$8:$H$107,MATCH($J10,$A$8:$A$107,0)),"")<>"Concluída"),AND($K10<>"",COUNTIF($A$8:$A$107,$K10)>0,IFERROR(INDEX($H$8:$H$107,MATCH($K10,$A$8:$A$107,0)),"")<>"Concluída")),"Sim","Não")) | S10: =IF($A10="","",IF(COUNTIF($A$8:$A$107,$A10)>1,"ID duplicado",IF(LEFT($A10,3)<>"LT-","ID fora do padrão",IF(OR($J10=$A10,$K10=$A10),"Dependência aponta para a própria tarefa",IF(AND($J10<>"",$J10=$K10),"Dependência repetida",IF(OR(AND($J10<>"",COUNTIF($A$8:$A$107,$J10)=0),AND($K10<>"",COUNTIF($A$8:$A$107,$K10)=0)),"Dependência não encontrada",IF(OR($B10="",$C10="",$D10="",$E10="",$F10="",$G10="",$H10="",$I10="",$L10="",$M10="",$N10=""),"Campos obrigatórios incompletos",IF(OR($F10>$G10,AND($P10<>"",$P10<$F10)),"Datas em ordem inválida",IF(AND($H10="Concluída",$N10="Sim",'Configurações'!$B$6="Sim",$M10<>"Sim"),"Concluída sem aceite",IF(AND($H10="Concluída",$P10=""),"Falta data de conclusão",IF(AND($H10<>"Concluída",$P10<>""),"Data de conclusão inconsistente",IF(AND($H10="Concluída",$I10<>1),"% incompatível com concluída",IF(AND($H10="Não iniciada",$I10<>0),"% incompatível com não iniciada",IF(AND($H10="Concluída",$P10>$G10),"Concluída com atraso",IF($H10="Bloqueada","Tarefa bloqueada",IF($R10="Sim","Dependência pendente",IF(AND($G10<TODAY(),$H10<>"Concluída",$H10<>"Cancelada"),"Prazo vencido",IF(AND($G10>=TODAY(),$G10-TODAY()<='Configurações'!$B$4,$H10<>"Concluída",$H10<>"Cancelada"),"Prazo próximo","OK")))))))))))))))))) | T10: =IF(OR($A10="",$G10="",$H10="Concluída",$H10="Cancelada"),"",$G10+ROW()/100000) | U10: =IF($A10="","",IF(OR($S10="ID duplicado",$S10="ID fora do padrão",$S10="Dependência aponta para a própria tarefa",$S10="Dependência repetida",$S10="Dependência não encontrada",$S10="Campos obrigatórios incompletos",$S10="Datas em ordem inválida",$S10="Concluída sem aceite",$S10="Falta data de conclusão",$S10="Data de conclusão inconsistente",$S10="% incompatível com concluída",$S10="% incompatível com não iniciada"),"Sim","Não"))
A11: LT-004 | B11: Comercial | C11: Tarefa | D11: Configurar preço promocional de lançamento | E11: Equipe Comercial | F11: 46272 | G11: 46277 | H11: Não iniciada | I11: 0 | J11: LT-001 | L11: Oferta de lançamento registrada e revisada | M11: Não | N11: Sim | Q11: =IF(OR($A11="",$G11=""),"",IF($H11="Concluída",IF($P11="","",$G11-$P11),$G11-TODAY())) | R11: =IF($A11="","",IF(OR(AND($J11<>"",COUNTIF($A$8:$A$107,$J11)>0,IFERROR(INDEX($H$8:$H$107,MATCH($J11,$A$8:$A$107,0)),"")<>"Concluída"),AND($K11<>"",COUNTIF($A$8:$A$107,$K11)>0,IFERROR(INDEX($H$8:$H$107,MATCH($K11,$A$8:$A$107,0)),"")<>"Concluída")),"Sim","Não")) | S11: =IF($A11="","",IF(COUNTIF($A$8:$A$107,$A11)>1,"ID duplicado",IF(LEFT($A11,3)<>"LT-","ID fora do padrão",IF(OR($J11=$A11,$K11=$A11),"Dependência aponta para a própria tarefa",IF(AND($J11<>"",$J11=$K11),"Dependência repetida",IF(OR(AND($J11<>"",COUNTIF($A$8:$A$107,$J11)=0),AND($K11<>"",COUNTIF($A$8:$A$107,$K11)=0)),"Dependência não encontrada",IF(OR($B11="",$C11="",$D11="",$E11="",$F11="",$G11="",$H11="",$I11="",$L11="",$M11="",$N11=""),"Campos obrigatórios incompletos",IF(OR($F11>$G11,AND($P11<>"",$P11<$F11)),"Datas em ordem inválida",IF(AND($H11="Concluída",$N11="Sim",'Configurações'!$B$6="Sim",$M11<>"Sim"),"Concluída sem aceite",IF(AND($H11="Concluída",$P11=""),"Falta data de conclusão",IF(AND($H11<>"Concluída",$P11<>""),"Data de conclusão inconsistente",IF(AND($H11="Concluída",$I11<>1),"% incompatível com concluída",IF(AND($H11="Não iniciada",$I11<>0),"% incompatível com não iniciada",IF(AND($H11="Concluída",$P11>$G11),"Concluída com atraso",IF($H11="Bloqueada","Tarefa bloqueada",IF($R11="Sim","Dependência pendente",IF(AND($G11<TODAY(),$H11<>"Concluída",$H11<>"Cancelada"),"Prazo vencido",IF(AND($G11>=TODAY(),$G11-TODAY()<='Configurações'!$B$4,$H11<>"Concluída",$H11<>"Cancelada"),"Prazo próximo","OK")))))))))))))))))) | T11: =IF(OR($A11="",$G11="",$H11="Concluída",$H11="Cancelada"),"",$G11+ROW()/100000) | U11: =IF($A11="","",IF(OR($S11="ID duplicado",$S11="ID fora do padrão",$S11="Dependência aponta para a própria tarefa",$S11="Dependência repetida",$S11="Dependência não encontrada",$S11="Campos obrigatórios incompletos",$S11="Datas em ordem inválida",$S11="Concluída sem aceite",$S11="Falta data de conclusão",$S11="Data de conclusão inconsistente",$S11="% incompatível com concluída",$S11="% incompatível com não iniciada"),"Sim","Não"))
A12: LT-005 | B12: Operações | C12: Tarefa | D12: Cadastrar a oferta no canal de venda | E12: Equipe Operações | F12: 46276 | G12: 46281 | H12: Não iniciada | I12: 0 | J12: LT-002 | K12: LT-003 | L12: Oferta salva no canal e pronta para teste | M12: Não | N12: Sim | Q12: =IF(OR($A12="",$G12=""),"",IF($H12="Concluída",IF($P12="","",$G12-$P12),$G12-TODAY())) | R12: =IF($A12="","",IF(OR(AND($J12<>"",COUNTIF($A$8:$A$107,$J12)>0,IFERROR(INDEX($H$8:$H$107,MATCH($J12,$A$8:$A$107,0)),"")<>"Concluída"),AND($K12<>"",COUNTIF($A$8:$A$107,$K12)>0,IFERROR(INDEX($H$8:$H$107,MATCH($K12,$A$8:$A$107,0)),"")<>"Concluída")),"Sim","Não")) | S12: =IF($A12="","",IF(COUNTIF($A$8:$A$107,$A12)>1,"ID duplicado",IF(LEFT($A12,3)<>"LT-","ID fora do padrão",IF(OR($J12=$A12,$K12=$A12),"Dependência aponta para a própria tarefa",IF(AND($J12<>"",$J12=$K12),"Dependência repetida",IF(OR(AND($J12<>"",COUNTIF($A$8:$A$107,$J12)=0),AND($K12<>"",COUNTIF($A$8:$A$107,$K12)=0)),"Dependência não encontrada",IF(OR($B12="",$C12="",$D12="",$E12="",$F12="",$G12="",$H12="",$I12="",$L12="",$M12="",$N12=""),"Campos obrigatórios incompletos",IF(OR($F12>$G12,AND($P12<>"",$P12<$F12)),"Datas em ordem inválida",IF(AND($H12="Concluída",$N12="Sim",'Configurações'!$B$6="Sim",$M12<>"Sim"),"Concluída sem aceite",IF(AND($H12="Concluída",$P12=""),"Falta data de conclusão",IF(AND($H12<>"Concluída",$P12<>""),"Data de conclusão inconsistente",IF(AND($H12="Concluída",$I12<>1),"% incompatível com concluída",IF(AND($H12="Não iniciada",$I12<>0),"% incompatível com não iniciada",IF(AND($H12="Concluída",$P12>$G12),"Concluída com atraso",IF($H12="Bloqueada","Tarefa bloqueada",IF($R12="Sim","Dependência pendente",IF(AND($G12<TODAY(),$H12<>"Concluída",$H12<>"Cancelada"),"Prazo vencido",IF(AND($G12>=TODAY(),$G12-TODAY()<='Configurações'!$B$4,$H12<>"Concluída",$H12<>"Cancelada"),"Prazo próximo","OK")))))))))))))))))) | T12: =IF(OR($A12="",$G12="",$H12="Concluída",$H12="Cancelada"),"",$G12+ROW()/100000) | U12: =IF($A12="","",IF(OR($S12="ID duplicado",$S12="ID fora do padrão",$S12="Dependência aponta para a própria tarefa",$S12="Dependência repetida",$S12="Dependência não encontrada",$S12="Campos obrigatórios incompletos",$S12="Datas em ordem inválida",$S12="Concluída sem aceite",$S12="Falta data de conclusão",$S12="Data de conclusão inconsistente",$S12="% incompatível com concluída",$S12="% incompatível com não iniciada"),"Sim","Não"))
A13: LT-006 | B13: Operações | C13: Tarefa | D13: Validar estoque inicial | E13: Equipe Operações | F13: 46273 | G13: 46279 | H13: Bloqueada | I13: 0.2 | J13: LT-001 | L13: Cento e vinte unidades fictícias disponíveis para venda | M13: Não | N13: Sim | O13: Aguardando confirmação do lote fictício | Q13: =IF(OR($A13="",$G13=""),"",IF($H13="Concluída",IF($P13="","",$G13-$P13),$G13-TODAY())) | R13: =IF($A13="","",IF(OR(AND($J13<>"",COUNTIF($A$8:$A$107,$J13)>0,IFERROR(INDEX($H$8:$H$107,MATCH($J13,$A$8:$A$107,0)),"")<>"Concluída"),AND($K13<>"",COUNTIF($A$8:$A$107,$K13)>0,IFERROR(INDEX($H$8:$H$107,MATCH($K13,$A$8:$A$107,0)),"")<>"Concluída")),"Sim","Não")) | S13: =IF($A13="","",IF(COUNTIF($A$8:$A$107,$A13)>1,"ID duplicado",IF(LEFT($A13,3)<>"LT-","ID fora do padrão",IF(OR($J13=$A13,$K13=$A13),"Dependência aponta para a própria tarefa",IF(AND($J13<>"",$J13=$K13),"Dependência repetida",IF(OR(AND($J13<>"",COUNTIF($A$8:$A$107,$J13)=0),AND($K13<>"",COUNTIF($A$8:$A$107,$K13)=0)),"Dependência não encontrada",IF(OR($B13="",$C13="",$D13="",$E13="",$F13="",$G13="",$H13="",$I13="",$L13="",$M13="",$N13=""),"Campos obrigatórios incompletos",IF(OR($F13>$G13,AND($P13<>"",$P13<$F13)),"Datas em ordem inválida",IF(AND($H13="Concluída",$N13="Sim",'Configurações'!$B$6="Sim",$M13<>"Sim"),"Concluída sem aceite",IF(AND($H13="Concluída",$P13=""),"Falta data de conclusão",IF(AND($H13<>"Concluída",$P13<>""),"Data de conclusão inconsistente",IF(AND($H13="Concluída",$I13<>1),"% incompatível com concluída",IF(AND($H13="Não iniciada",$I13<>0),"% incompatível com não iniciada",IF(AND($H13="Concluída",$P13>$G13),"Concluída com atraso",IF($H13="Bloqueada","Tarefa bloqueada",IF($R13="Sim","Dependência pendente",IF(AND($G13<TODAY(),$H13<>"Concluída",$H13<>"Cancelada"),"Prazo vencido",IF(AND($G13>=TODAY(),$G13-TODAY()<='Configurações'!$B$4,$H13<>"Concluída",$H13<>"Cancelada"),"Prazo próximo","OK")))))))))))))))))) | T13: =IF(OR($A13="",$G13="",$H13="Concluída",$H13="Cancelada"),"",$G13+ROW()/100000) | U13: =IF($A13="","",IF(OR($S13="ID duplicado",$S13="ID fora do padrão",$S13="Dependência aponta para a própria tarefa",$S13="Dependência repetida",$S13="Dependência não encontrada",$S13="Campos obrigatórios incompletos",$S13="Datas em ordem inválida",$S13="Concluída sem aceite",$S13="Falta data de conclusão",$S13="Data de conclusão inconsistente",$S13="% incompatível com concluída",$S13="% incompatível com não iniciada"),"Sim","Não"))
A14: LT-007 | B14: Tecnologia | C14: Tarefa | D14: Executar teste de compra e pagamento | E14: Equipe Tecnologia | F14: 46282 | G14: 46287 | H14: Não iniciada | I14: 0 | J14: LT-005 | K14: LT-006 | L14: Pedido fictício concluído sem erro de fluxo | M14: Não | N14: Sim | Q14: =IF(OR($A14="",$G14=""),"",IF($H14="Concluída",IF($P14="","",$G14-$P14),$G14-TODAY())) | R14: =IF($A14="","",IF(OR(AND($J14<>"",COUNTIF($A$8:$A$107,$J14)>0,IFERROR(INDEX($H$8:$H$107,MATCH($J14,$A$8:$A$107,0)),"")<>"Concluída"),AND($K14<>"",COUNTIF($A$8:$A$107,$K14)>0,IFERROR(INDEX($H$8:$H$107,MATCH($K14,$A$8:$A$107,0)),"")<>"Concluída")),"Sim","Não")) | S14: =IF($A14="","",IF(COUNTIF($A$8:$A$107,$A14)>1,"ID duplicado",IF(LEFT($A14,3)<>"LT-","ID fora do padrão",IF(OR($J14=$A14,$K14=$A14),"Dependência aponta para a própria tarefa",IF(AND($J14<>"",$J14=$K14),"Dependência repetida",IF(OR(AND($J14<>"",COUNTIF($A$8:$A$107,$J14)=0),AND($K14<>"",COUNTIF($A$8:$A$107,$K14)=0)),"Dependência não encontrada",IF(OR($B14="",$C14="",$D14="",$E14="",$F14="",$G14="",$H14="",$I14="",$L14="",$M14="",$N14=""),"Campos obrigatórios incompletos",IF(OR($F14>$G14,AND($P14<>"",$P14<$F14)),"Datas em ordem inválida",IF(AND($H14="Concluída",$N14="Sim",'Configurações'!$B$6="Sim",$M14<>"Sim"),"Concluída sem aceite",IF(AND($H14="Concluída",$P14=""),"Falta data de conclusão",IF(AND($H14<>"Concluída",$P14<>""),"Data de conclusão inconsistente",IF(AND($H14="Concluída",$I14<>1),"% incompatível com concluída",IF(AND($H14="Não iniciada",$I14<>0),"% incompatível com não iniciada",IF(AND($H14="Concluída",$P14>$G14),"Concluída com atraso",IF($H14="Bloqueada","Tarefa bloqueada",IF($R14="Sim","Dependência pendente",IF(AND($G14<TODAY(),$H14<>"Concluída",$H14<>"Cancelada"),"Prazo vencido",IF(AND($G14>=TODAY(),$G14-TODAY()<='Configurações'!$B$4,$H14<>"Concluída",$H14<>"Cancelada"),"Prazo próximo","OK")))))))))))))))))) | T14: =IF(OR($A14="",$G14="",$H14="Concluída",$H14="Cancelada"),"",$G14+ROW()/100000) | U14: =IF($A14="","",IF(OR($S14="ID duplicado",$S14="ID fora do padrão",$S14="Dependência aponta para a própria tarefa",$S14="Dependência repetida",$S14="Dependência não encontrada",$S14="Campos obrigatórios incompletos",$S14="Datas em ordem inválida",$S14="Concluída sem aceite",$S14="Falta data de conclusão",$S14="Data de conclusão inconsistente",$S14="% incompatível com concluída",$S14="% incompatível com não iniciada"),"Sim","Não"))
A15: LT-008 | B15: Publicação | C15: Marco | D15: Publicar o SKU no canal | E15: Equipe Produto | F15: 46295 | G15: 46295 | H15: Não iniciada | I15: 0 | J15: LT-007 | K15: LT-004 | L15: SKU visível e disponível para compra no canal definido | M15: Não | N15: Sim | Q15: =IF(OR($A15="",$G15=""),"",IF($H15="Concluída",IF($P15="","",$G15-$P15),$G15-TODAY())) | R15: =IF($A15="","",IF(OR(AND($J15<>"",COUNTIF($A$8:$A$107,$J15)>0,IFERROR(INDEX($H$8:$H$107,MATCH($J15,$A$8:$A$107,0)),"")<>"Concluída"),AND($K15<>"",COUNTIF($A$8:$A$107,$K15)>0,IFERROR(INDEX($H$8:$H$107,MATCH($K15,$A$8:$A$107,0)),"")<>"Concluída")),"Sim","Não")) | S15: =IF($A15="","",IF(COUNTIF($A$8:$A$107,$A15)>1,"ID duplicado",IF(LEFT($A15,3)<>"LT-","ID fora do padrão",IF(OR($J15=$A15,$K15=$A15),"Dependência aponta para a própria tarefa",IF(AND($J15<>"",$J15=$K15),"Dependência repetida",IF(OR(AND($J15<>"",COUNTIF($A$8:$A$107,$J15)=0),AND($K15<>"",COUNTIF($A$8:$A$107,$K15)=0)),"Dependência não encontrada",IF(OR($B15="",$C15="",$D15="",$E15="",$F15="",$G15="",$H15="",$I15="",$L15="",$M15="",$N15=""),"Campos obrigatórios incompletos",IF(OR($F15>$G15,AND($P15<>"",$P15<$F15)),"Datas em ordem inválida",IF(AND($H15="Concluída",$N15="Sim",'Configurações'!$B$6="Sim",$M15<>"Sim"),"Concluída sem aceite",IF(AND($H15="Concluída",$P15=""),"Falta data de conclusão",IF(AND($H15<>"Concluída",$P15<>""),"Data de conclusão inconsistente",IF(AND($H15="Concluída",$I15<>1),"% incompatível com concluída",IF(AND($H15="Não iniciada",$I15<>0),"% incompatível com não iniciada",IF(AND($H15="Concluída",$P15>$G15),"Concluída com atraso",IF($H15="Bloqueada","Tarefa bloqueada",IF($R15="Sim","Dependência pendente",IF(AND($G15<TODAY(),$H15<>"Concluída",$H15<>"Cancelada"),"Prazo vencido",IF(AND($G15>=TODAY(),$G15-TODAY()<='Configurações'!$B$4,$H15<>"Concluída",$H15<>"Cancelada"),"Prazo próximo","OK")))))))))))))))))) | T15: =IF(OR($A15="",$G15="",$H15="Concluída",$H15="Cancelada"),"",$G15+ROW()/100000) | U15: =IF($A15="","",IF(OR($S15="ID duplicado",$S15="ID fora do padrão",$S15="Dependência aponta para a própria tarefa",$S15="Dependência repetida",$S15="Dependência não encontrada",$S15="Campos obrigatórios incompletos",$S15="Datas em ordem inválida",$S15="Concluída sem aceite",$S15="Falta data de conclusão",$S15="Data de conclusão inconsistente",$S15="% incompatível com concluída",$S15="% incompatível com não iniciada"),"Sim","Não"))
Q16: =IF(OR($A16="",$G16=""),"",IF($H16="Concluída",IF($P16="","",$G16-$P16),$G16-TODAY())) | R16: =IF($A16="","",IF(OR(AND($J16<>"",COUNTIF($A$8:$A$107,$J16)>0,IFERROR(INDEX($H$8:$H$107,MATCH($J16,$A$8:$A$107,0)),"")<>"Concluída"),AND($K16<>"",COUNTIF($A$8:$A$107,$K16)>0,IFERROR(INDEX($H$8:$H$107,MATCH($K16,$A$8:$A$107,0)),"")<>"Concluída")),"Sim","Não")) | S16: =IF($A16="","",IF(COUNTIF($A$8:$A$107,$A16)>1,"ID duplicado",IF(LEFT($A16,3)<>"LT-","ID fora do padrão",IF(OR($J16=$A16,$K16=$A16),"Dependência aponta para a própria tarefa",IF(AND($J16<>"",$J16=$K16),"Dependência repetida",IF(OR(AND($J16<>"",COUNTIF($A$8:$A$107,$J16)=0),AND($K16<>"",COUNTIF($A$8:$A$107,$K16)=0)),"Dependência não encontrada",IF(OR($B16="",$C16="",$D16="",$E16="",$F16="",$G16="",$H16="",$I16="",$L16="",$M16="",$N16=""),"Campos obrigatórios incompletos",IF(OR($F16>$G16,AND($P16<>"",$P16<$F16)),"Datas em ordem inválida",IF(AND($H16="Concluída",$N16="Sim",'Configurações'!$B$6="Sim",$M16<>"Sim"),"Concluída sem aceite",IF(AND($H16="Concluída",$P16=""),"Falta data de conclusão",IF(AND($H16<>"Concluída",$P16<>""),"Data de conclusão inconsistente",IF(AND($H16="Concluída",$I16<>1),"% incompatível com concluída",IF(AND($H16="Não iniciada",$I16<>0),"% incompatível com não iniciada",IF(AND($H16="Concluída",$P16>$G16),"Concluída com atraso",IF($H16="Bloqueada","Tarefa bloqueada",IF($R16="Sim","Dependência pendente",IF(AND($G16<TODAY(),$H16<>"Concluída",$H16<>"Cancelada"),"Prazo vencido",IF(AND($G16>=TODAY(),$G16-TODAY()<='Configurações'!$B$4,$H16<>"Concluída",$H16<>"Cancelada"),"Prazo próximo","OK")))))))))))))))))) | T16: =IF(OR($A16="",$G16="",$H16="Concluída",$H16="Cancelada"),"",$G16+ROW()/100000) | U16: =IF($A16="","",IF(OR($S16="ID duplicado",$S16="ID fora do padrão",$S16="Dependência aponta para a própria tarefa",$S16="Dependência repetida",$S16="Dependência não encontrada",$S16="Campos obrigatórios incompletos",$S16="Datas em ordem inválida",$S16="Concluída sem aceite",$S16="Falta data de conclusão",$S16="Data de conclusão inconsistente",$S16="% incompatível com concluída",$S16="% incompatível com não iniciada"),"Sim","Não"))
Q17: =IF(OR($A17="",$G17=""),"",IF($H17="Concluída",IF($P17="","",$G17-$P17),$G17-TODAY())) | R17: =IF($A17="","",IF(OR(AND($J17<>"",COUNTIF($A$8:$A$107,$J17)>0,IFERROR(INDEX($H$8:$H$107,MATCH($J17,$A$8:$A$107,0)),"")<>"Concluída"),AND($K17<>"",COUNTIF($A$8:$A$107,$K17)>0,IFERROR(INDEX($H$8:$H$107,MATCH($K17,$A$8:$A$107,0)),"")<>"Concluída")),"Sim","Não")) | S17: =IF($A17="","",IF(COUNTIF($A$8:$A$107,$A17)>1,"ID duplicado",IF(LEFT($A17,3)<>"LT-","ID fora do padrão",IF(OR($J17=$A17,$K17=$A17),"Dependência aponta para a própria tarefa",IF(AND($J17<>"",$J17=$K17),"Dependência repetida",IF(OR(AND($J17<>"",COUNTIF($A$8:$A$107,$J17)=0),AND($K17<>"",COUNTIF($A$8:$A$107,$K17)=0)),"Dependência não encontrada",IF(OR($B17="",$C17="",$D17="",$E17="",$F17="",$G17="",$H17="",$I17="",$L17="",$M17="",$N17=""),"Campos obrigatórios incompletos",IF(OR($F17>$G17,AND($P17<>"",$P17<$F17)),"Datas em ordem inválida",IF(AND($H17="Concluída",$N17="Sim",'Configurações'!$B$6="Sim",$M17<>"Sim"),"Concluída sem aceite",IF(AND($H17="Concluída",$P17=""),"Falta data de conclusão",IF(AND($H17<>"Concluída",$P17<>""),"Data de conclusão inconsistente",IF(AND($H17="Concluída",$I17<>1),"% incompatível com concluída",IF(AND($H17="Não iniciada",$I17<>0),"% incompatível com não iniciada",IF(AND($H17="Concluída",$P17>$G17),"Concluída com atraso",IF($H17="Bloqueada","Tarefa bloqueada",IF($R17="Sim","Dependência pendente",IF(AND($G17<TODAY(),$H17<>"Concluída",$H17<>"Cancelada"),"Prazo vencido",IF(AND($G17>=TODAY(),$G17-TODAY()<='Configurações'!$B$4,$H17<>"Concluída",$H17<>"Cancelada"),"Prazo próximo","OK")))))))))))))))))) | T17: =IF(OR($A17="",$G17="",$H17="Concluída",$H17="Cancelada"),"",$G17+ROW()/100000) | U17: =IF($A17="","",IF(OR($S17="ID duplicado",$S17="ID fora do padrão",$S17="Dependência aponta para a própria tarefa",$S17="Dependência repetida",$S17="Dependência não encontrada",$S17="Campos obrigatórios incompletos",$S17="Datas em ordem inválida",$S17="Concluída sem aceite",$S17="Falta data de conclusão",$S17="Data de conclusão inconsistente",$S17="% incompatível com concluída",$S17="% incompatível com não iniciada"),"Sim","Não"))
Q18: =IF(OR($A18="",$G18=""),"",IF($H18="Concluída",IF($P18="","",$G18-$P18),$G18-TODAY())) | R18: =IF($A18="","",IF(OR(AND($J18<>"",COUNTIF($A$8:$A$107,$J18)>0,IFERROR(INDEX($H$8:$H$107,MATCH($J18,$A$8:$A$107,0)),"")<>"Concluída"),AND($K18<>"",COUNTIF($A$8:$A$107,$K18)>0,IFERROR(INDEX($H$8:$H$107,MATCH($K18,$A$8:$A$107,0)),"")<>"Concluída")),"Sim","Não")) | S18: =IF($A18="","",IF(COUNTIF($A$8:$A$107,$A18)>1,"ID duplicado",IF(LEFT($A18,3)<>"LT-","ID fora do padrão",IF(OR($J18=$A18,$K18=$A18),"Dependência aponta para a própria tarefa",IF(AND($J18<>"",$J18=$K18),"Dependência repetida",IF(OR(AND($J18<>"",COUNTIF($A$8:$A$107,$J18)=0),AND($K18<>"",COUNTIF($A$8:$A$107,$K18)=0)),"Dependência não encontrada",IF(OR($B18="",$C18="",$D18="",$E18="",$F18="",$G18="",$H18="",$I18="",$L18="",$M18="",$N18=""),"Campos obrigatórios incompletos",IF(OR($F18>$G18,AND($P18<>"",$P18<$F18)),"Datas em ordem inválida",IF(AND($H18="Concluída",$N18="Sim",'Configurações'!$B$6="Sim",$M18<>"Sim"),"Concluída sem aceite",IF(AND($H18="Concluída",$P18=""),"Falta data de conclusão",IF(AND($H18<>"Concluída",$P18<>""),"Data de conclusão inconsistente",IF(AND($H18="Concluída",$I18<>1),"% incompatível com concluída",IF(AND($H18="Não iniciada",$I18<>0),"% incompatível com não iniciada",IF(AND($H18="Concluída",$P18>$G18),"Concluída com atraso",IF($H18="Bloqueada","Tarefa bloqueada",IF($R18="Sim","Dependência pendente",IF(AND($G18<TODAY(),$H18<>"Concluída",$H18<>"Cancelada"),"Prazo vencido",IF(AND($G18>=TODAY(),$G18-TODAY()<='Configurações'!$B$4,$H18<>"Concluída",$H18<>"Cancelada"),"Prazo próximo","OK")))))))))))))))))) | T18: =IF(OR($A18="",$G18="",$H18="Concluída",$H18="Cancelada"),"",$G18+ROW()/100000) | U18: =IF($A18="","",IF(OR($S18="ID duplicado",$S18="ID fora do padrão",$S18="Dependência aponta para a própria tarefa",$S18="Dependência repetida",$S18="Dependência não encontrada",$S18="Campos obrigatórios incompletos",$S18="Datas em ordem inválida",$S18="Concluída sem aceite",$S18="Falta data de conclusão",$S18="Data de conclusão inconsistente",$S18="% incompatível com concluída",$S18="% incompatível com não iniciada"),"Sim","Não"))
Q19: =IF(OR($A19="",$G19=""),"",IF($H19="Concluída",IF($P19="","",$G19-$P19),$G19-TODAY())) | R19: =IF($A19="","",IF(OR(AND($J19<>"",COUNTIF($A$8:$A$107,$J19)>0,IFERROR(INDEX($H$8:$H$107,MATCH($J19,$A$8:$A$107,0)),"")<>"Concluída"),AND($K19<>"",COUNTIF($A$8:$A$107,$K19)>0,IFERROR(INDEX($H$8:$H$107,MATCH($K19,$A$8:$A$107,0)),"")<>"Concluída")),"Sim","Não")) | S19: =IF($A19="","",IF(COUNTIF($A$8:$A$107,$A19)>1,"ID duplicado",IF(LEFT($A19,3)<>"LT-","ID fora do padrão",IF(OR($J19=$A19,$K19=$A19),"Dependência aponta para a própria tarefa",IF(AND($J19<>"",$J19=$K19),"Dependência repetida",IF(OR(AND($J19<>"",COUNTIF($A$8:$A$107,$J19)=0),AND($K19<>"",COUNTIF($A$8:$A$107,$K19)=0)),"Dependência não encontrada",IF(OR($B19="",$C19="",$D19="",$E19="",$F19="",$G19="",$H19="",$I19="",$L19="",$M19="",$N19=""),"Campos obrigatórios incompletos",IF(OR($F19>$G19,AND($P19<>"",$P19<$F19)),"Datas em ordem inválida",IF(AND($H19="Concluída",$N19="Sim",'Configurações'!$B$6="Sim",$M19<>"Sim"),"Concluída sem aceite",IF(AND($H19="Concluída",$P19=""),"Falta data de conclusão",IF(AND($H19<>"Concluída",$P19<>""),"Data de conclusão inconsistente",IF(AND($H19="Concluída",$I19<>1),"% incompatível com concluída",IF(AND($H19="Não iniciada",$I19<>0),"% incompatível com não iniciada",IF(AND($H19="Concluída",$P19>$G19),"Concluída com atraso",IF($H19="Bloqueada","Tarefa bloqueada",IF($R19="Sim","Dependência pendente",IF(AND($G19<TODAY(),$H19<>"Concluída",$H19<>"Cancelada"),"Prazo vencido",IF(AND($G19>=TODAY(),$G19-TODAY()<='Configurações'!$B$4,$H19<>"Concluída",$H19<>"Cancelada"),"Prazo próximo","OK")))))))))))))))))) | T19: =IF(OR($A19="",$G19="",$H19="Concluída",$H19="Cancelada"),"",$G19+ROW()/100000) | U19: =IF($A19="","",IF(OR($S19="ID duplicado",$S19="ID fora do padrão",$S19="Dependência aponta para a própria tarefa",$S19="Dependência repetida",$S19="Dependência não encontrada",$S19="Campos obrigatórios incompletos",$S19="Datas em ordem inválida",$S19="Concluída sem aceite",$S19="Falta data de conclusão",$S19="Data de conclusão inconsistente",$S19="% incompatível com concluída",$S19="% incompatível com não iniciada"),"Sim","Não"))
Q20: =IF(OR($A20="",$G20=""),"",IF($H20="Concluída",IF($P20="","",$G20-$P20),$G20-TODAY())) | R20: =IF($A20="","",IF(OR(AND($J20<>"",COUNTIF($A$8:$A$107,$J20)>0,IFERROR(INDEX($H$8:$H$107,MATCH($J20,$A$8:$A$107,0)),"")<>"Concluída"),AND($K20<>"",COUNTIF($A$8:$A$107,$K20)>0,IFERROR(INDEX($H$8:$H$107,MATCH($K20,$A$8:$A$107,0)),"")<>"Concluída")),"Sim","Não")) | S20: =IF($A20="","",IF(COUNTIF($A$8:$A$107,$A20)>1,"ID duplicado",IF(LEFT($A20,3)<>"LT-","ID fora do padrão",IF(OR($J20=$A20,$K20=$A20),"Dependência aponta para a própria tarefa",IF(AND($J20<>"",$J20=$K20),"Dependência repetida",IF(OR(AND($J20<>"",COUNTIF($A$8:$A$107,$J20)=0),AND($K20<>"",COUNTIF($A$8:$A$107,$K20)=0)),"Dependência não encontrada",IF(OR($B20="",$C20="",$D20="",$E20="",$F20="",$G20="",$H20="",$I20="",$L20="",$M20="",$N20=""),"Campos obrigatórios incompletos",IF(OR($F20>$G20,AND($P20<>"",$P20<$F20)),"Datas em ordem inválida",IF(AND($H20="Concluída",$N20="Sim",'Configurações'!$B$6="Sim",$M20<>"Sim"),"Concluída sem aceite",IF(AND($H20="Concluída",$P20=""),"Falta data de conclusão",IF(AND($H20<>"Concluída",$P20<>""),"Data de conclusão inconsistente",IF(AND($H20="Concluída",$I20<>1),"% incompatível com concluída",IF(AND($H20="Não iniciada",$I20<>0),"% incompatível com não iniciada",IF(AND($H20="Concluída",$P20>$G20),"Concluída com atraso",IF($H20="Bloqueada","Tarefa bloqueada",IF($R20="Sim","Dependência pendente",IF(AND($G20<TODAY(),$H20<>"Concluída",$H20<>"Cancelada"),"Prazo vencido",IF(AND($G20>=TODAY(),$G20-TODAY()<='Configurações'!$B$4,$H20<>"Concluída",$H20<>"Cancelada"),"Prazo próximo","OK")))))))))))))))))) | T20: =IF(OR($A20="",$G20="",$H20="Concluída",$H20="Cancelada"),"",$G20+ROW()/100000) | U20: =IF($A20="","",IF(OR($S20="ID duplicado",$S20="ID fora do padrão",$S20="Dependência aponta para a própria tarefa",$S20="Dependência repetida",$S20="Dependência não encontrada",$S20="Campos obrigatórios incompletos",$S20="Datas em ordem inválida",$S20="Concluída sem aceite",$S20="Falta data de conclusão",$S20="Data de conclusão inconsistente",$S20="% incompatível com concluída",$S20="% incompatível com não iniciada"),"Sim","Não"))
Q21: =IF(OR($A21="",$G21=""),"",IF($H21="Concluída",IF($P21="","",$G21-$P21),$G21-TODAY())) | R21: =IF($A21="","",IF(OR(AND($J21<>"",COUNTIF($A$8:$A$107,$J21)>0,IFERROR(INDEX($H$8:$H$107,MATCH($J21,$A$8:$A$107,0)),"")<>"Concluída"),AND($K21<>"",COUNTIF($A$8:$A$107,$K21)>0,IFERROR(INDEX($H$8:$H$107,MATCH($K21,$A$8:$A$107,0)),"")<>"Concluída")),"Sim","Não")) | S21: =IF($A21="","",IF(COUNTIF($A$8:$A$107,$A21)>1,"ID duplicado",IF(LEFT($A21,3)<>"LT-","ID fora do padrão",IF(OR($J21=$A21,$K21=$A21),"Dependência aponta para a própria tarefa",IF(AND($J21<>"",$J21=$K21),"Dependência repetida",IF(OR(AND($J21<>"",COUNTIF($A$8:$A$107,$J21)=0),AND($K21<>"",COUNTIF($A$8:$A$107,$K21)=0)),"Dependência não encontrada",IF(OR($B21="",$C21="",$D21="",$E21="",$F21="",$G21="",$H21="",$I21="",$L21="",$M21="",$N21=""),"Campos obrigatórios incompletos",IF(OR($F21>$G21,AND($P21<>"",$P21<$F21)),"Datas em ordem inválida",IF(AND($H21="Concluída",$N21="Sim",'Configurações'!$B$6="Sim",$M21<>"Sim"),"Concluída sem aceite",IF(AND($H21="Concluída",$P21=""),"Falta data de conclusão",IF(AND($H21<>"Concluída",$P21<>""),"Data de conclusão inconsistente",IF(AND($H21="Concluída",$I21<>1),"% incompatível com concluída",IF(AND($H21="Não iniciada",$I21<>0),"% incompatível com não iniciada",IF(AND($H21="Concluída",$P21>$G21),"Concluída com atraso",IF($H21="Bloqueada","Tarefa bloqueada",IF($R21="Sim","Dependência pendente",IF(AND($G21<TODAY(),$H21<>"Concluída",$H21<>"Cancelada"),"Prazo vencido",IF(AND($G21>=TODAY(),$G21-TODAY()<='Configurações'!$B$4,$H21<>"Concluída",$H21<>"Cancelada"),"Prazo próximo","OK")))))))))))))))))) | T21: =IF(OR($A21="",$G21="",$H21="Concluída",$H21="Cancelada"),"",$G21+ROW()/100000) | U21: =IF($A21="","",IF(OR($S21="ID duplicado",$S21="ID fora do padrão",$S21="Dependência aponta para a própria tarefa",$S21="Dependência repetida",$S21="Dependência não encontrada",$S21="Campos obrigatórios incompletos",$S21="Datas em ordem inválida",$S21="Concluída sem aceite",$S21="Falta data de conclusão",$S21="Data de conclusão inconsistente",$S21="% incompatível com concluída",$S21="% incompatível com não iniciada"),"Sim","Não"))
Q22: =IF(OR($A22="",$G22=""),"",IF($H22="Concluída",IF($P22="","",$G22-$P22),$G22-TODAY())) | R22: =IF($A22="","",IF(OR(AND($J22<>"",COUNTIF($A$8:$A$107,$J22)>0,IFERROR(INDEX($H$8:$H$107,MATCH($J22,$A$8:$A$107,0)),"")<>"Concluída"),AND($K22<>"",COUNTIF($A$8:$A$107,$K22)>0,IFERROR(INDEX($H$8:$H$107,MATCH($K22,$A$8:$A$107,0)),"")<>"Concluída")),"Sim","Não")) | S22: =IF($A22="","",IF(COUNTIF($A$8:$A$107,$A22)>1,"ID duplicado",IF(LEFT($A22,3)<>"LT-","ID fora do padrão",IF(OR($J22=$A22,$K22=$A22),"Dependência aponta para a própria tarefa",IF(AND($J22<>"",$J22=$K22),"Dependência repetida",IF(OR(AND($J22<>"",COUNTIF($A$8:$A$107,$J22)=0),AND($K22<>"",COUNTIF($A$8:$A$107,$K22)=0)),"Dependência não encontrada",IF(OR($B22="",$C22="",$D22="",$E22="",$F22="",$G22="",$H22="",$I22="",$L22="",$M22="",$N22=""),"Campos obrigatórios incompletos",IF(OR($F22>$G22,AND($P22<>"",$P22<$F22)),"Datas em ordem inválida",IF(AND($H22="Concluída",$N22="Sim",'Configurações'!$B$6="Sim",$M22<>"Sim"),"Concluída sem aceite",IF(AND($H22="Concluída",$P22=""),"Falta data de conclusão",IF(AND($H22<>"Concluída",$P22<>""),"Data de conclusão inconsistente",IF(AND($H22="Concluída",$I22<>1),"% incompatível com concluída",IF(AND($H22="Não iniciada",$I22<>0),"% incompatível com não iniciada",IF(AND($H22="Concluída",$P22>$G22),"Concluída com atraso",IF($H22="Bloqueada","Tarefa bloqueada",IF($R22="Sim","Dependência pendente",IF(AND($G22<TODAY(),$H22<>"Concluída",$H22<>"Cancelada"),"Prazo vencido",IF(AND($G22>=TODAY(),$G22-TODAY()<='Configurações'!$B$4,$H22<>"Concluída",$H22<>"Cancelada"),"Prazo próximo","OK")))))))))))))))))) | T22: =IF(OR($A22="",$G22="",$H22="Concluída",$H22="Cancelada"),"",$G22+ROW()/100000) | U22: =IF($A22="","",IF(OR($S22="ID duplicado",$S22="ID fora do padrão",$S22="Dependência aponta para a própria tarefa",$S22="Dependência repetida",$S22="Dependência não encontrada",$S22="Campos obrigatórios incompletos",$S22="Datas em ordem inválida",$S22="Concluída sem aceite",$S22="Falta data de conclusão",$S22="Data de conclusão inconsistente",$S22="% incompatível com concluída",$S22="% incompatível com não iniciada"),"Sim","Não"))
Q23: =IF(OR($A23="",$G23=""),"",IF($H23="Concluída",IF($P23="","",$G23-$P23),$G23-TODAY())) | R23: =IF($A23="","",IF(OR(AND($J23<>"",COUNTIF($A$8:$A$107,$J23)>0,IFERROR(INDEX($H$8:$H$107,MATCH($J23,$A$8:$A$107,0)),"")<>"Concluída"),AND($K23<>"",COUNTIF($A$8:$A$107,$K23)>0,IFERROR(INDEX($H$8:$H$107,MATCH($K23,$A$8:$A$107,0)),"")<>"Concluída")),"Sim","Não")) | S23: =IF($A23="","",IF(COUNTIF($A$8:$A$107,$A23)>1,"ID duplicado",IF(LEFT($A23,3)<>"LT-","ID fora do padrão",IF(OR($J23=$A23,$K23=$A23),"Dependência aponta para a própria tarefa",IF(AND($J23<>"",$J23=$K23),"Dependência repetida",IF(OR(AND($J23<>"",COUNTIF($A$8:$A$107,$J23)=0),AND($K23<>"",COUNTIF($A$8:$A$107,$K23)=0)),"Dependência não encontrada",IF(OR($B23="",$C23="",$D23="",$E23="",$F23="",$G23="",$H23="",$I23="",$L23="",$M23="",$N23=""),"Campos obrigatórios incompletos",IF(OR($F23>$G23,AND($P23<>"",$P23<$F23)),"Datas em ordem inválida",IF(AND($H23="Concluída",$N23="Sim",'Configurações'!$B$6="Sim",$M23<>"Sim"),"Concluída sem aceite",IF(AND($H23="Concluída",$P23=""),"Falta data de conclusão",IF(AND($H23<>"Concluída",$P23<>""),"Data de conclusão inconsistente",IF(AND($H23="Concluída",$I23<>1),"% incompatível com concluída",IF(AND($H23="Não iniciada",$I23<>0),"% incompatível com não iniciada",IF(AND($H23="Concluída",$P23>$G23),"Concluída com atraso",IF($H23="Bloqueada","Tarefa bloqueada",IF($R23="Sim","Dependência pendente",IF(AND($G23<TODAY(),$H23<>"Concluída",$H23<>"Cancelada"),"Prazo vencido",IF(AND($G23>=TODAY(),$G23-TODAY()<='Configurações'!$B$4,$H23<>"Concluída",$H23<>"Cancelada"),"Prazo próximo","OK")))))))))))))))))) | T23: =IF(OR($A23="",$G23="",$H23="Concluída",$H23="Cancelada"),"",$G23+ROW()/100000) | U23: =IF($A23="","",IF(OR($S23="ID duplicado",$S23="ID fora do padrão",$S23="Dependência aponta para a própria tarefa",$S23="Dependência repetida",$S23="Dependência não encontrada",$S23="Campos obrigatórios incompletos",$S23="Datas em ordem inválida",$S23="Concluída sem aceite",$S23="Falta data de conclusão",$S23="Data de conclusão inconsistente",$S23="% incompatível com concluída",$S23="% incompatível com não iniciada"),"Sim","Não"))
Q24: =IF(OR($A24="",$G24=""),"",IF($H24="Concluída",IF($P24="","",$G24-$P24),$G24-TODAY())) | R24: =IF($A24="","",IF(OR(AND($J24<>"",COUNTIF($A$8:$A$107,$J24)>0,IFERROR(INDEX($H$8:$H$107,MATCH($J24,$A$8:$A$107,0)),"")<>"Concluída"),AND($K24<>"",COUNTIF($A$8:$A$107,$K24)>0,IFERROR(INDEX($H$8:$H$107,MATCH($K24,$A$8:$A$107,0)),"")<>"Concluída")),"Sim","Não")) | S24: =IF($A24="","",IF(COUNTIF($A$8:$A$107,$A24)>1,"ID duplicado",IF(LEFT($A24,3)<>"LT-","ID fora do padrão",IF(OR($J24=$A24,$K24=$A24),"Dependência aponta para a própria tarefa",IF(AND($J24<>"",$J24=$K24),"Dependência repetida",IF(OR(AND($J24<>"",COUNTIF($A$8:$A$107,$J24)=0),AND($K24<>"",COUNTIF($A$8:$A$107,$K24)=0)),"Dependência não encontrada",IF(OR($B24="",$C24="",$D24="",$E24="",$F24="",$G24="",$H24="",$I24="",$L24="",$M24="",$N24=""),"Campos obrigatórios incompletos",IF(OR($F24>$G24,AND($P24<>"",$P24<$F24)),"Datas em ordem inválida",IF(AND($H24="Concluída",$N24="Sim",'Configurações'!$B$6="Sim",$M24<>"Sim"),"Concluída sem aceite",IF(AND($H24="Concluída",$P24=""),"Falta data de conclusão",IF(AND($H24<>"Concluída",$P24<>""),"Data de conclusão inconsistente",IF(AND($H24="Concluída",$I24<>1),"% incompatível com concluída",IF(AND($H24="Não iniciada",$I24<>0),"% incompatível com não iniciada",IF(AND($H24="Concluída",$P24>$G24),"Concluída com atraso",IF($H24="Bloqueada","Tarefa bloqueada",IF($R24="Sim","Dependência pendente",IF(AND($G24<TODAY(),$H24<>"Concluída",$H24<>"Cancelada"),"Prazo vencido",IF(AND($G24>=TODAY(),$G24-TODAY()<='Configurações'!$B$4,$H24<>"Concluída",$H24<>"Cancelada"),"Prazo próximo","OK")))))))))))))))))) | T24: =IF(OR($A24="",$G24="",$H24="Concluída",$H24="Cancelada"),"",$G24+ROW()/100000) | U24: =IF($A24="","",IF(OR($S24="ID duplicado",$S24="ID fora do padrão",$S24="Dependência aponta para a própria tarefa",$S24="Dependência repetida",$S24="Dependência não encontrada",$S24="Campos obrigatórios incompletos",$S24="Datas em ordem inválida",$S24="Concluída sem aceite",$S24="Falta data de conclusão",$S24="Data de conclusão inconsistente",$S24="% incompatível com concluída",$S24="% incompatível com não iniciada"),"Sim","Não"))
Q25: =IF(OR($A25="",$G25=""),"",IF($H25="Concluída",IF($P25="","",$G25-$P25),$G25-TODAY())) | R25: =IF($A25="","",IF(OR(AND($J25<>"",COUNTIF($A$8:$A$107,$J25)>0,IFERROR(INDEX($H$8:$H$107,MATCH($J25,$A$8:$A$107,0)),"")<>"Concluída"),AND($K25<>"",COUNTIF($A$8:$A$107,$K25)>0,IFERROR(INDEX($H$8:$H$107,MATCH($K25,$A$8:$A$107,0)),"")<>"Concluída")),"Sim","Não")) | S25: =IF($A25="","",IF(COUNTIF($A$8:$A$107,$A25)>1,"ID duplicado",IF(LEFT($A25,3)<>"LT-","ID fora do padrão",IF(OR($J25=$A25,$K25=$A25),"Dependência aponta para a própria tarefa",IF(AND($J25<>"",$J25=$K25),"Dependência repetida",IF(OR(AND($J25<>"",COUNTIF($A$8:$A$107,$J25)=0),AND($K25<>"",COUNTIF($A$8:$A$107,$K25)=0)),"Dependência não encontrada",IF(OR($B25="",$C25="",$D25="",$E25="",$F25="",$G25="",$H25="",$I25="",$L25="",$M25="",$N25=""),"Campos obrigatórios incompletos",IF(OR($F25>$G25,AND($P25<>"",$P25<$F25)),"Datas em ordem inválida",IF(AND($H25="Concluída",$N25="Sim",'Configurações'!$B$6="Sim",$M25<>"Sim"),"Concluída sem aceite",IF(AND($H25="Concluída",$P25=""),"Falta data de conclusão",IF(AND($H25<>"Concluída",$P25<>""),"Data de conclusão inconsistente",IF(AND($H25="Concluída",$I25<>1),"% incompatível com concluída",IF(AND($H25="Não iniciada",$I25<>0),"% incompatível com não iniciada",IF(AND($H25="Concluída",$P25>$G25),"Concluída com atraso",IF($H25="Bloqueada","Tarefa bloqueada",IF($R25="Sim","Dependência pendente",IF(AND($G25<TODAY(),$H25<>"Concluída",$H25<>"Cancelada"),"Prazo vencido",IF(AND($G25>=TODAY(),$G25-TODAY()<='Configurações'!$B$4,$H25<>"Concluída",$H25<>"Cancelada"),"Prazo próximo","OK")))))))))))))))))) | T25: =IF(OR($A25="",$G25="",$H25="Concluída",$H25="Cancelada"),"",$G25+ROW()/100000) | U25: =IF($A25="","",IF(OR($S25="ID duplicado",$S25="ID fora do padrão",$S25="Dependência aponta para a própria tarefa",$S25="Dependência repetida",$S25="Dependência não encontrada",$S25="Campos obrigatórios incompletos",$S25="Datas em ordem inválida",$S25="Concluída sem aceite",$S25="Falta data de conclusão",$S25="Data de conclusão inconsistente",$S25="% incompatível com concluída",$S25="% incompatível com não iniciada"),"Sim","Não"))
Q26: =IF(OR($A26="",$G26=""),"",IF($H26="Concluída",IF($P26="","",$G26-$P26),$G26-TODAY())) | R26: =IF($A26="","",IF(OR(AND($J26<>"",COUNTIF($A$8:$A$107,$J26)>0,IFERROR(INDEX($H$8:$H$107,MATCH($J26,$A$8:$A$107,0)),"")<>"Concluída"),AND($K26<>"",COUNTIF($A$8:$A$107,$K26)>0,IFERROR(INDEX($H$8:$H$107,MATCH($K26,$A$8:$A$107,0)),"")<>"Concluída")),"Sim","Não")) | S26: =IF($A26="","",IF(COUNTIF($A$8:$A$107,$A26)>1,"ID duplicado",IF(LEFT($A26,3)<>"LT-","ID fora do padrão",IF(OR($J26=$A26,$K26=$A26),"Dependência aponta para a própria tarefa",IF(AND($J26<>"",$J26=$K26),"Dependência repetida",IF(OR(AND($J26<>"",COUNTIF($A$8:$A$107,$J26)=0),AND($K26<>"",COUNTIF($A$8:$A$107,$K26)=0)),"Dependência não encontrada",IF(OR($B26="",$C26="",$D26="",$E26="",$F26="",$G26="",$H26="",$I26="",$L26="",$M26="",$N26=""),"Campos obrigatórios incompletos",IF(OR($F26>$G26,AND($P26<>"",$P26<$F26)),"Datas em ordem inválida",IF(AND($H26="Concluída",$N26="Sim",'Configurações'!$B$6="Sim",$M26<>"Sim"),"Concluída sem aceite",IF(AND($H26="Concluída",$P26=""),"Falta data de conclusão",IF(AND($H26<>"Concluída",$P26<>""),"Data de conclusão inconsistente",IF(AND($H26="Concluída",$I26<>1),"% incompatível com concluída",IF(AND($H26="Não iniciada",$I26<>0),"% incompatível com não iniciada",IF(AND($H26="Concluída",$P26>$G26),"Concluída com atraso",IF($H26="Bloqueada","Tarefa bloqueada",IF($R26="Sim","Dependência pendente",IF(AND($G26<TODAY(),$H26<>"Concluída",$H26<>"Cancelada"),"Prazo vencido",IF(AND($G26>=TODAY(),$G26-TODAY()<='Configurações'!$B$4,$H26<>"Concluída",$H26<>"Cancelada"),"Prazo próximo","OK")))))))))))))))))) | T26: =IF(OR($A26="",$G26="",$H26="Concluída",$H26="Cancelada"),"",$G26+ROW()/100000) | U26: =IF($A26="","",IF(OR($S26="ID duplicado",$S26="ID fora do padrão",$S26="Dependência aponta para a própria tarefa",$S26="Dependência repetida",$S26="Dependência não encontrada",$S26="Campos obrigatórios incompletos",$S26="Datas em ordem inválida",$S26="Concluída sem aceite",$S26="Falta data de conclusão",$S26="Data de conclusão inconsistente",$S26="% incompatível com concluída",$S26="% incompatível com não iniciada"),"Sim","Não"))
Q27: =IF(OR($A27="",$G27=""),"",IF($H27="Concluída",IF($P27="","",$G27-$P27),$G27-TODAY())) | R27: =IF($A27="","",IF(OR(AND($J27<>"",COUNTIF($A$8:$A$107,$J27)>0,IFERROR(INDEX($H$8:$H$107,MATCH($J27,$A$8:$A$107,0)),"")<>"Concluída"),AND($K27<>"",COUNTIF($A$8:$A$107,$K27)>0,IFERROR(INDEX($H$8:$H$107,MATCH($K27,$A$8:$A$107,0)),"")<>"Concluída")),"Sim","Não")) | S27: =IF($A27="","",IF(COUNTIF($A$8:$A$107,$A27)>1,"ID duplicado",IF(LEFT($A27,3)<>"LT-","ID fora do padrão",IF(OR($J27=$A27,$K27=$A27),"Dependência aponta para a própria tarefa",IF(AND($J27<>"",$J27=$K27),"Dependência repetida",IF(OR(AND($J27<>"",COUNTIF($A$8:$A$107,$J27)=0),AND($K27<>"",COUNTIF($A$8:$A$107,$K27)=0)),"Dependência não encontrada",IF(OR($B27="",$C27="",$D27="",$E27="",$F27="",$G27="",$H27="",$I27="",$L27="",$M27="",$N27=""),"Campos obrigatórios incompletos",IF(OR($F27>$G27,AND($P27<>"",$P27<$F27)),"Datas em ordem inválida",IF(AND($H27="Concluída",$N27="Sim",'Configurações'!$B$6="Sim",$M27<>"Sim"),"Concluída sem aceite",IF(AND($H27="Concluída",$P27=""),"Falta data de conclusão",IF(AND($H27<>"Concluída",$P27<>""),"Data de conclusão inconsistente",IF(AND($H27="Concluída",$I27<>1),"% incompatível com concluída",IF(AND($H27="Não iniciada",$I27<>0),"% incompatível com não iniciada",IF(AND($H27="Concluída",$P27>$G27),"Concluída com atraso",IF($H27="Bloqueada","Tarefa bloqueada",IF($R27="Sim","Dependência pendente",IF(AND($G27<TODAY(),$H27<>"Concluída",$H27<>"Cancelada"),"Prazo vencido",IF(AND($G27>=TODAY(),$G27-TODAY()<='Configurações'!$B$4,$H27<>"Concluída",$H27<>"Cancelada"),"Prazo próximo","OK")))))))))))))))))) | T27: =IF(OR($A27="",$G27="",$H27="Concluída",$H27="Cancelada"),"",$G27+ROW()/100000) | U27: =IF($A27="","",IF(OR($S27="ID duplicado",$S27="ID fora do padrão",$S27="Dependência aponta para a própria tarefa",$S27="Dependência repetida",$S27="Dependência não encontrada",$S27="Campos obrigatórios incompletos",$S27="Datas em ordem inválida",$S27="Concluída sem aceite",$S27="Falta data de conclusão",$S27="Data de conclusão inconsistente",$S27="% incompatível com concluída",$S27="% incompatível com não iniciada"),"Sim","Não"))
... Q107: =IF(OR($A107="",$G107=""),"",IF($H107="Concluída",IF($P107="","",$G107-$P107),$G107-TODAY())) | R107: =IF($A107="","",IF(OR(AND($J107<>"",COUNTIF($A$8:$A$107,$J107)>0,IFERROR(INDEX($H$8:$H$107,MATCH($J107,$A$8:$A$107,0)),"")<>"Concluída"),AND($K107<>"",COUNTIF($A$8:$A$107,$K107)>0,IFERROR(INDEX($H$8:$H$107,MATCH($K107,$A$8:$A$107,0)),"")<>"Concluída")),"Sim","Não")) | S107: =IF($A107="","",IF(COUNTIF($A$8:$A$107,$A107)>1,"ID duplicado",IF(LEFT($A107,3)<>"LT-","ID fora do padrão",IF(OR($J107=$A107,$K107=$A107),"Dependência aponta para a própria tarefa",IF(AND($J107<>"",$J107=$K107),"Dependência repetida",IF(OR(AND($J107<>"",COUNTIF($A$8:$A$107,$J107)=0),AND($K107<>"",COUNTIF($A$8:$A$107,$K107)=0)),"Dependência não encontrada",IF(OR($B107="",$C107="",$D107="",$E107="",$F107="",$G107="",$H107="",$I107="",$L107="",$M107="",$N107=""),"Campos obrigatórios incompletos",IF(OR($F107>$G107,AND($P107<>"",$P107<$F107)),"Datas em ordem inválida",IF(AND($H107="Concluída",$N107="Sim",'Configurações'!$B$6="Sim",$M107<>"Sim"),"Concluída sem aceite",IF(AND($H107="Concluída",$P107=""),"Falta data de conclusão",IF(AND($H107<>"Concluída",$P107<>""),"Data de conclusão inconsistente",IF(AND($H107="Concluída",$I107<>1),"% incompatível com concluída",IF(AND($H107="Não iniciada",$I107<>0),"% incompatível com não iniciada",IF(AND($H107="Concluída",$P107>$G107),"Concluída com atraso",IF($H107="Bloqueada","Tarefa bloqueada",IF($R107="Sim","Dependência pendente",IF(AND($G107<TODAY(),$H107<>"Concluída",$H107<>"Cancelada"),"Prazo vencido",IF(AND($G107>=TODAY(),$G107-TODAY()<='Configurações'!$B$4,$H107<>"Concluída",$H107<>"Cancelada"),"Prazo próximo","OK")))))))))))))))))) | T107: =IF(OR($A107="",$G107="",$H107="Concluída",$H107="Cancelada"),"",$G107+ROW()/100000) | U107: =IF($A107="","",IF(OR($S107="ID duplicado",$S107="ID fora do padrão",$S107="Dependência aponta para a própria tarefa",$S107="Dependência repetida",$S107="Dependência não encontrada",$S107="Campos obrigatórios incompletos",$S107="Datas em ordem inválida",$S107="Concluída sem aceite",$S107="Falta data de conclusão",$S107="Data de conclusão inconsistente",$S107="% incompatível com concluída",$S107="% incompatível com não iniciada"),"Sim","Não"))

Sheet Aprovações
A1: Registro de aprovações do lançamento
A3: Área | B3: Obrigatória para GO? | C3: Última data | D3: Decisão vigente | E3: Situação
A4: =Configurações!K11 | B4: =Configurações!L11 | C4: =IF($A4="","",IF(COUNTIF($C$16:$C$115,$A4)=0,"",LOOKUP(2,1/($C$16:$C$115=$A4),$B$16:$B$115))) | D4: =IF($A4="","",IF($C4="","Sem registro",IF(COUNTIFS($C$16:$C$115,$A4,$B$16:$B$115,$C4)>1,"Data duplicada",LOOKUP(2,1/(($C$16:$C$115=$A4)*($B$16:$B$115=$C4)),$E$16:$E$115)))) | E4: =IF($A4="","",IF($B4="Sim",IF($D4="Aprovado","OK","Impede GO"),IF(OR($D4="Reprovado",$D4="Pendente",$D4="Data duplicada"),"Atenção","OK")))
A5: =Configurações!K12 | B5: =Configurações!L12 | C5: =IF($A5="","",IF(COUNTIF($C$16:$C$115,$A5)=0,"",LOOKUP(2,1/($C$16:$C$115=$A5),$B$16:$B$115))) | D5: =IF($A5="","",IF($C5="","Sem registro",IF(COUNTIFS($C$16:$C$115,$A5,$B$16:$B$115,$C5)>1,"Data duplicada",LOOKUP(2,1/(($C$16:$C$115=$A5)*($B$16:$B$115=$C5)),$E$16:$E$115)))) | E5: =IF($A5="","",IF($B5="Sim",IF($D5="Aprovado","OK","Impede GO"),IF(OR($D5="Reprovado",$D5="Pendente",$D5="Data duplicada"),"Atenção","OK")))
A6: =Configurações!K13 | B6: =Configurações!L13 | C6: =IF($A6="","",IF(COUNTIF($C$16:$C$115,$A6)=0,"",LOOKUP(2,1/($C$16:$C$115=$A6),$B$16:$B$115))) | D6: =IF($A6="","",IF($C6="","Sem registro",IF(COUNTIFS($C$16:$C$115,$A6,$B$16:$B$115,$C6)>1,"Data duplicada",LOOKUP(2,1/(($C$16:$C$115=$A6)*($B$16:$B$115=$C6)),$E$16:$E$115)))) | E6: =IF($A6="","",IF($B6="Sim",IF($D6="Aprovado","OK","Impede GO"),IF(OR($D6="Reprovado",$D6="Pendente",$D6="Data duplicada"),"Atenção","OK")))
A7: =Configurações!K14 | B7: =Configurações!L14 | C7: =IF($A7="","",IF(COUNTIF($C$16:$C$115,$A7)=0,"",LOOKUP(2,1/($C$16:$C$115=$A7),$B$16:$B$115))) | D7: =IF($A7="","",IF($C7="","Sem registro",IF(COUNTIFS($C$16:$C$115,$A7,$B$16:$B$115,$C7)>1,"Data duplicada",LOOKUP(2,1/(($C$16:$C$115=$A7)*($B$16:$B$115=$C7)),$E$16:$E$115)))) | E7: =IF($A7="","",IF($B7="Sim",IF($D7="Aprovado","OK","Impede GO"),IF(OR($D7="Reprovado",$D7="Pendente",$D7="Data duplicada"),"Atenção","OK")))
A8: =Configurações!K15 | B8: =Configurações!L15 | C8: =IF($A8="","",IF(COUNTIF($C$16:$C$115,$A8)=0,"",LOOKUP(2,1/($C$16:$C$115=$A8),$B$16:$B$115))) | D8: =IF($A8="","",IF($C8="","Sem registro",IF(COUNTIFS($C$16:$C$115,$A8,$B$16:$B$115,$C8)>1,"Data duplicada",LOOKUP(2,1/(($C$16:$C$115=$A8)*($B$16:$B$115=$C8)),$E$16:$E$115)))) | E8: =IF($A8="","",IF($B8="Sim",IF($D8="Aprovado","OK","Impede GO"),IF(OR($D8="Reprovado",$D8="Pendente",$D8="Data duplicada"),"Atenção","OK")))
A9: =Configurações!K16 | B9: =Configurações!L16 | C9: =IF($A9="","",IF(COUNTIF($C$16:$C$115,$A9)=0,"",LOOKUP(2,1/($C$16:$C$115=$A9),$B$16:$B$115))) | D9: =IF($A9="","",IF($C9="","Sem registro",IF(COUNTIFS($C$16:$C$115,$A9,$B$16:$B$115,$C9)>1,"Data duplicada",LOOKUP(2,1/(($C$16:$C$115=$A9)*($B$16:$B$115=$C9)),$E$16:$E$115)))) | E9: =IF($A9="","",IF($B9="Sim",IF($D9="Aprovado","OK","Impede GO"),IF(OR($D9="Reprovado",$D9="Pendente",$D9="Data duplicada"),"Atenção","OK")))
A12: Registre cada novo posicionamento em uma nova linha; não substitua decisões anteriores.
