Workbook

Sheet Resumo
A1: Mapa de SKU e anúncios por marketplace
A2: Visão consolidada dos vínculos entre SKU interno, anúncio e variação por canal.
A4: Linhas preenchidas | C4: Vínculos consistentes | E4: Órfãos de SKU | G4: Linhas com ID duplicado
A5: =COUNTIF('Mapeamento SKU'!$O$6:$O$105,"Sim")+COUNTIF('Mapeamento SKU'!$O$6:$O$105,"Não") | C5: =COUNTIF('Mapeamento SKU'!$N$6:$N$105,"Vínculo consistente") | E5: =COUNTIF('Mapeamento SKU'!$I$6:$I$105,"Sim") | G5: =COUNTIF('Mapeamento SKU'!$J$6:$J$105,"Sim")
A8: Itens sem vínculo | C8: Campos obrigatórios incompletos | E8: Conferências vencidas | G8: Cobertura de SKU/canal com anúncio
A9: =COUNTIF('Mapeamento SKU'!$K$6:$K$105,"Sim") | C9: =COUNTIF('Mapeamento SKU'!$L$6:$L$105,"Sim") | E9: =COUNTIF('Mapeamento SKU'!$M$6:$M$105,"Sim") | G9: =IFERROR(COUNTIFS('Mapeamento SKU'!$A$6:$A$105,"<>",'Mapeamento SKU'!$B$6:$B$105,"<>",'Mapeamento SKU'!$C$6:$C$105,"<>")/COUNTIFS('Mapeamento SKU'!$A$6:$A$105,"<>",'Mapeamento SKU'!$B$6:$B$105,"<>"),0)
A11: Última conferência registrada | C11: =IF(COUNTIF('Mapeamento SKU'!$O$6:$O$105,"Sim")=0,"Sem pendências de revisão.","ALERTA: "&COUNTIF('Mapeamento SKU'!$O$6:$O$105,"Sim")&" linha(s) requer(em) revisão. Consulte a aba Pendências.")
A12: =IF(COUNT('Mapeamento SKU'!$F$6:$F$105)=0,"",MAX('Mapeamento SKU'!$F$6:$F$105))
A18: Situação | B18: Quantidade
A19: Vínculo consistente | B19: =COUNTIF('Mapeamento SKU'!$N$6:$N$105,A19)
A20: Órfão de SKU | B20: =COUNTIF('Mapeamento SKU'!$N$6:$N$105,A20)
A21: ID duplicado | B21: =COUNTIF('Mapeamento SKU'!$N$6:$N$105,A21)
A22: Item sem vínculo | B22: =COUNTIF('Mapeamento SKU'!$N$6:$N$105,A22)
A23: Cadastro incompleto | B23: =COUNTIF('Mapeamento SKU'!$N$6:$N$105,A23)
A24: Conferência vencida | B24: =COUNTIF('Mapeamento SKU'!$N$6:$N$105,A24)
A27: Canal | B27: Linhas mapeadas | C27: Vínculos consistentes
A28: =IF('Configurações'!A8="","",'Configurações'!A8) | B28: =IF(A28="","",COUNTIF('Mapeamento SKU'!$B$6:$B$105,A28)) | C28: =IF(A28="","",COUNTIFS('Mapeamento SKU'!$B$6:$B$105,A28,'Mapeamento SKU'!$N$6:$N$105,"Vínculo consistente"))
A29: =IF('Configurações'!A9="","",'Configurações'!A9) | B29: =IF(A29="","",COUNTIF('Mapeamento SKU'!$B$6:$B$105,A29)) | C29: =IF(A29="","",COUNTIFS('Mapeamento SKU'!$B$6:$B$105,A29,'Mapeamento SKU'!$N$6:$N$105,"Vínculo consistente"))
A30: =IF('Configurações'!A10="","",'Configurações'!A10) | B30: =IF(A30="","",COUNTIF('Mapeamento SKU'!$B$6:$B$105,A30)) | C30: =IF(A30="","",COUNTIFS('Mapeamento SKU'!$B$6:$B$105,A30,'Mapeamento SKU'!$N$6:$N$105,"Vínculo consistente"))
A31: =IF('Configurações'!A11="","",'Configurações'!A11) | B31: =IF(A31="","",COUNTIF('Mapeamento SKU'!$B$6:$B$105,A31)) | C31: =IF(A31="","",COUNTIFS('Mapeamento SKU'!$B$6:$B$105,A31,'Mapeamento SKU'!$N$6:$N$105,"Vínculo consistente"))
A32: =IF('Configurações'!A12="","",'Configurações'!A12) | B32: =IF(A32="","",COUNTIF('Mapeamento SKU'!$B$6:$B$105,A32)) | C32: =IF(A32="","",COUNTIFS('Mapeamento SKU'!$B$6:$B$105,A32,'Mapeamento SKU'!$N$6:$N$105,"Vínculo consistente"))
A33: =IF('Configurações'!A13="","",'Configurações'!A13) | B33: =IF(A33="","",COUNTIF('Mapeamento SKU'!$B$6:$B$105,A33)) | C33: =IF(A33="","",COUNTIFS('Mapeamento SKU'!$B$6:$B$105,A33,'Mapeamento SKU'!$N$6:$N$105,"Vínculo consistente"))
A34: =IF('Configurações'!A14="","",'Configurações'!A14) | B34: =IF(A34="","",COUNTIF('Mapeamento SKU'!$B$6:$B$105,A34)) | C34: =IF(A34="","",COUNTIFS('Mapeamento SKU'!$B$6:$B$105,A34,'Mapeamento SKU'!$N$6:$N$105,"Vínculo consistente"))
A35: =IF('Configurações'!A15="","",'Configurações'!A15) | B35: =IF(A35="","",COUNTIF('Mapeamento SKU'!$B$6:$B$105,A35)) | C35: =IF(A35="","",COUNTIFS('Mapeamento SKU'!$B$6:$B$105,A35,'Mapeamento SKU'!$N$6:$N$105,"Vínculo consistente"))
A36: =IF('Configurações'!A16="","",'Configurações'!A16) | B36: =IF(A36="","",COUNTIF('Mapeamento SKU'!$B$6:$B$105,A36)) | C36: =IF(A36="","",COUNTIFS('Mapeamento SKU'!$B$6:$B$105,A36,'Mapeamento SKU'!$N$6:$N$105,"Vínculo consistente"))
A37: =IF('Configurações'!A17="","",'Configurações'!A17) | B37: =IF(A37="","",COUNTIF('Mapeamento SKU'!$B$6:$B$105,A37)) | C37: =IF(A37="","",COUNTIFS('Mapeamento SKU'!$B$6:$B$105,A37,'Mapeamento SKU'!$N$6:$N$105,"Vínculo consistente"))
A38: =IF('Configurações'!A18="","",'Configurações'!A18) | B38: =IF(A38="","",COUNTIF('Mapeamento SKU'!$B$6:$B$105,A38)) | C38: =IF(A38="","",COUNTIFS('Mapeamento SKU'!$B$6:$B$105,A38,'Mapeamento SKU'!$N$6:$N$105,"Vínculo consistente"))
A39: =IF('Configurações'!A19="","",'Configurações'!A19) | B39: =IF(A39="","",COUNTIF('Mapeamento SKU'!$B$6:$B$105,A39)) | C39: =IF(A39="","",COUNTIFS('Mapeamento SKU'!$B$6:$B$105,A39,'Mapeamento SKU'!$N$6:$N$105,"Vínculo consistente"))
... A47: =IF('Configurações'!A27="","",'Configurações'!A27) | B47: =IF(A47="","",COUNTIF('Mapeamento SKU'!$B$6:$B$105,A47)) | C47: =IF(A47="","",COUNTIFS('Mapeamento SKU'!$B$6:$B$105,A47,'Mapeamento SKU'!$N$6:$N$105,"Vínculo consistente"))

Sheet Mapeamento SKU
A1: Mapeamento de SKU por marketplace
A2: Preencha apenas as colunas amarelas. Use uma linha para cada combinação de SKU, canal, anúncio e variação.
A3: Linhas preenchidas | B3: =COUNTIF($O$6:$O$105,"Sim")+COUNTIF($O$6:$O$105,"Não") | D3: Revisão necessária | E3: =COUNTIF($O$6:$O$105,"Sim") | G3: Vínculos consistentes | H3: =COUNTIF($N$6:$N$105,"Vínculo consistente") | J3: Última conferência | K3: =IF(COUNT($F$6:$F$105)=0,"",MAX($F$6:$F$105))
A4: IDs devem ser informados como texto. Não altere as fórmulas das colunas H a P.
A5: SKU interno | B5: Canal | C5: ID do anúncio | D5: ID da variação | E5: Status | F5: Última conferência | G5: Observação | H5: Chave externa | I5: Órfão de SKU? | J5: ID duplicado? | K5: Item sem vínculo? | L5: Cadastro incompleto? | M5: Conferência vencida? | N5: Situação principal | O5: Revisão necessária? | P5: Motivos da revisão
A6: SKU-FON-AZ-001 | B6: Canal Fictício Horizonte | C6: AN-10001 | D6: VAR-AZ-P | E6: Ativo | F6: 46267 | G6: Conferência fictícia concluída | H6: =IF(COUNTA($A6:$G6)=0,"",IF(OR(TRIM($B6)="",TRIM($C6)=""),"",UPPER(TRIM($B6))&"|"&LEN(TRIM($C6))&":"&UPPER(TRIM($C6))&"|"&LEN(TRIM($D6))&":"&UPPER(TRIM($D6)))) | I6: =IF(COUNTA($A6:$G6)=0,"",IF(AND(TRIM($A6)="",OR(TRIM($C6)<>"",TRIM($D6)<>"")),"Sim","Não")) | J6: =IF($H6="","",IF(COUNTIF($H$6:$H$105,$H6)>1,"Sim","Não")) | K6: =IF(COUNTA($A6:$G6)=0,"",IF(AND(TRIM($A6)<>"",TRIM($B6)<>"",TRIM($C6)="",TRIM($D6)=""),"Sim","Não")) | L6: =IF(COUNTA($A6:$G6)=0,"",IF(OR(TRIM($A6)="",TRIM($B6)="",TRIM($E6)="",$F6="",AND(TRIM($D6)<>"",TRIM($C6)=""),AND(OR($E6="Ativo",$E6="Pausado",$E6="Encerrado"),TRIM($C6)=""),AND($E6="A mapear",OR(TRIM($C6)<>"",TRIM($D6)<>"")),AND(TRIM($B6)<>"",COUNTIF('Configurações'!$A$8:$A$27,$B6)=0),AND(TRIM($E6)<>"",COUNTIF('Configurações'!$C$8:$C$11,$E6)=0),AND($F6<>"",NOT(ISNUMBER($F6))),AND(ISNUMBER($F6),OR($F6<'Configurações'!$B$4,$F6>TODAY())),LEN(TRIM($A6))>60,COUNTIF($A6,"*|*")>0,LEN($C6)>80,COUNTIF($C6,"*|*")>0,LEN($D6)>80,COUNTIF($D6,"*|*")>0,LEN($G6)>200),"Sim","Não")) | M6: =IF(COUNTA($A6:$G6)=0,"",IF(AND(OR($E6="Ativo",$E6="Pausado"),ISNUMBER($F6)),IF(AND($F6<=TODAY(),TODAY()-$F6>'Configurações'!$B$3),"Sim","Não"),"Não")) | N6: =IF(COUNTA($A6:$G6)=0,"",IF($I6="Sim","Órfão de SKU",IF($J6="Sim","ID duplicado",IF($K6="Sim","Item sem vínculo",IF($L6="Sim","Cadastro incompleto",IF($M6="Sim","Conferência vencida","Vínculo consistente")))))) | O6: =IF($N6="","",IF($N6="Vínculo consistente","Não","Sim")) | P6: =IF(COUNTA($A6:$G6)=0,"",_xlfn.TEXTJOIN(CHAR(59)&" ",TRUE,IF(TRIM($A6)="","SKU interno não informado",""),IF(OR(LEN(TRIM($A6))>60,COUNTIF($A6,"*|*")>0),"SKU interno acima de 60 caracteres ou com |",""),IF(TRIM($B6)="","Canal não informado",""),IF(AND(TRIM($B6)<>"",COUNTIF('Configurações'!$A$8:$A$27,$B6)=0),"Canal fora da lista",""),IF(TRIM($E6)="","Status não informado",""),IF(AND(TRIM($E6)<>"",COUNTIF('Configurações'!$C$8:$C$11,$E6)=0),"Status fora da lista",""),IF($F6="","Última conferência não informada",""),IF(AND($F6<>"",NOT(ISNUMBER($F6))),"Data de conferência inválida",""),IF(AND(ISNUMBER($F6),OR($F6<'Configurações'!$B$4,$F6>TODAY())),"Data de conferência fora do período permitido",""),IF(AND(TRIM($D6)<>"",TRIM($C6)=""),"Variação sem ID do anúncio",""),IF(AND(OR($E6="Ativo",$E6="Pausado",$E6="Encerrado"),TRIM($C6)=""),"Status exige ID do anúncio",""),IF(AND($E6="A mapear",OR(TRIM($C6)<>"",TRIM($D6)<>"")),"Status A mapear com ID externo",""),IF(OR(LEN($C6)>80,COUNTIF($C6,"*|*")>0),"ID do anúncio acima de 80 caracteres ou com |",""),IF(OR(LEN($D6)>80,COUNTIF($D6,"*|*")>0),"ID da variação acima de 80 caracteres ou com |",""),IF(LEN($G6)>200,"Observação acima de 200 caracteres",""),IF($I6="Sim","ID externo sem SKU interno",""),IF($K6="Sim","SKU/canal sem ID externo",""),IF($J6="Sim","Chave externa repetida",""),IF($M6="Sim","Conferência vencida",""))) | Q6: =IF('Configurações'!A8="","",'Configurações'!A8)
A7: SKU-CAN-VER-002 | B7: Canal Fictício Aurora | C7: AUR-22010 | E7: Pausado | F7: 46262 | G7: Anúncio fictício pausado | H7: =IF(COUNTA($A7:$G7)=0,"",IF(OR(TRIM($B7)="",TRIM($C7)=""),"",UPPER(TRIM($B7))&"|"&LEN(TRIM($C7))&":"&UPPER(TRIM($C7))&"|"&LEN(TRIM($D7))&":"&UPPER(TRIM($D7)))) | I7: =IF(COUNTA($A7:$G7)=0,"",IF(AND(TRIM($A7)="",OR(TRIM($C7)<>"",TRIM($D7)<>"")),"Sim","Não")) | J7: =IF($H7="","",IF(COUNTIF($H$6:$H$105,$H7)>1,"Sim","Não")) | K7: =IF(COUNTA($A7:$G7)=0,"",IF(AND(TRIM($A7)<>"",TRIM($B7)<>"",TRIM($C7)="",TRIM($D7)=""),"Sim","Não")) | L7: =IF(COUNTA($A7:$G7)=0,"",IF(OR(TRIM($A7)="",TRIM($B7)="",TRIM($E7)="",$F7="",AND(TRIM($D7)<>"",TRIM($C7)=""),AND(OR($E7="Ativo",$E7="Pausado",$E7="Encerrado"),TRIM($C7)=""),AND($E7="A mapear",OR(TRIM($C7)<>"",TRIM($D7)<>"")),AND(TRIM($B7)<>"",COUNTIF('Configurações'!$A$8:$A$27,$B7)=0),AND(TRIM($E7)<>"",COUNTIF('Configurações'!$C$8:$C$11,$E7)=0),AND($F7<>"",NOT(ISNUMBER($F7))),AND(ISNUMBER($F7),OR($F7<'Configurações'!$B$4,$F7>TODAY())),LEN(TRIM($A7))>60,COUNTIF($A7,"*|*")>0,LEN($C7)>80,COUNTIF($C7,"*|*")>0,LEN($D7)>80,COUNTIF($D7,"*|*")>0,LEN($G7)>200),"Sim","Não")) | M7: =IF(COUNTA($A7:$G7)=0,"",IF(AND(OR($E7="Ativo",$E7="Pausado"),ISNUMBER($F7)),IF(AND($F7<=TODAY(),TODAY()-$F7>'Configurações'!$B$3),"Sim","Não"),"Não")) | N7: =IF(COUNTA($A7:$G7)=0,"",IF($I7="Sim","Órfão de SKU",IF($J7="Sim","ID duplicado",IF($K7="Sim","Item sem vínculo",IF($L7="Sim","Cadastro incompleto",IF($M7="Sim","Conferência vencida","Vínculo consistente")))))) | O7: =IF($N7="","",IF($N7="Vínculo consistente","Não","Sim")) | P7: =IF(COUNTA($A7:$G7)=0,"",_xlfn.TEXTJOIN(CHAR(59)&" ",TRUE,IF(TRIM($A7)="","SKU interno não informado",""),IF(OR(LEN(TRIM($A7))>60,COUNTIF($A7,"*|*")>0),"SKU interno acima de 60 caracteres ou com |",""),IF(TRIM($B7)="","Canal não informado",""),IF(AND(TRIM($B7)<>"",COUNTIF('Configurações'!$A$8:$A$27,$B7)=0),"Canal fora da lista",""),IF(TRIM($E7)="","Status não informado",""),IF(AND(TRIM($E7)<>"",COUNTIF('Configurações'!$C$8:$C$11,$E7)=0),"Status fora da lista",""),IF($F7="","Última conferência não informada",""),IF(AND($F7<>"",NOT(ISNUMBER($F7))),"Data de conferência inválida",""),IF(AND(ISNUMBER($F7),OR($F7<'Configurações'!$B$4,$F7>TODAY())),"Data de conferência fora do período permitido",""),IF(AND(TRIM($D7)<>"",TRIM($C7)=""),"Variação sem ID do anúncio",""),IF(AND(OR($E7="Ativo",$E7="Pausado",$E7="Encerrado"),TRIM($C7)=""),"Status exige ID do anúncio",""),IF(AND($E7="A mapear",OR(TRIM($C7)<>"",TRIM($D7)<>"")),"Status A mapear com ID externo",""),IF(OR(LEN($C7)>80,COUNTIF($C7,"*|*")>0),"ID do anúncio acima de 80 caracteres ou com |",""),IF(OR(LEN($D7)>80,COUNTIF($D7,"*|*")>0),"ID da variação acima de 80 caracteres ou com |",""),IF(LEN($G7)>200,"Observação acima de 200 caracteres",""),IF($I7="Sim","ID externo sem SKU interno",""),IF($K7="Sim","SKU/canal sem ID externo",""),IF($J7="Sim","Chave externa repetida",""),IF($M7="Sim","Conferência vencida",""))) | Q7: =IF('Configurações'!A9="","",'Configurações'!A9)
A8: SKU-LUM-MIN-003 | B8: Canal Fictício Vitrine | C8: VBR-33007 | D8: V-127 | E8: Ativo | F8: 46269 | G8: Variação fictícia conferida | H8: =IF(COUNTA($A8:$G8)=0,"",IF(OR(TRIM($B8)="",TRIM($C8)=""),"",UPPER(TRIM($B8))&"|"&LEN(TRIM($C8))&":"&UPPER(TRIM($C8))&"|"&LEN(TRIM($D8))&":"&UPPER(TRIM($D8)))) | I8: =IF(COUNTA($A8:$G8)=0,"",IF(AND(TRIM($A8)="",OR(TRIM($C8)<>"",TRIM($D8)<>"")),"Sim","Não")) | J8: =IF($H8="","",IF(COUNTIF($H$6:$H$105,$H8)>1,"Sim","Não")) | K8: =IF(COUNTA($A8:$G8)=0,"",IF(AND(TRIM($A8)<>"",TRIM($B8)<>"",TRIM($C8)="",TRIM($D8)=""),"Sim","Não")) | L8: =IF(COUNTA($A8:$G8)=0,"",IF(OR(TRIM($A8)="",TRIM($B8)="",TRIM($E8)="",$F8="",AND(TRIM($D8)<>"",TRIM($C8)=""),AND(OR($E8="Ativo",$E8="Pausado",$E8="Encerrado"),TRIM($C8)=""),AND($E8="A mapear",OR(TRIM($C8)<>"",TRIM($D8)<>"")),AND(TRIM($B8)<>"",COUNTIF('Configurações'!$A$8:$A$27,$B8)=0),AND(TRIM($E8)<>"",COUNTIF('Configurações'!$C$8:$C$11,$E8)=0),AND($F8<>"",NOT(ISNUMBER($F8))),AND(ISNUMBER($F8),OR($F8<'Configurações'!$B$4,$F8>TODAY())),LEN(TRIM($A8))>60,COUNTIF($A8,"*|*")>0,LEN($C8)>80,COUNTIF($C8,"*|*")>0,LEN($D8)>80,COUNTIF($D8,"*|*")>0,LEN($G8)>200),"Sim","Não")) | M8: =IF(COUNTA($A8:$G8)=0,"",IF(AND(OR($E8="Ativo",$E8="Pausado"),ISNUMBER($F8)),IF(AND($F8<=TODAY(),TODAY()-$F8>'Configurações'!$B$3),"Sim","Não"),"Não")) | N8: =IF(COUNTA($A8:$G8)=0,"",IF($I8="Sim","Órfão de SKU",IF($J8="Sim","ID duplicado",IF($K8="Sim","Item sem vínculo",IF($L8="Sim","Cadastro incompleto",IF($M8="Sim","Conferência vencida","Vínculo consistente")))))) | O8: =IF($N8="","",IF($N8="Vínculo consistente","Não","Sim")) | P8: =IF(COUNTA($A8:$G8)=0,"",_xlfn.TEXTJOIN(CHAR(59)&" ",TRUE,IF(TRIM($A8)="","SKU interno não informado",""),IF(OR(LEN(TRIM($A8))>60,COUNTIF($A8,"*|*")>0),"SKU interno acima de 60 caracteres ou com |",""),IF(TRIM($B8)="","Canal não informado",""),IF(AND(TRIM($B8)<>"",COUNTIF('Configurações'!$A$8:$A$27,$B8)=0),"Canal fora da lista",""),IF(TRIM($E8)="","Status não informado",""),IF(AND(TRIM($E8)<>"",COUNTIF('Configurações'!$C$8:$C$11,$E8)=0),"Status fora da lista",""),IF($F8="","Última conferência não informada",""),IF(AND($F8<>"",NOT(ISNUMBER($F8))),"Data de conferência inválida",""),IF(AND(ISNUMBER($F8),OR($F8<'Configurações'!$B$4,$F8>TODAY())),"Data de conferência fora do período permitido",""),IF(AND(TRIM($D8)<>"",TRIM($C8)=""),"Variação sem ID do anúncio",""),IF(AND(OR($E8="Ativo",$E8="Pausado",$E8="Encerrado"),TRIM($C8)=""),"Status exige ID do anúncio",""),IF(AND($E8="A mapear",OR(TRIM($C8)<>"",TRIM($D8)<>"")),"Status A mapear com ID externo",""),IF(OR(LEN($C8)>80,COUNTIF($C8,"*|*")>0),"ID do anúncio acima de 80 caracteres ou com |",""),IF(OR(LEN($D8)>80,COUNTIF($D8,"*|*")>0),"ID da variação acima de 80 caracteres ou com |",""),IF(LEN($G8)>200,"Observação acima de 200 caracteres",""),IF($I8="Sim","ID externo sem SKU interno",""),IF($K8="Sim","SKU/canal sem ID externo",""),IF($J8="Sim","Chave externa repetida",""),IF($M8="Sim","Conferência vencida",""))) | Q8: =IF('Configurações'!A10="","",'Configurações'!A10)
B9: Canal Fictício Galeria | C9: GAL-44021 | D9: 991 | E9: Ativo | F9: 46266 | G9: Exemplo de ID externo órfão | H9: =IF(COUNTA($A9:$G9)=0,"",IF(OR(TRIM($B9)="",TRIM($C9)=""),"",UPPER(TRIM($B9))&"|"&LEN(TRIM($C9))&":"&UPPER(TRIM($C9))&"|"&LEN(TRIM($D9))&":"&UPPER(TRIM($D9)))) | I9: =IF(COUNTA($A9:$G9)=0,"",IF(AND(TRIM($A9)="",OR(TRIM($C9)<>"",TRIM($D9)<>"")),"Sim","Não")) | J9: =IF($H9="","",IF(COUNTIF($H$6:$H$105,$H9)>1,"Sim","Não")) | K9: =IF(COUNTA($A9:$G9)=0,"",IF(AND(TRIM($A9)<>"",TRIM($B9)<>"",TRIM($C9)="",TRIM($D9)=""),"Sim","Não")) | L9: =IF(COUNTA($A9:$G9)=0,"",IF(OR(TRIM($A9)="",TRIM($B9)="",TRIM($E9)="",$F9="",AND(TRIM($D9)<>"",TRIM($C9)=""),AND(OR($E9="Ativo",$E9="Pausado",$E9="Encerrado"),TRIM($C9)=""),AND($E9="A mapear",OR(TRIM($C9)<>"",TRIM($D9)<>"")),AND(TRIM($B9)<>"",COUNTIF('Configurações'!$A$8:$A$27,$B9)=0),AND(TRIM($E9)<>"",COUNTIF('Configurações'!$C$8:$C$11,$E9)=0),AND($F9<>"",NOT(ISNUMBER($F9))),AND(ISNUMBER($F9),OR($F9<'Configurações'!$B$4,$F9>TODAY())),LEN(TRIM($A9))>60,COUNTIF($A9,"*|*")>0,LEN($C9)>80,COUNTIF($C9,"*|*")>0,LEN($D9)>80,COUNTIF($D9,"*|*")>0,LEN($G9)>200),"Sim","Não")) | M9: =IF(COUNTA($A9:$G9)=0,"",IF(AND(OR($E9="Ativo",$E9="Pausado"),ISNUMBER($F9)),IF(AND($F9<=TODAY(),TODAY()-$F9>'Configurações'!$B$3),"Sim","Não"),"Não")) | N9: =IF(COUNTA($A9:$G9)=0,"",IF($I9="Sim","Órfão de SKU",IF($J9="Sim","ID duplicado",IF($K9="Sim","Item sem vínculo",IF($L9="Sim","Cadastro incompleto",IF($M9="Sim","Conferência vencida","Vínculo consistente")))))) | O9: =IF($N9="","",IF($N9="Vínculo consistente","Não","Sim")) | P9: =IF(COUNTA($A9:$G9)=0,"",_xlfn.TEXTJOIN(CHAR(59)&" ",TRUE,IF(TRIM($A9)="","SKU interno não informado",""),IF(OR(LEN(TRIM($A9))>60,COUNTIF($A9,"*|*")>0),"SKU interno acima de 60 caracteres ou com |",""),IF(TRIM($B9)="","Canal não informado",""),IF(AND(TRIM($B9)<>"",COUNTIF('Configurações'!$A$8:$A$27,$B9)=0),"Canal fora da lista",""),IF(TRIM($E9)="","Status não informado",""),IF(AND(TRIM($E9)<>"",COUNTIF('Configurações'!$C$8:$C$11,$E9)=0),"Status fora da lista",""),IF($F9="","Última conferência não informada",""),IF(AND($F9<>"",NOT(ISNUMBER($F9))),"Data de conferência inválida",""),IF(AND(ISNUMBER($F9),OR($F9<'Configurações'!$B$4,$F9>TODAY())),"Data de conferência fora do período permitido",""),IF(AND(TRIM($D9)<>"",TRIM($C9)=""),"Variação sem ID do anúncio",""),IF(AND(OR($E9="Ativo",$E9="Pausado",$E9="Encerrado"),TRIM($C9)=""),"Status exige ID do anúncio",""),IF(AND($E9="A mapear",OR(TRIM($C9)<>"",TRIM($D9)<>"")),"Status A mapear com ID externo",""),IF(OR(LEN($C9)>80,COUNTIF($C9,"*|*")>0),"ID do anúncio acima de 80 caracteres ou com |",""),IF(OR(LEN($D9)>80,COUNTIF($D9,"*|*")>0),"ID da variação acima de 80 caracteres ou com |",""),IF(LEN($G9)>200,"Observação acima de 200 caracteres",""),IF($I9="Sim","ID externo sem SKU interno",""),IF($K9="Sim","SKU/canal sem ID externo",""),IF($J9="Sim","Chave externa repetida",""),IF($M9="Sim","Conferência vencida",""))) | Q9: =IF('Configurações'!A11="","",'Configurações'!A11)
A10: SKU-ORG-CIN-004 | B10: Canal Fictício Horizonte | E10: A mapear | F10: 46268 | G10: Aguardando vínculo fictício | H10: =IF(COUNTA($A10:$G10)=0,"",IF(OR(TRIM($B10)="",TRIM($C10)=""),"",UPPER(TRIM($B10))&"|"&LEN(TRIM($C10))&":"&UPPER(TRIM($C10))&"|"&LEN(TRIM($D10))&":"&UPPER(TRIM($D10)))) | I10: =IF(COUNTA($A10:$G10)=0,"",IF(AND(TRIM($A10)="",OR(TRIM($C10)<>"",TRIM($D10)<>"")),"Sim","Não")) | J10: =IF($H10="","",IF(COUNTIF($H$6:$H$105,$H10)>1,"Sim","Não")) | K10: =IF(COUNTA($A10:$G10)=0,"",IF(AND(TRIM($A10)<>"",TRIM($B10)<>"",TRIM($C10)="",TRIM($D10)=""),"Sim","Não")) | L10: =IF(COUNTA($A10:$G10)=0,"",IF(OR(TRIM($A10)="",TRIM($B10)="",TRIM($E10)="",$F10="",AND(TRIM($D10)<>"",TRIM($C10)=""),AND(OR($E10="Ativo",$E10="Pausado",$E10="Encerrado"),TRIM($C10)=""),AND($E10="A mapear",OR(TRIM($C10)<>"",TRIM($D10)<>"")),AND(TRIM($B10)<>"",COUNTIF('Configurações'!$A$8:$A$27,$B10)=0),AND(TRIM($E10)<>"",COUNTIF('Configurações'!$C$8:$C$11,$E10)=0),AND($F10<>"",NOT(ISNUMBER($F10))),AND(ISNUMBER($F10),OR($F10<'Configurações'!$B$4,$F10>TODAY())),LEN(TRIM($A10))>60,COUNTIF($A10,"*|*")>0,LEN($C10)>80,COUNTIF($C10,"*|*")>0,LEN($D10)>80,COUNTIF($D10,"*|*")>0,LEN($G10)>200),"Sim","Não")) | M10: =IF(COUNTA($A10:$G10)=0,"",IF(AND(OR($E10="Ativo",$E10="Pausado"),ISNUMBER($F10)),IF(AND($F10<=TODAY(),TODAY()-$F10>'Configurações'!$B$3),"Sim","Não"),"Não")) | N10: =IF(COUNTA($A10:$G10)=0,"",IF($I10="Sim","Órfão de SKU",IF($J10="Sim","ID duplicado",IF($K10="Sim","Item sem vínculo",IF($L10="Sim","Cadastro incompleto",IF($M10="Sim","Conferência vencida","Vínculo consistente")))))) | O10: =IF($N10="","",IF($N10="Vínculo consistente","Não","Sim")) | P10: =IF(COUNTA($A10:$G10)=0,"",_xlfn.TEXTJOIN(CHAR(59)&" ",TRUE,IF(TRIM($A10)="","SKU interno não informado",""),IF(OR(LEN(TRIM($A10))>60,COUNTIF($A10,"*|*")>0),"SKU interno acima de 60 caracteres ou com |",""),IF(TRIM($B10)="","Canal não informado",""),IF(AND(TRIM($B10)<>"",COUNTIF('Configurações'!$A$8:$A$27,$B10)=0),"Canal fora da lista",""),IF(TRIM($E10)="","Status não informado",""),IF(AND(TRIM($E10)<>"",COUNTIF('Configurações'!$C$8:$C$11,$E10)=0),"Status fora da lista",""),IF($F10="","Última conferência não informada",""),IF(AND($F10<>"",NOT(ISNUMBER($F10))),"Data de conferência inválida",""),IF(AND(ISNUMBER($F10),OR($F10<'Configurações'!$B$4,$F10>TODAY())),"Data de conferência fora do período permitido",""),IF(AND(TRIM($D10)<>"",TRIM($C10)=""),"Variação sem ID do anúncio",""),IF(AND(OR($E10="Ativo",$E10="Pausado",$E10="Encerrado"),TRIM($C10)=""),"Status exige ID do anúncio",""),IF(AND($E10="A mapear",OR(TRIM($C10)<>"",TRIM($D10)<>"")),"Status A mapear com ID externo",""),IF(OR(LEN($C10)>80,COUNTIF($C10,"*|*")>0),"ID do anúncio acima de 80 caracteres ou com |",""),IF(OR(LEN($D10)>80,COUNTIF($D10,"*|*")>0),"ID da variação acima de 80 caracteres ou com |",""),IF(LEN($G10)>200,"Observação acima de 200 caracteres",""),IF($I10="Sim","ID externo sem SKU interno",""),IF($K10="Sim","SKU/canal sem ID externo",""),IF($J10="Sim","Chave externa repetida",""),IF($M10="Sim","Conferência vencida",""))) | Q10: =IF('Configurações'!A12="","",'Configurações'!A12)
A11: SKU-MOC-BRI-005 | B11: Canal Fictício Aurora | C11: AUR-55500 | D11: V-01 | E11: Ativo | F11: 46264 | G11: Primeira ocorrência fictícia | H11: =IF(COUNTA($A11:$G11)=0,"",IF(OR(TRIM($B11)="",TRIM($C11)=""),"",UPPER(TRIM($B11))&"|"&LEN(TRIM($C11))&":"&UPPER(TRIM($C11))&"|"&LEN(TRIM($D11))&":"&UPPER(TRIM($D11)))) | I11: =IF(COUNTA($A11:$G11)=0,"",IF(AND(TRIM($A11)="",OR(TRIM($C11)<>"",TRIM($D11)<>"")),"Sim","Não")) | J11: =IF($H11="","",IF(COUNTIF($H$6:$H$105,$H11)>1,"Sim","Não")) | K11: =IF(COUNTA($A11:$G11)=0,"",IF(AND(TRIM($A11)<>"",TRIM($B11)<>"",TRIM($C11)="",TRIM($D11)=""),"Sim","Não")) | L11: =IF(COUNTA($A11:$G11)=0,"",IF(OR(TRIM($A11)="",TRIM($B11)="",TRIM($E11)="",$F11="",AND(TRIM($D11)<>"",TRIM($C11)=""),AND(OR($E11="Ativo",$E11="Pausado",$E11="Encerrado"),TRIM($C11)=""),AND($E11="A mapear",OR(TRIM($C11)<>"",TRIM($D11)<>"")),AND(TRIM($B11)<>"",COUNTIF('Configurações'!$A$8:$A$27,$B11)=0),AND(TRIM($E11)<>"",COUNTIF('Configurações'!$C$8:$C$11,$E11)=0),AND($F11<>"",NOT(ISNUMBER($F11))),AND(ISNUMBER($F11),OR($F11<'Configurações'!$B$4,$F11>TODAY())),LEN(TRIM($A11))>60,COUNTIF($A11,"*|*")>0,LEN($C11)>80,COUNTIF($C11,"*|*")>0,LEN($D11)>80,COUNTIF($D11,"*|*")>0,LEN($G11)>200),"Sim","Não")) | M11: =IF(COUNTA($A11:$G11)=0,"",IF(AND(OR($E11="Ativo",$E11="Pausado"),ISNUMBER($F11)),IF(AND($F11<=TODAY(),TODAY()-$F11>'Configurações'!$B$3),"Sim","Não"),"Não")) | N11: =IF(COUNTA($A11:$G11)=0,"",IF($I11="Sim","Órfão de SKU",IF($J11="Sim","ID duplicado",IF($K11="Sim","Item sem vínculo",IF($L11="Sim","Cadastro incompleto",IF($M11="Sim","Conferência vencida","Vínculo consistente")))))) | O11: =IF($N11="","",IF($N11="Vínculo consistente","Não","Sim")) | P11: =IF(COUNTA($A11:$G11)=0,"",_xlfn.TEXTJOIN(CHAR(59)&" ",TRUE,IF(TRIM($A11)="","SKU interno não informado",""),IF(OR(LEN(TRIM($A11))>60,COUNTIF($A11,"*|*")>0),"SKU interno acima de 60 caracteres ou com |",""),IF(TRIM($B11)="","Canal não informado",""),IF(AND(TRIM($B11)<>"",COUNTIF('Configurações'!$A$8:$A$27,$B11)=0),"Canal fora da lista",""),IF(TRIM($E11)="","Status não informado",""),IF(AND(TRIM($E11)<>"",COUNTIF('Configurações'!$C$8:$C$11,$E11)=0),"Status fora da lista",""),IF($F11="","Última conferência não informada",""),IF(AND($F11<>"",NOT(ISNUMBER($F11))),"Data de conferência inválida",""),IF(AND(ISNUMBER($F11),OR($F11<'Configurações'!$B$4,$F11>TODAY())),"Data de conferência fora do período permitido",""),IF(AND(TRIM($D11)<>"",TRIM($C11)=""),"Variação sem ID do anúncio",""),IF(AND(OR($E11="Ativo",$E11="Pausado",$E11="Encerrado"),TRIM($C11)=""),"Status exige ID do anúncio",""),IF(AND($E11="A mapear",OR(TRIM($C11)<>"",TRIM($D11)<>"")),"Status A mapear com ID externo",""),IF(OR(LEN($C11)>80,COUNTIF($C11,"*|*")>0),"ID do anúncio acima de 80 caracteres ou com |",""),IF(OR(LEN($D11)>80,COUNTIF($D11,"*|*")>0),"ID da variação acima de 80 caracteres ou com |",""),IF(LEN($G11)>200,"Observação acima de 200 caracteres",""),IF($I11="Sim","ID externo sem SKU interno",""),IF($K11="Sim","SKU/canal sem ID externo",""),IF($J11="Sim","Chave externa repetida",""),IF($M11="Sim","Conferência vencida",""))) | Q11: =IF('Configurações'!A13="","",'Configurações'!A13)
A12: SKU-EST-LUA-006 | B12: Canal Fictício Aurora | C12: AUR-55500 | D12: V-01 | E12: Ativo | F12: 46265 | G12: Segunda ocorrência fictícia | H12: =IF(COUNTA($A12:$G12)=0,"",IF(OR(TRIM($B12)="",TRIM($C12)=""),"",UPPER(TRIM($B12))&"|"&LEN(TRIM($C12))&":"&UPPER(TRIM($C12))&"|"&LEN(TRIM($D12))&":"&UPPER(TRIM($D12)))) | I12: =IF(COUNTA($A12:$G12)=0,"",IF(AND(TRIM($A12)="",OR(TRIM($C12)<>"",TRIM($D12)<>"")),"Sim","Não")) | J12: =IF($H12="","",IF(COUNTIF($H$6:$H$105,$H12)>1,"Sim","Não")) | K12: =IF(COUNTA($A12:$G12)=0,"",IF(AND(TRIM($A12)<>"",TRIM($B12)<>"",TRIM($C12)="",TRIM($D12)=""),"Sim","Não")) | L12: =IF(COUNTA($A12:$G12)=0,"",IF(OR(TRIM($A12)="",TRIM($B12)="",TRIM($E12)="",$F12="",AND(TRIM($D12)<>"",TRIM($C12)=""),AND(OR($E12="Ativo",$E12="Pausado",$E12="Encerrado"),TRIM($C12)=""),AND($E12="A mapear",OR(TRIM($C12)<>"",TRIM($D12)<>"")),AND(TRIM($B12)<>"",COUNTIF('Configurações'!$A$8:$A$27,$B12)=0),AND(TRIM($E12)<>"",COUNTIF('Configurações'!$C$8:$C$11,$E12)=0),AND($F12<>"",NOT(ISNUMBER($F12))),AND(ISNUMBER($F12),OR($F12<'Configurações'!$B$4,$F12>TODAY())),LEN(TRIM($A12))>60,COUNTIF($A12,"*|*")>0,LEN($C12)>80,COUNTIF($C12,"*|*")>0,LEN($D12)>80,COUNTIF($D12,"*|*")>0,LEN($G12)>200),"Sim","Não")) | M12: =IF(COUNTA($A12:$G12)=0,"",IF(AND(OR($E12="Ativo",$E12="Pausado"),ISNUMBER($F12)),IF(AND($F12<=TODAY(),TODAY()-$F12>'Configurações'!$B$3),"Sim","Não"),"Não")) | N12: =IF(COUNTA($A12:$G12)=0,"",IF($I12="Sim","Órfão de SKU",IF($J12="Sim","ID duplicado",IF($K12="Sim","Item sem vínculo",IF($L12="Sim","Cadastro incompleto",IF($M12="Sim","Conferência vencida","Vínculo consistente")))))) | O12: =IF($N12="","",IF($N12="Vínculo consistente","Não","Sim")) | P12: =IF(COUNTA($A12:$G12)=0,"",_xlfn.TEXTJOIN(CHAR(59)&" ",TRUE,IF(TRIM($A12)="","SKU interno não informado",""),IF(OR(LEN(TRIM($A12))>60,COUNTIF($A12,"*|*")>0),"SKU interno acima de 60 caracteres ou com |",""),IF(TRIM($B12)="","Canal não informado",""),IF(AND(TRIM($B12)<>"",COUNTIF('Configurações'!$A$8:$A$27,$B12)=0),"Canal fora da lista",""),IF(TRIM($E12)="","Status não informado",""),IF(AND(TRIM($E12)<>"",COUNTIF('Configurações'!$C$8:$C$11,$E12)=0),"Status fora da lista",""),IF($F12="","Última conferência não informada",""),IF(AND($F12<>"",NOT(ISNUMBER($F12))),"Data de conferência inválida",""),IF(AND(ISNUMBER($F12),OR($F12<'Configurações'!$B$4,$F12>TODAY())),"Data de conferência fora do período permitido",""),IF(AND(TRIM($D12)<>"",TRIM($C12)=""),"Variação sem ID do anúncio",""),IF(AND(OR($E12="Ativo",$E12="Pausado",$E12="Encerrado"),TRIM($C12)=""),"Status exige ID do anúncio",""),IF(AND($E12="A mapear",OR(TRIM($C12)<>"",TRIM($D12)<>"")),"Status A mapear com ID externo",""),IF(OR(LEN($C12)>80,COUNTIF($C12,"*|*")>0),"ID do anúncio acima de 80 caracteres ou com |",""),IF(OR(LEN($D12)>80,COUNTIF($D12,"*|*")>0),"ID da variação acima de 80 caracteres ou com |",""),IF(LEN($G12)>200,"Observação acima de 200 caracteres",""),IF($I12="Sim","ID externo sem SKU interno",""),IF($K12="Sim","SKU/canal sem ID externo",""),IF($J12="Sim","Chave externa repetida",""),IF($M12="Sim","Conferência vencida",""))) | Q12: =IF('Configurações'!A14="","",'Configurações'!A14)
A13: SKU-TOA-NOR-007 | B13: Canal Fictício Vitrine | D13: V-009 | E13: Ativo | F13: 46267 | G13: Variação fictícia sem anúncio | H13: =IF(COUNTA($A13:$G13)=0,"",IF(OR(TRIM($B13)="",TRIM($C13)=""),"",UPPER(TRIM($B13))&"|"&LEN(TRIM($C13))&":"&UPPER(TRIM($C13))&"|"&LEN(TRIM($D13))&":"&UPPER(TRIM($D13)))) | I13: =IF(COUNTA($A13:$G13)=0,"",IF(AND(TRIM($A13)="",OR(TRIM($C13)<>"",TRIM($D13)<>"")),"Sim","Não")) | J13: =IF($H13="","",IF(COUNTIF($H$6:$H$105,$H13)>1,"Sim","Não")) | K13: =IF(COUNTA($A13:$G13)=0,"",IF(AND(TRIM($A13)<>"",TRIM($B13)<>"",TRIM($C13)="",TRIM($D13)=""),"Sim","Não")) | L13: =IF(COUNTA($A13:$G13)=0,"",IF(OR(TRIM($A13)="",TRIM($B13)="",TRIM($E13)="",$F13="",AND(TRIM($D13)<>"",TRIM($C13)=""),AND(OR($E13="Ativo",$E13="Pausado",$E13="Encerrado"),TRIM($C13)=""),AND($E13="A mapear",OR(TRIM($C13)<>"",TRIM($D13)<>"")),AND(TRIM($B13)<>"",COUNTIF('Configurações'!$A$8:$A$27,$B13)=0),AND(TRIM($E13)<>"",COUNTIF('Configurações'!$C$8:$C$11,$E13)=0),AND($F13<>"",NOT(ISNUMBER($F13))),AND(ISNUMBER($F13),OR($F13<'Configurações'!$B$4,$F13>TODAY())),LEN(TRIM($A13))>60,COUNTIF($A13,"*|*")>0,LEN($C13)>80,COUNTIF($C13,"*|*")>0,LEN($D13)>80,COUNTIF($D13,"*|*")>0,LEN($G13)>200),"Sim","Não")) | M13: =IF(COUNTA($A13:$G13)=0,"",IF(AND(OR($E13="Ativo",$E13="Pausado"),ISNUMBER($F13)),IF(AND($F13<=TODAY(),TODAY()-$F13>'Configurações'!$B$3),"Sim","Não"),"Não")) | N13: =IF(COUNTA($A13:$G13)=0,"",IF($I13="Sim","Órfão de SKU",IF($J13="Sim","ID duplicado",IF($K13="Sim","Item sem vínculo",IF($L13="Sim","Cadastro incompleto",IF($M13="Sim","Conferência vencida","Vínculo consistente")))))) | O13: =IF($N13="","",IF($N13="Vínculo consistente","Não","Sim")) | P13: =IF(COUNTA($A13:$G13)=0,"",_xlfn.TEXTJOIN(CHAR(59)&" ",TRUE,IF(TRIM($A13)="","SKU interno não informado",""),IF(OR(LEN(TRIM($A13))>60,COUNTIF($A13,"*|*")>0),"SKU interno acima de 60 caracteres ou com |",""),IF(TRIM($B13)="","Canal não informado",""),IF(AND(TRIM($B13)<>"",COUNTIF('Configurações'!$A$8:$A$27,$B13)=0),"Canal fora da lista",""),IF(TRIM($E13)="","Status não informado",""),IF(AND(TRIM($E13)<>"",COUNTIF('Configurações'!$C$8:$C$11,$E13)=0),"Status fora da lista",""),IF($F13="","Última conferência não informada",""),IF(AND($F13<>"",NOT(ISNUMBER($F13))),"Data de conferência inválida",""),IF(AND(ISNUMBER($F13),OR($F13<'Configurações'!$B$4,$F13>TODAY())),"Data de conferência fora do período permitido",""),IF(AND(TRIM($D13)<>"",TRIM($C13)=""),"Variação sem ID do anúncio",""),IF(AND(OR($E13="Ativo",$E13="Pausado",$E13="Encerrado"),TRIM($C13)=""),"Status exige ID do anúncio",""),IF(AND($E13="A mapear",OR(TRIM($C13)<>"",TRIM($D13)<>"")),"Status A mapear com ID externo",""),IF(OR(LEN($C13)>80,COUNTIF($C13,"*|*")>0),"ID do anúncio acima de 80 caracteres ou com |",""),IF(OR(LEN($D13)>80,COUNTIF($D13,"*|*")>0),"ID da variação acima de 80 caracteres ou com |",""),IF(LEN($G13)>200,"Observação acima de 200 caracteres",""),IF($I13="Sim","ID externo sem SKU interno",""),IF($K13="Sim","SKU/canal sem ID externo",""),IF($J13="Sim","Chave externa repetida",""),IF($M13="Sim","Conferência vencida",""))) | Q13: =IF('Configurações'!A15="","",'Configurações'!A15)
A14: SKU-GAR-SOL-008 | B14: Canal Fictício Horizonte | C14: HOR-80808 | E14: Ativo | F14: 46223 | G14: Conferência fictícia antiga | H14: =IF(COUNTA($A14:$G14)=0,"",IF(OR(TRIM($B14)="",TRIM($C14)=""),"",UPPER(TRIM($B14))&"|"&LEN(TRIM($C14))&":"&UPPER(TRIM($C14))&"|"&LEN(TRIM($D14))&":"&UPPER(TRIM($D14)))) | I14: =IF(COUNTA($A14:$G14)=0,"",IF(AND(TRIM($A14)="",OR(TRIM($C14)<>"",TRIM($D14)<>"")),"Sim","Não")) | J14: =IF($H14="","",IF(COUNTIF($H$6:$H$105,$H14)>1,"Sim","Não")) | K14: =IF(COUNTA($A14:$G14)=0,"",IF(AND(TRIM($A14)<>"",TRIM($B14)<>"",TRIM($C14)="",TRIM($D14)=""),"Sim","Não")) | L14: =IF(COUNTA($A14:$G14)=0,"",IF(OR(TRIM($A14)="",TRIM($B14)="",TRIM($E14)="",$F14="",AND(TRIM($D14)<>"",TRIM($C14)=""),AND(OR($E14="Ativo",$E14="Pausado",$E14="Encerrado"),TRIM($C14)=""),AND($E14="A mapear",OR(TRIM($C14)<>"",TRIM($D14)<>"")),AND(TRIM($B14)<>"",COUNTIF('Configurações'!$A$8:$A$27,$B14)=0),AND(TRIM($E14)<>"",COUNTIF('Configurações'!$C$8:$C$11,$E14)=0),AND($F14<>"",NOT(ISNUMBER($F14))),AND(ISNUMBER($F14),OR($F14<'Configurações'!$B$4,$F14>TODAY())),LEN(TRIM($A14))>60,COUNTIF($A14,"*|*")>0,LEN($C14)>80,COUNTIF($C14,"*|*")>0,LEN($D14)>80,COUNTIF($D14,"*|*")>0,LEN($G14)>200),"Sim","Não")) | M14: =IF(COUNTA($A14:$G14)=0,"",IF(AND(OR($E14="Ativo",$E14="Pausado"),ISNUMBER($F14)),IF(AND($F14<=TODAY(),TODAY()-$F14>'Configurações'!$B$3),"Sim","Não"),"Não")) | N14: =IF(COUNTA($A14:$G14)=0,"",IF($I14="Sim","Órfão de SKU",IF($J14="Sim","ID duplicado",IF($K14="Sim","Item sem vínculo",IF($L14="Sim","Cadastro incompleto",IF($M14="Sim","Conferência vencida","Vínculo consistente")))))) | O14: =IF($N14="","",IF($N14="Vínculo consistente","Não","Sim")) | P14: =IF(COUNTA($A14:$G14)=0,"",_xlfn.TEXTJOIN(CHAR(59)&" ",TRUE,IF(TRIM($A14)="","SKU interno não informado",""),IF(OR(LEN(TRIM($A14))>60,COUNTIF($A14,"*|*")>0),"SKU interno acima de 60 caracteres ou com |",""),IF(TRIM($B14)="","Canal não informado",""),IF(AND(TRIM($B14)<>"",COUNTIF('Configurações'!$A$8:$A$27,$B14)=0),"Canal fora da lista",""),IF(TRIM($E14)="","Status não informado",""),IF(AND(TRIM($E14)<>"",COUNTIF('Configurações'!$C$8:$C$11,$E14)=0),"Status fora da lista",""),IF($F14="","Última conferência não informada",""),IF(AND($F14<>"",NOT(ISNUMBER($F14))),"Data de conferência inválida",""),IF(AND(ISNUMBER($F14),OR($F14<'Configurações'!$B$4,$F14>TODAY())),"Data de conferência fora do período permitido",""),IF(AND(TRIM($D14)<>"",TRIM($C14)=""),"Variação sem ID do anúncio",""),IF(AND(OR($E14="Ativo",$E14="Pausado",$E14="Encerrado"),TRIM($C14)=""),"Status exige ID do anúncio",""),IF(AND($E14="A mapear",OR(TRIM($C14)<>"",TRIM($D14)<>"")),"Status A mapear com ID externo",""),IF(OR(LEN($C14)>80,COUNTIF($C14,"*|*")>0),"ID do anúncio acima de 80 caracteres ou com |",""),IF(OR(LEN($D14)>80,COUNTIF($D14,"*|*")>0),"ID da variação acima de 80 caracteres ou com |",""),IF(LEN($G14)>200,"Observação acima de 200 caracteres",""),IF($I14="Sim","ID externo sem SKU interno",""),IF($K14="Sim","SKU/canal sem ID externo",""),IF($J14="Sim","Chave externa repetida",""),IF($M14="Sim","Conferência vencida",""))) | Q14: =IF('Configurações'!A16="","",'Configurações'!A16)
A15: SKU-CES-ARE-009 | B15: Canal Fictício Galeria | C15: GAL-99110 | E15: Encerrado | F15: 46188 | G15: Anúncio fictício encerrado | H15: =IF(COUNTA($A15:$G15)=0,"",IF(OR(TRIM($B15)="",TRIM($C15)=""),"",UPPER(TRIM($B15))&"|"&LEN(TRIM($C15))&":"&UPPER(TRIM($C15))&"|"&LEN(TRIM($D15))&":"&UPPER(TRIM($D15)))) | I15: =IF(COUNTA($A15:$G15)=0,"",IF(AND(TRIM($A15)="",OR(TRIM($C15)<>"",TRIM($D15)<>"")),"Sim","Não")) | J15: =IF($H15="","",IF(COUNTIF($H$6:$H$105,$H15)>1,"Sim","Não")) | K15: =IF(COUNTA($A15:$G15)=0,"",IF(AND(TRIM($A15)<>"",TRIM($B15)<>"",TRIM($C15)="",TRIM($D15)=""),"Sim","Não")) | L15: =IF(COUNTA($A15:$G15)=0,"",IF(OR(TRIM($A15)="",TRIM($B15)="",TRIM($E15)="",$F15="",AND(TRIM($D15)<>"",TRIM($C15)=""),AND(OR($E15="Ativo",$E15="Pausado",$E15="Encerrado"),TRIM($C15)=""),AND($E15="A mapear",OR(TRIM($C15)<>"",TRIM($D15)<>"")),AND(TRIM($B15)<>"",COUNTIF('Configurações'!$A$8:$A$27,$B15)=0),AND(TRIM($E15)<>"",COUNTIF('Configurações'!$C$8:$C$11,$E15)=0),AND($F15<>"",NOT(ISNUMBER($F15))),AND(ISNUMBER($F15),OR($F15<'Configurações'!$B$4,$F15>TODAY())),LEN(TRIM($A15))>60,COUNTIF($A15,"*|*")>0,LEN($C15)>80,COUNTIF($C15,"*|*")>0,LEN($D15)>80,COUNTIF($D15,"*|*")>0,LEN($G15)>200),"Sim","Não")) | M15: =IF(COUNTA($A15:$G15)=0,"",IF(AND(OR($E15="Ativo",$E15="Pausado"),ISNUMBER($F15)),IF(AND($F15<=TODAY(),TODAY()-$F15>'Configurações'!$B$3),"Sim","Não"),"Não")) | N15: =IF(COUNTA($A15:$G15)=0,"",IF($I15="Sim","Órfão de SKU",IF($J15="Sim","ID duplicado",IF($K15="Sim","Item sem vínculo",IF($L15="Sim","Cadastro incompleto",IF($M15="Sim","Conferência vencida","Vínculo consistente")))))) | O15: =IF($N15="","",IF($N15="Vínculo consistente","Não","Sim")) | P15: =IF(COUNTA($A15:$G15)=0,"",_xlfn.TEXTJOIN(CHAR(59)&" ",TRUE,IF(TRIM($A15)="","SKU interno não informado",""),IF(OR(LEN(TRIM($A15))>60,COUNTIF($A15,"*|*")>0),"SKU interno acima de 60 caracteres ou com |",""),IF(TRIM($B15)="","Canal não informado",""),IF(AND(TRIM($B15)<>"",COUNTIF('Configurações'!$A$8:$A$27,$B15)=0),"Canal fora da lista",""),IF(TRIM($E15)="","Status não informado",""),IF(AND(TRIM($E15)<>"",COUNTIF('Configurações'!$C$8:$C$11,$E15)=0),"Status fora da lista",""),IF($F15="","Última conferência não informada",""),IF(AND($F15<>"",NOT(ISNUMBER($F15))),"Data de conferência inválida",""),IF(AND(ISNUMBER($F15),OR($F15<'Configurações'!$B$4,$F15>TODAY())),"Data de conferência fora do período permitido",""),IF(AND(TRIM($D15)<>"",TRIM($C15)=""),"Variação sem ID do anúncio",""),IF(AND(OR($E15="Ativo",$E15="Pausado",$E15="Encerrado"),TRIM($C15)=""),"Status exige ID do anúncio",""),IF(AND($E15="A mapear",OR(TRIM($C15)<>"",TRIM($D15)<>"")),"Status A mapear com ID externo",""),IF(OR(LEN($C15)>80,COUNTIF($C15,"*|*")>0),"ID do anúncio acima de 80 caracteres ou com |",""),IF(OR(LEN($D15)>80,COUNTIF($D15,"*|*")>0),"ID da variação acima de 80 caracteres ou com |",""),IF(LEN($G15)>200,"Observação acima de 200 caracteres",""),IF($I15="Sim","ID externo sem SKU interno",""),IF($K15="Sim","SKU/canal sem ID externo",""),IF($J15="Sim","Chave externa repetida",""),IF($M15="Sim","Conferência vencida",""))) | Q15: =IF('Configurações'!A17="","",'Configurações'!A17)
H16: =IF(COUNTA($A16:$G16)=0,"",IF(OR(TRIM($B16)="",TRIM($C16)=""),"",UPPER(TRIM($B16))&"|"&LEN(TRIM($C16))&":"&UPPER(TRIM($C16))&"|"&LEN(TRIM($D16))&":"&UPPER(TRIM($D16)))) | I16: =IF(COUNTA($A16:$G16)=0,"",IF(AND(TRIM($A16)="",OR(TRIM($C16)<>"",TRIM($D16)<>"")),"Sim","Não")) | J16: =IF($H16="","",IF(COUNTIF($H$6:$H$105,$H16)>1,"Sim","Não")) | K16: =IF(COUNTA($A16:$G16)=0,"",IF(AND(TRIM($A16)<>"",TRIM($B16)<>"",TRIM($C16)="",TRIM($D16)=""),"Sim","Não")) | L16: =IF(COUNTA($A16:$G16)=0,"",IF(OR(TRIM($A16)="",TRIM($B16)="",TRIM($E16)="",$F16="",AND(TRIM($D16)<>"",TRIM($C16)=""),AND(OR($E16="Ativo",$E16="Pausado",$E16="Encerrado"),TRIM($C16)=""),AND($E16="A mapear",OR(TRIM($C16)<>"",TRIM($D16)<>"")),AND(TRIM($B16)<>"",COUNTIF('Configurações'!$A$8:$A$27,$B16)=0),AND(TRIM($E16)<>"",COUNTIF('Configurações'!$C$8:$C$11,$E16)=0),AND($F16<>"",NOT(ISNUMBER($F16))),AND(ISNUMBER($F16),OR($F16<'Configurações'!$B$4,$F16>TODAY())),LEN(TRIM($A16))>60,COUNTIF($A16,"*|*")>0,LEN($C16)>80,COUNTIF($C16,"*|*")>0,LEN($D16)>80,COUNTIF($D16,"*|*")>0,LEN($G16)>200),"Sim","Não")) | M16: =IF(COUNTA($A16:$G16)=0,"",IF(AND(OR($E16="Ativo",$E16="Pausado"),ISNUMBER($F16)),IF(AND($F16<=TODAY(),TODAY()-$F16>'Configurações'!$B$3),"Sim","Não"),"Não")) | N16: =IF(COUNTA($A16:$G16)=0,"",IF($I16="Sim","Órfão de SKU",IF($J16="Sim","ID duplicado",IF($K16="Sim","Item sem vínculo",IF($L16="Sim","Cadastro incompleto",IF($M16="Sim","Conferência vencida","Vínculo consistente")))))) | O16: =IF($N16="","",IF($N16="Vínculo consistente","Não","Sim")) | P16: =IF(COUNTA($A16:$G16)=0,"",_xlfn.TEXTJOIN(CHAR(59)&" ",TRUE,IF(TRIM($A16)="","SKU interno não informado",""),IF(OR(LEN(TRIM($A16))>60,COUNTIF($A16,"*|*")>0),"SKU interno acima de 60 caracteres ou com |",""),IF(TRIM($B16)="","Canal não informado",""),IF(AND(TRIM($B16)<>"",COUNTIF('Configurações'!$A$8:$A$27,$B16)=0),"Canal fora da lista",""),IF(TRIM($E16)="","Status não informado",""),IF(AND(TRIM($E16)<>"",COUNTIF('Configurações'!$C$8:$C$11,$E16)=0),"Status fora da lista",""),IF($F16="","Última conferência não informada",""),IF(AND($F16<>"",NOT(ISNUMBER($F16))),"Data de conferência inválida",""),IF(AND(ISNUMBER($F16),OR($F16<'Configurações'!$B$4,$F16>TODAY())),"Data de conferência fora do período permitido",""),IF(AND(TRIM($D16)<>"",TRIM($C16)=""),"Variação sem ID do anúncio",""),IF(AND(OR($E16="Ativo",$E16="Pausado",$E16="Encerrado"),TRIM($C16)=""),"Status exige ID do anúncio",""),IF(AND($E16="A mapear",OR(TRIM($C16)<>"",TRIM($D16)<>"")),"Status A mapear com ID externo",""),IF(OR(LEN($C16)>80,COUNTIF($C16,"*|*")>0),"ID do anúncio acima de 80 caracteres ou com |",""),IF(OR(LEN($D16)>80,COUNTIF($D16,"*|*")>0),"ID da variação acima de 80 caracteres ou com |",""),IF(LEN($G16)>200,"Observação acima de 200 caracteres",""),IF($I16="Sim","ID externo sem SKU interno",""),IF($K16="Sim","SKU/canal sem ID externo",""),IF($J16="Sim","Chave externa repetida",""),IF($M16="Sim","Conferência vencida",""))) | Q16: =IF('Configurações'!A18="","",'Configurações'!A18)
H17: =IF(COUNTA($A17:$G17)=0,"",IF(OR(TRIM($B17)="",TRIM($C17)=""),"",UPPER(TRIM($B17))&"|"&LEN(TRIM($C17))&":"&UPPER(TRIM($C17))&"|"&LEN(TRIM($D17))&":"&UPPER(TRIM($D17)))) | I17: =IF(COUNTA($A17:$G17)=0,"",IF(AND(TRIM($A17)="",OR(TRIM($C17)<>"",TRIM($D17)<>"")),"Sim","Não")) | J17: =IF($H17="","",IF(COUNTIF($H$6:$H$105,$H17)>1,"Sim","Não")) | K17: =IF(COUNTA($A17:$G17)=0,"",IF(AND(TRIM($A17)<>"",TRIM($B17)<>"",TRIM($C17)="",TRIM($D17)=""),"Sim","Não")) | L17: =IF(COUNTA($A17:$G17)=0,"",IF(OR(TRIM($A17)="",TRIM($B17)="",TRIM($E17)="",$F17="",AND(TRIM($D17)<>"",TRIM($C17)=""),AND(OR($E17="Ativo",$E17="Pausado",$E17="Encerrado"),TRIM($C17)=""),AND($E17="A mapear",OR(TRIM($C17)<>"",TRIM($D17)<>"")),AND(TRIM($B17)<>"",COUNTIF('Configurações'!$A$8:$A$27,$B17)=0),AND(TRIM($E17)<>"",COUNTIF('Configurações'!$C$8:$C$11,$E17)=0),AND($F17<>"",NOT(ISNUMBER($F17))),AND(ISNUMBER($F17),OR($F17<'Configurações'!$B$4,$F17>TODAY())),LEN(TRIM($A17))>60,COUNTIF($A17,"*|*")>0,LEN($C17)>80,COUNTIF($C17,"*|*")>0,LEN($D17)>80,COUNTIF($D17,"*|*")>0,LEN($G17)>200),"Sim","Não")) | M17: =IF(COUNTA($A17:$G17)=0,"",IF(AND(OR($E17="Ativo",$E17="Pausado"),ISNUMBER($F17)),IF(AND($F17<=TODAY(),TODAY()-$F17>'Configurações'!$B$3),"Sim","Não"),"Não")) | N17: =IF(COUNTA($A17:$G17)=0,"",IF($I17="Sim","Órfão de SKU",IF($J17="Sim","ID duplicado",IF($K17="Sim","Item sem vínculo",IF($L17="Sim","Cadastro incompleto",IF($M17="Sim","Conferência vencida","Vínculo consistente")))))) | O17: =IF($N17="","",IF($N17="Vínculo consistente","Não","Sim")) | P17: =IF(COUNTA($A17:$G17)=0,"",_xlfn.TEXTJOIN(CHAR(59)&" ",TRUE,IF(TRIM($A17)="","SKU interno não informado",""),IF(OR(LEN(TRIM($A17))>60,COUNTIF($A17,"*|*")>0),"SKU interno acima de 60 caracteres ou com |",""),IF(TRIM($B17)="","Canal não informado",""),IF(AND(TRIM($B17)<>"",COUNTIF('Configurações'!$A$8:$A$27,$B17)=0),"Canal fora da lista",""),IF(TRIM($E17)="","Status não informado",""),IF(AND(TRIM($E17)<>"",COUNTIF('Configurações'!$C$8:$C$11,$E17)=0),"Status fora da lista",""),IF($F17="","Última conferência não informada",""),IF(AND($F17<>"",NOT(ISNUMBER($F17))),"Data de conferência inválida",""),IF(AND(ISNUMBER($F17),OR($F17<'Configurações'!$B$4,$F17>TODAY())),"Data de conferência fora do período permitido",""),IF(AND(TRIM($D17)<>"",TRIM($C17)=""),"Variação sem ID do anúncio",""),IF(AND(OR($E17="Ativo",$E17="Pausado",$E17="Encerrado"),TRIM($C17)=""),"Status exige ID do anúncio",""),IF(AND($E17="A mapear",OR(TRIM($C17)<>"",TRIM($D17)<>"")),"Status A mapear com ID externo",""),IF(OR(LEN($C17)>80,COUNTIF($C17,"*|*")>0),"ID do anúncio acima de 80 caracteres ou com |",""),IF(OR(LEN($D17)>80,COUNTIF($D17,"*|*")>0),"ID da variação acima de 80 caracteres ou com |",""),IF(LEN($G17)>200,"Observação acima de 200 caracteres",""),IF($I17="Sim","ID externo sem SKU interno",""),IF($K17="Sim","SKU/canal sem ID externo",""),IF($J17="Sim","Chave externa repetida",""),IF($M17="Sim","Conferência vencida",""))) | Q17: =IF('Configurações'!A19="","",'Configurações'!A19)
H18: =IF(COUNTA($A18:$G18)=0,"",IF(OR(TRIM($B18)="",TRIM($C18)=""),"",UPPER(TRIM($B18))&"|"&LEN(TRIM($C18))&":"&UPPER(TRIM($C18))&"|"&LEN(TRIM($D18))&":"&UPPER(TRIM($D18)))) | I18: =IF(COUNTA($A18:$G18)=0,"",IF(AND(TRIM($A18)="",OR(TRIM($C18)<>"",TRIM($D18)<>"")),"Sim","Não")) | J18: =IF($H18="","",IF(COUNTIF($H$6:$H$105,$H18)>1,"Sim","Não")) | K18: =IF(COUNTA($A18:$G18)=0,"",IF(AND(TRIM($A18)<>"",TRIM($B18)<>"",TRIM($C18)="",TRIM($D18)=""),"Sim","Não")) | L18: =IF(COUNTA($A18:$G18)=0,"",IF(OR(TRIM($A18)="",TRIM($B18)="",TRIM($E18)="",$F18="",AND(TRIM($D18)<>"",TRIM($C18)=""),AND(OR($E18="Ativo",$E18="Pausado",$E18="Encerrado"),TRIM($C18)=""),AND($E18="A mapear",OR(TRIM($C18)<>"",TRIM($D18)<>"")),AND(TRIM($B18)<>"",COUNTIF('Configurações'!$A$8:$A$27,$B18)=0),AND(TRIM($E18)<>"",COUNTIF('Configurações'!$C$8:$C$11,$E18)=0),AND($F18<>"",NOT(ISNUMBER($F18))),AND(ISNUMBER($F18),OR($F18<'Configurações'!$B$4,$F18>TODAY())),LEN(TRIM($A18))>60,COUNTIF($A18,"*|*")>0,LEN($C18)>80,COUNTIF($C18,"*|*")>0,LEN($D18)>80,COUNTIF($D18,"*|*")>0,LEN($G18)>200),"Sim","Não")) | M18: =IF(COUNTA($A18:$G18)=0,"",IF(AND(OR($E18="Ativo",$E18="Pausado"),ISNUMBER($F18)),IF(AND($F18<=TODAY(),TODAY()-$F18>'Configurações'!$B$3),"Sim","Não"),"Não")) | N18: =IF(COUNTA($A18:$G18)=0,"",IF($I18="Sim","Órfão de SKU",IF($J18="Sim","ID duplicado",IF($K18="Sim","Item sem vínculo",IF($L18="Sim","Cadastro incompleto",IF($M18="Sim","Conferência vencida","Vínculo consistente")))))) | O18: =IF($N18="","",IF($N18="Vínculo consistente","Não","Sim")) | P18: =IF(COUNTA($A18:$G18)=0,"",_xlfn.TEXTJOIN(CHAR(59)&" ",TRUE,IF(TRIM($A18)="","SKU interno não informado",""),IF(OR(LEN(TRIM($A18))>60,COUNTIF($A18,"*|*")>0),"SKU interno acima de 60 caracteres ou com |",""),IF(TRIM($B18)="","Canal não informado",""),IF(AND(TRIM($B18)<>"",COUNTIF('Configurações'!$A$8:$A$27,$B18)=0),"Canal fora da lista",""),IF(TRIM($E18)="","Status não informado",""),IF(AND(TRIM($E18)<>"",COUNTIF('Configurações'!$C$8:$C$11,$E18)=0),"Status fora da lista",""),IF($F18="","Última conferência não informada",""),IF(AND($F18<>"",NOT(ISNUMBER($F18))),"Data de conferência inválida",""),IF(AND(ISNUMBER($F18),OR($F18<'Configurações'!$B$4,$F18>TODAY())),"Data de conferência fora do período permitido",""),IF(AND(TRIM($D18)<>"",TRIM($C18)=""),"Variação sem ID do anúncio",""),IF(AND(OR($E18="Ativo",$E18="Pausado",$E18="Encerrado"),TRIM($C18)=""),"Status exige ID do anúncio",""),IF(AND($E18="A mapear",OR(TRIM($C18)<>"",TRIM($D18)<>"")),"Status A mapear com ID externo",""),IF(OR(LEN($C18)>80,COUNTIF($C18,"*|*")>0),"ID do anúncio acima de 80 caracteres ou com |",""),IF(OR(LEN($D18)>80,COUNTIF($D18,"*|*")>0),"ID da variação acima de 80 caracteres ou com |",""),IF(LEN($G18)>200,"Observação acima de 200 caracteres",""),IF($I18="Sim","ID externo sem SKU interno",""),IF($K18="Sim","SKU/canal sem ID externo",""),IF($J18="Sim","Chave externa repetida",""),IF($M18="Sim","Conferência vencida",""))) | Q18: =IF('Configurações'!A20="","",'Configurações'!A20)
H19: =IF(COUNTA($A19:$G19)=0,"",IF(OR(TRIM($B19)="",TRIM($C19)=""),"",UPPER(TRIM($B19))&"|"&LEN(TRIM($C19))&":"&UPPER(TRIM($C19))&"|"&LEN(TRIM($D19))&":"&UPPER(TRIM($D19)))) | I19: =IF(COUNTA($A19:$G19)=0,"",IF(AND(TRIM($A19)="",OR(TRIM($C19)<>"",TRIM($D19)<>"")),"Sim","Não")) | J19: =IF($H19="","",IF(COUNTIF($H$6:$H$105,$H19)>1,"Sim","Não")) | K19: =IF(COUNTA($A19:$G19)=0,"",IF(AND(TRIM($A19)<>"",TRIM($B19)<>"",TRIM($C19)="",TRIM($D19)=""),"Sim","Não")) | L19: =IF(COUNTA($A19:$G19)=0,"",IF(OR(TRIM($A19)="",TRIM($B19)="",TRIM($E19)="",$F19="",AND(TRIM($D19)<>"",TRIM($C19)=""),AND(OR($E19="Ativo",$E19="Pausado",$E19="Encerrado"),TRIM($C19)=""),AND($E19="A mapear",OR(TRIM($C19)<>"",TRIM($D19)<>"")),AND(TRIM($B19)<>"",COUNTIF('Configurações'!$A$8:$A$27,$B19)=0),AND(TRIM($E19)<>"",COUNTIF('Configurações'!$C$8:$C$11,$E19)=0),AND($F19<>"",NOT(ISNUMBER($F19))),AND(ISNUMBER($F19),OR($F19<'Configurações'!$B$4,$F19>TODAY())),LEN(TRIM($A19))>60,COUNTIF($A19,"*|*")>0,LEN($C19)>80,COUNTIF($C19,"*|*")>0,LEN($D19)>80,COUNTIF($D19,"*|*")>0,LEN($G19)>200),"Sim","Não")) | M19: =IF(COUNTA($A19:$G19)=0,"",IF(AND(OR($E19="Ativo",$E19="Pausado"),ISNUMBER($F19)),IF(AND($F19<=TODAY(),TODAY()-$F19>'Configurações'!$B$3),"Sim","Não"),"Não")) | N19: =IF(COUNTA($A19:$G19)=0,"",IF($I19="Sim","Órfão de SKU",IF($J19="Sim","ID duplicado",IF($K19="Sim","Item sem vínculo",IF($L19="Sim","Cadastro incompleto",IF($M19="Sim","Conferência vencida","Vínculo consistente")))))) | O19: =IF($N19="","",IF($N19="Vínculo consistente","Não","Sim")) | P19: =IF(COUNTA($A19:$G19)=0,"",_xlfn.TEXTJOIN(CHAR(59)&" ",TRUE,IF(TRIM($A19)="","SKU interno não informado",""),IF(OR(LEN(TRIM($A19))>60,COUNTIF($A19,"*|*")>0),"SKU interno acima de 60 caracteres ou com |",""),IF(TRIM($B19)="","Canal não informado",""),IF(AND(TRIM($B19)<>"",COUNTIF('Configurações'!$A$8:$A$27,$B19)=0),"Canal fora da lista",""),IF(TRIM($E19)="","Status não informado",""),IF(AND(TRIM($E19)<>"",COUNTIF('Configurações'!$C$8:$C$11,$E19)=0),"Status fora da lista",""),IF($F19="","Última conferência não informada",""),IF(AND($F19<>"",NOT(ISNUMBER($F19))),"Data de conferência inválida",""),IF(AND(ISNUMBER($F19),OR($F19<'Configurações'!$B$4,$F19>TODAY())),"Data de conferência fora do período permitido",""),IF(AND(TRIM($D19)<>"",TRIM($C19)=""),"Variação sem ID do anúncio",""),IF(AND(OR($E19="Ativo",$E19="Pausado",$E19="Encerrado"),TRIM($C19)=""),"Status exige ID do anúncio",""),IF(AND($E19="A mapear",OR(TRIM($C19)<>"",TRIM($D19)<>"")),"Status A mapear com ID externo",""),IF(OR(LEN($C19)>80,COUNTIF($C19,"*|*")>0),"ID do anúncio acima de 80 caracteres ou com |",""),IF(OR(LEN($D19)>80,COUNTIF($D19,"*|*")>0),"ID da variação acima de 80 caracteres ou com |",""),IF(LEN($G19)>200,"Observação acima de 200 caracteres",""),IF($I19="Sim","ID externo sem SKU interno",""),IF($K19="Sim","SKU/canal sem ID externo",""),IF($J19="Sim","Chave externa repetida",""),IF($M19="Sim","Conferência vencida",""))) | Q19: =IF('Configurações'!A21="","",'Configurações'!A21)
H20: =IF(COUNTA($A20:$G20)=0,"",IF(OR(TRIM($B20)="",TRIM($C20)=""),"",UPPER(TRIM($B20))&"|"&LEN(TRIM($C20))&":"&UPPER(TRIM($C20))&"|"&LEN(TRIM($D20))&":"&UPPER(TRIM($D20)))) | I20: =IF(COUNTA($A20:$G20)=0,"",IF(AND(TRIM($A20)="",OR(TRIM($C20)<>"",TRIM($D20)<>"")),"Sim","Não")) | J20: =IF($H20="","",IF(COUNTIF($H$6:$H$105,$H20)>1,"Sim","Não")) | K20: =IF(COUNTA($A20:$G20)=0,"",IF(AND(TRIM($A20)<>"",TRIM($B20)<>"",TRIM($C20)="",TRIM($D20)=""),"Sim","Não")) | L20: =IF(COUNTA($A20:$G20)=0,"",IF(OR(TRIM($A20)="",TRIM($B20)="",TRIM($E20)="",$F20="",AND(TRIM($D20)<>"",TRIM($C20)=""),AND(OR($E20="Ativo",$E20="Pausado",$E20="Encerrado"),TRIM($C20)=""),AND($E20="A mapear",OR(TRIM($C20)<>"",TRIM($D20)<>"")),AND(TRIM($B20)<>"",COUNTIF('Configurações'!$A$8:$A$27,$B20)=0),AND(TRIM($E20)<>"",COUNTIF('Configurações'!$C$8:$C$11,$E20)=0),AND($F20<>"",NOT(ISNUMBER($F20))),AND(ISNUMBER($F20),OR($F20<'Configurações'!$B$4,$F20>TODAY())),LEN(TRIM($A20))>60,COUNTIF($A20,"*|*")>0,LEN($C20)>80,COUNTIF($C20,"*|*")>0,LEN($D20)>80,COUNTIF($D20,"*|*")>0,LEN($G20)>200),"Sim","Não")) | M20: =IF(COUNTA($A20:$G20)=0,"",IF(AND(OR($E20="Ativo",$E20="Pausado"),ISNUMBER($F20)),IF(AND($F20<=TODAY(),TODAY()-$F20>'Configurações'!$B$3),"Sim","Não"),"Não")) | N20: =IF(COUNTA($A20:$G20)=0,"",IF($I20="Sim","Órfão de SKU",IF($J20="Sim","ID duplicado",IF($K20="Sim","Item sem vínculo",IF($L20="Sim","Cadastro incompleto",IF($M20="Sim","Conferência vencida","Vínculo consistente")))))) | O20: =IF($N20="","",IF($N20="Vínculo consistente","Não","Sim")) | P20: =IF(COUNTA($A20:$G20)=0,"",_xlfn.TEXTJOIN(CHAR(59)&" ",TRUE,IF(TRIM($A20)="","SKU interno não informado",""),IF(OR(LEN(TRIM($A20))>60,COUNTIF($A20,"*|*")>0),"SKU interno acima de 60 caracteres ou com |",""),IF(TRIM($B20)="","Canal não informado",""),IF(AND(TRIM($B20)<>"",COUNTIF('Configurações'!$A$8:$A$27,$B20)=0),"Canal fora da lista",""),IF(TRIM($E20)="","Status não informado",""),IF(AND(TRIM($E20)<>"",COUNTIF('Configurações'!$C$8:$C$11,$E20)=0),"Status fora da lista",""),IF($F20="","Última conferência não informada",""),IF(AND($F20<>"",NOT(ISNUMBER($F20))),"Data de conferência inválida",""),IF(AND(ISNUMBER($F20),OR($F20<'Configurações'!$B$4,$F20>TODAY())),"Data de conferência fora do período permitido",""),IF(AND(TRIM($D20)<>"",TRIM($C20)=""),"Variação sem ID do anúncio",""),IF(AND(OR($E20="Ativo",$E20="Pausado",$E20="Encerrado"),TRIM($C20)=""),"Status exige ID do anúncio",""),IF(AND($E20="A mapear",OR(TRIM($C20)<>"",TRIM($D20)<>"")),"Status A mapear com ID externo",""),IF(OR(LEN($C20)>80,COUNTIF($C20,"*|*")>0),"ID do anúncio acima de 80 caracteres ou com |",""),IF(OR(LEN($D20)>80,COUNTIF($D20,"*|*")>0),"ID da variação acima de 80 caracteres ou com |",""),IF(LEN($G20)>200,"Observação acima de 200 caracteres",""),IF($I20="Sim","ID externo sem SKU interno",""),IF($K20="Sim","SKU/canal sem ID externo",""),IF($J20="Sim","Chave externa repetida",""),IF($M20="Sim","Conferência vencida",""))) | Q20: =IF('Configurações'!A22="","",'Configurações'!A22)
H21: =IF(COUNTA($A21:$G21)=0,"",IF(OR(TRIM($B21)="",TRIM($C21)=""),"",UPPER(TRIM($B21))&"|"&LEN(TRIM($C21))&":"&UPPER(TRIM($C21))&"|"&LEN(TRIM($D21))&":"&UPPER(TRIM($D21)))) | I21: =IF(COUNTA($A21:$G21)=0,"",IF(AND(TRIM($A21)="",OR(TRIM($C21)<>"",TRIM($D21)<>"")),"Sim","Não")) | J21: =IF($H21="","",IF(COUNTIF($H$6:$H$105,$H21)>1,"Sim","Não")) | K21: =IF(COUNTA($A21:$G21)=0,"",IF(AND(TRIM($A21)<>"",TRIM($B21)<>"",TRIM($C21)="",TRIM($D21)=""),"Sim","Não")) | L21: =IF(COUNTA($A21:$G21)=0,"",IF(OR(TRIM($A21)="",TRIM($B21)="",TRIM($E21)="",$F21="",AND(TRIM($D21)<>"",TRIM($C21)=""),AND(OR($E21="Ativo",$E21="Pausado",$E21="Encerrado"),TRIM($C21)=""),AND($E21="A mapear",OR(TRIM($C21)<>"",TRIM($D21)<>"")),AND(TRIM($B21)<>"",COUNTIF('Configurações'!$A$8:$A$27,$B21)=0),AND(TRIM($E21)<>"",COUNTIF('Configurações'!$C$8:$C$11,$E21)=0),AND($F21<>"",NOT(ISNUMBER($F21))),AND(ISNUMBER($F21),OR($F21<'Configurações'!$B$4,$F21>TODAY())),LEN(TRIM($A21))>60,COUNTIF($A21,"*|*")>0,LEN($C21)>80,COUNTIF($C21,"*|*")>0,LEN($D21)>80,COUNTIF($D21,"*|*")>0,LEN($G21)>200),"Sim","Não")) | M21: =IF(COUNTA($A21:$G21)=0,"",IF(AND(OR($E21="Ativo",$E21="Pausado"),ISNUMBER($F21)),IF(AND($F21<=TODAY(),TODAY()-$F21>'Configurações'!$B$3),"Sim","Não"),"Não")) | N21: =IF(COUNTA($A21:$G21)=0,"",IF($I21="Sim","Órfão de SKU",IF($J21="Sim","ID duplicado",IF($K21="Sim","Item sem vínculo",IF($L21="Sim","Cadastro incompleto",IF($M21="Sim","Conferência vencida","Vínculo consistente")))))) | O21: =IF($N21="","",IF($N21="Vínculo consistente","Não","Sim")) | P21: =IF(COUNTA($A21:$G21)=0,"",_xlfn.TEXTJOIN(CHAR(59)&" ",TRUE,IF(TRIM($A21)="","SKU interno não informado",""),IF(OR(LEN(TRIM($A21))>60,COUNTIF($A21,"*|*")>0),"SKU interno acima de 60 caracteres ou com |",""),IF(TRIM($B21)="","Canal não informado",""),IF(AND(TRIM($B21)<>"",COUNTIF('Configurações'!$A$8:$A$27,$B21)=0),"Canal fora da lista",""),IF(TRIM($E21)="","Status não informado",""),IF(AND(TRIM($E21)<>"",COUNTIF('Configurações'!$C$8:$C$11,$E21)=0),"Status fora da lista",""),IF($F21="","Última conferência não informada",""),IF(AND($F21<>"",NOT(ISNUMBER($F21))),"Data de conferência inválida",""),IF(AND(ISNUMBER($F21),OR($F21<'Configurações'!$B$4,$F21>TODAY())),"Data de conferência fora do período permitido",""),IF(AND(TRIM($D21)<>"",TRIM($C21)=""),"Variação sem ID do anúncio",""),IF(AND(OR($E21="Ativo",$E21="Pausado",$E21="Encerrado"),TRIM($C21)=""),"Status exige ID do anúncio",""),IF(AND($E21="A mapear",OR(TRIM($C21)<>"",TRIM($D21)<>"")),"Status A mapear com ID externo",""),IF(OR(LEN($C21)>80,COUNTIF($C21,"*|*")>0),"ID do anúncio acima de 80 caracteres ou com |",""),IF(OR(LEN($D21)>80,COUNTIF($D21,"*|*")>0),"ID da variação acima de 80 caracteres ou com |",""),IF(LEN($G21)>200,"Observação acima de 200 caracteres",""),IF($I21="Sim","ID externo sem SKU interno",""),IF($K21="Sim","SKU/canal sem ID externo",""),IF($J21="Sim","Chave externa repetida",""),IF($M21="Sim","Conferência vencida",""))) | Q21: =IF('Configurações'!A23="","",'Configurações'!A23)
H22: =IF(COUNTA($A22:$G22)=0,"",IF(OR(TRIM($B22)="",TRIM($C22)=""),"",UPPER(TRIM($B22))&"|"&LEN(TRIM($C22))&":"&UPPER(TRIM($C22))&"|"&LEN(TRIM($D22))&":"&UPPER(TRIM($D22)))) | I22: =IF(COUNTA($A22:$G22)=0,"",IF(AND(TRIM($A22)="",OR(TRIM($C22)<>"",TRIM($D22)<>"")),"Sim","Não")) | J22: =IF($H22="","",IF(COUNTIF($H$6:$H$105,$H22)>1,"Sim","Não")) | K22: =IF(COUNTA($A22:$G22)=0,"",IF(AND(TRIM($A22)<>"",TRIM($B22)<>"",TRIM($C22)="",TRIM($D22)=""),"Sim","Não")) | L22: =IF(COUNTA($A22:$G22)=0,"",IF(OR(TRIM($A22)="",TRIM($B22)="",TRIM($E22)="",$F22="",AND(TRIM($D22)<>"",TRIM($C22)=""),AND(OR($E22="Ativo",$E22="Pausado",$E22="Encerrado"),TRIM($C22)=""),AND($E22="A mapear",OR(TRIM($C22)<>"",TRIM($D22)<>"")),AND(TRIM($B22)<>"",COUNTIF('Configurações'!$A$8:$A$27,$B22)=0),AND(TRIM($E22)<>"",COUNTIF('Configurações'!$C$8:$C$11,$E22)=0),AND($F22<>"",NOT(ISNUMBER($F22))),AND(ISNUMBER($F22),OR($F22<'Configurações'!$B$4,$F22>TODAY())),LEN(TRIM($A22))>60,COUNTIF($A22,"*|*")>0,LEN($C22)>80,COUNTIF($C22,"*|*")>0,LEN($D22)>80,COUNTIF($D22,"*|*")>0,LEN($G22)>200),"Sim","Não")) | M22: =IF(COUNTA($A22:$G22)=0,"",IF(AND(OR($E22="Ativo",$E22="Pausado"),ISNUMBER($F22)),IF(AND($F22<=TODAY(),TODAY()-$F22>'Configurações'!$B$3),"Sim","Não"),"Não")) | N22: =IF(COUNTA($A22:$G22)=0,"",IF($I22="Sim","Órfão de SKU",IF($J22="Sim","ID duplicado",IF($K22="Sim","Item sem vínculo",IF($L22="Sim","Cadastro incompleto",IF($M22="Sim","Conferência vencida","Vínculo consistente")))))) | O22: =IF($N22="","",IF($N22="Vínculo consistente","Não","Sim")) | P22: =IF(COUNTA($A22:$G22)=0,"",_xlfn.TEXTJOIN(CHAR(59)&" ",TRUE,IF(TRIM($A22)="","SKU interno não informado",""),IF(OR(LEN(TRIM($A22))>60,COUNTIF($A22,"*|*")>0),"SKU interno acima de 60 caracteres ou com |",""),IF(TRIM($B22)="","Canal não informado",""),IF(AND(TRIM($B22)<>"",COUNTIF('Configurações'!$A$8:$A$27,$B22)=0),"Canal fora da lista",""),IF(TRIM($E22)="","Status não informado",""),IF(AND(TRIM($E22)<>"",COUNTIF('Configurações'!$C$8:$C$11,$E22)=0),"Status fora da lista",""),IF($F22="","Última conferência não informada",""),IF(AND($F22<>"",NOT(ISNUMBER($F22))),"Data de conferência inválida",""),IF(AND(ISNUMBER($F22),OR($F22<'Configurações'!$B$4,$F22>TODAY())),"Data de conferência fora do período permitido",""),IF(AND(TRIM($D22)<>"",TRIM($C22)=""),"Variação sem ID do anúncio",""),IF(AND(OR($E22="Ativo",$E22="Pausado",$E22="Encerrado"),TRIM($C22)=""),"Status exige ID do anúncio",""),IF(AND($E22="A mapear",OR(TRIM($C22)<>"",TRIM($D22)<>"")),"Status A mapear com ID externo",""),IF(OR(LEN($C22)>80,COUNTIF($C22,"*|*")>0),"ID do anúncio acima de 80 caracteres ou com |",""),IF(OR(LEN($D22)>80,COUNTIF($D22,"*|*")>0),"ID da variação acima de 80 caracteres ou com |",""),IF(LEN($G22)>200,"Observação acima de 200 caracteres",""),IF($I22="Sim","ID externo sem SKU interno",""),IF($K22="Sim","SKU/canal sem ID externo",""),IF($J22="Sim","Chave externa repetida",""),IF($M22="Sim","Conferência vencida",""))) | Q22: =IF('Configurações'!A24="","",'Configurações'!A24)
