Workbook

Sheet Resumo
A1: Painel da Matriz de Classificação NCM
A2: Controle interno de classificações adotadas e revisões. Os dados de exemplo são fictícios.
A3: Data de referência | B3: =TODAY()
A5: Total de SKUs | B5: =COUNTIF('Matriz NCM'!$A$6:$A$155,"<>") | D5: Pendentes de classificação | E5: =COUNTIFS('Matriz NCM'!$A$6:$A$155,"<>",'Matriz NCM'!$L$6:$L$155,"Pendente de classificação") | G5: Erros de preenchimento ou data | H5: =COUNTIFS('Matriz NCM'!$A$6:$A$155,"<>",'Matriz NCM'!$L$6:$L$155,"Preenchimento incompleto")+COUNTIFS('Matriz NCM'!$A$6:$A$155,"<>",'Matriz NCM'!$L$6:$L$155,"NCM em formato inválido")+COUNTIFS('Matriz NCM'!$A$6:$A$155,"<>",'Matriz NCM'!$L$6:$L$155,"Data de revisão inválida")+COUNTIFS('Matriz NCM'!$A$6:$A$155,"<>",'Matriz NCM'!$L$6:$L$155,"Data de revisão futura")
A6: SKUs com NCM adotado registrado | B6: =COUNTIFS('Matriz NCM'!$A$6:$A$155,"<>",'Matriz NCM'!$G$6:$G$155,"Classificação adotada",'Matriz NCM'!$D$6:$D$155,"<>") | D6: Revisões vencidas | E6: =COUNTIFS('Matriz NCM'!$A$6:$A$155,"<>",'Matriz NCM'!$L$6:$L$155,"Revisão vencida") | G6: Inconsistências no histórico | H6: =COUNTIFS('Matriz NCM'!$A$6:$A$155,"<>",'Matriz NCM'!$O$6:$O$155,"<>OK",'Matriz NCM'!$O$6:$O$155,"<>Não aplicável",'Matriz NCM'!$O$6:$O$155,"<>")
A7: Cobertura de classificação | B7: =IF($B$5=0,"",$B$6/$B$5) | D7: Revisões próximas | E7: =COUNTIFS('Matriz NCM'!$A$6:$A$155,"<>",'Matriz NCM'!$L$6:$L$155,"Revisão próxima") | G7: Última revisão registrada | H7: =IF(COUNTIFS('Histórico de Revisões'!$B$6:$B$305,"<>",'Histórico de Revisões'!$C$6:$C$305,">0")=0,"",SUMPRODUCT(MAX(IFERROR(('Histórico de Revisões'!$B$6:$B$305<>"")*'Histórico de Revisões'!$C$6:$C$305,0))))
A10: Pendências prioritárias
A11: SKU | B11: Descrição técnica | C11: Situação | D11: Próxima revisão
A12: =IFERROR(INDEX('Matriz NCM'!$A$6:$A$155,MATCH(SMALL('Matriz NCM'!$Q$6:$Q$155,ROWS($A$12:A12)),'Matriz NCM'!$Q$6:$Q$155,0)),"") | B12: =IFERROR(INDEX('Matriz NCM'!$B$6:$B$155,MATCH(SMALL('Matriz NCM'!$Q$6:$Q$155,ROWS($A$12:A12)),'Matriz NCM'!$Q$6:$Q$155,0)),"") | C12: =IFERROR(INDEX('Matriz NCM'!$L$6:$L$155,MATCH(SMALL('Matriz NCM'!$Q$6:$Q$155,ROWS($A$12:A12)),'Matriz NCM'!$Q$6:$Q$155,0)),"") | D12: =IFERROR(INDEX('Matriz NCM'!$J$6:$J$155,MATCH(SMALL('Matriz NCM'!$Q$6:$Q$155,ROWS($A$12:A12)),'Matriz NCM'!$Q$6:$Q$155,0)),"")
A13: =IFERROR(INDEX('Matriz NCM'!$A$6:$A$155,MATCH(SMALL('Matriz NCM'!$Q$6:$Q$155,ROWS($A$12:A13)),'Matriz NCM'!$Q$6:$Q$155,0)),"") | B13: =IFERROR(INDEX('Matriz NCM'!$B$6:$B$155,MATCH(SMALL('Matriz NCM'!$Q$6:$Q$155,ROWS($A$12:A13)),'Matriz NCM'!$Q$6:$Q$155,0)),"") | C13: =IFERROR(INDEX('Matriz NCM'!$L$6:$L$155,MATCH(SMALL('Matriz NCM'!$Q$6:$Q$155,ROWS($A$12:A13)),'Matriz NCM'!$Q$6:$Q$155,0)),"") | D13: =IFERROR(INDEX('Matriz NCM'!$J$6:$J$155,MATCH(SMALL('Matriz NCM'!$Q$6:$Q$155,ROWS($A$12:A13)),'Matriz NCM'!$Q$6:$Q$155,0)),"")
A14: =IFERROR(INDEX('Matriz NCM'!$A$6:$A$155,MATCH(SMALL('Matriz NCM'!$Q$6:$Q$155,ROWS($A$12:A14)),'Matriz NCM'!$Q$6:$Q$155,0)),"") | B14: =IFERROR(INDEX('Matriz NCM'!$B$6:$B$155,MATCH(SMALL('Matriz NCM'!$Q$6:$Q$155,ROWS($A$12:A14)),'Matriz NCM'!$Q$6:$Q$155,0)),"") | C14: =IFERROR(INDEX('Matriz NCM'!$L$6:$L$155,MATCH(SMALL('Matriz NCM'!$Q$6:$Q$155,ROWS($A$12:A14)),'Matriz NCM'!$Q$6:$Q$155,0)),"") | D14: =IFERROR(INDEX('Matriz NCM'!$J$6:$J$155,MATCH(SMALL('Matriz NCM'!$Q$6:$Q$155,ROWS($A$12:A14)),'Matriz NCM'!$Q$6:$Q$155,0)),"")
A15: =IFERROR(INDEX('Matriz NCM'!$A$6:$A$155,MATCH(SMALL('Matriz NCM'!$Q$6:$Q$155,ROWS($A$12:A15)),'Matriz NCM'!$Q$6:$Q$155,0)),"") | B15: =IFERROR(INDEX('Matriz NCM'!$B$6:$B$155,MATCH(SMALL('Matriz NCM'!$Q$6:$Q$155,ROWS($A$12:A15)),'Matriz NCM'!$Q$6:$Q$155,0)),"") | C15: =IFERROR(INDEX('Matriz NCM'!$L$6:$L$155,MATCH(SMALL('Matriz NCM'!$Q$6:$Q$155,ROWS($A$12:A15)),'Matriz NCM'!$Q$6:$Q$155,0)),"") | D15: =IFERROR(INDEX('Matriz NCM'!$J$6:$J$155,MATCH(SMALL('Matriz NCM'!$Q$6:$Q$155,ROWS($A$12:A15)),'Matriz NCM'!$Q$6:$Q$155,0)),"")
A16: =IFERROR(INDEX('Matriz NCM'!$A$6:$A$155,MATCH(SMALL('Matriz NCM'!$Q$6:$Q$155,ROWS($A$12:A16)),'Matriz NCM'!$Q$6:$Q$155,0)),"") | B16: =IFERROR(INDEX('Matriz NCM'!$B$6:$B$155,MATCH(SMALL('Matriz NCM'!$Q$6:$Q$155,ROWS($A$12:A16)),'Matriz NCM'!$Q$6:$Q$155,0)),"") | C16: =IFERROR(INDEX('Matriz NCM'!$L$6:$L$155,MATCH(SMALL('Matriz NCM'!$Q$6:$Q$155,ROWS($A$12:A16)),'Matriz NCM'!$Q$6:$Q$155,0)),"") | D16: =IFERROR(INDEX('Matriz NCM'!$J$6:$J$155,MATCH(SMALL('Matriz NCM'!$Q$6:$Q$155,ROWS($A$12:A16)),'Matriz NCM'!$Q$6:$Q$155,0)),"")
A17: =IFERROR(INDEX('Matriz NCM'!$A$6:$A$155,MATCH(SMALL('Matriz NCM'!$Q$6:$Q$155,ROWS($A$12:A17)),'Matriz NCM'!$Q$6:$Q$155,0)),"") | B17: =IFERROR(INDEX('Matriz NCM'!$B$6:$B$155,MATCH(SMALL('Matriz NCM'!$Q$6:$Q$155,ROWS($A$12:A17)),'Matriz NCM'!$Q$6:$Q$155,0)),"") | C17: =IFERROR(INDEX('Matriz NCM'!$L$6:$L$155,MATCH(SMALL('Matriz NCM'!$Q$6:$Q$155,ROWS($A$12:A17)),'Matriz NCM'!$Q$6:$Q$155,0)),"") | D17: =IFERROR(INDEX('Matriz NCM'!$J$6:$J$155,MATCH(SMALL('Matriz NCM'!$Q$6:$Q$155,ROWS($A$12:A17)),'Matriz NCM'!$Q$6:$Q$155,0)),"")
A18: =IFERROR(INDEX('Matriz NCM'!$A$6:$A$155,MATCH(SMALL('Matriz NCM'!$Q$6:$Q$155,ROWS($A$12:A18)),'Matriz NCM'!$Q$6:$Q$155,0)),"") | B18: =IFERROR(INDEX('Matriz NCM'!$B$6:$B$155,MATCH(SMALL('Matriz NCM'!$Q$6:$Q$155,ROWS($A$12:A18)),'Matriz NCM'!$Q$6:$Q$155,0)),"") | C18: =IFERROR(INDEX('Matriz NCM'!$L$6:$L$155,MATCH(SMALL('Matriz NCM'!$Q$6:$Q$155,ROWS($A$12:A18)),'Matriz NCM'!$Q$6:$Q$155,0)),"") | D18: =IFERROR(INDEX('Matriz NCM'!$J$6:$J$155,MATCH(SMALL('Matriz NCM'!$Q$6:$Q$155,ROWS($A$12:A18)),'Matriz NCM'!$Q$6:$Q$155,0)),"")
A19: =IFERROR(INDEX('Matriz NCM'!$A$6:$A$155,MATCH(SMALL('Matriz NCM'!$Q$6:$Q$155,ROWS($A$12:A19)),'Matriz NCM'!$Q$6:$Q$155,0)),"") | B19: =IFERROR(INDEX('Matriz NCM'!$B$6:$B$155,MATCH(SMALL('Matriz NCM'!$Q$6:$Q$155,ROWS($A$12:A19)),'Matriz NCM'!$Q$6:$Q$155,0)),"") | C19: =IFERROR(INDEX('Matriz NCM'!$L$6:$L$155,MATCH(SMALL('Matriz NCM'!$Q$6:$Q$155,ROWS($A$12:A19)),'Matriz NCM'!$Q$6:$Q$155,0)),"") | D19: =IFERROR(INDEX('Matriz NCM'!$J$6:$J$155,MATCH(SMALL('Matriz NCM'!$Q$6:$Q$155,ROWS($A$12:A19)),'Matriz NCM'!$Q$6:$Q$155,0)),"")
A20: =IFERROR(INDEX('Matriz NCM'!$A$6:$A$155,MATCH(SMALL('Matriz NCM'!$Q$6:$Q$155,ROWS($A$12:A20)),'Matriz NCM'!$Q$6:$Q$155,0)),"") | B20: =IFERROR(INDEX('Matriz NCM'!$B$6:$B$155,MATCH(SMALL('Matriz NCM'!$Q$6:$Q$155,ROWS($A$12:A20)),'Matriz NCM'!$Q$6:$Q$155,0)),"") | C20: =IFERROR(INDEX('Matriz NCM'!$L$6:$L$155,MATCH(SMALL('Matriz NCM'!$Q$6:$Q$155,ROWS($A$12:A20)),'Matriz NCM'!$Q$6:$Q$155,0)),"") | D20: =IFERROR(INDEX('Matriz NCM'!$J$6:$J$155,MATCH(SMALL('Matriz NCM'!$Q$6:$Q$155,ROWS($A$12:A20)),'Matriz NCM'!$Q$6:$Q$155,0)),"")
A21: =IFERROR(INDEX('Matriz NCM'!$A$6:$A$155,MATCH(SMALL('Matriz NCM'!$Q$6:$Q$155,ROWS($A$12:A21)),'Matriz NCM'!$Q$6:$Q$155,0)),"") | B21: =IFERROR(INDEX('Matriz NCM'!$B$6:$B$155,MATCH(SMALL('Matriz NCM'!$Q$6:$Q$155,ROWS($A$12:A21)),'Matriz NCM'!$Q$6:$Q$155,0)),"") | C21: =IFERROR(INDEX('Matriz NCM'!$L$6:$L$155,MATCH(SMALL('Matriz NCM'!$Q$6:$Q$155,ROWS($A$12:A21)),'Matriz NCM'!$Q$6:$Q$155,0)),"") | D21: =IFERROR(INDEX('Matriz NCM'!$J$6:$J$155,MATCH(SMALL('Matriz NCM'!$Q$6:$Q$155,ROWS($A$12:A21)),'Matriz NCM'!$Q$6:$Q$155,0)),"")
A22: Ordem: formato ou data inválida, revisão vencida, preenchimento incompleto, classificação pendente, revisão sem data e revisão próxima.
A25: Situação operacional | B25: Quantidade | D25: Status da classificação | E25: Quantidade
A26: Em dia | B26: =COUNTIFS('Matriz NCM'!$A$6:$A$155,"<>",'Matriz NCM'!$L$6:$L$155,$A26) | D26: Pendente de análise | E26: =COUNTIFS('Matriz NCM'!$A$6:$A$155,"<>",'Matriz NCM'!$G$6:$G$155,$D26)
A27: Revisão próxima | B27: =COUNTIFS('Matriz NCM'!$A$6:$A$155,"<>",'Matriz NCM'!$L$6:$L$155,$A27) | D27: Em revisão | E27: =COUNTIFS('Matriz NCM'!$A$6:$A$155,"<>",'Matriz NCM'!$G$6:$G$155,$D27)
A28: Revisão vencida | B28: =COUNTIFS('Matriz NCM'!$A$6:$A$155,"<>",'Matriz NCM'!$L$6:$L$155,$A28) | D28: Classificação adotada | E28: =COUNTIFS('Matriz NCM'!$A$6:$A$155,"<>",'Matriz NCM'!$G$6:$G$155,$D28)
A29: Pendente de classificação | B29: =COUNTIFS('Matriz NCM'!$A$6:$A$155,"<>",'Matriz NCM'!$L$6:$L$155,$A29)
A30: Revisão sem data | B30: =COUNTIFS('Matriz NCM'!$A$6:$A$155,"<>",'Matriz NCM'!$L$6:$L$155,$A30)
A31: Preenchimento incompleto | B31: =COUNTIFS('Matriz NCM'!$A$6:$A$155,"<>",'Matriz NCM'!$L$6:$L$155,$A31)
A32: NCM em formato inválido | B32: =COUNTIFS('Matriz NCM'!$A$6:$A$155,"<>",'Matriz NCM'!$L$6:$L$155,$A32)
A33: Data de revisão inválida | B33: =COUNTIFS('Matriz NCM'!$A$6:$A$155,"<>",'Matriz NCM'!$L$6:$L$155,$A33)
A34: Data de revisão futura | B34: =COUNTIFS('Matriz NCM'!$A$6:$A$155,"<>",'Matriz NCM'!$L$6:$L$155,$A34)
A36: Checagens automáticas | B36: Resultado
A37: Situações somadas correspondem ao total | B37: =IF(SUM($B$26:$B$34)=$B$5,"OK","REVISAR")
A38: Linhas com SKU duplicado | B38: =SUMPRODUCT(--('Matriz NCM'!$A$6:$A$155<>""),--(COUNTIF('Matriz NCM'!$A$6:$A$155,'Matriz NCM'!$A$6:$A$155)>1))
A39: Linhas de histórico com ID duplicado | B39: =SUMPRODUCT(--('Histórico de Revisões'!$A$6:$A$305<>""),--(COUNTIF('Histórico de Revisões'!$A$6:$A$305,'Histórico de Revisões'!$A$6:$A$305)>1))
A40: Registros de histórico com erro | B40: =COUNTIFS('Histórico de Revisões'!$B$6:$B$305,"<>",'Histórico de Revisões'!$L$6:$L$305,"<>OK")
A41: Itens com inconsistência no histórico | B41: =$H$6

Sheet Matriz NCM
A1: Matriz de Classificação NCM
A2: NCMs de exemplo são sintéticos. A validação de oito dígitos não confirma a adequação da classificação. | S2: Pendente de análise | T2: Ficha técnica do fornecedor | U2: Cadastro de Produtos
A3: Campos amarelos são editáveis; campos azulados são calculados automaticamente. | S3: Em revisão | T3: Catálogo do fabricante | U3: Operações de Catálogo
S4: Classificação adotada | T4: Análise interna | U4: Revisão Técnica
A5: SKU | B5: Descrição técnica | C5: NCM candidato | D5: NCM adotado | E5: Tipo de fonte | F5: Referência da fonte | G5: Status da classificação | H5: Data da última revisão | I5: Equipe responsável | J5: Próxima revisão | K5: Dias até a revisão | L5: Situação operacional | M5: Observações | N5: Última revisão no histórico | O5: Conferência do histórico | P5: Ordem da prioridade | Q5: Chave de ordenação | T5: Parecer técnico externo | U5: Terceiro especializado
A6: FIC-NCM-001 | B6: Suporte de mesa ajustável em alumínio, para monitor, sem componentes elétricos | C6: 99990001 | D6: 99990001 | E6: Catálogo do fabricante | F6: Catálogo Horizonte Fictício HF-SM10 | G6: Classificação adotada | H6: 46254 | I6: Cadastro de Produtos | J6: =IF($A6="","",IF(OR($H6="",NOT(ISNUMBER($H6))),"",$H6+'Instruções'!$B$15)) | K6: =IF($A6="","",IF(OR($J6="",NOT(ISNUMBER($J6))),"",$J6-'Resumo'!$B$3)) | L6: =IF($A6="","",IF(OR(LEN(TRIM($A6))=0,LEN(TRIM($B6))=0,$G6="",AND($C6="",$D6="")),"Preenchimento incompleto",IF(OR(AND($C6<>"",NOT(AND(ISTEXT($C6),LEN($C6)=8,IFERROR(TEXT(VALUE($C6),"00000000")=$C6,FALSE)))),AND($D6<>"",NOT(AND(ISTEXT($D6),LEN($D6)=8,IFERROR(TEXT(VALUE($D6),"00000000")=$D6,FALSE))))),"NCM em formato inválido",IF(AND($G6="Classificação adotada",OR($D6="",$E6="",LEN(TRIM($F6))=0,$I6="")),"Preenchimento incompleto",IF(AND($H6<>"",NOT(ISNUMBER($H6))),"Data de revisão inválida",IF(AND(ISNUMBER($H6),$H6>'Resumo'!$B$3),"Data de revisão futura",IF($G6<>"Classificação adotada","Pendente de classificação",IF($H6="","Revisão sem data",IF($J6<'Resumo'!$B$3,"Revisão vencida",IF($J6<='Resumo'!$B$3+'Instruções'!$B$16,"Revisão próxima","Em dia")))))))))) | N6: =IF($A6="","",IF(COUNTIFS('Histórico de Revisões'!$B$6:$B$305,$A6,'Histórico de Revisões'!$C$6:$C$305,">0")=0,"",SUMPRODUCT(MAX(IFERROR(('Histórico de Revisões'!$B$6:$B$305=$A6)*'Histórico de Revisões'!$C$6:$C$305,0))))) | O6: =IF($A6="","",IF($N6="",IF(OR($G6="Classificação adotada",$H6<>""),"Sem histórico","Não aplicável"),IF($H6="","Data da matriz ausente",IF($H6=$N6,"OK","Divergência de data")))) | P6: =IF($A6="","",IF(OR($L6="NCM em formato inválido",$L6="Data de revisão inválida",$L6="Data de revisão futura"),1,IF($L6="Revisão vencida",2,IF($L6="Preenchimento incompleto",3,IF($L6="Pendente de classificação",4,IF($L6="Revisão sem data",5,IF($L6="Revisão próxima",6,99))))))) | Q6: =IF(OR($A6="",$P6=99),"",$P6*1000+ROW()) | T6: Outra fonte documentada
A7: FIC-NCM-002 | B7: Caneca de cerâmica esmaltada, capacidade nominal de 350 ml | C7: 99990002 | E7: Ficha técnica do fornecedor | F7: Ficha Brisa Inventada BI-CER35 | G7: Em revisão | I7: Revisão Técnica | J7: =IF($A7="","",IF(OR($H7="",NOT(ISNUMBER($H7))),"",$H7+'Instruções'!$B$15)) | K7: =IF($A7="","",IF(OR($J7="",NOT(ISNUMBER($J7))),"",$J7-'Resumo'!$B$3)) | L7: =IF($A7="","",IF(OR(LEN(TRIM($A7))=0,LEN(TRIM($B7))=0,$G7="",AND($C7="",$D7="")),"Preenchimento incompleto",IF(OR(AND($C7<>"",NOT(AND(ISTEXT($C7),LEN($C7)=8,IFERROR(TEXT(VALUE($C7),"00000000")=$C7,FALSE)))),AND($D7<>"",NOT(AND(ISTEXT($D7),LEN($D7)=8,IFERROR(TEXT(VALUE($D7),"00000000")=$D7,FALSE))))),"NCM em formato inválido",IF(AND($G7="Classificação adotada",OR($D7="",$E7="",LEN(TRIM($F7))=0,$I7="")),"Preenchimento incompleto",IF(AND($H7<>"",NOT(ISNUMBER($H7))),"Data de revisão inválida",IF(AND(ISNUMBER($H7),$H7>'Resumo'!$B$3),"Data de revisão futura",IF($G7<>"Classificação adotada","Pendente de classificação",IF($H7="","Revisão sem data",IF($J7<'Resumo'!$B$3,"Revisão vencida",IF($J7<='Resumo'!$B$3+'Instruções'!$B$16,"Revisão próxima","Em dia")))))))))) | M7: Aguardando conclusão da análise fictícia. | N7: =IF($A7="","",IF(COUNTIFS('Histórico de Revisões'!$B$6:$B$305,$A7,'Histórico de Revisões'!$C$6:$C$305,">0")=0,"",SUMPRODUCT(MAX(IFERROR(('Histórico de Revisões'!$B$6:$B$305=$A7)*'Histórico de Revisões'!$C$6:$C$305,0))))) | O7: =IF($A7="","",IF($N7="",IF(OR($G7="Classificação adotada",$H7<>""),"Sem histórico","Não aplicável"),IF($H7="","Data da matriz ausente",IF($H7=$N7,"OK","Divergência de data")))) | P7: =IF($A7="","",IF(OR($L7="NCM em formato inválido",$L7="Data de revisão inválida",$L7="Data de revisão futura"),1,IF($L7="Revisão vencida",2,IF($L7="Preenchimento incompleto",3,IF($L7="Pendente de classificação",4,IF($L7="Revisão sem data",5,IF($L7="Revisão próxima",6,99))))))) | Q7: =IF(OR($A7="",$P7=99),"",$P7*1000+ROW())
A8: FIC-NCM-003 | B8: Cabo para transmissão de dados, conectores USB-C, 1 m, sem fonte | C8: 99990003 | D8: 99990003 | E8: Catálogo do fabricante | F8: Catálogo Nuvem Fictícia NF-CB1M | G8: Classificação adotada | H8: 45884 | I8: Cadastro de Produtos | J8: =IF($A8="","",IF(OR($H8="",NOT(ISNUMBER($H8))),"",$H8+'Instruções'!$B$15)) | K8: =IF($A8="","",IF(OR($J8="",NOT(ISNUMBER($J8))),"",$J8-'Resumo'!$B$3)) | L8: =IF($A8="","",IF(OR(LEN(TRIM($A8))=0,LEN(TRIM($B8))=0,$G8="",AND($C8="",$D8="")),"Preenchimento incompleto",IF(OR(AND($C8<>"",NOT(AND(ISTEXT($C8),LEN($C8)=8,IFERROR(TEXT(VALUE($C8),"00000000")=$C8,FALSE)))),AND($D8<>"",NOT(AND(ISTEXT($D8),LEN($D8)=8,IFERROR(TEXT(VALUE($D8),"00000000")=$D8,FALSE))))),"NCM em formato inválido",IF(AND($G8="Classificação adotada",OR($D8="",$E8="",LEN(TRIM($F8))=0,$I8="")),"Preenchimento incompleto",IF(AND($H8<>"",NOT(ISNUMBER($H8))),"Data de revisão inválida",IF(AND(ISNUMBER($H8),$H8>'Resumo'!$B$3),"Data de revisão futura",IF($G8<>"Classificação adotada","Pendente de classificação",IF($H8="","Revisão sem data",IF($J8<'Resumo'!$B$3,"Revisão vencida",IF($J8<='Resumo'!$B$3+'Instruções'!$B$16,"Revisão próxima","Em dia")))))))))) | N8: =IF($A8="","",IF(COUNTIFS('Histórico de Revisões'!$B$6:$B$305,$A8,'Histórico de Revisões'!$C$6:$C$305,">0")=0,"",SUMPRODUCT(MAX(IFERROR(('Histórico de Revisões'!$B$6:$B$305=$A8)*'Histórico de Revisões'!$C$6:$C$305,0))))) | O8: =IF($A8="","",IF($N8="",IF(OR($G8="Classificação adotada",$H8<>""),"Sem histórico","Não aplicável"),IF($H8="","Data da matriz ausente",IF($H8=$N8,"OK","Divergência de data")))) | P8: =IF($A8="","",IF(OR($L8="NCM em formato inválido",$L8="Data de revisão inválida",$L8="Data de revisão futura"),1,IF($L8="Revisão vencida",2,IF($L8="Preenchimento incompleto",3,IF($L8="Pendente de classificação",4,IF($L8="Revisão sem data",5,IF($L8="Revisão próxima",6,99))))))) | Q8: =IF(OR($A8="",$P8=99),"",$P8*1000+ROW())
A9: FIC-NCM-004 | B9: Organizador de gaveta em plástico rígido, com quatro divisórias | C9: 99990004 | D9: 99990004 | E9: Ficha técnica do fornecedor | F9: Ficha Vale Imaginário VI-ORG4 | G9: Classificação adotada | H9: 45925 | I9: Revisão Técnica | J9: =IF($A9="","",IF(OR($H9="",NOT(ISNUMBER($H9))),"",$H9+'Instruções'!$B$15)) | K9: =IF($A9="","",IF(OR($J9="",NOT(ISNUMBER($J9))),"",$J9-'Resumo'!$B$3)) | L9: =IF($A9="","",IF(OR(LEN(TRIM($A9))=0,LEN(TRIM($B9))=0,$G9="",AND($C9="",$D9="")),"Preenchimento incompleto",IF(OR(AND($C9<>"",NOT(AND(ISTEXT($C9),LEN($C9)=8,IFERROR(TEXT(VALUE($C9),"00000000")=$C9,FALSE)))),AND($D9<>"",NOT(AND(ISTEXT($D9),LEN($D9)=8,IFERROR(TEXT(VALUE($D9),"00000000")=$D9,FALSE))))),"NCM em formato inválido",IF(AND($G9="Classificação adotada",OR($D9="",$E9="",LEN(TRIM($F9))=0,$I9="")),"Preenchimento incompleto",IF(AND($H9<>"",NOT(ISNUMBER($H9))),"Data de revisão inválida",IF(AND(ISNUMBER($H9),$H9>'Resumo'!$B$3),"Data de revisão futura",IF($G9<>"Classificação adotada","Pendente de classificação",IF($H9="","Revisão sem data",IF($J9<'Resumo'!$B$3,"Revisão vencida",IF($J9<='Resumo'!$B$3+'Instruções'!$B$16,"Revisão próxima","Em dia")))))))))) | N9: =IF($A9="","",IF(COUNTIFS('Histórico de Revisões'!$B$6:$B$305,$A9,'Histórico de Revisões'!$C$6:$C$305,">0")=0,"",SUMPRODUCT(MAX(IFERROR(('Histórico de Revisões'!$B$6:$B$305=$A9)*'Histórico de Revisões'!$C$6:$C$305,0))))) | O9: =IF($A9="","",IF($N9="",IF(OR($G9="Classificação adotada",$H9<>""),"Sem histórico","Não aplicável"),IF($H9="","Data da matriz ausente",IF($H9=$N9,"OK","Divergência de data")))) | P9: =IF($A9="","",IF(OR($L9="NCM em formato inválido",$L9="Data de revisão inválida",$L9="Data de revisão futura"),1,IF($L9="Revisão vencida",2,IF($L9="Preenchimento incompleto",3,IF($L9="Pendente de classificação",4,IF($L9="Revisão sem data",5,IF($L9="Revisão próxima",6,99))))))) | Q9: =IF(OR($A9="",$P9=99),"",$P9*1000+ROW())
A10: FIC-NCM-005 | B10: Conjunto com três cadernos pautados, capa cartonada, 80 folhas cada | C10: 99990005 | E10: Análise interna | F10: Registro interno de triagem 005 | G10: Pendente de análise | I10: Operações de Catálogo | J10: =IF($A10="","",IF(OR($H10="",NOT(ISNUMBER($H10))),"",$H10+'Instruções'!$B$15)) | K10: =IF($A10="","",IF(OR($J10="",NOT(ISNUMBER($J10))),"",$J10-'Resumo'!$B$3)) | L10: =IF($A10="","",IF(OR(LEN(TRIM($A10))=0,LEN(TRIM($B10))=0,$G10="",AND($C10="",$D10="")),"Preenchimento incompleto",IF(OR(AND($C10<>"",NOT(AND(ISTEXT($C10),LEN($C10)=8,IFERROR(TEXT(VALUE($C10),"00000000")=$C10,FALSE)))),AND($D10<>"",NOT(AND(ISTEXT($D10),LEN($D10)=8,IFERROR(TEXT(VALUE($D10),"00000000")=$D10,FALSE))))),"NCM em formato inválido",IF(AND($G10="Classificação adotada",OR($D10="",$E10="",LEN(TRIM($F10))=0,$I10="")),"Preenchimento incompleto",IF(AND($H10<>"",NOT(ISNUMBER($H10))),"Data de revisão inválida",IF(AND(ISNUMBER($H10),$H10>'Resumo'!$B$3),"Data de revisão futura",IF($G10<>"Classificação adotada","Pendente de classificação",IF($H10="","Revisão sem data",IF($J10<'Resumo'!$B$3,"Revisão vencida",IF($J10<='Resumo'!$B$3+'Instruções'!$B$16,"Revisão próxima","Em dia")))))))))) | N10: =IF($A10="","",IF(COUNTIFS('Histórico de Revisões'!$B$6:$B$305,$A10,'Histórico de Revisões'!$C$6:$C$305,">0")=0,"",SUMPRODUCT(MAX(IFERROR(('Histórico de Revisões'!$B$6:$B$305=$A10)*'Histórico de Revisões'!$C$6:$C$305,0))))) | O10: =IF($A10="","",IF($N10="",IF(OR($G10="Classificação adotada",$H10<>""),"Sem histórico","Não aplicável"),IF($H10="","Data da matriz ausente",IF($H10=$N10,"OK","Divergência de data")))) | P10: =IF($A10="","",IF(OR($L10="NCM em formato inválido",$L10="Data de revisão inválida",$L10="Data de revisão futura"),1,IF($L10="Revisão vencida",2,IF($L10="Preenchimento incompleto",3,IF($L10="Pendente de classificação",4,IF($L10="Revisão sem data",5,IF($L10="Revisão próxima",6,99))))))) | Q10: =IF(OR($A10="",$P10=99),"",$P10*1000+ROW())
A11: FIC-NCM-006 | B11: Balança digital de cozinha, capacidade de 5 kg, alimentação por pilha | C11: 99990006 | D11: 99990006 | E11: Parecer técnico externo | G11: Classificação adotada | H11: 46215 | I11: Terceiro especializado | J11: =IF($A11="","",IF(OR($H11="",NOT(ISNUMBER($H11))),"",$H11+'Instruções'!$B$15)) | K11: =IF($A11="","",IF(OR($J11="",NOT(ISNUMBER($J11))),"",$J11-'Resumo'!$B$3)) | L11: =IF($A11="","",IF(OR(LEN(TRIM($A11))=0,LEN(TRIM($B11))=0,$G11="",AND($C11="",$D11="")),"Preenchimento incompleto",IF(OR(AND($C11<>"",NOT(AND(ISTEXT($C11),LEN($C11)=8,IFERROR(TEXT(VALUE($C11),"00000000")=$C11,FALSE)))),AND($D11<>"",NOT(AND(ISTEXT($D11),LEN($D11)=8,IFERROR(TEXT(VALUE($D11),"00000000")=$D11,FALSE))))),"NCM em formato inválido",IF(AND($G11="Classificação adotada",OR($D11="",$E11="",LEN(TRIM($F11))=0,$I11="")),"Preenchimento incompleto",IF(AND($H11<>"",NOT(ISNUMBER($H11))),"Data de revisão inválida",IF(AND(ISNUMBER($H11),$H11>'Resumo'!$B$3),"Data de revisão futura",IF($G11<>"Classificação adotada","Pendente de classificação",IF($H11="","Revisão sem data",IF($J11<'Resumo'!$B$3,"Revisão vencida",IF($J11<='Resumo'!$B$3+'Instruções'!$B$16,"Revisão próxima","Em dia")))))))))) | M11: Referência vazia propositalmente para testar o alerta. | N11: =IF($A11="","",IF(COUNTIFS('Histórico de Revisões'!$B$6:$B$305,$A11,'Histórico de Revisões'!$C$6:$C$305,">0")=0,"",SUMPRODUCT(MAX(IFERROR(('Histórico de Revisões'!$B$6:$B$305=$A11)*'Histórico de Revisões'!$C$6:$C$305,0))))) | O11: =IF($A11="","",IF($N11="",IF(OR($G11="Classificação adotada",$H11<>""),"Sem histórico","Não aplicável"),IF($H11="","Data da matriz ausente",IF($H11=$N11,"OK","Divergência de data")))) | P11: =IF($A11="","",IF(OR($L11="NCM em formato inválido",$L11="Data de revisão inválida",$L11="Data de revisão futura"),1,IF($L11="Revisão vencida",2,IF($L11="Preenchimento incompleto",3,IF($L11="Pendente de classificação",4,IF($L11="Revisão sem data",5,IF($L11="Revisão próxima",6,99))))))) | Q11: =IF(OR($A11="",$P11=99),"",$P11*1000+ROW())
A12: FIC-NCM-007 | B12: Tapete de silicone para bancada, 40 cm por 30 cm | C12: 99990007 | D12: 99990007 | E12: Catálogo do fabricante | F12: Catálogo Estrela Fictícia EF-TAP40 | G12: Classificação adotada | H12: 46270 | I12: Cadastro de Produtos | J12: =IF($A12="","",IF(OR($H12="",NOT(ISNUMBER($H12))),"",$H12+'Instruções'!$B$15)) | K12: =IF($A12="","",IF(OR($J12="",NOT(ISNUMBER($J12))),"",$J12-'Resumo'!$B$3)) | L12: =IF($A12="","",IF(OR(LEN(TRIM($A12))=0,LEN(TRIM($B12))=0,$G12="",AND($C12="",$D12="")),"Preenchimento incompleto",IF(OR(AND($C12<>"",NOT(AND(ISTEXT($C12),LEN($C12)=8,IFERROR(TEXT(VALUE($C12),"00000000")=$C12,FALSE)))),AND($D12<>"",NOT(AND(ISTEXT($D12),LEN($D12)=8,IFERROR(TEXT(VALUE($D12),"00000000")=$D12,FALSE))))),"NCM em formato inválido",IF(AND($G12="Classificação adotada",OR($D12="",$E12="",LEN(TRIM($F12))=0,$I12="")),"Preenchimento incompleto",IF(AND($H12<>"",NOT(ISNUMBER($H12))),"Data de revisão inválida",IF(AND(ISNUMBER($H12),$H12>'Resumo'!$B$3),"Data de revisão futura",IF($G12<>"Classificação adotada","Pendente de classificação",IF($H12="","Revisão sem data",IF($J12<'Resumo'!$B$3,"Revisão vencida",IF($J12<='Resumo'!$B$3+'Instruções'!$B$16,"Revisão próxima","Em dia")))))))))) | N12: =IF($A12="","",IF(COUNTIFS('Histórico de Revisões'!$B$6:$B$305,$A12,'Histórico de Revisões'!$C$6:$C$305,">0")=0,"",SUMPRODUCT(MAX(IFERROR(('Histórico de Revisões'!$B$6:$B$305=$A12)*'Histórico de Revisões'!$C$6:$C$305,0))))) | O12: =IF($A12="","",IF($N12="",IF(OR($G12="Classificação adotada",$H12<>""),"Sem histórico","Não aplicável"),IF($H12="","Data da matriz ausente",IF($H12=$N12,"OK","Divergência de data")))) | P12: =IF($A12="","",IF(OR($L12="NCM em formato inválido",$L12="Data de revisão inválida",$L12="Data de revisão futura"),1,IF($L12="Revisão vencida",2,IF($L12="Preenchimento incompleto",3,IF($L12="Pendente de classificação",4,IF($L12="Revisão sem data",5,IF($L12="Revisão próxima",6,99))))))) | Q12: =IF(OR($A12="",$P12=99),"",$P12*1000+ROW())
A13: FIC-NCM-008 | B13: Garrafa térmica de aço inoxidável, capacidade de 500 ml | C13: 99990008 | E13: Ficha técnica do fornecedor | F13: Ficha Bosque Inventado BI-GT500 | G13: Em revisão | H13: 46266 | I13: Revisão Técnica | J13: =IF($A13="","",IF(OR($H13="",NOT(ISNUMBER($H13))),"",$H13+'Instruções'!$B$15)) | K13: =IF($A13="","",IF(OR($J13="",NOT(ISNUMBER($J13))),"",$J13-'Resumo'!$B$3)) | L13: =IF($A13="","",IF(OR(LEN(TRIM($A13))=0,LEN(TRIM($B13))=0,$G13="",AND($C13="",$D13="")),"Preenchimento incompleto",IF(OR(AND($C13<>"",NOT(AND(ISTEXT($C13),LEN($C13)=8,IFERROR(TEXT(VALUE($C13),"00000000")=$C13,FALSE)))),AND($D13<>"",NOT(AND(ISTEXT($D13),LEN($D13)=8,IFERROR(TEXT(VALUE($D13),"00000000")=$D13,FALSE))))),"NCM em formato inválido",IF(AND($G13="Classificação adotada",OR($D13="",$E13="",LEN(TRIM($F13))=0,$I13="")),"Preenchimento incompleto",IF(AND($H13<>"",NOT(ISNUMBER($H13))),"Data de revisão inválida",IF(AND(ISNUMBER($H13),$H13>'Resumo'!$B$3),"Data de revisão futura",IF($G13<>"Classificação adotada","Pendente de classificação",IF($H13="","Revisão sem data",IF($J13<'Resumo'!$B$3,"Revisão vencida",IF($J13<='Resumo'!$B$3+'Instruções'!$B$16,"Revisão próxima","Em dia")))))))))) | M13: Revisão reaberta no exemplo. | N13: =IF($A13="","",IF(COUNTIFS('Histórico de Revisões'!$B$6:$B$305,$A13,'Histórico de Revisões'!$C$6:$C$305,">0")=0,"",SUMPRODUCT(MAX(IFERROR(('Histórico de Revisões'!$B$6:$B$305=$A13)*'Histórico de Revisões'!$C$6:$C$305,0))))) | O13: =IF($A13="","",IF($N13="",IF(OR($G13="Classificação adotada",$H13<>""),"Sem histórico","Não aplicável"),IF($H13="","Data da matriz ausente",IF($H13=$N13,"OK","Divergência de data")))) | P13: =IF($A13="","",IF(OR($L13="NCM em formato inválido",$L13="Data de revisão inválida",$L13="Data de revisão futura"),1,IF($L13="Revisão vencida",2,IF($L13="Preenchimento incompleto",3,IF($L13="Pendente de classificação",4,IF($L13="Revisão sem data",5,IF($L13="Revisão próxima",6,99))))))) | Q13: =IF(OR($A13="",$P13=99),"",$P13*1000+ROW())
A14: FIC-NCM-009 | B14: Folhas de etiquetas de papel autoadesivo, formato A4, pacote com 20 | C14: 99990009 | D14: 99990009 | E14: Análise interna | F14: Registro interno de revisão 009 | G14: Classificação adotada | H14: 45940 | I14: Operações de Catálogo | J14: =IF($A14="","",IF(OR($H14="",NOT(ISNUMBER($H14))),"",$H14+'Instruções'!$B$15)) | K14: =IF($A14="","",IF(OR($J14="",NOT(ISNUMBER($J14))),"",$J14-'Resumo'!$B$3)) | L14: =IF($A14="","",IF(OR(LEN(TRIM($A14))=0,LEN(TRIM($B14))=0,$G14="",AND($C14="",$D14="")),"Preenchimento incompleto",IF(OR(AND($C14<>"",NOT(AND(ISTEXT($C14),LEN($C14)=8,IFERROR(TEXT(VALUE($C14),"00000000")=$C14,FALSE)))),AND($D14<>"",NOT(AND(ISTEXT($D14),LEN($D14)=8,IFERROR(TEXT(VALUE($D14),"00000000")=$D14,FALSE))))),"NCM em formato inválido",IF(AND($G14="Classificação adotada",OR($D14="",$E14="",LEN(TRIM($F14))=0,$I14="")),"Preenchimento incompleto",IF(AND($H14<>"",NOT(ISNUMBER($H14))),"Data de revisão inválida",IF(AND(ISNUMBER($H14),$H14>'Resumo'!$B$3),"Data de revisão futura",IF($G14<>"Classificação adotada","Pendente de classificação",IF($H14="","Revisão sem data",IF($J14<'Resumo'!$B$3,"Revisão vencida",IF($J14<='Resumo'!$B$3+'Instruções'!$B$16,"Revisão próxima","Em dia")))))))))) | N14: =IF($A14="","",IF(COUNTIFS('Histórico de Revisões'!$B$6:$B$305,$A14,'Histórico de Revisões'!$C$6:$C$305,">0")=0,"",SUMPRODUCT(MAX(IFERROR(('Histórico de Revisões'!$B$6:$B$305=$A14)*'Histórico de Revisões'!$C$6:$C$305,0))))) | O14: =IF($A14="","",IF($N14="",IF(OR($G14="Classificação adotada",$H14<>""),"Sem histórico","Não aplicável"),IF($H14="","Data da matriz ausente",IF($H14=$N14,"OK","Divergência de data")))) | P14: =IF($A14="","",IF(OR($L14="NCM em formato inválido",$L14="Data de revisão inválida",$L14="Data de revisão futura"),1,IF($L14="Revisão vencida",2,IF($L14="Preenchimento incompleto",3,IF($L14="Pendente de classificação",4,IF($L14="Revisão sem data",5,IF($L14="Revisão próxima",6,99))))))) | Q14: =IF(OR($A14="",$P14=99),"",$P14*1000+ROW())
A15: FIC-NCM-010 | B15: Estojo rígido vazio em EVA para pequenos acessórios | C15: 99990010 | D15: 99990010 | E15: Outra fonte documentada | F15: Dossiê interno sintético 010 | G15: Classificação adotada | H15: 46264 | I15: Revisão Técnica | J15: =IF($A15="","",IF(OR($H15="",NOT(ISNUMBER($H15))),"",$H15+'Instruções'!$B$15)) | K15: =IF($A15="","",IF(OR($J15="",NOT(ISNUMBER($J15))),"",$J15-'Resumo'!$B$3)) | L15: =IF($A15="","",IF(OR(LEN(TRIM($A15))=0,LEN(TRIM($B15))=0,$G15="",AND($C15="",$D15="")),"Preenchimento incompleto",IF(OR(AND($C15<>"",NOT(AND(ISTEXT($C15),LEN($C15)=8,IFERROR(TEXT(VALUE($C15),"00000000")=$C15,FALSE)))),AND($D15<>"",NOT(AND(ISTEXT($D15),LEN($D15)=8,IFERROR(TEXT(VALUE($D15),"00000000")=$D15,FALSE))))),"NCM em formato inválido",IF(AND($G15="Classificação adotada",OR($D15="",$E15="",LEN(TRIM($F15))=0,$I15="")),"Preenchimento incompleto",IF(AND($H15<>"",NOT(ISNUMBER($H15))),"Data de revisão inválida",IF(AND(ISNUMBER($H15),$H15>'Resumo'!$B$3),"Data de revisão futura",IF($G15<>"Classificação adotada","Pendente de classificação",IF($H15="","Revisão sem data",IF($J15<'Resumo'!$B$3,"Revisão vencida",IF($J15<='Resumo'!$B$3+'Instruções'!$B$16,"Revisão próxima","Em dia")))))))))) | N15: =IF($A15="","",IF(COUNTIFS('Histórico de Revisões'!$B$6:$B$305,$A15,'Histórico de Revisões'!$C$6:$C$305,">0")=0,"",SUMPRODUCT(MAX(IFERROR(('Histórico de Revisões'!$B$6:$B$305=$A15)*'Histórico de Revisões'!$C$6:$C$305,0))))) | O15: =IF($A15="","",IF($N15="",IF(OR($G15="Classificação adotada",$H15<>""),"Sem histórico","Não aplicável"),IF($H15="","Data da matriz ausente",IF($H15=$N15,"OK","Divergência de data")))) | P15: =IF($A15="","",IF(OR($L15="NCM em formato inválido",$L15="Data de revisão inválida",$L15="Data de revisão futura"),1,IF($L15="Revisão vencida",2,IF($L15="Preenchimento incompleto",3,IF($L15="Pendente de classificação",4,IF($L15="Revisão sem data",5,IF($L15="Revisão próxima",6,99))))))) | Q15: =IF(OR($A15="",$P15=99),"",$P15*1000+ROW())
J16: =IF($A16="","",IF(OR($H16="",NOT(ISNUMBER($H16))),"",$H16+'Instruções'!$B$15)) | K16: =IF($A16="","",IF(OR($J16="",NOT(ISNUMBER($J16))),"",$J16-'Resumo'!$B$3)) | L16: =IF($A16="","",IF(OR(LEN(TRIM($A16))=0,LEN(TRIM($B16))=0,$G16="",AND($C16="",$D16="")),"Preenchimento incompleto",IF(OR(AND($C16<>"",NOT(AND(ISTEXT($C16),LEN($C16)=8,IFERROR(TEXT(VALUE($C16),"00000000")=$C16,FALSE)))),AND($D16<>"",NOT(AND(ISTEXT($D16),LEN($D16)=8,IFERROR(TEXT(VALUE($D16),"00000000")=$D16,FALSE))))),"NCM em formato inválido",IF(AND($G16="Classificação adotada",OR($D16="",$E16="",LEN(TRIM($F16))=0,$I16="")),"Preenchimento incompleto",IF(AND($H16<>"",NOT(ISNUMBER($H16))),"Data de revisão inválida",IF(AND(ISNUMBER($H16),$H16>'Resumo'!$B$3),"Data de revisão futura",IF($G16<>"Classificação adotada","Pendente de classificação",IF($H16="","Revisão sem data",IF($J16<'Resumo'!$B$3,"Revisão vencida",IF($J16<='Resumo'!$B$3+'Instruções'!$B$16,"Revisão próxima","Em dia")))))))))) | N16: =IF($A16="","",IF(COUNTIFS('Histórico de Revisões'!$B$6:$B$305,$A16,'Histórico de Revisões'!$C$6:$C$305,">0")=0,"",SUMPRODUCT(MAX(IFERROR(('Histórico de Revisões'!$B$6:$B$305=$A16)*'Histórico de Revisões'!$C$6:$C$305,0))))) | O16: =IF($A16="","",IF($N16="",IF(OR($G16="Classificação adotada",$H16<>""),"Sem histórico","Não aplicável"),IF($H16="","Data da matriz ausente",IF($H16=$N16,"OK","Divergência de data")))) | P16: =IF($A16="","",IF(OR($L16="NCM em formato inválido",$L16="Data de revisão inválida",$L16="Data de revisão futura"),1,IF($L16="Revisão vencida",2,IF($L16="Preenchimento incompleto",3,IF($L16="Pendente de classificação",4,IF($L16="Revisão sem data",5,IF($L16="Revisão próxima",6,99))))))) | Q16: =IF(OR($A16="",$P16=99),"",$P16*1000+ROW())
J17: =IF($A17="","",IF(OR($H17="",NOT(ISNUMBER($H17))),"",$H17+'Instruções'!$B$15)) | K17: =IF($A17="","",IF(OR($J17="",NOT(ISNUMBER($J17))),"",$J17-'Resumo'!$B$3)) | L17: =IF($A17="","",IF(OR(LEN(TRIM($A17))=0,LEN(TRIM($B17))=0,$G17="",AND($C17="",$D17="")),"Preenchimento incompleto",IF(OR(AND($C17<>"",NOT(AND(ISTEXT($C17),LEN($C17)=8,IFERROR(TEXT(VALUE($C17),"00000000")=$C17,FALSE)))),AND($D17<>"",NOT(AND(ISTEXT($D17),LEN($D17)=8,IFERROR(TEXT(VALUE($D17),"00000000")=$D17,FALSE))))),"NCM em formato inválido",IF(AND($G17="Classificação adotada",OR($D17="",$E17="",LEN(TRIM($F17))=0,$I17="")),"Preenchimento incompleto",IF(AND($H17<>"",NOT(ISNUMBER($H17))),"Data de revisão inválida",IF(AND(ISNUMBER($H17),$H17>'Resumo'!$B$3),"Data de revisão futura",IF($G17<>"Classificação adotada","Pendente de classificação",IF($H17="","Revisão sem data",IF($J17<'Resumo'!$B$3,"Revisão vencida",IF($J17<='Resumo'!$B$3+'Instruções'!$B$16,"Revisão próxima","Em dia")))))))))) | N17: =IF($A17="","",IF(COUNTIFS('Histórico de Revisões'!$B$6:$B$305,$A17,'Histórico de Revisões'!$C$6:$C$305,">0")=0,"",SUMPRODUCT(MAX(IFERROR(('Histórico de Revisões'!$B$6:$B$305=$A17)*'Histórico de Revisões'!$C$6:$C$305,0))))) | O17: =IF($A17="","",IF($N17="",IF(OR($G17="Classificação adotada",$H17<>""),"Sem histórico","Não aplicável"),IF($H17="","Data da matriz ausente",IF($H17=$N17,"OK","Divergência de data")))) | P17: =IF($A17="","",IF(OR($L17="NCM em formato inválido",$L17="Data de revisão inválida",$L17="Data de revisão futura"),1,IF($L17="Revisão vencida",2,IF($L17="Preenchimento incompleto",3,IF($L17="Pendente de classificação",4,IF($L17="Revisão sem data",5,IF($L17="Revisão próxima",6,99))))))) | Q17: =IF(OR($A17="",$P17=99),"",$P17*1000+ROW())
J18: =IF($A18="","",IF(OR($H18="",NOT(ISNUMBER($H18))),"",$H18+'Instruções'!$B$15)) | K18: =IF($A18="","",IF(OR($J18="",NOT(ISNUMBER($J18))),"",$J18-'Resumo'!$B$3)) | L18: =IF($A18="","",IF(OR(LEN(TRIM($A18))=0,LEN(TRIM($B18))=0,$G18="",AND($C18="",$D18="")),"Preenchimento incompleto",IF(OR(AND($C18<>"",NOT(AND(ISTEXT($C18),LEN($C18)=8,IFERROR(TEXT(VALUE($C18),"00000000")=$C18,FALSE)))),AND($D18<>"",NOT(AND(ISTEXT($D18),LEN($D18)=8,IFERROR(TEXT(VALUE($D18),"00000000")=$D18,FALSE))))),"NCM em formato inválido",IF(AND($G18="Classificação adotada",OR($D18="",$E18="",LEN(TRIM($F18))=0,$I18="")),"Preenchimento incompleto",IF(AND($H18<>"",NOT(ISNUMBER($H18))),"Data de revisão inválida",IF(AND(ISNUMBER($H18),$H18>'Resumo'!$B$3),"Data de revisão futura",IF($G18<>"Classificação adotada","Pendente de classificação",IF($H18="","Revisão sem data",IF($J18<'Resumo'!$B$3,"Revisão vencida",IF($J18<='Resumo'!$B$3+'Instruções'!$B$16,"Revisão próxima","Em dia")))))))))) | N18: =IF($A18="","",IF(COUNTIFS('Histórico de Revisões'!$B$6:$B$305,$A18,'Histórico de Revisões'!$C$6:$C$305,">0")=0,"",SUMPRODUCT(MAX(IFERROR(('Histórico de Revisões'!$B$6:$B$305=$A18)*'Histórico de Revisões'!$C$6:$C$305,0))))) | O18: =IF($A18="","",IF($N18="",IF(OR($G18="Classificação adotada",$H18<>""),"Sem histórico","Não aplicável"),IF($H18="","Data da matriz ausente",IF($H18=$N18,"OK","Divergência de data")))) | P18: =IF($A18="","",IF(OR($L18="NCM em formato inválido",$L18="Data de revisão inválida",$L18="Data de revisão futura"),1,IF($L18="Revisão vencida",2,IF($L18="Preenchimento incompleto",3,IF($L18="Pendente de classificação",4,IF($L18="Revisão sem data",5,IF($L18="Revisão próxima",6,99))))))) | Q18: =IF(OR($A18="",$P18=99),"",$P18*1000+ROW())
J19: =IF($A19="","",IF(OR($H19="",NOT(ISNUMBER($H19))),"",$H19+'Instruções'!$B$15)) | K19: =IF($A19="","",IF(OR($J19="",NOT(ISNUMBER($J19))),"",$J19-'Resumo'!$B$3)) | L19: =IF($A19="","",IF(OR(LEN(TRIM($A19))=0,LEN(TRIM($B19))=0,$G19="",AND($C19="",$D19="")),"Preenchimento incompleto",IF(OR(AND($C19<>"",NOT(AND(ISTEXT($C19),LEN($C19)=8,IFERROR(TEXT(VALUE($C19),"00000000")=$C19,FALSE)))),AND($D19<>"",NOT(AND(ISTEXT($D19),LEN($D19)=8,IFERROR(TEXT(VALUE($D19),"00000000")=$D19,FALSE))))),"NCM em formato inválido",IF(AND($G19="Classificação adotada",OR($D19="",$E19="",LEN(TRIM($F19))=0,$I19="")),"Preenchimento incompleto",IF(AND($H19<>"",NOT(ISNUMBER($H19))),"Data de revisão inválida",IF(AND(ISNUMBER($H19),$H19>'Resumo'!$B$3),"Data de revisão futura",IF($G19<>"Classificação adotada","Pendente de classificação",IF($H19="","Revisão sem data",IF($J19<'Resumo'!$B$3,"Revisão vencida",IF($J19<='Resumo'!$B$3+'Instruções'!$B$16,"Revisão próxima","Em dia")))))))))) | N19: =IF($A19="","",IF(COUNTIFS('Histórico de Revisões'!$B$6:$B$305,$A19,'Histórico de Revisões'!$C$6:$C$305,">0")=0,"",SUMPRODUCT(MAX(IFERROR(('Histórico de Revisões'!$B$6:$B$305=$A19)*'Histórico de Revisões'!$C$6:$C$305,0))))) | O19: =IF($A19="","",IF($N19="",IF(OR($G19="Classificação adotada",$H19<>""),"Sem histórico","Não aplicável"),IF($H19="","Data da matriz ausente",IF($H19=$N19,"OK","Divergência de data")))) | P19: =IF($A19="","",IF(OR($L19="NCM em formato inválido",$L19="Data de revisão inválida",$L19="Data de revisão futura"),1,IF($L19="Revisão vencida",2,IF($L19="Preenchimento incompleto",3,IF($L19="Pendente de classificação",4,IF($L19="Revisão sem data",5,IF($L19="Revisão próxima",6,99))))))) | Q19: =IF(OR($A19="",$P19=99),"",$P19*1000+ROW())
J20: =IF($A20="","",IF(OR($H20="",NOT(ISNUMBER($H20))),"",$H20+'Instruções'!$B$15)) | K20: =IF($A20="","",IF(OR($J20="",NOT(ISNUMBER($J20))),"",$J20-'Resumo'!$B$3)) | L20: =IF($A20="","",IF(OR(LEN(TRIM($A20))=0,LEN(TRIM($B20))=0,$G20="",AND($C20="",$D20="")),"Preenchimento incompleto",IF(OR(AND($C20<>"",NOT(AND(ISTEXT($C20),LEN($C20)=8,IFERROR(TEXT(VALUE($C20),"00000000")=$C20,FALSE)))),AND($D20<>"",NOT(AND(ISTEXT($D20),LEN($D20)=8,IFERROR(TEXT(VALUE($D20),"00000000")=$D20,FALSE))))),"NCM em formato inválido",IF(AND($G20="Classificação adotada",OR($D20="",$E20="",LEN(TRIM($F20))=0,$I20="")),"Preenchimento incompleto",IF(AND($H20<>"",NOT(ISNUMBER($H20))),"Data de revisão inválida",IF(AND(ISNUMBER($H20),$H20>'Resumo'!$B$3),"Data de revisão futura",IF($G20<>"Classificação adotada","Pendente de classificação",IF($H20="","Revisão sem data",IF($J20<'Resumo'!$B$3,"Revisão vencida",IF($J20<='Resumo'!$B$3+'Instruções'!$B$16,"Revisão próxima","Em dia")))))))))) | N20: =IF($A20="","",IF(COUNTIFS('Histórico de Revisões'!$B$6:$B$305,$A20,'Histórico de Revisões'!$C$6:$C$305,">0")=0,"",SUMPRODUCT(MAX(IFERROR(('Histórico de Revisões'!$B$6:$B$305=$A20)*'Histórico de Revisões'!$C$6:$C$305,0))))) | O20: =IF($A20="","",IF($N20="",IF(OR($G20="Classificação adotada",$H20<>""),"Sem histórico","Não aplicável"),IF($H20="","Data da matriz ausente",IF($H20=$N20,"OK","Divergência de data")))) | P20: =IF($A20="","",IF(OR($L20="NCM em formato inválido",$L20="Data de revisão inválida",$L20="Data de revisão futura"),1,IF($L20="Revisão vencida",2,IF($L20="Preenchimento incompleto",3,IF($L20="Pendente de classificação",4,IF($L20="Revisão sem data",5,IF($L20="Revisão próxima",6,99))))))) | Q20: =IF(OR($A20="",$P20=99),"",$P20*1000+ROW())
J21: =IF($A21="","",IF(OR($H21="",NOT(ISNUMBER($H21))),"",$H21+'Instruções'!$B$15)) | K21: =IF($A21="","",IF(OR($J21="",NOT(ISNUMBER($J21))),"",$J21-'Resumo'!$B$3)) | L21: =IF($A21="","",IF(OR(LEN(TRIM($A21))=0,LEN(TRIM($B21))=0,$G21="",AND($C21="",$D21="")),"Preenchimento incompleto",IF(OR(AND($C21<>"",NOT(AND(ISTEXT($C21),LEN($C21)=8,IFERROR(TEXT(VALUE($C21),"00000000")=$C21,FALSE)))),AND($D21<>"",NOT(AND(ISTEXT($D21),LEN($D21)=8,IFERROR(TEXT(VALUE($D21),"00000000")=$D21,FALSE))))),"NCM em formato inválido",IF(AND($G21="Classificação adotada",OR($D21="",$E21="",LEN(TRIM($F21))=0,$I21="")),"Preenchimento incompleto",IF(AND($H21<>"",NOT(ISNUMBER($H21))),"Data de revisão inválida",IF(AND(ISNUMBER($H21),$H21>'Resumo'!$B$3),"Data de revisão futura",IF($G21<>"Classificação adotada","Pendente de classificação",IF($H21="","Revisão sem data",IF($J21<'Resumo'!$B$3,"Revisão vencida",IF($J21<='Resumo'!$B$3+'Instruções'!$B$16,"Revisão próxima","Em dia")))))))))) | N21: =IF($A21="","",IF(COUNTIFS('Histórico de Revisões'!$B$6:$B$305,$A21,'Histórico de Revisões'!$C$6:$C$305,">0")=0,"",SUMPRODUCT(MAX(IFERROR(('Histórico de Revisões'!$B$6:$B$305=$A21)*'Histórico de Revisões'!$C$6:$C$305,0))))) | O21: =IF($A21="","",IF($N21="",IF(OR($G21="Classificação adotada",$H21<>""),"Sem histórico","Não aplicável"),IF($H21="","Data da matriz ausente",IF($H21=$N21,"OK","Divergência de data")))) | P21: =IF($A21="","",IF(OR($L21="NCM em formato inválido",$L21="Data de revisão inválida",$L21="Data de revisão futura"),1,IF($L21="Revisão vencida",2,IF($L21="Preenchimento incompleto",3,IF($L21="Pendente de classificação",4,IF($L21="Revisão sem data",5,IF($L21="Revisão próxima",6,99))))))) | Q21: =IF(OR($A21="",$P21=99),"",$P21*1000+ROW())
J22: =IF($A22="","",IF(OR($H22="",NOT(ISNUMBER($H22))),"",$H22+'Instruções'!$B$15)) | K22: =IF($A22="","",IF(OR($J22="",NOT(ISNUMBER($J22))),"",$J22-'Resumo'!$B$3)) | L22: =IF($A22="","",IF(OR(LEN(TRIM($A22))=0,LEN(TRIM($B22))=0,$G22="",AND($C22="",$D22="")),"Preenchimento incompleto",IF(OR(AND($C22<>"",NOT(AND(ISTEXT($C22),LEN($C22)=8,IFERROR(TEXT(VALUE($C22),"00000000")=$C22,FALSE)))),AND($D22<>"",NOT(AND(ISTEXT($D22),LEN($D22)=8,IFERROR(TEXT(VALUE($D22),"00000000")=$D22,FALSE))))),"NCM em formato inválido",IF(AND($G22="Classificação adotada",OR($D22="",$E22="",LEN(TRIM($F22))=0,$I22="")),"Preenchimento incompleto",IF(AND($H22<>"",NOT(ISNUMBER($H22))),"Data de revisão inválida",IF(AND(ISNUMBER($H22),$H22>'Resumo'!$B$3),"Data de revisão futura",IF($G22<>"Classificação adotada","Pendente de classificação",IF($H22="","Revisão sem data",IF($J22<'Resumo'!$B$3,"Revisão vencida",IF($J22<='Resumo'!$B$3+'Instruções'!$B$16,"Revisão próxima","Em dia")))))))))) | N22: =IF($A22="","",IF(COUNTIFS('Histórico de Revisões'!$B$6:$B$305,$A22,'Histórico de Revisões'!$C$6:$C$305,">0")=0,"",SUMPRODUCT(MAX(IFERROR(('Histórico de Revisões'!$B$6:$B$305=$A22)*'Histórico de Revisões'!$C$6:$C$305,0))))) | O22: =IF($A22="","",IF($N22="",IF(OR($G22="Classificação adotada",$H22<>""),"Sem histórico","Não aplicável"),IF($H22="","Data da matriz ausente",IF($H22=$N22,"OK","Divergência de data")))) | P22: =IF($A22="","",IF(OR($L22="NCM em formato inválido",$L22="Data de revisão inválida",$L22="Data de revisão futura"),1,IF($L22="Revisão vencida",2,IF($L22="Preenchimento incompleto",3,IF($L22="Pendente de classificação",4,IF($L22="Revisão sem data",5,IF($L22="Revisão próxima",6,99))))))) | Q22: =IF(OR($A22="",$P22=99),"",$P22*1000+ROW())
J23: =IF($A23="","",IF(OR($H23="",NOT(ISNUMBER($H23))),"",$H23+'Instruções'!$B$15)) | K23: =IF($A23="","",IF(OR($J23="",NOT(ISNUMBER($J23))),"",$J23-'Resumo'!$B$3)) | L23: =IF($A23="","",IF(OR(LEN(TRIM($A23))=0,LEN(TRIM($B23))=0,$G23="",AND($C23="",$D23="")),"Preenchimento incompleto",IF(OR(AND($C23<>"",NOT(AND(ISTEXT($C23),LEN($C23)=8,IFERROR(TEXT(VALUE($C23),"00000000")=$C23,FALSE)))),AND($D23<>"",NOT(AND(ISTEXT($D23),LEN($D23)=8,IFERROR(TEXT(VALUE($D23),"00000000")=$D23,FALSE))))),"NCM em formato inválido",IF(AND($G23="Classificação adotada",OR($D23="",$E23="",LEN(TRIM($F23))=0,$I23="")),"Preenchimento incompleto",IF(AND($H23<>"",NOT(ISNUMBER($H23))),"Data de revisão inválida",IF(AND(ISNUMBER($H23),$H23>'Resumo'!$B$3),"Data de revisão futura",IF($G23<>"Classificação adotada","Pendente de classificação",IF($H23="","Revisão sem data",IF($J23<'Resumo'!$B$3,"Revisão vencida",IF($J23<='Resumo'!$B$3+'Instruções'!$B$16,"Revisão próxima","Em dia")))))))))) | N23: =IF($A23="","",IF(COUNTIFS('Histórico de Revisões'!$B$6:$B$305,$A23,'Histórico de Revisões'!$C$6:$C$305,">0")=0,"",SUMPRODUCT(MAX(IFERROR(('Histórico de Revisões'!$B$6:$B$305=$A23)*'Histórico de Revisões'!$C$6:$C$305,0))))) | O23: =IF($A23="","",IF($N23="",IF(OR($G23="Classificação adotada",$H23<>""),"Sem histórico","Não aplicável"),IF($H23="","Data da matriz ausente",IF($H23=$N23,"OK","Divergência de data")))) | P23: =IF($A23="","",IF(OR($L23="NCM em formato inválido",$L23="Data de revisão inválida",$L23="Data de revisão futura"),1,IF($L23="Revisão vencida",2,IF($L23="Preenchimento incompleto",3,IF($L23="Pendente de classificação",4,IF($L23="Revisão sem data",5,IF($L23="Revisão próxima",6,99))))))) | Q23: =IF(OR($A23="",$P23=99),"",$P23*1000+ROW())
J24: =IF($A24="","",IF(OR($H24="",NOT(ISNUMBER($H24))),"",$H24+'Instruções'!$B$15)) | K24: =IF($A24="","",IF(OR($J24="",NOT(ISNUMBER($J24))),"",$J24-'Resumo'!$B$3)) | L24: =IF($A24="","",IF(OR(LEN(TRIM($A24))=0,LEN(TRIM($B24))=0,$G24="",AND($C24="",$D24="")),"Preenchimento incompleto",IF(OR(AND($C24<>"",NOT(AND(ISTEXT($C24),LEN($C24)=8,IFERROR(TEXT(VALUE($C24),"00000000")=$C24,FALSE)))),AND($D24<>"",NOT(AND(ISTEXT($D24),LEN($D24)=8,IFERROR(TEXT(VALUE($D24),"00000000")=$D24,FALSE))))),"NCM em formato inválido",IF(AND($G24="Classificação adotada",OR($D24="",$E24="",LEN(TRIM($F24))=0,$I24="")),"Preenchimento incompleto",IF(AND($H24<>"",NOT(ISNUMBER($H24))),"Data de revisão inválida",IF(AND(ISNUMBER($H24),$H24>'Resumo'!$B$3),"Data de revisão futura",IF($G24<>"Classificação adotada","Pendente de classificação",IF($H24="","Revisão sem data",IF($J24<'Resumo'!$B$3,"Revisão vencida",IF($J24<='Resumo'!$B$3+'Instruções'!$B$16,"Revisão próxima","Em dia")))))))))) | N24: =IF($A24="","",IF(COUNTIFS('Histórico de Revisões'!$B$6:$B$305,$A24,'Histórico de Revisões'!$C$6:$C$305,">0")=0,"",SUMPRODUCT(MAX(IFERROR(('Histórico de Revisões'!$B$6:$B$305=$A24)*'Histórico de Revisões'!$C$6:$C$305,0))))) | O24: =IF($A24="","",IF($N24="",IF(OR($G24="Classificação adotada",$H24<>""),"Sem histórico","Não aplicável"),IF($H24="","Data da matriz ausente",IF($H24=$N24,"OK","Divergência de data")))) | P24: =IF($A24="","",IF(OR($L24="NCM em formato inválido",$L24="Data de revisão inválida",$L24="Data de revisão futura"),1,IF($L24="Revisão vencida",2,IF($L24="Preenchimento incompleto",3,IF($L24="Pendente de classificação",4,IF($L24="Revisão sem data",5,IF($L24="Revisão próxima",6,99))))))) | Q24: =IF(OR($A24="",$P24=99),"",$P24*1000+ROW())
J25: =IF($A25="","",IF(OR($H25="",NOT(ISNUMBER($H25))),"",$H25+'Instruções'!$B$15)) | K25: =IF($A25="","",IF(OR($J25="",NOT(ISNUMBER($J25))),"",$J25-'Resumo'!$B$3)) | L25: =IF($A25="","",IF(OR(LEN(TRIM($A25))=0,LEN(TRIM($B25))=0,$G25="",AND($C25="",$D25="")),"Preenchimento incompleto",IF(OR(AND($C25<>"",NOT(AND(ISTEXT($C25),LEN($C25)=8,IFERROR(TEXT(VALUE($C25),"00000000")=$C25,FALSE)))),AND($D25<>"",NOT(AND(ISTEXT($D25),LEN($D25)=8,IFERROR(TEXT(VALUE($D25),"00000000")=$D25,FALSE))))),"NCM em formato inválido",IF(AND($G25="Classificação adotada",OR($D25="",$E25="",LEN(TRIM($F25))=0,$I25="")),"Preenchimento incompleto",IF(AND($H25<>"",NOT(ISNUMBER($H25))),"Data de revisão inválida",IF(AND(ISNUMBER($H25),$H25>'Resumo'!$B$3),"Data de revisão futura",IF($G25<>"Classificação adotada","Pendente de classificação",IF($H25="","Revisão sem data",IF($J25<'Resumo'!$B$3,"Revisão vencida",IF($J25<='Resumo'!$B$3+'Instruções'!$B$16,"Revisão próxima","Em dia")))))))))) | N25: =IF($A25="","",IF(COUNTIFS('Histórico de Revisões'!$B$6:$B$305,$A25,'Histórico de Revisões'!$C$6:$C$305,">0")=0,"",SUMPRODUCT(MAX(IFERROR(('Histórico de Revisões'!$B$6:$B$305=$A25)*'Histórico de Revisões'!$C$6:$C$305,0))))) | O25: =IF($A25="","",IF($N25="",IF(OR($G25="Classificação adotada",$H25<>""),"Sem histórico","Não aplicável"),IF($H25="","Data da matriz ausente",IF($H25=$N25,"OK","Divergência de data")))) | P25: =IF($A25="","",IF(OR($L25="NCM em formato inválido",$L25="Data de revisão inválida",$L25="Data de revisão futura"),1,IF($L25="Revisão vencida",2,IF($L25="Preenchimento incompleto",3,IF($L25="Pendente de classificação",4,IF($L25="Revisão sem data",5,IF($L25="Revisão próxima",6,99))))))) | Q25: =IF(OR($A25="",$P25=99),"",$P25*1000+ROW())
J26: =IF($A26="","",IF(OR($H26="",NOT(ISNUMBER($H26))),"",$H26+'Instruções'!$B$15)) | K26: =IF($A26="","",IF(OR($J26="",NOT(ISNUMBER($J26))),"",$J26-'Resumo'!$B$3)) | L26: =IF($A26="","",IF(OR(LEN(TRIM($A26))=0,LEN(TRIM($B26))=0,$G26="",AND($C26="",$D26="")),"Preenchimento incompleto",IF(OR(AND($C26<>"",NOT(AND(ISTEXT($C26),LEN($C26)=8,IFERROR(TEXT(VALUE($C26),"00000000")=$C26,FALSE)))),AND($D26<>"",NOT(AND(ISTEXT($D26),LEN($D26)=8,IFERROR(TEXT(VALUE($D26),"00000000")=$D26,FALSE))))),"NCM em formato inválido",IF(AND($G26="Classificação adotada",OR($D26="",$E26="",LEN(TRIM($F26))=0,$I26="")),"Preenchimento incompleto",IF(AND($H26<>"",NOT(ISNUMBER($H26))),"Data de revisão inválida",IF(AND(ISNUMBER($H26),$H26>'Resumo'!$B$3),"Data de revisão futura",IF($G26<>"Classificação adotada","Pendente de classificação",IF($H26="","Revisão sem data",IF($J26<'Resumo'!$B$3,"Revisão vencida",IF($J26<='Resumo'!$B$3+'Instruções'!$B$16,"Revisão próxima","Em dia")))))))))) | N26: =IF($A26="","",IF(COUNTIFS('Histórico de Revisões'!$B$6:$B$305,$A26,'Histórico de Revisões'!$C$6:$C$305,">0")=0,"",SUMPRODUCT(MAX(IFERROR(('Histórico de Revisões'!$B$6:$B$305=$A26)*'Histórico de Revisões'!$C$6:$C$305,0))))) | O26: =IF($A26="","",IF($N26="",IF(OR($G26="Classificação adotada",$H26<>""),"Sem histórico","Não aplicável"),IF($H26="","Data da matriz ausente",IF($H26=$N26,"OK","Divergência de data")))) | P26: =IF($A26="","",IF(OR($L26="NCM em formato inválido",$L26="Data de revisão inválida",$L26="Data de revisão futura"),1,IF($L26="Revisão vencida",2,IF($L26="Preenchimento incompleto",3,IF($L26="Pendente de classificação",4,IF($L26="Revisão sem data",5,IF($L26="Revisão próxima",6,99))))))) | Q26: =IF(OR($A26="",$P26=99),"",$P26*1000+ROW())
J27: =IF($A27="","",IF(OR($H27="",NOT(ISNUMBER($H27))),"",$H27+'Instruções'!$B$15)) | K27: =IF($A27="","",IF(OR($J27="",NOT(ISNUMBER($J27))),"",$J27-'Resumo'!$B$3)) | L27: =IF($A27="","",IF(OR(LEN(TRIM($A27))=0,LEN(TRIM($B27))=0,$G27="",AND($C27="",$D27="")),"Preenchimento incompleto",IF(OR(AND($C27<>"",NOT(AND(ISTEXT($C27),LEN($C27)=8,IFERROR(TEXT(VALUE($C27),"00000000")=$C27,FALSE)))),AND($D27<>"",NOT(AND(ISTEXT($D27),LEN($D27)=8,IFERROR(TEXT(VALUE($D27),"00000000")=$D27,FALSE))))),"NCM em formato inválido",IF(AND($G27="Classificação adotada",OR($D27="",$E27="",LEN(TRIM($F27))=0,$I27="")),"Preenchimento incompleto",IF(AND($H27<>"",NOT(ISNUMBER($H27))),"Data de revisão inválida",IF(AND(ISNUMBER($H27),$H27>'Resumo'!$B$3),"Data de revisão futura",IF($G27<>"Classificação adotada","Pendente de classificação",IF($H27="","Revisão sem data",IF($J27<'Resumo'!$B$3,"Revisão vencida",IF($J27<='Resumo'!$B$3+'Instruções'!$B$16,"Revisão próxima","Em dia")))))))))) | N27: =IF($A27="","",IF(COUNTIFS('Histórico de Revisões'!$B$6:$B$305,$A27,'Histórico de Revisões'!$C$6:$C$305,">0")=0,"",SUMPRODUCT(MAX(IFERROR(('Histórico de Revisões'!$B$6:$B$305=$A27)*'Histórico de Revisões'!$C$6:$C$305,0))))) | O27: =IF($A27="","",IF($N27="",IF(OR($G27="Classificação adotada",$H27<>""),"Sem histórico","Não aplicável"),IF($H27="","Data da matriz ausente",IF($H27=$N27,"OK","Divergência de data")))) | P27: =IF($A27="","",IF(OR($L27="NCM em formato inválido",$L27="Data de revisão inválida",$L27="Data de revisão futura"),1,IF($L27="Revisão vencida",2,IF($L27="Preenchimento incompleto",3,IF($L27="Pendente de classificação",4,IF($L27="Revisão sem data",5,IF($L27="Revisão próxima",6,99))))))) | Q27: =IF(OR($A27="",$P27=99),"",$P27*1000+ROW())
... J155: =IF($A155="","",IF(OR($H155="",NOT(ISNUMBER($H155))),"",$H155+'Instruções'!$B$15)) | K155: =IF($A155="","",IF(OR($J155="",NOT(ISNUMBER($J155))),"",$J155-'Resumo'!$B$3)) | L155: =IF($A155="","",IF(OR(LEN(TRIM($A155))=0,LEN(TRIM($B155))=0,$G155="",AND($C155="",$D155="")),"Preenchimento incompleto",IF(OR(AND($C155<>"",NOT(AND(ISTEXT($C155),LEN($C155)=8,IFERROR(TEXT(VALUE($C155),"00000000")=$C155,FALSE)))),AND($D155<>"",NOT(AND(ISTEXT($D155),LEN($D155)=8,IFERROR(TEXT(VALUE($D155),"00000000")=$D155,FALSE))))),"NCM em formato inválido",IF(AND($G155="Classificação adotada",OR($D155="",$E155="",LEN(TRIM($F155))=0,$I155="")),"Preenchimento incompleto",IF(AND($H155<>"",NOT(ISNUMBER($H155))),"Data de revisão inválida",IF(AND(ISNUMBER($H155),$H155>'Resumo'!$B$3),"Data de revisão futura",IF($G155<>"Classificação adotada","Pendente de classificação",IF($H155="","Revisão sem data",IF($J155<'Resumo'!$B$3,"Revisão vencida",IF($J155<='Resumo'!$B$3+'Instruções'!$B$16,"Revisão próxima","Em dia")))))))))) | N155: =IF($A155="","",IF(COUNTIFS('Histórico de Revisões'!$B$6:$B$305,$A155,'Histórico de Revisões'!$C$6:$C$305,">0")=0,"",SUMPRODUCT(MAX(IFERROR(('Histórico de Revisões'!$B$6:$B$305=$A155)*'Histórico de Revisões'!$C$6:$C$305,0))))) | O155: =IF($A155="","",IF($N155="",IF(OR($G155="Classificação adotada",$H155<>""),"Sem histórico","Não aplicável"),IF($H155="","Data da matriz ausente",IF($H155=$N155,"OK","Divergência de data")))) | P155: =IF($A155="","",IF(OR($L155="NCM em formato inválido",$L155="Data de revisão inválida",$L155="Data de revisão futura"),1,IF($L155="Revisão vencida",2,IF($L155="Preenchimento incompleto",3,IF($L155="Pendente de classificação",4,IF($L155="Revisão sem data",5,IF($L155="Revisão próxima",6,99))))))) | Q155: =IF(OR($A155="",$P155=99),"",$P155*1000+ROW())

Sheet Histórico de Revisões
A1: Histórico de Revisões de NCM
A2: Inclua uma nova linha a cada revisão relevante. Não substitua registros anteriores. | P2: Análise inicial | Q2: Ficha técnica do fornecedor | R2: Cadastro de Produtos
A3: Campos amarelos são editáveis. Uma revisão registrada não altera automaticamente a matriz. | P3: Classificação adotada | Q3: Catálogo do fabricante | R3: Operações de Catálogo
P4: Revisão sem alteração | Q4: Análise interna | R4: Revisão Técnica
A5: ID da revisão | B5: SKU | C5: Data da revisão | D5: Tipo de evento | E5: NCM anterior | F5: NCM resultante | G5: Tipo de fonte | H5: Referência da fonte | I5: Equipe responsável | J5: Decisão ou justificativa | K5: Conferência do SKU | L5: Qualidade do registro | M5: Registro mais recente? | P5: Alteração de NCM | Q5: Parecer técnico externo | R5: Terceiro especializado
A6: REV-0001 | B6: FIC-NCM-001 | C6: 46254 | D6: Classificação adotada | F6: 99990001 | G6: Catálogo do fabricante | H6: Catálogo Horizonte Fictício HF-SM10 | I6: Cadastro de Produtos | J6: Exemplo sintético de classificação interna registrada. | K6: =IF($B6="","",IF(COUNTIF('Matriz NCM'!$A$6:$A$155,$B6)=1,"OK","SKU ausente ou duplicado")) | L6: =IF($B6="","",IF(OR($A6="",$C6="",$D6="",$G6="",LEN(TRIM($H6))=0,$I6="",LEN(TRIM($J6))=0),"Incompleto",IF(NOT(ISNUMBER($C6)),"Data inválida",IF($C6>'Resumo'!$B$3,"Data futura",IF(AND(OR($D6="Classificação adotada",$D6="Alteração de NCM"),$F6=""),"NCM resultante ausente","OK"))))) | M6: =IF($B6="","",IF(OR(NOT(ISNUMBER($C6)),$K6<>"OK",$L6<>"OK"),"",IF($C6=SUMPRODUCT(MAX(IFERROR(($B$6:$B$305=$B6)*$C$6:$C$305,0))),"Sim","Não"))) | O6: =IF(ROW()>155,"",IF('Matriz NCM'!A6="","",'Matriz NCM'!A6)) | P6: Reabertura | Q6: Outra fonte documentada
A7: REV-0002 | B7: FIC-NCM-003 | C7: 45884 | D7: Classificação adotada | F7: 99990003 | G7: Catálogo do fabricante | H7: Catálogo Nuvem Fictícia NF-CB1M | I7: Cadastro de Produtos | J7: Exemplo sintético de decisão inicial. | K7: =IF($B7="","",IF(COUNTIF('Matriz NCM'!$A$6:$A$155,$B7)=1,"OK","SKU ausente ou duplicado")) | L7: =IF($B7="","",IF(OR($A7="",$C7="",$D7="",$G7="",LEN(TRIM($H7))=0,$I7="",LEN(TRIM($J7))=0),"Incompleto",IF(NOT(ISNUMBER($C7)),"Data inválida",IF($C7>'Resumo'!$B$3,"Data futura",IF(AND(OR($D7="Classificação adotada",$D7="Alteração de NCM"),$F7=""),"NCM resultante ausente","OK"))))) | M7: =IF($B7="","",IF(OR(NOT(ISNUMBER($C7)),$K7<>"OK",$L7<>"OK"),"",IF($C7=SUMPRODUCT(MAX(IFERROR(($B$6:$B$305=$B7)*$C$6:$C$305,0))),"Sim","Não"))) | O7: =IF(ROW()>155,"",IF('Matriz NCM'!A7="","",'Matriz NCM'!A7))
A8: REV-0003 | B8: FIC-NCM-004 | C8: 45925 | D8: Classificação adotada | F8: 99990004 | G8: Ficha técnica do fornecedor | H8: Ficha Vale Imaginário VI-ORG4 | I8: Revisão Técnica | J8: Exemplo sintético de classificação registrada. | K8: =IF($B8="","",IF(COUNTIF('Matriz NCM'!$A$6:$A$155,$B8)=1,"OK","SKU ausente ou duplicado")) | L8: =IF($B8="","",IF(OR($A8="",$C8="",$D8="",$G8="",LEN(TRIM($H8))=0,$I8="",LEN(TRIM($J8))=0),"Incompleto",IF(NOT(ISNUMBER($C8)),"Data inválida",IF($C8>'Resumo'!$B$3,"Data futura",IF(AND(OR($D8="Classificação adotada",$D8="Alteração de NCM"),$F8=""),"NCM resultante ausente","OK"))))) | M8: =IF($B8="","",IF(OR(NOT(ISNUMBER($C8)),$K8<>"OK",$L8<>"OK"),"",IF($C8=SUMPRODUCT(MAX(IFERROR(($B$6:$B$305=$B8)*$C$6:$C$305,0))),"Sim","Não"))) | O8: =IF(ROW()>155,"",IF('Matriz NCM'!A8="","",'Matriz NCM'!A8))
A9: REV-0004 | B9: FIC-NCM-007 | C9: 46270 | D9: Revisão sem alteração | E9: 99990007 | F9: 99990007 | G9: Catálogo do fabricante | H9: Catálogo Estrela Fictícia EF-TAP40 | I9: Cadastro de Produtos | J9: Exemplo sintético de revisão sem mudança. | K9: =IF($B9="","",IF(COUNTIF('Matriz NCM'!$A$6:$A$155,$B9)=1,"OK","SKU ausente ou duplicado")) | L9: =IF($B9="","",IF(OR($A9="",$C9="",$D9="",$G9="",LEN(TRIM($H9))=0,$I9="",LEN(TRIM($J9))=0),"Incompleto",IF(NOT(ISNUMBER($C9)),"Data inválida",IF($C9>'Resumo'!$B$3,"Data futura",IF(AND(OR($D9="Classificação adotada",$D9="Alteração de NCM"),$F9=""),"NCM resultante ausente","OK"))))) | M9: =IF($B9="","",IF(OR(NOT(ISNUMBER($C9)),$K9<>"OK",$L9<>"OK"),"",IF($C9=SUMPRODUCT(MAX(IFERROR(($B$6:$B$305=$B9)*$C$6:$C$305,0))),"Sim","Não"))) | O9: =IF(ROW()>155,"",IF('Matriz NCM'!A9="","",'Matriz NCM'!A9))
A10: REV-0005 | B10: FIC-NCM-008 | C10: 46266 | D10: Reabertura | E10: 99990008 | G10: Ficha técnica do fornecedor | H10: Ficha Bosque Inventado BI-GT500 | I10: Revisão Técnica | J10: Exemplo sintético de reabertura para nova análise. | K10: =IF($B10="","",IF(COUNTIF('Matriz NCM'!$A$6:$A$155,$B10)=1,"OK","SKU ausente ou duplicado")) | L10: =IF($B10="","",IF(OR($A10="",$C10="",$D10="",$G10="",LEN(TRIM($H10))=0,$I10="",LEN(TRIM($J10))=0),"Incompleto",IF(NOT(ISNUMBER($C10)),"Data inválida",IF($C10>'Resumo'!$B$3,"Data futura",IF(AND(OR($D10="Classificação adotada",$D10="Alteração de NCM"),$F10=""),"NCM resultante ausente","OK"))))) | M10: =IF($B10="","",IF(OR(NOT(ISNUMBER($C10)),$K10<>"OK",$L10<>"OK"),"",IF($C10=SUMPRODUCT(MAX(IFERROR(($B$6:$B$305=$B10)*$C$6:$C$305,0))),"Sim","Não"))) | O10: =IF(ROW()>155,"",IF('Matriz NCM'!A10="","",'Matriz NCM'!A10))
A11: REV-0006 | B11: FIC-NCM-009 | C11: 45940 | D11: Classificação adotada | F11: 99990009 | G11: Análise interna | H11: Registro interno de revisão 009 | I11: Operações de Catálogo | J11: Exemplo sintético de decisão registrada. | K11: =IF($B11="","",IF(COUNTIF('Matriz NCM'!$A$6:$A$155,$B11)=1,"OK","SKU ausente ou duplicado")) | L11: =IF($B11="","",IF(OR($A11="",$C11="",$D11="",$G11="",LEN(TRIM($H11))=0,$I11="",LEN(TRIM($J11))=0),"Incompleto",IF(NOT(ISNUMBER($C11)),"Data inválida",IF($C11>'Resumo'!$B$3,"Data futura",IF(AND(OR($D11="Classificação adotada",$D11="Alteração de NCM"),$F11=""),"NCM resultante ausente","OK"))))) | M11: =IF($B11="","",IF(OR(NOT(ISNUMBER($C11)),$K11<>"OK",$L11<>"OK"),"",IF($C11=SUMPRODUCT(MAX(IFERROR(($B$6:$B$305=$B11)*$C$6:$C$305,0))),"Sim","Não"))) | O11: =IF(ROW()>155,"",IF('Matriz NCM'!A11="","",'Matriz NCM'!A11))
A12: REV-0007 | B12: FIC-NCM-010 | C12: 46264 | D12: Classificação adotada | F12: 99990010 | G12: Outra fonte documentada | H12: Dossiê interno sintético 010 | I12: Revisão Técnica | J12: Exemplo sintético de classificação adotada. | K12: =IF($B12="","",IF(COUNTIF('Matriz NCM'!$A$6:$A$155,$B12)=1,"OK","SKU ausente ou duplicado")) | L12: =IF($B12="","",IF(OR($A12="",$C12="",$D12="",$G12="",LEN(TRIM($H12))=0,$I12="",LEN(TRIM($J12))=0),"Incompleto",IF(NOT(ISNUMBER($C12)),"Data inválida",IF($C12>'Resumo'!$B$3,"Data futura",IF(AND(OR($D12="Classificação adotada",$D12="Alteração de NCM"),$F12=""),"NCM resultante ausente","OK"))))) | M12: =IF($B12="","",IF(OR(NOT(ISNUMBER($C12)),$K12<>"OK",$L12<>"OK"),"",IF($C12=SUMPRODUCT(MAX(IFERROR(($B$6:$B$305=$B12)*$C$6:$C$305,0))),"Sim","Não"))) | O12: =IF(ROW()>155,"",IF('Matriz NCM'!A12="","",'Matriz NCM'!A12))
