Workbook

Sheet Resumo
A1: Painel de precificação dinâmica
A2: Resumo das rodadas e recomendações de preço
A3: SKU para evolução | B3: FIC-001 | D3: Última rodada válida | E3: =IF(COUNTIF(Rodadas!$AG$5:$AG$204,"Pronta")=0,"",IFERROR(_xlfn.MAXIFS(Rodadas!$B$5:$B$204,Rodadas!$AG$5:$AG$204,"Pronta"),""))
A5: Rodadas prontas | C5: Aumentos recomendados | E5: Reduções recomendadas | G5: Travas de piso ou teto
A6: =COUNTIF(Rodadas!$AG$5:$AG$204,"Pronta") | C6: =COUNTIFS(Rodadas!$AG$5:$AG$204,"Pronta",Rodadas!$AA$5:$AA$204,">0.000001") | E6: =COUNTIFS(Rodadas!$AG$5:$AG$204,"Pronta",Rodadas!$AA$5:$AA$204,"<-0.000001") | G6: =COUNTIFS(Rodadas!$AG$5:$AG$204,"Pronta",Rodadas!$AB$5:$AB$204,"<>Nenhuma",Rodadas!$AB$5:$AB$204,"<>")
A8: Variação média recomendada | C8: Preço médio recomendado | E8: Decisões pendentes | G8: Linhas a revisar
A9: =IFERROR(AVERAGEIFS(Rodadas!$AA$5:$AA$204,Rodadas!$AG$5:$AG$204,"Pronta"),"") | C9: =IFERROR(AVERAGEIFS(Rodadas!$Z$5:$Z$204,Rodadas!$AG$5:$AG$204,"Pronta"),"") | E9: =COUNTIFS(Rodadas!$AG$5:$AG$204,"Pronta",Rodadas!$I$5:$I$204,"Pendente")+COUNTIFS(Rodadas!$AG$5:$AG$204,"Pronta",Rodadas!$I$5:$I$204,"") | G9: =COUNTIF(Rodadas!$AG$5:$AG$204,"Revisar")+COUNTIF(Rodadas!$AG$5:$AG$204,"Incompleta")
A12: Direção | B12: Quantidade
A13: Aumento | B13: =$C$6
A14: Redução | B14: =$E$6
A15: Sem alteração | B15: =COUNTIFS(Rodadas!$AG$5:$AG$204,"Pronta",Rodadas!$AA$5:$AA$204,">=-0.000001",Rodadas!$AA$5:$AA$204,"<=0.000001")
A20: Sequência | B20: Data | C20: Preço atual | D20: Preço recomendado | E20: Preço final | F20: Índice da fonte
A21: 1 | B21: =IF($F21="","",INDEX(Rodadas!$B$5:$B$204,$F21)) | C21: =IF($F21="","",INDEX(Rodadas!$E$5:$E$204,$F21)) | D21: =IF($F21="","",INDEX(Rodadas!$Z$5:$Z$204,$F21)) | E21: =IF($F21="","",INDEX(Rodadas!$AE$5:$AE$204,$F21)) | F21: =IFERROR(AGGREGATE(15,6,(ROW(Rodadas!$C$5:$C$204)-ROW(Rodadas!$C$5)+1)/((Rodadas!$C$5:$C$204=$B$3)*(Rodadas!$AG$5:$AG$204="Pronta")),ROWS($F$21:F21)),"")
A22: 2 | B22: =IF($F22="","",INDEX(Rodadas!$B$5:$B$204,$F22)) | C22: =IF($F22="","",INDEX(Rodadas!$E$5:$E$204,$F22)) | D22: =IF($F22="","",INDEX(Rodadas!$Z$5:$Z$204,$F22)) | E22: =IF($F22="","",INDEX(Rodadas!$AE$5:$AE$204,$F22)) | F22: =IFERROR(AGGREGATE(15,6,(ROW(Rodadas!$C$5:$C$204)-ROW(Rodadas!$C$5)+1)/((Rodadas!$C$5:$C$204=$B$3)*(Rodadas!$AG$5:$AG$204="Pronta")),ROWS($F$21:F22)),"")
A23: 3 | B23: =IF($F23="","",INDEX(Rodadas!$B$5:$B$204,$F23)) | C23: =IF($F23="","",INDEX(Rodadas!$E$5:$E$204,$F23)) | D23: =IF($F23="","",INDEX(Rodadas!$Z$5:$Z$204,$F23)) | E23: =IF($F23="","",INDEX(Rodadas!$AE$5:$AE$204,$F23)) | F23: =IFERROR(AGGREGATE(15,6,(ROW(Rodadas!$C$5:$C$204)-ROW(Rodadas!$C$5)+1)/((Rodadas!$C$5:$C$204=$B$3)*(Rodadas!$AG$5:$AG$204="Pronta")),ROWS($F$21:F23)),"")
A24: 4 | B24: =IF($F24="","",INDEX(Rodadas!$B$5:$B$204,$F24)) | C24: =IF($F24="","",INDEX(Rodadas!$E$5:$E$204,$F24)) | D24: =IF($F24="","",INDEX(Rodadas!$Z$5:$Z$204,$F24)) | E24: =IF($F24="","",INDEX(Rodadas!$AE$5:$AE$204,$F24)) | F24: =IFERROR(AGGREGATE(15,6,(ROW(Rodadas!$C$5:$C$204)-ROW(Rodadas!$C$5)+1)/((Rodadas!$C$5:$C$204=$B$3)*(Rodadas!$AG$5:$AG$204="Pronta")),ROWS($F$21:F24)),"")
A25: 5 | B25: =IF($F25="","",INDEX(Rodadas!$B$5:$B$204,$F25)) | C25: =IF($F25="","",INDEX(Rodadas!$E$5:$E$204,$F25)) | D25: =IF($F25="","",INDEX(Rodadas!$Z$5:$Z$204,$F25)) | E25: =IF($F25="","",INDEX(Rodadas!$AE$5:$AE$204,$F25)) | F25: =IFERROR(AGGREGATE(15,6,(ROW(Rodadas!$C$5:$C$204)-ROW(Rodadas!$C$5)+1)/((Rodadas!$C$5:$C$204=$B$3)*(Rodadas!$AG$5:$AG$204="Pronta")),ROWS($F$21:F25)),"")
A26: 6 | B26: =IF($F26="","",INDEX(Rodadas!$B$5:$B$204,$F26)) | C26: =IF($F26="","",INDEX(Rodadas!$E$5:$E$204,$F26)) | D26: =IF($F26="","",INDEX(Rodadas!$Z$5:$Z$204,$F26)) | E26: =IF($F26="","",INDEX(Rodadas!$AE$5:$AE$204,$F26)) | F26: =IFERROR(AGGREGATE(15,6,(ROW(Rodadas!$C$5:$C$204)-ROW(Rodadas!$C$5)+1)/((Rodadas!$C$5:$C$204=$B$3)*(Rodadas!$AG$5:$AG$204="Pronta")),ROWS($F$21:F26)),"")
A27: 7 | B27: =IF($F27="","",INDEX(Rodadas!$B$5:$B$204,$F27)) | C27: =IF($F27="","",INDEX(Rodadas!$E$5:$E$204,$F27)) | D27: =IF($F27="","",INDEX(Rodadas!$Z$5:$Z$204,$F27)) | E27: =IF($F27="","",INDEX(Rodadas!$AE$5:$AE$204,$F27)) | F27: =IFERROR(AGGREGATE(15,6,(ROW(Rodadas!$C$5:$C$204)-ROW(Rodadas!$C$5)+1)/((Rodadas!$C$5:$C$204=$B$3)*(Rodadas!$AG$5:$AG$204="Pronta")),ROWS($F$21:F27)),"")
A28: 8 | B28: =IF($F28="","",INDEX(Rodadas!$B$5:$B$204,$F28)) | C28: =IF($F28="","",INDEX(Rodadas!$E$5:$E$204,$F28)) | D28: =IF($F28="","",INDEX(Rodadas!$Z$5:$Z$204,$F28)) | E28: =IF($F28="","",INDEX(Rodadas!$AE$5:$AE$204,$F28)) | F28: =IFERROR(AGGREGATE(15,6,(ROW(Rodadas!$C$5:$C$204)-ROW(Rodadas!$C$5)+1)/((Rodadas!$C$5:$C$204=$B$3)*(Rodadas!$AG$5:$AG$204="Pronta")),ROWS($F$21:F28)),"")
A29: 9 | B29: =IF($F29="","",INDEX(Rodadas!$B$5:$B$204,$F29)) | C29: =IF($F29="","",INDEX(Rodadas!$E$5:$E$204,$F29)) | D29: =IF($F29="","",INDEX(Rodadas!$Z$5:$Z$204,$F29)) | E29: =IF($F29="","",INDEX(Rodadas!$AE$5:$AE$204,$F29)) | F29: =IFERROR(AGGREGATE(15,6,(ROW(Rodadas!$C$5:$C$204)-ROW(Rodadas!$C$5)+1)/((Rodadas!$C$5:$C$204=$B$3)*(Rodadas!$AG$5:$AG$204="Pronta")),ROWS($F$21:F29)),"")
A30: 10 | B30: =IF($F30="","",INDEX(Rodadas!$B$5:$B$204,$F30)) | C30: =IF($F30="","",INDEX(Rodadas!$E$5:$E$204,$F30)) | D30: =IF($F30="","",INDEX(Rodadas!$Z$5:$Z$204,$F30)) | E30: =IF($F30="","",INDEX(Rodadas!$AE$5:$AE$204,$F30)) | F30: =IFERROR(AGGREGATE(15,6,(ROW(Rodadas!$C$5:$C$204)-ROW(Rodadas!$C$5)+1)/((Rodadas!$C$5:$C$204=$B$3)*(Rodadas!$AG$5:$AG$204="Pronta")),ROWS($F$21:F30)),"")
A31: 11 | B31: =IF($F31="","",INDEX(Rodadas!$B$5:$B$204,$F31)) | C31: =IF($F31="","",INDEX(Rodadas!$E$5:$E$204,$F31)) | D31: =IF($F31="","",INDEX(Rodadas!$Z$5:$Z$204,$F31)) | E31: =IF($F31="","",INDEX(Rodadas!$AE$5:$AE$204,$F31)) | F31: =IFERROR(AGGREGATE(15,6,(ROW(Rodadas!$C$5:$C$204)-ROW(Rodadas!$C$5)+1)/((Rodadas!$C$5:$C$204=$B$3)*(Rodadas!$AG$5:$AG$204="Pronta")),ROWS($F$21:F31)),"")
A32: 12 | B32: =IF($F32="","",INDEX(Rodadas!$B$5:$B$204,$F32)) | C32: =IF($F32="","",INDEX(Rodadas!$E$5:$E$204,$F32)) | D32: =IF($F32="","",INDEX(Rodadas!$Z$5:$Z$204,$F32)) | E32: =IF($F32="","",INDEX(Rodadas!$AE$5:$AE$204,$F32)) | F32: =IFERROR(AGGREGATE(15,6,(ROW(Rodadas!$C$5:$C$204)-ROW(Rodadas!$C$5)+1)/((Rodadas!$C$5:$C$204=$B$3)*(Rodadas!$AG$5:$AG$204="Pronta")),ROWS($F$21:F32)),"")
... A40: 20 | B40: =IF($F40="","",INDEX(Rodadas!$B$5:$B$204,$F40)) | C40: =IF($F40="","",INDEX(Rodadas!$E$5:$E$204,$F40)) | D40: =IF($F40="","",INDEX(Rodadas!$Z$5:$Z$204,$F40)) | E40: =IF($F40="","",INDEX(Rodadas!$AE$5:$AE$204,$F40)) | F40: =IFERROR(AGGREGATE(15,6,(ROW(Rodadas!$C$5:$C$204)-ROW(Rodadas!$C$5)+1)/((Rodadas!$C$5:$C$204=$B$3)*(Rodadas!$AG$5:$AG$204="Pronta")),ROWS($F$21:F40)),"")

Sheet Produtos
A1: Produtos e limites de preço
A2: Cadastre os limites comerciais usados nas rodadas. Valores de demonstração são fictícios.
A3: SKU | B3: Produto | C3: Canal principal | D3: Custo unitário | E3: Margem mínima sobre o preço | F3: Piso manual | G3: Piso por margem | H3: Piso vigente | I3: Teto de preço | J3: Estoque-alvo | K3: Status | L3: Checagem
A4: FIC-001 | B4: Luminária Aurora Mini | C4: Loja Nuvem Clara — fictícia | D4: 48 | E4: 0.3 | F4: 72 | G4: =IF(OR($A4="",$D4="",$E4="",$D4<=0,$E4<0,$E4>=1),"",IFERROR(ROUND($D4/(1-$E4),2),"")) | H4: =IF($A4="","",IF(AND($F4="",$G4=""),"",ROUND(MAX(IF($F4="",0,$F4),IF($G4="",0,$G4)),2))) | I4: 129.9 | J4: 100 | K4: Ativo | L4: =IF($A4="","",IF(COUNTIF($A$4:$A$103,$A4)>1,"SKU duplicado",IF(OR($D4="",NOT(ISNUMBER($D4)),$D4<=0),"Custo inválido",IF(OR($E4="",NOT(ISNUMBER($E4)),$E4<0,$E4>=1),"Margem mínima inválida",IF($H4="","Piso ausente",IF(OR($I4="",NOT(ISNUMBER($I4)),$I4<$H4),"Teto abaixo do piso ou ausente",IF(OR($J4="",NOT(ISNUMBER($J4)),$J4<=0),"Estoque-alvo inválido",IF($K4<>"Ativo","Produto inativo","OK"))))))))
A5: FIC-002 | B5: Garrafa Térmica Brisa 750 ml | C5: Mercado Vitrine Azul — fictício | D5: 32 | E5: 0.25 | F5: 45 | G5: =IF(OR($A5="",$D5="",$E5="",$D5<=0,$E5<0,$E5>=1),"",IFERROR(ROUND($D5/(1-$E5),2),"")) | H5: =IF($A5="","",IF(AND($F5="",$G5=""),"",ROUND(MAX(IF($F5="",0,$F5),IF($G5="",0,$G5)),2))) | I5: 89.9 | J5: 180 | K5: Ativo | L5: =IF($A5="","",IF(COUNTIF($A$4:$A$103,$A5)>1,"SKU duplicado",IF(OR($D5="",NOT(ISNUMBER($D5)),$D5<=0),"Custo inválido",IF(OR($E5="",NOT(ISNUMBER($E5)),$E5<0,$E5>=1),"Margem mínima inválida",IF($H5="","Piso ausente",IF(OR($I5="",NOT(ISNUMBER($I5)),$I5<$H5),"Teto abaixo do piso ou ausente",IF(OR($J5="",NOT(ISNUMBER($J5)),$J5<=0),"Estoque-alvo inválido",IF($K5<>"Ativo","Produto inativo","OK"))))))))
A6: FIC-003 | B6: Organizador Modular Cedro | C6: Loja Nuvem Clara — fictícia | D6: 55 | E6: 0.35 | F6: 85 | G6: =IF(OR($A6="",$D6="",$E6="",$D6<=0,$E6<0,$E6>=1),"",IFERROR(ROUND($D6/(1-$E6),2),"")) | H6: =IF($A6="","",IF(AND($F6="",$G6=""),"",ROUND(MAX(IF($F6="",0,$F6),IF($G6="",0,$G6)),2))) | I6: 149.9 | J6: 80 | K6: Ativo | L6: =IF($A6="","",IF(COUNTIF($A$4:$A$103,$A6)>1,"SKU duplicado",IF(OR($D6="",NOT(ISNUMBER($D6)),$D6<=0),"Custo inválido",IF(OR($E6="",NOT(ISNUMBER($E6)),$E6<0,$E6>=1),"Margem mínima inválida",IF($H6="","Piso ausente",IF(OR($I6="",NOT(ISNUMBER($I6)),$I6<$H6),"Teto abaixo do piso ou ausente",IF(OR($J6="",NOT(ISNUMBER($J6)),$J6<=0),"Estoque-alvo inválido",IF($K6<>"Ativo","Produto inativo","OK"))))))))
A7: FIC-004 | B7: Fone Neblina Lite | C7: Shopping Estrela Beta — fictício | D7: 70 | E7: 0.2 | F7: 90 | G7: =IF(OR($A7="",$D7="",$E7="",$D7<=0,$E7<0,$E7>=1),"",IFERROR(ROUND($D7/(1-$E7),2),"")) | H7: =IF($A7="","",IF(AND($F7="",$G7=""),"",ROUND(MAX(IF($F7="",0,$F7),IF($G7="",0,$G7)),2))) | I7: 159.9 | J7: 150 | K7: Ativo | L7: =IF($A7="","",IF(COUNTIF($A$4:$A$103,$A7)>1,"SKU duplicado",IF(OR($D7="",NOT(ISNUMBER($D7)),$D7<=0),"Custo inválido",IF(OR($E7="",NOT(ISNUMBER($E7)),$E7<0,$E7>=1),"Margem mínima inválida",IF($H7="","Piso ausente",IF(OR($I7="",NOT(ISNUMBER($I7)),$I7<$H7),"Teto abaixo do piso ou ausente",IF(OR($J7="",NOT(ISNUMBER($J7)),$J7<=0),"Estoque-alvo inválido",IF($K7<>"Ativo","Produto inativo","OK"))))))))
A8: FIC-005 | B8: Kit Caderno Horizonte | C8: Mercado Vitrine Azul — fictício | D8: 18 | E8: 0.4 | F8: 32 | G8: =IF(OR($A8="",$D8="",$E8="",$D8<=0,$E8<0,$E8>=1),"",IFERROR(ROUND($D8/(1-$E8),2),"")) | H8: =IF($A8="","",IF(AND($F8="",$G8=""),"",ROUND(MAX(IF($F8="",0,$F8),IF($G8="",0,$G8)),2))) | I8: 69.9 | J8: 200 | K8: Ativo | L8: =IF($A8="","",IF(COUNTIF($A$4:$A$103,$A8)>1,"SKU duplicado",IF(OR($D8="",NOT(ISNUMBER($D8)),$D8<=0),"Custo inválido",IF(OR($E8="",NOT(ISNUMBER($E8)),$E8<0,$E8>=1),"Margem mínima inválida",IF($H8="","Piso ausente",IF(OR($I8="",NOT(ISNUMBER($I8)),$I8<$H8),"Teto abaixo do piso ou ausente",IF(OR($J8="",NOT(ISNUMBER($J8)),$J8<=0),"Estoque-alvo inválido",IF($K8<>"Ativo","Produto inativo","OK"))))))))
A9: FIC-006 | B9: Suporte Prisma Desk | C9: Loja Nuvem Clara — fictícia | D9: 40 | E9: 0.3 | F9: 58 | G9: =IF(OR($A9="",$D9="",$E9="",$D9<=0,$E9<0,$E9>=1),"",IFERROR(ROUND($D9/(1-$E9),2),"")) | H9: =IF($A9="","",IF(AND($F9="",$G9=""),"",ROUND(MAX(IF($F9="",0,$F9),IF($G9="",0,$G9)),2))) | I9: 109.9 | J9: 120 | K9: Ativo | L9: =IF($A9="","",IF(COUNTIF($A$4:$A$103,$A9)>1,"SKU duplicado",IF(OR($D9="",NOT(ISNUMBER($D9)),$D9<=0),"Custo inválido",IF(OR($E9="",NOT(ISNUMBER($E9)),$E9<0,$E9>=1),"Margem mínima inválida",IF($H9="","Piso ausente",IF(OR($I9="",NOT(ISNUMBER($I9)),$I9<$H9),"Teto abaixo do piso ou ausente",IF(OR($J9="",NOT(ISNUMBER($J9)),$J9<=0),"Estoque-alvo inválido",IF($K9<>"Ativo","Produto inativo","OK"))))))))
G10: =IF(OR($A10="",$D10="",$E10="",$D10<=0,$E10<0,$E10>=1),"",IFERROR(ROUND($D10/(1-$E10),2),"")) | H10: =IF($A10="","",IF(AND($F10="",$G10=""),"",ROUND(MAX(IF($F10="",0,$F10),IF($G10="",0,$G10)),2))) | L10: =IF($A10="","",IF(COUNTIF($A$4:$A$103,$A10)>1,"SKU duplicado",IF(OR($D10="",NOT(ISNUMBER($D10)),$D10<=0),"Custo inválido",IF(OR($E10="",NOT(ISNUMBER($E10)),$E10<0,$E10>=1),"Margem mínima inválida",IF($H10="","Piso ausente",IF(OR($I10="",NOT(ISNUMBER($I10)),$I10<$H10),"Teto abaixo do piso ou ausente",IF(OR($J10="",NOT(ISNUMBER($J10)),$J10<=0),"Estoque-alvo inválido",IF($K10<>"Ativo","Produto inativo","OK"))))))))
G11: =IF(OR($A11="",$D11="",$E11="",$D11<=0,$E11<0,$E11>=1),"",IFERROR(ROUND($D11/(1-$E11),2),"")) | H11: =IF($A11="","",IF(AND($F11="",$G11=""),"",ROUND(MAX(IF($F11="",0,$F11),IF($G11="",0,$G11)),2))) | L11: =IF($A11="","",IF(COUNTIF($A$4:$A$103,$A11)>1,"SKU duplicado",IF(OR($D11="",NOT(ISNUMBER($D11)),$D11<=0),"Custo inválido",IF(OR($E11="",NOT(ISNUMBER($E11)),$E11<0,$E11>=1),"Margem mínima inválida",IF($H11="","Piso ausente",IF(OR($I11="",NOT(ISNUMBER($I11)),$I11<$H11),"Teto abaixo do piso ou ausente",IF(OR($J11="",NOT(ISNUMBER($J11)),$J11<=0),"Estoque-alvo inválido",IF($K11<>"Ativo","Produto inativo","OK"))))))))
G12: =IF(OR($A12="",$D12="",$E12="",$D12<=0,$E12<0,$E12>=1),"",IFERROR(ROUND($D12/(1-$E12),2),"")) | H12: =IF($A12="","",IF(AND($F12="",$G12=""),"",ROUND(MAX(IF($F12="",0,$F12),IF($G12="",0,$G12)),2))) | L12: =IF($A12="","",IF(COUNTIF($A$4:$A$103,$A12)>1,"SKU duplicado",IF(OR($D12="",NOT(ISNUMBER($D12)),$D12<=0),"Custo inválido",IF(OR($E12="",NOT(ISNUMBER($E12)),$E12<0,$E12>=1),"Margem mínima inválida",IF($H12="","Piso ausente",IF(OR($I12="",NOT(ISNUMBER($I12)),$I12<$H12),"Teto abaixo do piso ou ausente",IF(OR($J12="",NOT(ISNUMBER($J12)),$J12<=0),"Estoque-alvo inválido",IF($K12<>"Ativo","Produto inativo","OK"))))))))
G13: =IF(OR($A13="",$D13="",$E13="",$D13<=0,$E13<0,$E13>=1),"",IFERROR(ROUND($D13/(1-$E13),2),"")) | H13: =IF($A13="","",IF(AND($F13="",$G13=""),"",ROUND(MAX(IF($F13="",0,$F13),IF($G13="",0,$G13)),2))) | L13: =IF($A13="","",IF(COUNTIF($A$4:$A$103,$A13)>1,"SKU duplicado",IF(OR($D13="",NOT(ISNUMBER($D13)),$D13<=0),"Custo inválido",IF(OR($E13="",NOT(ISNUMBER($E13)),$E13<0,$E13>=1),"Margem mínima inválida",IF($H13="","Piso ausente",IF(OR($I13="",NOT(ISNUMBER($I13)),$I13<$H13),"Teto abaixo do piso ou ausente",IF(OR($J13="",NOT(ISNUMBER($J13)),$J13<=0),"Estoque-alvo inválido",IF($K13<>"Ativo","Produto inativo","OK"))))))))
G14: =IF(OR($A14="",$D14="",$E14="",$D14<=0,$E14<0,$E14>=1),"",IFERROR(ROUND($D14/(1-$E14),2),"")) | H14: =IF($A14="","",IF(AND($F14="",$G14=""),"",ROUND(MAX(IF($F14="",0,$F14),IF($G14="",0,$G14)),2))) | L14: =IF($A14="","",IF(COUNTIF($A$4:$A$103,$A14)>1,"SKU duplicado",IF(OR($D14="",NOT(ISNUMBER($D14)),$D14<=0),"Custo inválido",IF(OR($E14="",NOT(ISNUMBER($E14)),$E14<0,$E14>=1),"Margem mínima inválida",IF($H14="","Piso ausente",IF(OR($I14="",NOT(ISNUMBER($I14)),$I14<$H14),"Teto abaixo do piso ou ausente",IF(OR($J14="",NOT(ISNUMBER($J14)),$J14<=0),"Estoque-alvo inválido",IF($K14<>"Ativo","Produto inativo","OK"))))))))
G15: =IF(OR($A15="",$D15="",$E15="",$D15<=0,$E15<0,$E15>=1),"",IFERROR(ROUND($D15/(1-$E15),2),"")) | H15: =IF($A15="","",IF(AND($F15="",$G15=""),"",ROUND(MAX(IF($F15="",0,$F15),IF($G15="",0,$G15)),2))) | L15: =IF($A15="","",IF(COUNTIF($A$4:$A$103,$A15)>1,"SKU duplicado",IF(OR($D15="",NOT(ISNUMBER($D15)),$D15<=0),"Custo inválido",IF(OR($E15="",NOT(ISNUMBER($E15)),$E15<0,$E15>=1),"Margem mínima inválida",IF($H15="","Piso ausente",IF(OR($I15="",NOT(ISNUMBER($I15)),$I15<$H15),"Teto abaixo do piso ou ausente",IF(OR($J15="",NOT(ISNUMBER($J15)),$J15<=0),"Estoque-alvo inválido",IF($K15<>"Ativo","Produto inativo","OK"))))))))
G16: =IF(OR($A16="",$D16="",$E16="",$D16<=0,$E16<0,$E16>=1),"",IFERROR(ROUND($D16/(1-$E16),2),"")) | H16: =IF($A16="","",IF(AND($F16="",$G16=""),"",ROUND(MAX(IF($F16="",0,$F16),IF($G16="",0,$G16)),2))) | L16: =IF($A16="","",IF(COUNTIF($A$4:$A$103,$A16)>1,"SKU duplicado",IF(OR($D16="",NOT(ISNUMBER($D16)),$D16<=0),"Custo inválido",IF(OR($E16="",NOT(ISNUMBER($E16)),$E16<0,$E16>=1),"Margem mínima inválida",IF($H16="","Piso ausente",IF(OR($I16="",NOT(ISNUMBER($I16)),$I16<$H16),"Teto abaixo do piso ou ausente",IF(OR($J16="",NOT(ISNUMBER($J16)),$J16<=0),"Estoque-alvo inválido",IF($K16<>"Ativo","Produto inativo","OK"))))))))
G17: =IF(OR($A17="",$D17="",$E17="",$D17<=0,$E17<0,$E17>=1),"",IFERROR(ROUND($D17/(1-$E17),2),"")) | H17: =IF($A17="","",IF(AND($F17="",$G17=""),"",ROUND(MAX(IF($F17="",0,$F17),IF($G17="",0,$G17)),2))) | L17: =IF($A17="","",IF(COUNTIF($A$4:$A$103,$A17)>1,"SKU duplicado",IF(OR($D17="",NOT(ISNUMBER($D17)),$D17<=0),"Custo inválido",IF(OR($E17="",NOT(ISNUMBER($E17)),$E17<0,$E17>=1),"Margem mínima inválida",IF($H17="","Piso ausente",IF(OR($I17="",NOT(ISNUMBER($I17)),$I17<$H17),"Teto abaixo do piso ou ausente",IF(OR($J17="",NOT(ISNUMBER($J17)),$J17<=0),"Estoque-alvo inválido",IF($K17<>"Ativo","Produto inativo","OK"))))))))
G18: =IF(OR($A18="",$D18="",$E18="",$D18<=0,$E18<0,$E18>=1),"",IFERROR(ROUND($D18/(1-$E18),2),"")) | H18: =IF($A18="","",IF(AND($F18="",$G18=""),"",ROUND(MAX(IF($F18="",0,$F18),IF($G18="",0,$G18)),2))) | L18: =IF($A18="","",IF(COUNTIF($A$4:$A$103,$A18)>1,"SKU duplicado",IF(OR($D18="",NOT(ISNUMBER($D18)),$D18<=0),"Custo inválido",IF(OR($E18="",NOT(ISNUMBER($E18)),$E18<0,$E18>=1),"Margem mínima inválida",IF($H18="","Piso ausente",IF(OR($I18="",NOT(ISNUMBER($I18)),$I18<$H18),"Teto abaixo do piso ou ausente",IF(OR($J18="",NOT(ISNUMBER($J18)),$J18<=0),"Estoque-alvo inválido",IF($K18<>"Ativo","Produto inativo","OK"))))))))
G19: =IF(OR($A19="",$D19="",$E19="",$D19<=0,$E19<0,$E19>=1),"",IFERROR(ROUND($D19/(1-$E19),2),"")) | H19: =IF($A19="","",IF(AND($F19="",$G19=""),"",ROUND(MAX(IF($F19="",0,$F19),IF($G19="",0,$G19)),2))) | L19: =IF($A19="","",IF(COUNTIF($A$4:$A$103,$A19)>1,"SKU duplicado",IF(OR($D19="",NOT(ISNUMBER($D19)),$D19<=0),"Custo inválido",IF(OR($E19="",NOT(ISNUMBER($E19)),$E19<0,$E19>=1),"Margem mínima inválida",IF($H19="","Piso ausente",IF(OR($I19="",NOT(ISNUMBER($I19)),$I19<$H19),"Teto abaixo do piso ou ausente",IF(OR($J19="",NOT(ISNUMBER($J19)),$J19<=0),"Estoque-alvo inválido",IF($K19<>"Ativo","Produto inativo","OK"))))))))
G20: =IF(OR($A20="",$D20="",$E20="",$D20<=0,$E20<0,$E20>=1),"",IFERROR(ROUND($D20/(1-$E20),2),"")) | H20: =IF($A20="","",IF(AND($F20="",$G20=""),"",ROUND(MAX(IF($F20="",0,$F20),IF($G20="",0,$G20)),2))) | L20: =IF($A20="","",IF(COUNTIF($A$4:$A$103,$A20)>1,"SKU duplicado",IF(OR($D20="",NOT(ISNUMBER($D20)),$D20<=0),"Custo inválido",IF(OR($E20="",NOT(ISNUMBER($E20)),$E20<0,$E20>=1),"Margem mínima inválida",IF($H20="","Piso ausente",IF(OR($I20="",NOT(ISNUMBER($I20)),$I20<$H20),"Teto abaixo do piso ou ausente",IF(OR($J20="",NOT(ISNUMBER($J20)),$J20<=0),"Estoque-alvo inválido",IF($K20<>"Ativo","Produto inativo","OK"))))))))
G21: =IF(OR($A21="",$D21="",$E21="",$D21<=0,$E21<0,$E21>=1),"",IFERROR(ROUND($D21/(1-$E21),2),"")) | H21: =IF($A21="","",IF(AND($F21="",$G21=""),"",ROUND(MAX(IF($F21="",0,$F21),IF($G21="",0,$G21)),2))) | L21: =IF($A21="","",IF(COUNTIF($A$4:$A$103,$A21)>1,"SKU duplicado",IF(OR($D21="",NOT(ISNUMBER($D21)),$D21<=0),"Custo inválido",IF(OR($E21="",NOT(ISNUMBER($E21)),$E21<0,$E21>=1),"Margem mínima inválida",IF($H21="","Piso ausente",IF(OR($I21="",NOT(ISNUMBER($I21)),$I21<$H21),"Teto abaixo do piso ou ausente",IF(OR($J21="",NOT(ISNUMBER($J21)),$J21<=0),"Estoque-alvo inválido",IF($K21<>"Ativo","Produto inativo","OK"))))))))
... G103: =IF(OR($A103="",$D103="",$E103="",$D103<=0,$E103<0,$E103>=1),"",IFERROR(ROUND($D103/(1-$E103),2),"")) | H103: =IF($A103="","",IF(AND($F103="",$G103=""),"",ROUND(MAX(IF($F103="",0,$F103),IF($G103="",0,$G103)),2))) | L103: =IF($A103="","",IF(COUNTIF($A$4:$A$103,$A103)>1,"SKU duplicado",IF(OR($D103="",NOT(ISNUMBER($D103)),$D103<=0),"Custo inválido",IF(OR($E103="",NOT(ISNUMBER($E103)),$E103<0,$E103>=1),"Margem mínima inválida",IF($H103="","Piso ausente",IF(OR($I103="",NOT(ISNUMBER($I103)),$I103<$H103),"Teto abaixo do piso ou ausente",IF(OR($J103="",NOT(ISNUMBER($J103)),$J103<=0),"Estoque-alvo inválido",IF($K103<>"Ativo","Produto inativo","OK"))))))))

Sheet Regras
A1: Regras de reajuste
A2: Percentuais são parâmetros internos e devem ser revisados antes do uso operacional.
A3: Código da regra | B3: Nome da regra | C3: Demanda baixa até | D3: Demanda alta a partir | E3: Ajuste por demanda baixa | F3: Ajuste por demanda alta | G3: Diferença concorrente relevante | H3: Ajuste se concorrente mais barato | I3: Ajuste se concorrente mais caro | J3: Estoque baixo até | K3: Estoque alto a partir | L3: Ajuste por estoque baixo | M3: Ajuste por estoque alto | N3: Limite por rodada | O3: Ativa | P3: Checagem | S3: Decisões | T3: Status de produto | U3: Regra ativa
A4: R-BASE | B4: Equilíbrio fictício | C4: 0.85 | D4: 1.15 | E4: -0.04 | F4: 0.05 | G4: 0.03 | H4: -0.03 | I4: 0.02 | J4: 0.4 | K4: 1.2 | L4: 0.04 | M4: -0.05 | N4: 0.08 | O4: Sim | P4: =IF($A4="","",IF(COUNTIF($A$4:$A$103,$A4)>1,"Código duplicado",IF(COUNT($C4:$N4)<>12,"Parâmetros incompletos",IF(OR($C4<0,$C4>=$D4,$D4>5),"Limiares de demanda inválidos",IF(OR($J4<0,$J4>=$K4,$K4>5),"Limiares de estoque inválidos",IF(OR($G4<0,$G4>0.5,$N4<=0,$N4>0.5,ABS($E4)>0.5,ABS($F4)>0.5,ABS($H4)>0.5,ABS($I4)>0.5,ABS($L4)>0.5,ABS($M4)>0.5),"Ajustes ou limite inválidos",IF($O4<>"Sim","Regra inativa","OK"))))))) | S4: Pendente | T4: Ativo | U4: Sim
A5: R-AGIL | B5: Resposta ágil fictícia | C5: 0.9 | D5: 1.1 | E5: -0.05 | F5: 0.06 | G5: 0.02 | H5: -0.04 | I5: 0.03 | J5: 0.35 | K5: 1.1 | L5: 0.05 | M5: -0.06 | N5: 0.1 | O5: Sim | P5: =IF($A5="","",IF(COUNTIF($A$4:$A$103,$A5)>1,"Código duplicado",IF(COUNT($C5:$N5)<>12,"Parâmetros incompletos",IF(OR($C5<0,$C5>=$D5,$D5>5),"Limiares de demanda inválidos",IF(OR($J5<0,$J5>=$K5,$K5>5),"Limiares de estoque inválidos",IF(OR($G5<0,$G5>0.5,$N5<=0,$N5>0.5,ABS($E5)>0.5,ABS($F5)>0.5,ABS($H5)>0.5,ABS($I5)>0.5,ABS($L5)>0.5,ABS($M5)>0.5),"Ajustes ou limite inválidos",IF($O5<>"Sim","Regra inativa","OK"))))))) | S5: Aprovar recomendação | T5: Inativo | U5: Não
A6: R-MARGEM | B6: Proteção moderada fictícia | C6: 0.8 | D6: 1.2 | E6: -0.02 | F6: 0.04 | G6: 0.05 | H6: -0.02 | I6: 0.01 | J6: 0.3 | K6: 1.3 | L6: 0.03 | M6: -0.03 | N6: 0.05 | O6: Sim | P6: =IF($A6="","",IF(COUNTIF($A$4:$A$103,$A6)>1,"Código duplicado",IF(COUNT($C6:$N6)<>12,"Parâmetros incompletos",IF(OR($C6<0,$C6>=$D6,$D6>5),"Limiares de demanda inválidos",IF(OR($J6<0,$J6>=$K6,$K6>5),"Limiares de estoque inválidos",IF(OR($G6<0,$G6>0.5,$N6<=0,$N6>0.5,ABS($E6)>0.5,ABS($F6)>0.5,ABS($H6)>0.5,ABS($I6)>0.5,ABS($L6)>0.5,ABS($M6)>0.5),"Ajustes ou limite inválidos",IF($O6<>"Sim","Regra inativa","OK"))))))) | S6: Manter preço atual
A7: R-COMP | B7: Competitividade fictícia | C7: 0.9 | D7: 1.1 | E7: -0.03 | F7: 0.03 | G7: 0.01 | H7: -0.06 | I7: 0.04 | J7: 0.25 | K7: 1.25 | L7: 0.02 | M7: -0.02 | N7: 0.08 | O7: Sim | P7: =IF($A7="","",IF(COUNTIF($A$4:$A$103,$A7)>1,"Código duplicado",IF(COUNT($C7:$N7)<>12,"Parâmetros incompletos",IF(OR($C7<0,$C7>=$D7,$D7>5),"Limiares de demanda inválidos",IF(OR($J7<0,$J7>=$K7,$K7>5),"Limiares de estoque inválidos",IF(OR($G7<0,$G7>0.5,$N7<=0,$N7>0.5,ABS($E7)>0.5,ABS($F7)>0.5,ABS($H7)>0.5,ABS($I7)>0.5,ABS($L7)>0.5,ABS($M7)>0.5),"Ajustes ou limite inválidos",IF($O7<>"Sim","Regra inativa","OK"))))))) | S7: Definir manualmente
A8: R-ESTOQUE | B8: Giro de estoque fictício | C8: 0.85 | D8: 1.15 | E8: -0.03 | F8: 0.04 | G8: 0.04 | H8: -0.02 | I8: 0.01 | J8: 0.5 | K8: 1.1 | L8: 0.07 | M8: -0.08 | N8: 0.1 | O8: Sim | P8: =IF($A8="","",IF(COUNTIF($A$4:$A$103,$A8)>1,"Código duplicado",IF(COUNT($C8:$N8)<>12,"Parâmetros incompletos",IF(OR($C8<0,$C8>=$D8,$D8>5),"Limiares de demanda inválidos",IF(OR($J8<0,$J8>=$K8,$K8>5),"Limiares de estoque inválidos",IF(OR($G8<0,$G8>0.5,$N8<=0,$N8>0.5,ABS($E8)>0.5,ABS($F8)>0.5,ABS($H8)>0.5,ABS($I8)>0.5,ABS($L8)>0.5,ABS($M8)>0.5),"Ajustes ou limite inválidos",IF($O8<>"Sim","Regra inativa","OK")))))))
P9: =IF($A9="","",IF(COUNTIF($A$4:$A$103,$A9)>1,"Código duplicado",IF(COUNT($C9:$N9)<>12,"Parâmetros incompletos",IF(OR($C9<0,$C9>=$D9,$D9>5),"Limiares de demanda inválidos",IF(OR($J9<0,$J9>=$K9,$K9>5),"Limiares de estoque inválidos",IF(OR($G9<0,$G9>0.5,$N9<=0,$N9>0.5,ABS($E9)>0.5,ABS($F9)>0.5,ABS($H9)>0.5,ABS($I9)>0.5,ABS($L9)>0.5,ABS($M9)>0.5),"Ajustes ou limite inválidos",IF($O9<>"Sim","Regra inativa","OK")))))))
P10: =IF($A10="","",IF(COUNTIF($A$4:$A$103,$A10)>1,"Código duplicado",IF(COUNT($C10:$N10)<>12,"Parâmetros incompletos",IF(OR($C10<0,$C10>=$D10,$D10>5),"Limiares de demanda inválidos",IF(OR($J10<0,$J10>=$K10,$K10>5),"Limiares de estoque inválidos",IF(OR($G10<0,$G10>0.5,$N10<=0,$N10>0.5,ABS($E10)>0.5,ABS($F10)>0.5,ABS($H10)>0.5,ABS($I10)>0.5,ABS($L10)>0.5,ABS($M10)>0.5),"Ajustes ou limite inválidos",IF($O10<>"Sim","Regra inativa","OK")))))))
P11: =IF($A11="","",IF(COUNTIF($A$4:$A$103,$A11)>1,"Código duplicado",IF(COUNT($C11:$N11)<>12,"Parâmetros incompletos",IF(OR($C11<0,$C11>=$D11,$D11>5),"Limiares de demanda inválidos",IF(OR($J11<0,$J11>=$K11,$K11>5),"Limiares de estoque inválidos",IF(OR($G11<0,$G11>0.5,$N11<=0,$N11>0.5,ABS($E11)>0.5,ABS($F11)>0.5,ABS($H11)>0.5,ABS($I11)>0.5,ABS($L11)>0.5,ABS($M11)>0.5),"Ajustes ou limite inválidos",IF($O11<>"Sim","Regra inativa","OK")))))))
P12: =IF($A12="","",IF(COUNTIF($A$4:$A$103,$A12)>1,"Código duplicado",IF(COUNT($C12:$N12)<>12,"Parâmetros incompletos",IF(OR($C12<0,$C12>=$D12,$D12>5),"Limiares de demanda inválidos",IF(OR($J12<0,$J12>=$K12,$K12>5),"Limiares de estoque inválidos",IF(OR($G12<0,$G12>0.5,$N12<=0,$N12>0.5,ABS($E12)>0.5,ABS($F12)>0.5,ABS($H12)>0.5,ABS($I12)>0.5,ABS($L12)>0.5,ABS($M12)>0.5),"Ajustes ou limite inválidos",IF($O12<>"Sim","Regra inativa","OK")))))))
P13: =IF($A13="","",IF(COUNTIF($A$4:$A$103,$A13)>1,"Código duplicado",IF(COUNT($C13:$N13)<>12,"Parâmetros incompletos",IF(OR($C13<0,$C13>=$D13,$D13>5),"Limiares de demanda inválidos",IF(OR($J13<0,$J13>=$K13,$K13>5),"Limiares de estoque inválidos",IF(OR($G13<0,$G13>0.5,$N13<=0,$N13>0.5,ABS($E13)>0.5,ABS($F13)>0.5,ABS($H13)>0.5,ABS($I13)>0.5,ABS($L13)>0.5,ABS($M13)>0.5),"Ajustes ou limite inválidos",IF($O13<>"Sim","Regra inativa","OK")))))))
P14: =IF($A14="","",IF(COUNTIF($A$4:$A$103,$A14)>1,"Código duplicado",IF(COUNT($C14:$N14)<>12,"Parâmetros incompletos",IF(OR($C14<0,$C14>=$D14,$D14>5),"Limiares de demanda inválidos",IF(OR($J14<0,$J14>=$K14,$K14>5),"Limiares de estoque inválidos",IF(OR($G14<0,$G14>0.5,$N14<=0,$N14>0.5,ABS($E14)>0.5,ABS($F14)>0.5,ABS($H14)>0.5,ABS($I14)>0.5,ABS($L14)>0.5,ABS($M14)>0.5),"Ajustes ou limite inválidos",IF($O14<>"Sim","Regra inativa","OK")))))))
P15: =IF($A15="","",IF(COUNTIF($A$4:$A$103,$A15)>1,"Código duplicado",IF(COUNT($C15:$N15)<>12,"Parâmetros incompletos",IF(OR($C15<0,$C15>=$D15,$D15>5),"Limiares de demanda inválidos",IF(OR($J15<0,$J15>=$K15,$K15>5),"Limiares de estoque inválidos",IF(OR($G15<0,$G15>0.5,$N15<=0,$N15>0.5,ABS($E15)>0.5,ABS($F15)>0.5,ABS($H15)>0.5,ABS($I15)>0.5,ABS($L15)>0.5,ABS($M15)>0.5),"Ajustes ou limite inválidos",IF($O15<>"Sim","Regra inativa","OK")))))))
P16: =IF($A16="","",IF(COUNTIF($A$4:$A$103,$A16)>1,"Código duplicado",IF(COUNT($C16:$N16)<>12,"Parâmetros incompletos",IF(OR($C16<0,$C16>=$D16,$D16>5),"Limiares de demanda inválidos",IF(OR($J16<0,$J16>=$K16,$K16>5),"Limiares de estoque inválidos",IF(OR($G16<0,$G16>0.5,$N16<=0,$N16>0.5,ABS($E16)>0.5,ABS($F16)>0.5,ABS($H16)>0.5,ABS($I16)>0.5,ABS($L16)>0.5,ABS($M16)>0.5),"Ajustes ou limite inválidos",IF($O16<>"Sim","Regra inativa","OK")))))))
P17: =IF($A17="","",IF(COUNTIF($A$4:$A$103,$A17)>1,"Código duplicado",IF(COUNT($C17:$N17)<>12,"Parâmetros incompletos",IF(OR($C17<0,$C17>=$D17,$D17>5),"Limiares de demanda inválidos",IF(OR($J17<0,$J17>=$K17,$K17>5),"Limiares de estoque inválidos",IF(OR($G17<0,$G17>0.5,$N17<=0,$N17>0.5,ABS($E17)>0.5,ABS($F17)>0.5,ABS($H17)>0.5,ABS($I17)>0.5,ABS($L17)>0.5,ABS($M17)>0.5),"Ajustes ou limite inválidos",IF($O17<>"Sim","Regra inativa","OK")))))))
P18: =IF($A18="","",IF(COUNTIF($A$4:$A$103,$A18)>1,"Código duplicado",IF(COUNT($C18:$N18)<>12,"Parâmetros incompletos",IF(OR($C18<0,$C18>=$D18,$D18>5),"Limiares de demanda inválidos",IF(OR($J18<0,$J18>=$K18,$K18>5),"Limiares de estoque inválidos",IF(OR($G18<0,$G18>0.5,$N18<=0,$N18>0.5,ABS($E18)>0.5,ABS($F18)>0.5,ABS($H18)>0.5,ABS($I18)>0.5,ABS($L18)>0.5,ABS($M18)>0.5),"Ajustes ou limite inválidos",IF($O18<>"Sim","Regra inativa","OK")))))))
P19: =IF($A19="","",IF(COUNTIF($A$4:$A$103,$A19)>1,"Código duplicado",IF(COUNT($C19:$N19)<>12,"Parâmetros incompletos",IF(OR($C19<0,$C19>=$D19,$D19>5),"Limiares de demanda inválidos",IF(OR($J19<0,$J19>=$K19,$K19>5),"Limiares de estoque inválidos",IF(OR($G19<0,$G19>0.5,$N19<=0,$N19>0.5,ABS($E19)>0.5,ABS($F19)>0.5,ABS($H19)>0.5,ABS($I19)>0.5,ABS($L19)>0.5,ABS($M19)>0.5),"Ajustes ou limite inválidos",IF($O19<>"Sim","Regra inativa","OK")))))))
P20: =IF($A20="","",IF(COUNTIF($A$4:$A$103,$A20)>1,"Código duplicado",IF(COUNT($C20:$N20)<>12,"Parâmetros incompletos",IF(OR($C20<0,$C20>=$D20,$D20>5),"Limiares de demanda inválidos",IF(OR($J20<0,$J20>=$K20,$K20>5),"Limiares de estoque inválidos",IF(OR($G20<0,$G20>0.5,$N20<=0,$N20>0.5,ABS($E20)>0.5,ABS($F20)>0.5,ABS($H20)>0.5,ABS($I20)>0.5,ABS($L20)>0.5,ABS($M20)>0.5),"Ajustes ou limite inválidos",IF($O20<>"Sim","Regra inativa","OK")))))))
... P103: =IF($A103="","",IF(COUNTIF($A$4:$A$103,$A103)>1,"Código duplicado",IF(COUNT($C103:$N103)<>12,"Parâmetros incompletos",IF(OR($C103<0,$C103>=$D103,$D103>5),"Limiares de demanda inválidos",IF(OR($J103<0,$J103>=$K103,$K103>5),"Limiares de estoque inválidos",IF(OR($G103<0,$G103>0.5,$N103<=0,$N103>0.5,ABS($E103)>0.5,ABS($F103)>0.5,ABS($H103)>0.5,ABS($I103)>0.5,ABS($L103)>0.5,ABS($M103)>0.5),"Ajustes ou limite inválidos",IF($O103<>"Sim","Regra inativa","OK")))))))

Sheet Rodadas
A1: Rodadas de precificação dinâmica
A2: Preencha as colunas amarelas. As recomendações respeitam o limite da regra, o piso vigente e o teto.
A4: ID da rodada | B4: Data da rodada | C4: SKU | D4: Regra aplicada | E4: Preço atual | F4: Índice de demanda | G4: Preço concorrente | H4: Estoque disponível | I4: Decisão | J4: Preço manual aprovado | K4: Observação | L4: Produto | M4: Canal principal | N4: Custo unitário | O4: Margem mínima | P4: Piso por margem | Q4: Piso vigente | R4: Teto de preço | S4: Estoque-alvo | T4: Ajuste de demanda | U4: Ajuste de concorrência | V4: Ajuste de estoque | W4: Ajuste total bruto | X4: Ajuste aplicado | Y4: Preço sem trava | Z4: Preço recomendado | AA4: Variação recomendada | AB4: Trava aplicada | AC4: Motivo do ajuste | AD4: Alertas da recomendação | AE4: Preço final da rodada | AF4: Checagem da decisão | AG4: Situação da linha
A5: RD-FIC-0001 | B5: 46266 | C5: FIC-001 | D5: R-BASE | E5: 99.9 | F5: 1.2 | G5: 104.9 | H5: 30 | I5: Aprovar recomendação | K5: Teste fictício de procura elevada | L5: =IF($C5="","",IFERROR(INDEX(Produtos!$B$4:$B$103,MATCH($C5,Produtos!$A$4:$A$103,0)),"")) | M5: =IF($C5="","",IFERROR(INDEX(Produtos!$C$4:$C$103,MATCH($C5,Produtos!$A$4:$A$103,0)),"")) | N5: =IF($C5="","",IFERROR(INDEX(Produtos!$D$4:$D$103,MATCH($C5,Produtos!$A$4:$A$103,0)),"")) | O5: =IF($C5="","",IFERROR(INDEX(Produtos!$E$4:$E$103,MATCH($C5,Produtos!$A$4:$A$103,0)),"")) | P5: =IF($C5="","",IFERROR(INDEX(Produtos!$G$4:$G$103,MATCH($C5,Produtos!$A$4:$A$103,0)),"")) | Q5: =IF($C5="","",IFERROR(INDEX(Produtos!$H$4:$H$103,MATCH($C5,Produtos!$A$4:$A$103,0)),"")) | R5: =IF($C5="","",IFERROR(INDEX(Produtos!$I$4:$I$103,MATCH($C5,Produtos!$A$4:$A$103,0)),"")) | S5: =IF($C5="","",IFERROR(INDEX(Produtos!$J$4:$J$103,MATCH($C5,Produtos!$A$4:$A$103,0)),"")) | T5: =IF($AG5<>"Pronta","",IFERROR(IF($F5<=INDEX(Regras!$C$4:$C$103,MATCH($D5,Regras!$A$4:$A$103,0)),INDEX(Regras!$E$4:$E$103,MATCH($D5,Regras!$A$4:$A$103,0)),IF($F5>=INDEX(Regras!$D$4:$D$103,MATCH($D5,Regras!$A$4:$A$103,0)),INDEX(Regras!$F$4:$F$103,MATCH($D5,Regras!$A$4:$A$103,0)),0)),"")) | U5: =IF($AG5<>"Pronta","",IFERROR(IF($G5="",0,IF($G5<=$E5*(1-INDEX(Regras!$G$4:$G$103,MATCH($D5,Regras!$A$4:$A$103,0))),INDEX(Regras!$H$4:$H$103,MATCH($D5,Regras!$A$4:$A$103,0)),IF($G5>=$E5*(1+INDEX(Regras!$G$4:$G$103,MATCH($D5,Regras!$A$4:$A$103,0))),INDEX(Regras!$I$4:$I$103,MATCH($D5,Regras!$A$4:$A$103,0)),0))),"")) | V5: =IF($AG5<>"Pronta","",IFERROR(IF($H5/$S5<=INDEX(Regras!$J$4:$J$103,MATCH($D5,Regras!$A$4:$A$103,0)),INDEX(Regras!$L$4:$L$103,MATCH($D5,Regras!$A$4:$A$103,0)),IF($H5/$S5>=INDEX(Regras!$K$4:$K$103,MATCH($D5,Regras!$A$4:$A$103,0)),INDEX(Regras!$M$4:$M$103,MATCH($D5,Regras!$A$4:$A$103,0)),0)),"")) | W5: =IF($AG5<>"Pronta","",SUM($T5:$V5)) | X5: =IF($AG5<>"Pronta","",IFERROR(MAX(-INDEX(Regras!$N$4:$N$103,MATCH($D5,Regras!$A$4:$A$103,0)),MIN(INDEX(Regras!$N$4:$N$103,MATCH($D5,Regras!$A$4:$A$103,0)),$W5)),"")) | Y5: =IF($AG5<>"Pronta","",IFERROR(ROUND($E5*(1+$X5),2),"")) | Z5: =IF(OR($AG5<>"Pronta",$Q5="",$R5=""),"",IFERROR(ROUND(MIN($R5,MAX($Q5,$Y5)),2),"")) | AA5: =IF(OR($E5="",$Z5=""),"",IFERROR($Z5/$E5-1,"")) | AB5: =IF($Z5="","",IF($Y5<$Q5,"Piso",IF($Y5>$R5,"Teto","Nenhuma"))) | AC5: =IF($A5="","",IF($AG5<>"Pronta","Aguardando dados válidos",_xlfn.TEXTJOIN(" | ",TRUE,IF($T5>0,"Demanda: aumento",IF($T5<0,"Demanda: redução","")),IF($U5>0,"Concorrência: aumento",IF($U5<0,"Concorrência: redução","")),IF($V5>0,"Estoque: aumento",IF($V5<0,"Estoque: redução","")),IF(ABS($W5-$X5)>0.0000001,"Limite da rodada aplicado",""),IF($AB5="Piso","Piso vigente aplicado",IF($AB5="Teto","Teto aplicado","")),IF(AND($T5=0,$U5=0,$V5=0),"Sem gatilho de reajuste","")))) | AD5: =IF(OR($A5="",$AG5<>"Pronta"),"",_xlfn.TEXTJOIN(" | ",TRUE,IF($E5<$Q5,"Preço atual abaixo do piso",""),IF($E5>$R5,"Preço atual acima do teto",""),IF(AND($N5>0,$E5>0,1-$N5/$E5<$O5),"Margem estimada do preço atual abaixo do mínimo",""),IF($G5="","Preço concorrente não informado",""),IF($AB5="Piso","Recomendação travada no piso",""),IF($AB5="Teto","Recomendação travada no teto",""))) | AE5: =IF($AG5<>"Pronta","",IF($I5="Aprovar recomendação",$Z5,IF($I5="Manter preço atual",$E5,IF($I5="Definir manualmente",$J5,"")))) | AF5: =IF($A5="","",IF($AG5<>"Pronta","Aguardando correção",IF(OR($I5="",$I5="Pendente"),"Decisão pendente",IF(AND($I5="Definir manualmente",OR($J5="",$J5<=0)),"Informe o preço manual",IF(OR($AE5<$Q5,$AE5>$R5),"Preço final fora do piso/teto","OK"))))) | AG5: =IF(COUNTA($A5:$K5)=0,"",IF(OR($A5="",$B5="",$C5="",$D5="",$E5="",$F5="",$H5=""),"Incompleta",IF(OR(COUNTIF($A$5:$A$204,$A5)>1,NOT(ISNUMBER($B5)),COUNTIF(Produtos!$A$4:$A$103,$C5)<>1,IFERROR(INDEX(Produtos!$K$4:$K$103,MATCH($C5,Produtos!$A$4:$A$103,0))<>"Ativo",TRUE),IFERROR(INDEX(Produtos!$L$4:$L$103,MATCH($C5,Produtos!$A$4:$A$103,0))<>"OK",TRUE),COUNTIF(Regras!$A$4:$A$103,$D5)<>1,IFERROR(INDEX(Regras!$O$4:$O$103,MATCH($D5,Regras!$A$4:$A$103,0))<>"Sim",TRUE),IFERROR(INDEX(Regras!$P$4:$P$103,MATCH($D5,Regras!$A$4:$A$103,0))<>"OK",TRUE),NOT(ISNUMBER($E5)),$E5<=0,NOT(ISNUMBER($F5)),$F5<0,$F5>5,NOT(ISNUMBER($H5)),$H5<0,$H5<>INT($H5),AND($G5<>"",OR(NOT(ISNUMBER($G5)),$G5<=0))),"Revisar","Pronta")))
A6: RD-FIC-0002 | B6: 46266 | C6: FIC-002 | D6: R-AGIL | E6: 59.9 | F6: 0.82 | G6: 54.9 | H6: 220 | I6: Aprovar recomendação | K6: Exemplo fictício de estoque elevado | L6: =IF($C6="","",IFERROR(INDEX(Produtos!$B$4:$B$103,MATCH($C6,Produtos!$A$4:$A$103,0)),"")) | M6: =IF($C6="","",IFERROR(INDEX(Produtos!$C$4:$C$103,MATCH($C6,Produtos!$A$4:$A$103,0)),"")) | N6: =IF($C6="","",IFERROR(INDEX(Produtos!$D$4:$D$103,MATCH($C6,Produtos!$A$4:$A$103,0)),"")) | O6: =IF($C6="","",IFERROR(INDEX(Produtos!$E$4:$E$103,MATCH($C6,Produtos!$A$4:$A$103,0)),"")) | P6: =IF($C6="","",IFERROR(INDEX(Produtos!$G$4:$G$103,MATCH($C6,Produtos!$A$4:$A$103,0)),"")) | Q6: =IF($C6="","",IFERROR(INDEX(Produtos!$H$4:$H$103,MATCH($C6,Produtos!$A$4:$A$103,0)),"")) | R6: =IF($C6="","",IFERROR(INDEX(Produtos!$I$4:$I$103,MATCH($C6,Produtos!$A$4:$A$103,0)),"")) | S6: =IF($C6="","",IFERROR(INDEX(Produtos!$J$4:$J$103,MATCH($C6,Produtos!$A$4:$A$103,0)),"")) | T6: =IF($AG6<>"Pronta","",IFERROR(IF($F6<=INDEX(Regras!$C$4:$C$103,MATCH($D6,Regras!$A$4:$A$103,0)),INDEX(Regras!$E$4:$E$103,MATCH($D6,Regras!$A$4:$A$103,0)),IF($F6>=INDEX(Regras!$D$4:$D$103,MATCH($D6,Regras!$A$4:$A$103,0)),INDEX(Regras!$F$4:$F$103,MATCH($D6,Regras!$A$4:$A$103,0)),0)),"")) | U6: =IF($AG6<>"Pronta","",IFERROR(IF($G6="",0,IF($G6<=$E6*(1-INDEX(Regras!$G$4:$G$103,MATCH($D6,Regras!$A$4:$A$103,0))),INDEX(Regras!$H$4:$H$103,MATCH($D6,Regras!$A$4:$A$103,0)),IF($G6>=$E6*(1+INDEX(Regras!$G$4:$G$103,MATCH($D6,Regras!$A$4:$A$103,0))),INDEX(Regras!$I$4:$I$103,MATCH($D6,Regras!$A$4:$A$103,0)),0))),"")) | V6: =IF($AG6<>"Pronta","",IFERROR(IF($H6/$S6<=INDEX(Regras!$J$4:$J$103,MATCH($D6,Regras!$A$4:$A$103,0)),INDEX(Regras!$L$4:$L$103,MATCH($D6,Regras!$A$4:$A$103,0)),IF($H6/$S6>=INDEX(Regras!$K$4:$K$103,MATCH($D6,Regras!$A$4:$A$103,0)),INDEX(Regras!$M$4:$M$103,MATCH($D6,Regras!$A$4:$A$103,0)),0)),"")) | W6: =IF($AG6<>"Pronta","",SUM($T6:$V6)) | X6: =IF($AG6<>"Pronta","",IFERROR(MAX(-INDEX(Regras!$N$4:$N$103,MATCH($D6,Regras!$A$4:$A$103,0)),MIN(INDEX(Regras!$N$4:$N$103,MATCH($D6,Regras!$A$4:$A$103,0)),$W6)),"")) | Y6: =IF($AG6<>"Pronta","",IFERROR(ROUND($E6*(1+$X6),2),"")) | Z6: =IF(OR($AG6<>"Pronta",$Q6="",$R6=""),"",IFERROR(ROUND(MIN($R6,MAX($Q6,$Y6)),2),"")) | AA6: =IF(OR($E6="",$Z6=""),"",IFERROR($Z6/$E6-1,"")) | AB6: =IF($Z6="","",IF($Y6<$Q6,"Piso",IF($Y6>$R6,"Teto","Nenhuma"))) | AC6: =IF($A6="","",IF($AG6<>"Pronta","Aguardando dados válidos",_xlfn.TEXTJOIN(" | ",TRUE,IF($T6>0,"Demanda: aumento",IF($T6<0,"Demanda: redução","")),IF($U6>0,"Concorrência: aumento",IF($U6<0,"Concorrência: redução","")),IF($V6>0,"Estoque: aumento",IF($V6<0,"Estoque: redução","")),IF(ABS($W6-$X6)>0.0000001,"Limite da rodada aplicado",""),IF($AB6="Piso","Piso vigente aplicado",IF($AB6="Teto","Teto aplicado","")),IF(AND($T6=0,$U6=0,$V6=0),"Sem gatilho de reajuste","")))) | AD6: =IF(OR($A6="",$AG6<>"Pronta"),"",_xlfn.TEXTJOIN(" | ",TRUE,IF($E6<$Q6,"Preço atual abaixo do piso",""),IF($E6>$R6,"Preço atual acima do teto",""),IF(AND($N6>0,$E6>0,1-$N6/$E6<$O6),"Margem estimada do preço atual abaixo do mínimo",""),IF($G6="","Preço concorrente não informado",""),IF($AB6="Piso","Recomendação travada no piso",""),IF($AB6="Teto","Recomendação travada no teto",""))) | AE6: =IF($AG6<>"Pronta","",IF($I6="Aprovar recomendação",$Z6,IF($I6="Manter preço atual",$E6,IF($I6="Definir manualmente",$J6,"")))) | AF6: =IF($A6="","",IF($AG6<>"Pronta","Aguardando correção",IF(OR($I6="",$I6="Pendente"),"Decisão pendente",IF(AND($I6="Definir manualmente",OR($J6="",$J6<=0)),"Informe o preço manual",IF(OR($AE6<$Q6,$AE6>$R6),"Preço final fora do piso/teto","OK"))))) | AG6: =IF(COUNTA($A6:$K6)=0,"",IF(OR($A6="",$B6="",$C6="",$D6="",$E6="",$F6="",$H6=""),"Incompleta",IF(OR(COUNTIF($A$5:$A$204,$A6)>1,NOT(ISNUMBER($B6)),COUNTIF(Produtos!$A$4:$A$103,$C6)<>1,IFERROR(INDEX(Produtos!$K$4:$K$103,MATCH($C6,Produtos!$A$4:$A$103,0))<>"Ativo",TRUE),IFERROR(INDEX(Produtos!$L$4:$L$103,MATCH($C6,Produtos!$A$4:$A$103,0))<>"OK",TRUE),COUNTIF(Regras!$A$4:$A$103,$D6)<>1,IFERROR(INDEX(Regras!$O$4:$O$103,MATCH($D6,Regras!$A$4:$A$103,0))<>"Sim",TRUE),IFERROR(INDEX(Regras!$P$4:$P$103,MATCH($D6,Regras!$A$4:$A$103,0))<>"OK",TRUE),NOT(ISNUMBER($E6)),$E6<=0,NOT(ISNUMBER($F6)),$F6<0,$F6>5,NOT(ISNUMBER($H6)),$H6<0,$H6<>INT($H6),AND($G6<>"",OR(NOT(ISNUMBER($G6)),$G6<=0))),"Revisar","Pronta")))
A7: RD-FIC-0003 | B7: 46267 | C7: FIC-003 | D7: R-MARGEM | E7: 89 | F7: 0.75 | H7: 20 | I7: Manter preço atual | K7: Concorrente não informado | L7: =IF($C7="","",IFERROR(INDEX(Produtos!$B$4:$B$103,MATCH($C7,Produtos!$A$4:$A$103,0)),"")) | M7: =IF($C7="","",IFERROR(INDEX(Produtos!$C$4:$C$103,MATCH($C7,Produtos!$A$4:$A$103,0)),"")) | N7: =IF($C7="","",IFERROR(INDEX(Produtos!$D$4:$D$103,MATCH($C7,Produtos!$A$4:$A$103,0)),"")) | O7: =IF($C7="","",IFERROR(INDEX(Produtos!$E$4:$E$103,MATCH($C7,Produtos!$A$4:$A$103,0)),"")) | P7: =IF($C7="","",IFERROR(INDEX(Produtos!$G$4:$G$103,MATCH($C7,Produtos!$A$4:$A$103,0)),"")) | Q7: =IF($C7="","",IFERROR(INDEX(Produtos!$H$4:$H$103,MATCH($C7,Produtos!$A$4:$A$103,0)),"")) | R7: =IF($C7="","",IFERROR(INDEX(Produtos!$I$4:$I$103,MATCH($C7,Produtos!$A$4:$A$103,0)),"")) | S7: =IF($C7="","",IFERROR(INDEX(Produtos!$J$4:$J$103,MATCH($C7,Produtos!$A$4:$A$103,0)),"")) | T7: =IF($AG7<>"Pronta","",IFERROR(IF($F7<=INDEX(Regras!$C$4:$C$103,MATCH($D7,Regras!$A$4:$A$103,0)),INDEX(Regras!$E$4:$E$103,MATCH($D7,Regras!$A$4:$A$103,0)),IF($F7>=INDEX(Regras!$D$4:$D$103,MATCH($D7,Regras!$A$4:$A$103,0)),INDEX(Regras!$F$4:$F$103,MATCH($D7,Regras!$A$4:$A$103,0)),0)),"")) | U7: =IF($AG7<>"Pronta","",IFERROR(IF($G7="",0,IF($G7<=$E7*(1-INDEX(Regras!$G$4:$G$103,MATCH($D7,Regras!$A$4:$A$103,0))),INDEX(Regras!$H$4:$H$103,MATCH($D7,Regras!$A$4:$A$103,0)),IF($G7>=$E7*(1+INDEX(Regras!$G$4:$G$103,MATCH($D7,Regras!$A$4:$A$103,0))),INDEX(Regras!$I$4:$I$103,MATCH($D7,Regras!$A$4:$A$103,0)),0))),"")) | V7: =IF($AG7<>"Pronta","",IFERROR(IF($H7/$S7<=INDEX(Regras!$J$4:$J$103,MATCH($D7,Regras!$A$4:$A$103,0)),INDEX(Regras!$L$4:$L$103,MATCH($D7,Regras!$A$4:$A$103,0)),IF($H7/$S7>=INDEX(Regras!$K$4:$K$103,MATCH($D7,Regras!$A$4:$A$103,0)),INDEX(Regras!$M$4:$M$103,MATCH($D7,Regras!$A$4:$A$103,0)),0)),"")) | W7: =IF($AG7<>"Pronta","",SUM($T7:$V7)) | X7: =IF($AG7<>"Pronta","",IFERROR(MAX(-INDEX(Regras!$N$4:$N$103,MATCH($D7,Regras!$A$4:$A$103,0)),MIN(INDEX(Regras!$N$4:$N$103,MATCH($D7,Regras!$A$4:$A$103,0)),$W7)),"")) | Y7: =IF($AG7<>"Pronta","",IFERROR(ROUND($E7*(1+$X7),2),"")) | Z7: =IF(OR($AG7<>"Pronta",$Q7="",$R7=""),"",IFERROR(ROUND(MIN($R7,MAX($Q7,$Y7)),2),"")) | AA7: =IF(OR($E7="",$Z7=""),"",IFERROR($Z7/$E7-1,"")) | AB7: =IF($Z7="","",IF($Y7<$Q7,"Piso",IF($Y7>$R7,"Teto","Nenhuma"))) | AC7: =IF($A7="","",IF($AG7<>"Pronta","Aguardando dados válidos",_xlfn.TEXTJOIN(" | ",TRUE,IF($T7>0,"Demanda: aumento",IF($T7<0,"Demanda: redução","")),IF($U7>0,"Concorrência: aumento",IF($U7<0,"Concorrência: redução","")),IF($V7>0,"Estoque: aumento",IF($V7<0,"Estoque: redução","")),IF(ABS($W7-$X7)>0.0000001,"Limite da rodada aplicado",""),IF($AB7="Piso","Piso vigente aplicado",IF($AB7="Teto","Teto aplicado","")),IF(AND($T7=0,$U7=0,$V7=0),"Sem gatilho de reajuste","")))) | AD7: =IF(OR($A7="",$AG7<>"Pronta"),"",_xlfn.TEXTJOIN(" | ",TRUE,IF($E7<$Q7,"Preço atual abaixo do piso",""),IF($E7>$R7,"Preço atual acima do teto",""),IF(AND($N7>0,$E7>0,1-$N7/$E7<$O7),"Margem estimada do preço atual abaixo do mínimo",""),IF($G7="","Preço concorrente não informado",""),IF($AB7="Piso","Recomendação travada no piso",""),IF($AB7="Teto","Recomendação travada no teto",""))) | AE7: =IF($AG7<>"Pronta","",IF($I7="Aprovar recomendação",$Z7,IF($I7="Manter preço atual",$E7,IF($I7="Definir manualmente",$J7,"")))) | AF7: =IF($A7="","",IF($AG7<>"Pronta","Aguardando correção",IF(OR($I7="",$I7="Pendente"),"Decisão pendente",IF(AND($I7="Definir manualmente",OR($J7="",$J7<=0)),"Informe o preço manual",IF(OR($AE7<$Q7,$AE7>$R7),"Preço final fora do piso/teto","OK"))))) | AG7: =IF(COUNTA($A7:$K7)=0,"",IF(OR($A7="",$B7="",$C7="",$D7="",$E7="",$F7="",$H7=""),"Incompleta",IF(OR(COUNTIF($A$5:$A$204,$A7)>1,NOT(ISNUMBER($B7)),COUNTIF(Produtos!$A$4:$A$103,$C7)<>1,IFERROR(INDEX(Produtos!$K$4:$K$103,MATCH($C7,Produtos!$A$4:$A$103,0))<>"Ativo",TRUE),IFERROR(INDEX(Produtos!$L$4:$L$103,MATCH($C7,Produtos!$A$4:$A$103,0))<>"OK",TRUE),COUNTIF(Regras!$A$4:$A$103,$D7)<>1,IFERROR(INDEX(Regras!$O$4:$O$103,MATCH($D7,Regras!$A$4:$A$103,0))<>"Sim",TRUE),IFERROR(INDEX(Regras!$P$4:$P$103,MATCH($D7,Regras!$A$4:$A$103,0))<>"OK",TRUE),NOT(ISNUMBER($E7)),$E7<=0,NOT(ISNUMBER($F7)),$F7<0,$F7>5,NOT(ISNUMBER($H7)),$H7<0,$H7<>INT($H7),AND($G7<>"",OR(NOT(ISNUMBER($G7)),$G7<=0))),"Revisar","Pronta")))
A8: RD-FIC-0004 | B8: 46267 | C8: FIC-004 | D8: R-COMP | E8: 119.9 | F8: 1.05 | G8: 109.9 | H8: 170 | I8: Aprovar recomendação | K8: Comparação fictícia de mercado | L8: =IF($C8="","",IFERROR(INDEX(Produtos!$B$4:$B$103,MATCH($C8,Produtos!$A$4:$A$103,0)),"")) | M8: =IF($C8="","",IFERROR(INDEX(Produtos!$C$4:$C$103,MATCH($C8,Produtos!$A$4:$A$103,0)),"")) | N8: =IF($C8="","",IFERROR(INDEX(Produtos!$D$4:$D$103,MATCH($C8,Produtos!$A$4:$A$103,0)),"")) | O8: =IF($C8="","",IFERROR(INDEX(Produtos!$E$4:$E$103,MATCH($C8,Produtos!$A$4:$A$103,0)),"")) | P8: =IF($C8="","",IFERROR(INDEX(Produtos!$G$4:$G$103,MATCH($C8,Produtos!$A$4:$A$103,0)),"")) | Q8: =IF($C8="","",IFERROR(INDEX(Produtos!$H$4:$H$103,MATCH($C8,Produtos!$A$4:$A$103,0)),"")) | R8: =IF($C8="","",IFERROR(INDEX(Produtos!$I$4:$I$103,MATCH($C8,Produtos!$A$4:$A$103,0)),"")) | S8: =IF($C8="","",IFERROR(INDEX(Produtos!$J$4:$J$103,MATCH($C8,Produtos!$A$4:$A$103,0)),"")) | T8: =IF($AG8<>"Pronta","",IFERROR(IF($F8<=INDEX(Regras!$C$4:$C$103,MATCH($D8,Regras!$A$4:$A$103,0)),INDEX(Regras!$E$4:$E$103,MATCH($D8,Regras!$A$4:$A$103,0)),IF($F8>=INDEX(Regras!$D$4:$D$103,MATCH($D8,Regras!$A$4:$A$103,0)),INDEX(Regras!$F$4:$F$103,MATCH($D8,Regras!$A$4:$A$103,0)),0)),"")) | U8: =IF($AG8<>"Pronta","",IFERROR(IF($G8="",0,IF($G8<=$E8*(1-INDEX(Regras!$G$4:$G$103,MATCH($D8,Regras!$A$4:$A$103,0))),INDEX(Regras!$H$4:$H$103,MATCH($D8,Regras!$A$4:$A$103,0)),IF($G8>=$E8*(1+INDEX(Regras!$G$4:$G$103,MATCH($D8,Regras!$A$4:$A$103,0))),INDEX(Regras!$I$4:$I$103,MATCH($D8,Regras!$A$4:$A$103,0)),0))),"")) | V8: =IF($AG8<>"Pronta","",IFERROR(IF($H8/$S8<=INDEX(Regras!$J$4:$J$103,MATCH($D8,Regras!$A$4:$A$103,0)),INDEX(Regras!$L$4:$L$103,MATCH($D8,Regras!$A$4:$A$103,0)),IF($H8/$S8>=INDEX(Regras!$K$4:$K$103,MATCH($D8,Regras!$A$4:$A$103,0)),INDEX(Regras!$M$4:$M$103,MATCH($D8,Regras!$A$4:$A$103,0)),0)),"")) | W8: =IF($AG8<>"Pronta","",SUM($T8:$V8)) | X8: =IF($AG8<>"Pronta","",IFERROR(MAX(-INDEX(Regras!$N$4:$N$103,MATCH($D8,Regras!$A$4:$A$103,0)),MIN(INDEX(Regras!$N$4:$N$103,MATCH($D8,Regras!$A$4:$A$103,0)),$W8)),"")) | Y8: =IF($AG8<>"Pronta","",IFERROR(ROUND($E8*(1+$X8),2),"")) | Z8: =IF(OR($AG8<>"Pronta",$Q8="",$R8=""),"",IFERROR(ROUND(MIN($R8,MAX($Q8,$Y8)),2),"")) | AA8: =IF(OR($E8="",$Z8=""),"",IFERROR($Z8/$E8-1,"")) | AB8: =IF($Z8="","",IF($Y8<$Q8,"Piso",IF($Y8>$R8,"Teto","Nenhuma"))) | AC8: =IF($A8="","",IF($AG8<>"Pronta","Aguardando dados válidos",_xlfn.TEXTJOIN(" | ",TRUE,IF($T8>0,"Demanda: aumento",IF($T8<0,"Demanda: redução","")),IF($U8>0,"Concorrência: aumento",IF($U8<0,"Concorrência: redução","")),IF($V8>0,"Estoque: aumento",IF($V8<0,"Estoque: redução","")),IF(ABS($W8-$X8)>0.0000001,"Limite da rodada aplicado",""),IF($AB8="Piso","Piso vigente aplicado",IF($AB8="Teto","Teto aplicado","")),IF(AND($T8=0,$U8=0,$V8=0),"Sem gatilho de reajuste","")))) | AD8: =IF(OR($A8="",$AG8<>"Pronta"),"",_xlfn.TEXTJOIN(" | ",TRUE,IF($E8<$Q8,"Preço atual abaixo do piso",""),IF($E8>$R8,"Preço atual acima do teto",""),IF(AND($N8>0,$E8>0,1-$N8/$E8<$O8),"Margem estimada do preço atual abaixo do mínimo",""),IF($G8="","Preço concorrente não informado",""),IF($AB8="Piso","Recomendação travada no piso",""),IF($AB8="Teto","Recomendação travada no teto",""))) | AE8: =IF($AG8<>"Pronta","",IF($I8="Aprovar recomendação",$Z8,IF($I8="Manter preço atual",$E8,IF($I8="Definir manualmente",$J8,"")))) | AF8: =IF($A8="","",IF($AG8<>"Pronta","Aguardando correção",IF(OR($I8="",$I8="Pendente"),"Decisão pendente",IF(AND($I8="Definir manualmente",OR($J8="",$J8<=0)),"Informe o preço manual",IF(OR($AE8<$Q8,$AE8>$R8),"Preço final fora do piso/teto","OK"))))) | AG8: =IF(COUNTA($A8:$K8)=0,"",IF(OR($A8="",$B8="",$C8="",$D8="",$E8="",$F8="",$H8=""),"Incompleta",IF(OR(COUNTIF($A$5:$A$204,$A8)>1,NOT(ISNUMBER($B8)),COUNTIF(Produtos!$A$4:$A$103,$C8)<>1,IFERROR(INDEX(Produtos!$K$4:$K$103,MATCH($C8,Produtos!$A$4:$A$103,0))<>"Ativo",TRUE),IFERROR(INDEX(Produtos!$L$4:$L$103,MATCH($C8,Produtos!$A$4:$A$103,0))<>"OK",TRUE),COUNTIF(Regras!$A$4:$A$103,$D8)<>1,IFERROR(INDEX(Regras!$O$4:$O$103,MATCH($D8,Regras!$A$4:$A$103,0))<>"Sim",TRUE),IFERROR(INDEX(Regras!$P$4:$P$103,MATCH($D8,Regras!$A$4:$A$103,0))<>"OK",TRUE),NOT(ISNUMBER($E8)),$E8<=0,NOT(ISNUMBER($F8)),$F8<0,$F8>5,NOT(ISNUMBER($H8)),$H8<0,$H8<>INT($H8),AND($G8<>"",OR(NOT(ISNUMBER($G8)),$G8<=0))),"Revisar","Pronta")))
A9: RD-FIC-0005 | B9: 46268 | C9: FIC-005 | D9: R-ESTOQUE | E9: 39.9 | F9: 1.25 | G9: 44.9 | H9: 80 | I9: Aprovar recomendação | K9: Procura fictícia com estoque reduzido | L9: =IF($C9="","",IFERROR(INDEX(Produtos!$B$4:$B$103,MATCH($C9,Produtos!$A$4:$A$103,0)),"")) | M9: =IF($C9="","",IFERROR(INDEX(Produtos!$C$4:$C$103,MATCH($C9,Produtos!$A$4:$A$103,0)),"")) | N9: =IF($C9="","",IFERROR(INDEX(Produtos!$D$4:$D$103,MATCH($C9,Produtos!$A$4:$A$103,0)),"")) | O9: =IF($C9="","",IFERROR(INDEX(Produtos!$E$4:$E$103,MATCH($C9,Produtos!$A$4:$A$103,0)),"")) | P9: =IF($C9="","",IFERROR(INDEX(Produtos!$G$4:$G$103,MATCH($C9,Produtos!$A$4:$A$103,0)),"")) | Q9: =IF($C9="","",IFERROR(INDEX(Produtos!$H$4:$H$103,MATCH($C9,Produtos!$A$4:$A$103,0)),"")) | R9: =IF($C9="","",IFERROR(INDEX(Produtos!$I$4:$I$103,MATCH($C9,Produtos!$A$4:$A$103,0)),"")) | S9: =IF($C9="","",IFERROR(INDEX(Produtos!$J$4:$J$103,MATCH($C9,Produtos!$A$4:$A$103,0)),"")) | T9: =IF($AG9<>"Pronta","",IFERROR(IF($F9<=INDEX(Regras!$C$4:$C$103,MATCH($D9,Regras!$A$4:$A$103,0)),INDEX(Regras!$E$4:$E$103,MATCH($D9,Regras!$A$4:$A$103,0)),IF($F9>=INDEX(Regras!$D$4:$D$103,MATCH($D9,Regras!$A$4:$A$103,0)),INDEX(Regras!$F$4:$F$103,MATCH($D9,Regras!$A$4:$A$103,0)),0)),"")) | U9: =IF($AG9<>"Pronta","",IFERROR(IF($G9="",0,IF($G9<=$E9*(1-INDEX(Regras!$G$4:$G$103,MATCH($D9,Regras!$A$4:$A$103,0))),INDEX(Regras!$H$4:$H$103,MATCH($D9,Regras!$A$4:$A$103,0)),IF($G9>=$E9*(1+INDEX(Regras!$G$4:$G$103,MATCH($D9,Regras!$A$4:$A$103,0))),INDEX(Regras!$I$4:$I$103,MATCH($D9,Regras!$A$4:$A$103,0)),0))),"")) | V9: =IF($AG9<>"Pronta","",IFERROR(IF($H9/$S9<=INDEX(Regras!$J$4:$J$103,MATCH($D9,Regras!$A$4:$A$103,0)),INDEX(Regras!$L$4:$L$103,MATCH($D9,Regras!$A$4:$A$103,0)),IF($H9/$S9>=INDEX(Regras!$K$4:$K$103,MATCH($D9,Regras!$A$4:$A$103,0)),INDEX(Regras!$M$4:$M$103,MATCH($D9,Regras!$A$4:$A$103,0)),0)),"")) | W9: =IF($AG9<>"Pronta","",SUM($T9:$V9)) | X9: =IF($AG9<>"Pronta","",IFERROR(MAX(-INDEX(Regras!$N$4:$N$103,MATCH($D9,Regras!$A$4:$A$103,0)),MIN(INDEX(Regras!$N$4:$N$103,MATCH($D9,Regras!$A$4:$A$103,0)),$W9)),"")) | Y9: =IF($AG9<>"Pronta","",IFERROR(ROUND($E9*(1+$X9),2),"")) | Z9: =IF(OR($AG9<>"Pronta",$Q9="",$R9=""),"",IFERROR(ROUND(MIN($R9,MAX($Q9,$Y9)),2),"")) | AA9: =IF(OR($E9="",$Z9=""),"",IFERROR($Z9/$E9-1,"")) | AB9: =IF($Z9="","",IF($Y9<$Q9,"Piso",IF($Y9>$R9,"Teto","Nenhuma"))) | AC9: =IF($A9="","",IF($AG9<>"Pronta","Aguardando dados válidos",_xlfn.TEXTJOIN(" | ",TRUE,IF($T9>0,"Demanda: aumento",IF($T9<0,"Demanda: redução","")),IF($U9>0,"Concorrência: aumento",IF($U9<0,"Concorrência: redução","")),IF($V9>0,"Estoque: aumento",IF($V9<0,"Estoque: redução","")),IF(ABS($W9-$X9)>0.0000001,"Limite da rodada aplicado",""),IF($AB9="Piso","Piso vigente aplicado",IF($AB9="Teto","Teto aplicado","")),IF(AND($T9=0,$U9=0,$V9=0),"Sem gatilho de reajuste","")))) | AD9: =IF(OR($A9="",$AG9<>"Pronta"),"",_xlfn.TEXTJOIN(" | ",TRUE,IF($E9<$Q9,"Preço atual abaixo do piso",""),IF($E9>$R9,"Preço atual acima do teto",""),IF(AND($N9>0,$E9>0,1-$N9/$E9<$O9),"Margem estimada do preço atual abaixo do mínimo",""),IF($G9="","Preço concorrente não informado",""),IF($AB9="Piso","Recomendação travada no piso",""),IF($AB9="Teto","Recomendação travada no teto",""))) | AE9: =IF($AG9<>"Pronta","",IF($I9="Aprovar recomendação",$Z9,IF($I9="Manter preço atual",$E9,IF($I9="Definir manualmente",$J9,"")))) | AF9: =IF($A9="","",IF($AG9<>"Pronta","Aguardando correção",IF(OR($I9="",$I9="Pendente"),"Decisão pendente",IF(AND($I9="Definir manualmente",OR($J9="",$J9<=0)),"Informe o preço manual",IF(OR($AE9<$Q9,$AE9>$R9),"Preço final fora do piso/teto","OK"))))) | AG9: =IF(COUNTA($A9:$K9)=0,"",IF(OR($A9="",$B9="",$C9="",$D9="",$E9="",$F9="",$H9=""),"Incompleta",IF(OR(COUNTIF($A$5:$A$204,$A9)>1,NOT(ISNUMBER($B9)),COUNTIF(Produtos!$A$4:$A$103,$C9)<>1,IFERROR(INDEX(Produtos!$K$4:$K$103,MATCH($C9,Produtos!$A$4:$A$103,0))<>"Ativo",TRUE),IFERROR(INDEX(Produtos!$L$4:$L$103,MATCH($C9,Produtos!$A$4:$A$103,0))<>"OK",TRUE),COUNTIF(Regras!$A$4:$A$103,$D9)<>1,IFERROR(INDEX(Regras!$O$4:$O$103,MATCH($D9,Regras!$A$4:$A$103,0))<>"Sim",TRUE),IFERROR(INDEX(Regras!$P$4:$P$103,MATCH($D9,Regras!$A$4:$A$103,0))<>"OK",TRUE),NOT(ISNUMBER($E9)),$E9<=0,NOT(ISNUMBER($F9)),$F9<0,$F9>5,NOT(ISNUMBER($H9)),$H9<0,$H9<>INT($H9),AND($G9<>"",OR(NOT(ISNUMBER($G9)),$G9<=0))),"Revisar","Pronta")))
A10: RD-FIC-0006 | B10: 46268 | C10: FIC-001 | D10: R-BASE | E10: 74 | F10: 0.7 | G10: 69 | H10: 140 | I10: Aprovar recomendação | K10: Redução limitada pelo piso | L10: =IF($C10="","",IFERROR(INDEX(Produtos!$B$4:$B$103,MATCH($C10,Produtos!$A$4:$A$103,0)),"")) | M10: =IF($C10="","",IFERROR(INDEX(Produtos!$C$4:$C$103,MATCH($C10,Produtos!$A$4:$A$103,0)),"")) | N10: =IF($C10="","",IFERROR(INDEX(Produtos!$D$4:$D$103,MATCH($C10,Produtos!$A$4:$A$103,0)),"")) | O10: =IF($C10="","",IFERROR(INDEX(Produtos!$E$4:$E$103,MATCH($C10,Produtos!$A$4:$A$103,0)),"")) | P10: =IF($C10="","",IFERROR(INDEX(Produtos!$G$4:$G$103,MATCH($C10,Produtos!$A$4:$A$103,0)),"")) | Q10: =IF($C10="","",IFERROR(INDEX(Produtos!$H$4:$H$103,MATCH($C10,Produtos!$A$4:$A$103,0)),"")) | R10: =IF($C10="","",IFERROR(INDEX(Produtos!$I$4:$I$103,MATCH($C10,Produtos!$A$4:$A$103,0)),"")) | S10: =IF($C10="","",IFERROR(INDEX(Produtos!$J$4:$J$103,MATCH($C10,Produtos!$A$4:$A$103,0)),"")) | T10: =IF($AG10<>"Pronta","",IFERROR(IF($F10<=INDEX(Regras!$C$4:$C$103,MATCH($D10,Regras!$A$4:$A$103,0)),INDEX(Regras!$E$4:$E$103,MATCH($D10,Regras!$A$4:$A$103,0)),IF($F10>=INDEX(Regras!$D$4:$D$103,MATCH($D10,Regras!$A$4:$A$103,0)),INDEX(Regras!$F$4:$F$103,MATCH($D10,Regras!$A$4:$A$103,0)),0)),"")) | U10: =IF($AG10<>"Pronta","",IFERROR(IF($G10="",0,IF($G10<=$E10*(1-INDEX(Regras!$G$4:$G$103,MATCH($D10,Regras!$A$4:$A$103,0))),INDEX(Regras!$H$4:$H$103,MATCH($D10,Regras!$A$4:$A$103,0)),IF($G10>=$E10*(1+INDEX(Regras!$G$4:$G$103,MATCH($D10,Regras!$A$4:$A$103,0))),INDEX(Regras!$I$4:$I$103,MATCH($D10,Regras!$A$4:$A$103,0)),0))),"")) | V10: =IF($AG10<>"Pronta","",IFERROR(IF($H10/$S10<=INDEX(Regras!$J$4:$J$103,MATCH($D10,Regras!$A$4:$A$103,0)),INDEX(Regras!$L$4:$L$103,MATCH($D10,Regras!$A$4:$A$103,0)),IF($H10/$S10>=INDEX(Regras!$K$4:$K$103,MATCH($D10,Regras!$A$4:$A$103,0)),INDEX(Regras!$M$4:$M$103,MATCH($D10,Regras!$A$4:$A$103,0)),0)),"")) | W10: =IF($AG10<>"Pronta","",SUM($T10:$V10)) | X10: =IF($AG10<>"Pronta","",IFERROR(MAX(-INDEX(Regras!$N$4:$N$103,MATCH($D10,Regras!$A$4:$A$103,0)),MIN(INDEX(Regras!$N$4:$N$103,MATCH($D10,Regras!$A$4:$A$103,0)),$W10)),"")) | Y10: =IF($AG10<>"Pronta","",IFERROR(ROUND($E10*(1+$X10),2),"")) | Z10: =IF(OR($AG10<>"Pronta",$Q10="",$R10=""),"",IFERROR(ROUND(MIN($R10,MAX($Q10,$Y10)),2),"")) | AA10: =IF(OR($E10="",$Z10=""),"",IFERROR($Z10/$E10-1,"")) | AB10: =IF($Z10="","",IF($Y10<$Q10,"Piso",IF($Y10>$R10,"Teto","Nenhuma"))) | AC10: =IF($A10="","",IF($AG10<>"Pronta","Aguardando dados válidos",_xlfn.TEXTJOIN(" | ",TRUE,IF($T10>0,"Demanda: aumento",IF($T10<0,"Demanda: redução","")),IF($U10>0,"Concorrência: aumento",IF($U10<0,"Concorrência: redução","")),IF($V10>0,"Estoque: aumento",IF($V10<0,"Estoque: redução","")),IF(ABS($W10-$X10)>0.0000001,"Limite da rodada aplicado",""),IF($AB10="Piso","Piso vigente aplicado",IF($AB10="Teto","Teto aplicado","")),IF(AND($T10=0,$U10=0,$V10=0),"Sem gatilho de reajuste","")))) | AD10: =IF(OR($A10="",$AG10<>"Pronta"),"",_xlfn.TEXTJOIN(" | ",TRUE,IF($E10<$Q10,"Preço atual abaixo do piso",""),IF($E10>$R10,"Preço atual acima do teto",""),IF(AND($N10>0,$E10>0,1-$N10/$E10<$O10),"Margem estimada do preço atual abaixo do mínimo",""),IF($G10="","Preço concorrente não informado",""),IF($AB10="Piso","Recomendação travada no piso",""),IF($AB10="Teto","Recomendação travada no teto",""))) | AE10: =IF($AG10<>"Pronta","",IF($I10="Aprovar recomendação",$Z10,IF($I10="Manter preço atual",$E10,IF($I10="Definir manualmente",$J10,"")))) | AF10: =IF($A10="","",IF($AG10<>"Pronta","Aguardando correção",IF(OR($I10="",$I10="Pendente"),"Decisão pendente",IF(AND($I10="Definir manualmente",OR($J10="",$J10<=0)),"Informe o preço manual",IF(OR($AE10<$Q10,$AE10>$R10),"Preço final fora do piso/teto","OK"))))) | AG10: =IF(COUNTA($A10:$K10)=0,"",IF(OR($A10="",$B10="",$C10="",$D10="",$E10="",$F10="",$H10=""),"Incompleta",IF(OR(COUNTIF($A$5:$A$204,$A10)>1,NOT(ISNUMBER($B10)),COUNTIF(Produtos!$A$4:$A$103,$C10)<>1,IFERROR(INDEX(Produtos!$K$4:$K$103,MATCH($C10,Produtos!$A$4:$A$103,0))<>"Ativo",TRUE),IFERROR(INDEX(Produtos!$L$4:$L$103,MATCH($C10,Produtos!$A$4:$A$103,0))<>"OK",TRUE),COUNTIF(Regras!$A$4:$A$103,$D10)<>1,IFERROR(INDEX(Regras!$O$4:$O$103,MATCH($D10,Regras!$A$4:$A$103,0))<>"Sim",TRUE),IFERROR(INDEX(Regras!$P$4:$P$103,MATCH($D10,Regras!$A$4:$A$103,0))<>"OK",TRUE),NOT(ISNUMBER($E10)),$E10<=0,NOT(ISNUMBER($F10)),$F10<0,$F10>5,NOT(ISNUMBER($H10)),$H10<0,$H10<>INT($H10),AND($G10<>"",OR(NOT(ISNUMBER($G10)),$G10<=0))),"Revisar","Pronta")))
