Workbook

Sheet Resumo
A1: Previsão de estoque
A3: Data de corte | B3: ='Parâmetros'!B2 | D3: Horizonte | E3: ='Parâmetros'!B3 | F3: meses | G3: Cenário selecionado | H3: ='Parâmetros'!B5
A6: SKUs ativos | B6: =COUNTIFS('Parâmetros'!$D$18:$D$117,"Sim",'Parâmetros'!$A$18:$A$117,"<>") | D6: SKUs sem histórico | E6: =COUNTIFS('Parâmetros'!$D$18:$D$117,"Sim",'Parâmetros'!$I$18:$I$117,"Sem histórico") | G6: Histórico insuficiente | H6: =COUNTIFS('Parâmetros'!$D$18:$D$117,"Sim",'Parâmetros'!$I$18:$I$117,"Histórico insuficiente") | J6: Eventos ativos no horizonte | K6: =SUMPRODUCT(--('Eventos'!$B$6:$B$105<>""),--('Eventos'!$B$6:$B$105<=EOMONTH(EDATE(EOMONTH('Parâmetros'!$B$2,0)+1,'Parâmetros'!$B$3-1),0)),--('Eventos'!$C$6:$C$105>=EOMONTH('Parâmetros'!$B$2,0)+1),--('Eventos'!$G$6:$G$105="Ativo"),--('Eventos'!$I$6:$I$105="OK"))
A9: Demanda prevista no horizonte | B9: =SUM('Previsão'!$L$6:$L$1205) | D9: SKUs com ruptura prevista | E9: =COUNTIFS('Parâmetros'!$D$18:$D$117,"Sim",'Parâmetros'!$K$18:$K$117,"Sim") | G9: Necessidade ao fim do horizonte | H9: =SUM('Parâmetros'!$L$18:$L$117) | J9: Erro WAPE histórico | K9: =IFERROR(SUM('Histórico'!$J$6:$J$305)/SUMPRODUCT(--('Histórico'!$J$6:$J$305<>""),'Histórico'!$H$6:$H$305),"")
A12: Revisões automáticas | B12: Quantidade
A13: SKUs duplicados | B13: =SUMPRODUCT(--('Parâmetros'!$A$18:$A$117<>""),--(COUNTIF('Parâmetros'!$A$18:$A$117,'Parâmetros'!$A$18:$A$117)>1))
A14: Linhas inválidas no histórico | B14: =COUNTIFS('Histórico'!$A$6:$A$305,"<>",'Histórico'!$L$6:$L$305,"<>OK")
A15: Eventos inválidos | B15: =COUNTIFS('Eventos'!$A$6:$A$105,"<>",'Eventos'!$I$6:$I$105,"<>OK")
A16: Configurações inconsistentes | B16: =IF(AND('Parâmetros'!$B$2=EOMONTH('Parâmetros'!$B$2,0),'Parâmetros'!$B$6<='Parâmetros'!$B$7,'Parâmetros'!$B$7<='Parâmetros'!$B$8,'Parâmetros'!$B$13<='Parâmetros'!$B$14),0,1)
A17: SKUs ativos sem base de previsão | B17: =COUNTIFS('Parâmetros'!$D$18:$D$117,"Sim",'Parâmetros'!$M$18:$M$117,"Não")
A18: SKUs ativos sem estoque informado | B18: =COUNTIFS('Parâmetros'!$D$18:$D$117,"Sim",'Parâmetros'!$E$18:$E$117,"")
A20: Período | B20: Conservador | C20: Base | D20: Otimista | E20: Cenário selecionado | F20: SKUs com estoque negativo | G20: Necessidade acumulada
A21: =IF(ROW()-21<'Parâmetros'!$B$3,EDATE(EOMONTH('Parâmetros'!$B$2,0)+1,ROW()-21),"") | B21: =IF($A21="","",SUMIFS('Previsão'!$I$6:$I$1205,'Previsão'!$A$6:$A$1205,$A21)) | C21: =IF($A21="","",SUMIFS('Previsão'!$J$6:$J$1205,'Previsão'!$A$6:$A$1205,$A21)) | D21: =IF($A21="","",SUMIFS('Previsão'!$K$6:$K$1205,'Previsão'!$A$6:$A$1205,$A21)) | E21: =IF($A21="","",SUMIFS('Previsão'!$L$6:$L$1205,'Previsão'!$A$6:$A$1205,$A21)) | F21: =IF($A21="","",COUNTIFS('Previsão'!$A$6:$A$1205,$A21,'Previsão'!$P$6:$P$1205,"<0")) | G21: =IF($A21="","",SUMIFS('Previsão'!$Q$6:$Q$1205,'Previsão'!$A$6:$A$1205,$A21))
A22: =IF(ROW()-21<'Parâmetros'!$B$3,EDATE(EOMONTH('Parâmetros'!$B$2,0)+1,ROW()-21),"") | B22: =IF($A22="","",SUMIFS('Previsão'!$I$6:$I$1205,'Previsão'!$A$6:$A$1205,$A22)) | C22: =IF($A22="","",SUMIFS('Previsão'!$J$6:$J$1205,'Previsão'!$A$6:$A$1205,$A22)) | D22: =IF($A22="","",SUMIFS('Previsão'!$K$6:$K$1205,'Previsão'!$A$6:$A$1205,$A22)) | E22: =IF($A22="","",SUMIFS('Previsão'!$L$6:$L$1205,'Previsão'!$A$6:$A$1205,$A22)) | F22: =IF($A22="","",COUNTIFS('Previsão'!$A$6:$A$1205,$A22,'Previsão'!$P$6:$P$1205,"<0")) | G22: =IF($A22="","",SUMIFS('Previsão'!$Q$6:$Q$1205,'Previsão'!$A$6:$A$1205,$A22))
A23: =IF(ROW()-21<'Parâmetros'!$B$3,EDATE(EOMONTH('Parâmetros'!$B$2,0)+1,ROW()-21),"") | B23: =IF($A23="","",SUMIFS('Previsão'!$I$6:$I$1205,'Previsão'!$A$6:$A$1205,$A23)) | C23: =IF($A23="","",SUMIFS('Previsão'!$J$6:$J$1205,'Previsão'!$A$6:$A$1205,$A23)) | D23: =IF($A23="","",SUMIFS('Previsão'!$K$6:$K$1205,'Previsão'!$A$6:$A$1205,$A23)) | E23: =IF($A23="","",SUMIFS('Previsão'!$L$6:$L$1205,'Previsão'!$A$6:$A$1205,$A23)) | F23: =IF($A23="","",COUNTIFS('Previsão'!$A$6:$A$1205,$A23,'Previsão'!$P$6:$P$1205,"<0")) | G23: =IF($A23="","",SUMIFS('Previsão'!$Q$6:$Q$1205,'Previsão'!$A$6:$A$1205,$A23))
A24: =IF(ROW()-21<'Parâmetros'!$B$3,EDATE(EOMONTH('Parâmetros'!$B$2,0)+1,ROW()-21),"") | B24: =IF($A24="","",SUMIFS('Previsão'!$I$6:$I$1205,'Previsão'!$A$6:$A$1205,$A24)) | C24: =IF($A24="","",SUMIFS('Previsão'!$J$6:$J$1205,'Previsão'!$A$6:$A$1205,$A24)) | D24: =IF($A24="","",SUMIFS('Previsão'!$K$6:$K$1205,'Previsão'!$A$6:$A$1205,$A24)) | E24: =IF($A24="","",SUMIFS('Previsão'!$L$6:$L$1205,'Previsão'!$A$6:$A$1205,$A24)) | F24: =IF($A24="","",COUNTIFS('Previsão'!$A$6:$A$1205,$A24,'Previsão'!$P$6:$P$1205,"<0")) | G24: =IF($A24="","",SUMIFS('Previsão'!$Q$6:$Q$1205,'Previsão'!$A$6:$A$1205,$A24))
A25: =IF(ROW()-21<'Parâmetros'!$B$3,EDATE(EOMONTH('Parâmetros'!$B$2,0)+1,ROW()-21),"") | B25: =IF($A25="","",SUMIFS('Previsão'!$I$6:$I$1205,'Previsão'!$A$6:$A$1205,$A25)) | C25: =IF($A25="","",SUMIFS('Previsão'!$J$6:$J$1205,'Previsão'!$A$6:$A$1205,$A25)) | D25: =IF($A25="","",SUMIFS('Previsão'!$K$6:$K$1205,'Previsão'!$A$6:$A$1205,$A25)) | E25: =IF($A25="","",SUMIFS('Previsão'!$L$6:$L$1205,'Previsão'!$A$6:$A$1205,$A25)) | F25: =IF($A25="","",COUNTIFS('Previsão'!$A$6:$A$1205,$A25,'Previsão'!$P$6:$P$1205,"<0")) | G25: =IF($A25="","",SUMIFS('Previsão'!$Q$6:$Q$1205,'Previsão'!$A$6:$A$1205,$A25))
A26: =IF(ROW()-21<'Parâmetros'!$B$3,EDATE(EOMONTH('Parâmetros'!$B$2,0)+1,ROW()-21),"") | B26: =IF($A26="","",SUMIFS('Previsão'!$I$6:$I$1205,'Previsão'!$A$6:$A$1205,$A26)) | C26: =IF($A26="","",SUMIFS('Previsão'!$J$6:$J$1205,'Previsão'!$A$6:$A$1205,$A26)) | D26: =IF($A26="","",SUMIFS('Previsão'!$K$6:$K$1205,'Previsão'!$A$6:$A$1205,$A26)) | E26: =IF($A26="","",SUMIFS('Previsão'!$L$6:$L$1205,'Previsão'!$A$6:$A$1205,$A26)) | F26: =IF($A26="","",COUNTIFS('Previsão'!$A$6:$A$1205,$A26,'Previsão'!$P$6:$P$1205,"<0")) | G26: =IF($A26="","",SUMIFS('Previsão'!$Q$6:$Q$1205,'Previsão'!$A$6:$A$1205,$A26))
A27: =IF(ROW()-21<'Parâmetros'!$B$3,EDATE(EOMONTH('Parâmetros'!$B$2,0)+1,ROW()-21),"") | B27: =IF($A27="","",SUMIFS('Previsão'!$I$6:$I$1205,'Previsão'!$A$6:$A$1205,$A27)) | C27: =IF($A27="","",SUMIFS('Previsão'!$J$6:$J$1205,'Previsão'!$A$6:$A$1205,$A27)) | D27: =IF($A27="","",SUMIFS('Previsão'!$K$6:$K$1205,'Previsão'!$A$6:$A$1205,$A27)) | E27: =IF($A27="","",SUMIFS('Previsão'!$L$6:$L$1205,'Previsão'!$A$6:$A$1205,$A27)) | F27: =IF($A27="","",COUNTIFS('Previsão'!$A$6:$A$1205,$A27,'Previsão'!$P$6:$P$1205,"<0")) | G27: =IF($A27="","",SUMIFS('Previsão'!$Q$6:$Q$1205,'Previsão'!$A$6:$A$1205,$A27))
A28: =IF(ROW()-21<'Parâmetros'!$B$3,EDATE(EOMONTH('Parâmetros'!$B$2,0)+1,ROW()-21),"") | B28: =IF($A28="","",SUMIFS('Previsão'!$I$6:$I$1205,'Previsão'!$A$6:$A$1205,$A28)) | C28: =IF($A28="","",SUMIFS('Previsão'!$J$6:$J$1205,'Previsão'!$A$6:$A$1205,$A28)) | D28: =IF($A28="","",SUMIFS('Previsão'!$K$6:$K$1205,'Previsão'!$A$6:$A$1205,$A28)) | E28: =IF($A28="","",SUMIFS('Previsão'!$L$6:$L$1205,'Previsão'!$A$6:$A$1205,$A28)) | F28: =IF($A28="","",COUNTIFS('Previsão'!$A$6:$A$1205,$A28,'Previsão'!$P$6:$P$1205,"<0")) | G28: =IF($A28="","",SUMIFS('Previsão'!$Q$6:$Q$1205,'Previsão'!$A$6:$A$1205,$A28))
A29: =IF(ROW()-21<'Parâmetros'!$B$3,EDATE(EOMONTH('Parâmetros'!$B$2,0)+1,ROW()-21),"") | B29: =IF($A29="","",SUMIFS('Previsão'!$I$6:$I$1205,'Previsão'!$A$6:$A$1205,$A29)) | C29: =IF($A29="","",SUMIFS('Previsão'!$J$6:$J$1205,'Previsão'!$A$6:$A$1205,$A29)) | D29: =IF($A29="","",SUMIFS('Previsão'!$K$6:$K$1205,'Previsão'!$A$6:$A$1205,$A29)) | E29: =IF($A29="","",SUMIFS('Previsão'!$L$6:$L$1205,'Previsão'!$A$6:$A$1205,$A29)) | F29: =IF($A29="","",COUNTIFS('Previsão'!$A$6:$A$1205,$A29,'Previsão'!$P$6:$P$1205,"<0")) | G29: =IF($A29="","",SUMIFS('Previsão'!$Q$6:$Q$1205,'Previsão'!$A$6:$A$1205,$A29))
A30: =IF(ROW()-21<'Parâmetros'!$B$3,EDATE(EOMONTH('Parâmetros'!$B$2,0)+1,ROW()-21),"") | B30: =IF($A30="","",SUMIFS('Previsão'!$I$6:$I$1205,'Previsão'!$A$6:$A$1205,$A30)) | C30: =IF($A30="","",SUMIFS('Previsão'!$J$6:$J$1205,'Previsão'!$A$6:$A$1205,$A30)) | D30: =IF($A30="","",SUMIFS('Previsão'!$K$6:$K$1205,'Previsão'!$A$6:$A$1205,$A30)) | E30: =IF($A30="","",SUMIFS('Previsão'!$L$6:$L$1205,'Previsão'!$A$6:$A$1205,$A30)) | F30: =IF($A30="","",COUNTIFS('Previsão'!$A$6:$A$1205,$A30,'Previsão'!$P$6:$P$1205,"<0")) | G30: =IF($A30="","",SUMIFS('Previsão'!$Q$6:$Q$1205,'Previsão'!$A$6:$A$1205,$A30))
A31: =IF(ROW()-21<'Parâmetros'!$B$3,EDATE(EOMONTH('Parâmetros'!$B$2,0)+1,ROW()-21),"") | B31: =IF($A31="","",SUMIFS('Previsão'!$I$6:$I$1205,'Previsão'!$A$6:$A$1205,$A31)) | C31: =IF($A31="","",SUMIFS('Previsão'!$J$6:$J$1205,'Previsão'!$A$6:$A$1205,$A31)) | D31: =IF($A31="","",SUMIFS('Previsão'!$K$6:$K$1205,'Previsão'!$A$6:$A$1205,$A31)) | E31: =IF($A31="","",SUMIFS('Previsão'!$L$6:$L$1205,'Previsão'!$A$6:$A$1205,$A31)) | F31: =IF($A31="","",COUNTIFS('Previsão'!$A$6:$A$1205,$A31,'Previsão'!$P$6:$P$1205,"<0")) | G31: =IF($A31="","",SUMIFS('Previsão'!$Q$6:$Q$1205,'Previsão'!$A$6:$A$1205,$A31))
A32: =IF(ROW()-21<'Parâmetros'!$B$3,EDATE(EOMONTH('Parâmetros'!$B$2,0)+1,ROW()-21),"") | B32: =IF($A32="","",SUMIFS('Previsão'!$I$6:$I$1205,'Previsão'!$A$6:$A$1205,$A32)) | C32: =IF($A32="","",SUMIFS('Previsão'!$J$6:$J$1205,'Previsão'!$A$6:$A$1205,$A32)) | D32: =IF($A32="","",SUMIFS('Previsão'!$K$6:$K$1205,'Previsão'!$A$6:$A$1205,$A32)) | E32: =IF($A32="","",SUMIFS('Previsão'!$L$6:$L$1205,'Previsão'!$A$6:$A$1205,$A32)) | F32: =IF($A32="","",COUNTIFS('Previsão'!$A$6:$A$1205,$A32,'Previsão'!$P$6:$P$1205,"<0")) | G32: =IF($A32="","",SUMIFS('Previsão'!$Q$6:$Q$1205,'Previsão'!$A$6:$A$1205,$A32))

Sheet Parâmetros
A1: Parâmetros da previsão
A2: Data de corte | B2: 46265 | O2: Conservador | P2: Sim | Q2: Promoção | R2: Ativo | S2: TODOS
A3: Horizonte de previsão — meses | B3: 6 | O3: Base | P3: Não | Q3: Campanha | R3: Inativo | S3: =IF(ROW()<=102,A18,"")
A4: Janela da média recente — meses | B4: 3 | O4: Otimista | Q4: Feriado | S4: =IF(ROW()<=102,A19,"")
A5: Cenário selecionado | B5: Base | Q5: Outro | S5: =IF(ROW()<=102,A20,"")
A6: Multiplicador conservador | B6: 0.9 | S6: =IF(ROW()<=102,A21,"")
A7: Multiplicador base | B7: 1 | S7: =IF(ROW()<=102,A22,"")
A8: Multiplicador otimista | B8: 1.1 | S8: =IF(ROW()<=102,A23,"")
A9: Erro padrão sem histórico suficiente | B9: 0.25 | S9: =IF(ROW()<=102,A24,"")
A10: Mínimo de previsões de teste para erro próprio | B10: 3 | S10: =IF(ROW()<=102,A25,"")
A11: Mínimo de meses para média recente | B11: 2 | S11: =IF(ROW()<=102,A26,"")
A12: Mínimo de ocorrências do mês para sazonalidade | B12: 2 | S12: =IF(ROW()<=102,A27,"")
A13: Fator sazonal mínimo | B13: 0.5 | S13: =IF(ROW()<=102,A28,"")
A14: Fator sazonal máximo | B14: 2 | S14: =IF(ROW()<=102,A29,"")
S15: =IF(ROW()<=102,A30,"")
A16: Preencha somente as células amarelas. A previsão é mensal e começa no mês seguinte à data de corte. | S16: =IF(ROW()<=102,A31,"")
A17: SKU | B17: Produto | C17: Categoria | D17: Ativo | E17: Estoque disponível | F17: Estoque em trânsito | G17: Demanda inicial mensal | H17: Observação | I17: Status histórico | J17: Demanda prevista no horizonte | K17: Ruptura prevista | L17: Necessidade ao fim do horizonte | M17: Base disponível | S17: =IF(ROW()<=102,A32,"")
A18: SKU-FIC-001 | B18: Cafeteira Aurora 220V | C18: Eletroportáteis | D18: Sim | E18: 48 | F18: 20 | H18: Item fictício com histórico | I18: =IF(A18="","",IF(COUNTIFS('Histórico'!$B$6:$B$305,A18,'Histórico'!$L$6:$L$305,"OK")=0,"Sem histórico",IF(COUNTIFS('Histórico'!$B$6:$B$305,A18,'Histórico'!$L$6:$L$305,"OK")<'Parâmetros'!$B$11,"Histórico insuficiente","Com histórico"))) | J18: =IF(OR(A18="",D18<>"Sim",M18<>"Sim"),"",SUMIFS('Previsão'!$L$6:$L$1205,'Previsão'!$B$6:$B$1205,A18)) | K18: =IF(OR(A18="",D18<>"Sim",E18="",M18<>"Sim"),"",IF(COUNTIFS('Previsão'!$B$6:$B$1205,A18,'Previsão'!$P$6:$P$1205,"<0")>0,"Sim","Não")) | L18: =IF(OR(A18="",D18<>"Sim",E18="",M18<>"Sim"),"",SUMIFS('Previsão'!$Q$6:$Q$1205,'Previsão'!$B$6:$B$1205,A18,'Previsão'!$A$6:$A$1205,EDATE(EOMONTH('Parâmetros'!$B$2,0)+1,'Parâmetros'!$B$3-1))) | M18: =IF(A18="","",IF(OR(COUNTIFS('Histórico'!$B$6:$B$305,A18,'Histórico'!$A$6:$A$305,">="&EDATE(EOMONTH($B$2,0)+1,-$B$4),'Histórico'!$A$6:$A$305,"<="&$B$2,'Histórico'!$L$6:$L$305,"OK")>=$B$11,G18<>""),"Sim","Não")) | S18: =IF(ROW()<=102,A33,"")
A19: SKU-FIC-002 | B19: Kit Canecas Nuvem | C19: Casa e cozinha | D19: Sim | E19: 25 | F19: 0 | G19: 18 | H19: Lançamento fictício com pouco histórico | I19: =IF(A19="","",IF(COUNTIFS('Histórico'!$B$6:$B$305,A19,'Histórico'!$L$6:$L$305,"OK")=0,"Sem histórico",IF(COUNTIFS('Histórico'!$B$6:$B$305,A19,'Histórico'!$L$6:$L$305,"OK")<'Parâmetros'!$B$11,"Histórico insuficiente","Com histórico"))) | J19: =IF(OR(A19="",D19<>"Sim",M19<>"Sim"),"",SUMIFS('Previsão'!$L$6:$L$1205,'Previsão'!$B$6:$B$1205,A19)) | K19: =IF(OR(A19="",D19<>"Sim",E19="",M19<>"Sim"),"",IF(COUNTIFS('Previsão'!$B$6:$B$1205,A19,'Previsão'!$P$6:$P$1205,"<0")>0,"Sim","Não")) | L19: =IF(OR(A19="",D19<>"Sim",E19="",M19<>"Sim"),"",SUMIFS('Previsão'!$Q$6:$Q$1205,'Previsão'!$B$6:$B$1205,A19,'Previsão'!$A$6:$A$1205,EDATE(EOMONTH('Parâmetros'!$B$2,0)+1,'Parâmetros'!$B$3-1))) | M19: =IF(A19="","",IF(OR(COUNTIFS('Histórico'!$B$6:$B$305,A19,'Histórico'!$A$6:$A$305,">="&EDATE(EOMONTH($B$2,0)+1,-$B$4),'Histórico'!$A$6:$A$305,"<="&$B$2,'Histórico'!$L$6:$L$305,"OK")>=$B$11,G19<>""),"Sim","Não")) | S19: =IF(ROW()<=102,A34,"")
A20: SKU-FIC-003 | B20: Luminária Brisa USB | C20: Iluminação | D20: Sim | E20: 10 | F20: 0 | G20: 12 | H20: Item fictício sem histórico | I20: =IF(A20="","",IF(COUNTIFS('Histórico'!$B$6:$B$305,A20,'Histórico'!$L$6:$L$305,"OK")=0,"Sem histórico",IF(COUNTIFS('Histórico'!$B$6:$B$305,A20,'Histórico'!$L$6:$L$305,"OK")<'Parâmetros'!$B$11,"Histórico insuficiente","Com histórico"))) | J20: =IF(OR(A20="",D20<>"Sim",M20<>"Sim"),"",SUMIFS('Previsão'!$L$6:$L$1205,'Previsão'!$B$6:$B$1205,A20)) | K20: =IF(OR(A20="",D20<>"Sim",E20="",M20<>"Sim"),"",IF(COUNTIFS('Previsão'!$B$6:$B$1205,A20,'Previsão'!$P$6:$P$1205,"<0")>0,"Sim","Não")) | L20: =IF(OR(A20="",D20<>"Sim",E20="",M20<>"Sim"),"",SUMIFS('Previsão'!$Q$6:$Q$1205,'Previsão'!$B$6:$B$1205,A20,'Previsão'!$A$6:$A$1205,EDATE(EOMONTH('Parâmetros'!$B$2,0)+1,'Parâmetros'!$B$3-1))) | M20: =IF(A20="","",IF(OR(COUNTIFS('Histórico'!$B$6:$B$305,A20,'Histórico'!$A$6:$A$305,">="&EDATE(EOMONTH($B$2,0)+1,-$B$4),'Histórico'!$A$6:$A$305,"<="&$B$2,'Histórico'!$L$6:$L$305,"OK")>=$B$11,G20<>""),"Sim","Não")) | S20: =IF(ROW()<=102,A35,"")
I21: =IF(A21="","",IF(COUNTIFS('Histórico'!$B$6:$B$305,A21,'Histórico'!$L$6:$L$305,"OK")=0,"Sem histórico",IF(COUNTIFS('Histórico'!$B$6:$B$305,A21,'Histórico'!$L$6:$L$305,"OK")<'Parâmetros'!$B$11,"Histórico insuficiente","Com histórico"))) | J21: =IF(OR(A21="",D21<>"Sim",M21<>"Sim"),"",SUMIFS('Previsão'!$L$6:$L$1205,'Previsão'!$B$6:$B$1205,A21)) | K21: =IF(OR(A21="",D21<>"Sim",E21="",M21<>"Sim"),"",IF(COUNTIFS('Previsão'!$B$6:$B$1205,A21,'Previsão'!$P$6:$P$1205,"<0")>0,"Sim","Não")) | L21: =IF(OR(A21="",D21<>"Sim",E21="",M21<>"Sim"),"",SUMIFS('Previsão'!$Q$6:$Q$1205,'Previsão'!$B$6:$B$1205,A21,'Previsão'!$A$6:$A$1205,EDATE(EOMONTH('Parâmetros'!$B$2,0)+1,'Parâmetros'!$B$3-1))) | M21: =IF(A21="","",IF(OR(COUNTIFS('Histórico'!$B$6:$B$305,A21,'Histórico'!$A$6:$A$305,">="&EDATE(EOMONTH($B$2,0)+1,-$B$4),'Histórico'!$A$6:$A$305,"<="&$B$2,'Histórico'!$L$6:$L$305,"OK")>=$B$11,G21<>""),"Sim","Não")) | S21: =IF(ROW()<=102,A36,"")
I22: =IF(A22="","",IF(COUNTIFS('Histórico'!$B$6:$B$305,A22,'Histórico'!$L$6:$L$305,"OK")=0,"Sem histórico",IF(COUNTIFS('Histórico'!$B$6:$B$305,A22,'Histórico'!$L$6:$L$305,"OK")<'Parâmetros'!$B$11,"Histórico insuficiente","Com histórico"))) | J22: =IF(OR(A22="",D22<>"Sim",M22<>"Sim"),"",SUMIFS('Previsão'!$L$6:$L$1205,'Previsão'!$B$6:$B$1205,A22)) | K22: =IF(OR(A22="",D22<>"Sim",E22="",M22<>"Sim"),"",IF(COUNTIFS('Previsão'!$B$6:$B$1205,A22,'Previsão'!$P$6:$P$1205,"<0")>0,"Sim","Não")) | L22: =IF(OR(A22="",D22<>"Sim",E22="",M22<>"Sim"),"",SUMIFS('Previsão'!$Q$6:$Q$1205,'Previsão'!$B$6:$B$1205,A22,'Previsão'!$A$6:$A$1205,EDATE(EOMONTH('Parâmetros'!$B$2,0)+1,'Parâmetros'!$B$3-1))) | M22: =IF(A22="","",IF(OR(COUNTIFS('Histórico'!$B$6:$B$305,A22,'Histórico'!$A$6:$A$305,">="&EDATE(EOMONTH($B$2,0)+1,-$B$4),'Histórico'!$A$6:$A$305,"<="&$B$2,'Histórico'!$L$6:$L$305,"OK")>=$B$11,G22<>""),"Sim","Não")) | S22: =IF(ROW()<=102,A37,"")
I23: =IF(A23="","",IF(COUNTIFS('Histórico'!$B$6:$B$305,A23,'Histórico'!$L$6:$L$305,"OK")=0,"Sem histórico",IF(COUNTIFS('Histórico'!$B$6:$B$305,A23,'Histórico'!$L$6:$L$305,"OK")<'Parâmetros'!$B$11,"Histórico insuficiente","Com histórico"))) | J23: =IF(OR(A23="",D23<>"Sim",M23<>"Sim"),"",SUMIFS('Previsão'!$L$6:$L$1205,'Previsão'!$B$6:$B$1205,A23)) | K23: =IF(OR(A23="",D23<>"Sim",E23="",M23<>"Sim"),"",IF(COUNTIFS('Previsão'!$B$6:$B$1205,A23,'Previsão'!$P$6:$P$1205,"<0")>0,"Sim","Não")) | L23: =IF(OR(A23="",D23<>"Sim",E23="",M23<>"Sim"),"",SUMIFS('Previsão'!$Q$6:$Q$1205,'Previsão'!$B$6:$B$1205,A23,'Previsão'!$A$6:$A$1205,EDATE(EOMONTH('Parâmetros'!$B$2,0)+1,'Parâmetros'!$B$3-1))) | M23: =IF(A23="","",IF(OR(COUNTIFS('Histórico'!$B$6:$B$305,A23,'Histórico'!$A$6:$A$305,">="&EDATE(EOMONTH($B$2,0)+1,-$B$4),'Histórico'!$A$6:$A$305,"<="&$B$2,'Histórico'!$L$6:$L$305,"OK")>=$B$11,G23<>""),"Sim","Não")) | S23: =IF(ROW()<=102,A38,"")
I24: =IF(A24="","",IF(COUNTIFS('Histórico'!$B$6:$B$305,A24,'Histórico'!$L$6:$L$305,"OK")=0,"Sem histórico",IF(COUNTIFS('Histórico'!$B$6:$B$305,A24,'Histórico'!$L$6:$L$305,"OK")<'Parâmetros'!$B$11,"Histórico insuficiente","Com histórico"))) | J24: =IF(OR(A24="",D24<>"Sim",M24<>"Sim"),"",SUMIFS('Previsão'!$L$6:$L$1205,'Previsão'!$B$6:$B$1205,A24)) | K24: =IF(OR(A24="",D24<>"Sim",E24="",M24<>"Sim"),"",IF(COUNTIFS('Previsão'!$B$6:$B$1205,A24,'Previsão'!$P$6:$P$1205,"<0")>0,"Sim","Não")) | L24: =IF(OR(A24="",D24<>"Sim",E24="",M24<>"Sim"),"",SUMIFS('Previsão'!$Q$6:$Q$1205,'Previsão'!$B$6:$B$1205,A24,'Previsão'!$A$6:$A$1205,EDATE(EOMONTH('Parâmetros'!$B$2,0)+1,'Parâmetros'!$B$3-1))) | M24: =IF(A24="","",IF(OR(COUNTIFS('Histórico'!$B$6:$B$305,A24,'Histórico'!$A$6:$A$305,">="&EDATE(EOMONTH($B$2,0)+1,-$B$4),'Histórico'!$A$6:$A$305,"<="&$B$2,'Histórico'!$L$6:$L$305,"OK")>=$B$11,G24<>""),"Sim","Não")) | S24: =IF(ROW()<=102,A39,"")
I25: =IF(A25="","",IF(COUNTIFS('Histórico'!$B$6:$B$305,A25,'Histórico'!$L$6:$L$305,"OK")=0,"Sem histórico",IF(COUNTIFS('Histórico'!$B$6:$B$305,A25,'Histórico'!$L$6:$L$305,"OK")<'Parâmetros'!$B$11,"Histórico insuficiente","Com histórico"))) | J25: =IF(OR(A25="",D25<>"Sim",M25<>"Sim"),"",SUMIFS('Previsão'!$L$6:$L$1205,'Previsão'!$B$6:$B$1205,A25)) | K25: =IF(OR(A25="",D25<>"Sim",E25="",M25<>"Sim"),"",IF(COUNTIFS('Previsão'!$B$6:$B$1205,A25,'Previsão'!$P$6:$P$1205,"<0")>0,"Sim","Não")) | L25: =IF(OR(A25="",D25<>"Sim",E25="",M25<>"Sim"),"",SUMIFS('Previsão'!$Q$6:$Q$1205,'Previsão'!$B$6:$B$1205,A25,'Previsão'!$A$6:$A$1205,EDATE(EOMONTH('Parâmetros'!$B$2,0)+1,'Parâmetros'!$B$3-1))) | M25: =IF(A25="","",IF(OR(COUNTIFS('Histórico'!$B$6:$B$305,A25,'Histórico'!$A$6:$A$305,">="&EDATE(EOMONTH($B$2,0)+1,-$B$4),'Histórico'!$A$6:$A$305,"<="&$B$2,'Histórico'!$L$6:$L$305,"OK")>=$B$11,G25<>""),"Sim","Não")) | S25: =IF(ROW()<=102,A40,"")
I26: =IF(A26="","",IF(COUNTIFS('Histórico'!$B$6:$B$305,A26,'Histórico'!$L$6:$L$305,"OK")=0,"Sem histórico",IF(COUNTIFS('Histórico'!$B$6:$B$305,A26,'Histórico'!$L$6:$L$305,"OK")<'Parâmetros'!$B$11,"Histórico insuficiente","Com histórico"))) | J26: =IF(OR(A26="",D26<>"Sim",M26<>"Sim"),"",SUMIFS('Previsão'!$L$6:$L$1205,'Previsão'!$B$6:$B$1205,A26)) | K26: =IF(OR(A26="",D26<>"Sim",E26="",M26<>"Sim"),"",IF(COUNTIFS('Previsão'!$B$6:$B$1205,A26,'Previsão'!$P$6:$P$1205,"<0")>0,"Sim","Não")) | L26: =IF(OR(A26="",D26<>"Sim",E26="",M26<>"Sim"),"",SUMIFS('Previsão'!$Q$6:$Q$1205,'Previsão'!$B$6:$B$1205,A26,'Previsão'!$A$6:$A$1205,EDATE(EOMONTH('Parâmetros'!$B$2,0)+1,'Parâmetros'!$B$3-1))) | M26: =IF(A26="","",IF(OR(COUNTIFS('Histórico'!$B$6:$B$305,A26,'Histórico'!$A$6:$A$305,">="&EDATE(EOMONTH($B$2,0)+1,-$B$4),'Histórico'!$A$6:$A$305,"<="&$B$2,'Histórico'!$L$6:$L$305,"OK")>=$B$11,G26<>""),"Sim","Não")) | S26: =IF(ROW()<=102,A41,"")
I27: =IF(A27="","",IF(COUNTIFS('Histórico'!$B$6:$B$305,A27,'Histórico'!$L$6:$L$305,"OK")=0,"Sem histórico",IF(COUNTIFS('Histórico'!$B$6:$B$305,A27,'Histórico'!$L$6:$L$305,"OK")<'Parâmetros'!$B$11,"Histórico insuficiente","Com histórico"))) | J27: =IF(OR(A27="",D27<>"Sim",M27<>"Sim"),"",SUMIFS('Previsão'!$L$6:$L$1205,'Previsão'!$B$6:$B$1205,A27)) | K27: =IF(OR(A27="",D27<>"Sim",E27="",M27<>"Sim"),"",IF(COUNTIFS('Previsão'!$B$6:$B$1205,A27,'Previsão'!$P$6:$P$1205,"<0")>0,"Sim","Não")) | L27: =IF(OR(A27="",D27<>"Sim",E27="",M27<>"Sim"),"",SUMIFS('Previsão'!$Q$6:$Q$1205,'Previsão'!$B$6:$B$1205,A27,'Previsão'!$A$6:$A$1205,EDATE(EOMONTH('Parâmetros'!$B$2,0)+1,'Parâmetros'!$B$3-1))) | M27: =IF(A27="","",IF(OR(COUNTIFS('Histórico'!$B$6:$B$305,A27,'Histórico'!$A$6:$A$305,">="&EDATE(EOMONTH($B$2,0)+1,-$B$4),'Histórico'!$A$6:$A$305,"<="&$B$2,'Histórico'!$L$6:$L$305,"OK")>=$B$11,G27<>""),"Sim","Não")) | S27: =IF(ROW()<=102,A42,"")
I28: =IF(A28="","",IF(COUNTIFS('Histórico'!$B$6:$B$305,A28,'Histórico'!$L$6:$L$305,"OK")=0,"Sem histórico",IF(COUNTIFS('Histórico'!$B$6:$B$305,A28,'Histórico'!$L$6:$L$305,"OK")<'Parâmetros'!$B$11,"Histórico insuficiente","Com histórico"))) | J28: =IF(OR(A28="",D28<>"Sim",M28<>"Sim"),"",SUMIFS('Previsão'!$L$6:$L$1205,'Previsão'!$B$6:$B$1205,A28)) | K28: =IF(OR(A28="",D28<>"Sim",E28="",M28<>"Sim"),"",IF(COUNTIFS('Previsão'!$B$6:$B$1205,A28,'Previsão'!$P$6:$P$1205,"<0")>0,"Sim","Não")) | L28: =IF(OR(A28="",D28<>"Sim",E28="",M28<>"Sim"),"",SUMIFS('Previsão'!$Q$6:$Q$1205,'Previsão'!$B$6:$B$1205,A28,'Previsão'!$A$6:$A$1205,EDATE(EOMONTH('Parâmetros'!$B$2,0)+1,'Parâmetros'!$B$3-1))) | M28: =IF(A28="","",IF(OR(COUNTIFS('Histórico'!$B$6:$B$305,A28,'Histórico'!$A$6:$A$305,">="&EDATE(EOMONTH($B$2,0)+1,-$B$4),'Histórico'!$A$6:$A$305,"<="&$B$2,'Histórico'!$L$6:$L$305,"OK")>=$B$11,G28<>""),"Sim","Não")) | S28: =IF(ROW()<=102,A43,"")
I29: =IF(A29="","",IF(COUNTIFS('Histórico'!$B$6:$B$305,A29,'Histórico'!$L$6:$L$305,"OK")=0,"Sem histórico",IF(COUNTIFS('Histórico'!$B$6:$B$305,A29,'Histórico'!$L$6:$L$305,"OK")<'Parâmetros'!$B$11,"Histórico insuficiente","Com histórico"))) | J29: =IF(OR(A29="",D29<>"Sim",M29<>"Sim"),"",SUMIFS('Previsão'!$L$6:$L$1205,'Previsão'!$B$6:$B$1205,A29)) | K29: =IF(OR(A29="",D29<>"Sim",E29="",M29<>"Sim"),"",IF(COUNTIFS('Previsão'!$B$6:$B$1205,A29,'Previsão'!$P$6:$P$1205,"<0")>0,"Sim","Não")) | L29: =IF(OR(A29="",D29<>"Sim",E29="",M29<>"Sim"),"",SUMIFS('Previsão'!$Q$6:$Q$1205,'Previsão'!$B$6:$B$1205,A29,'Previsão'!$A$6:$A$1205,EDATE(EOMONTH('Parâmetros'!$B$2,0)+1,'Parâmetros'!$B$3-1))) | M29: =IF(A29="","",IF(OR(COUNTIFS('Histórico'!$B$6:$B$305,A29,'Histórico'!$A$6:$A$305,">="&EDATE(EOMONTH($B$2,0)+1,-$B$4),'Histórico'!$A$6:$A$305,"<="&$B$2,'Histórico'!$L$6:$L$305,"OK")>=$B$11,G29<>""),"Sim","Não")) | S29: =IF(ROW()<=102,A44,"")
I30: =IF(A30="","",IF(COUNTIFS('Histórico'!$B$6:$B$305,A30,'Histórico'!$L$6:$L$305,"OK")=0,"Sem histórico",IF(COUNTIFS('Histórico'!$B$6:$B$305,A30,'Histórico'!$L$6:$L$305,"OK")<'Parâmetros'!$B$11,"Histórico insuficiente","Com histórico"))) | J30: =IF(OR(A30="",D30<>"Sim",M30<>"Sim"),"",SUMIFS('Previsão'!$L$6:$L$1205,'Previsão'!$B$6:$B$1205,A30)) | K30: =IF(OR(A30="",D30<>"Sim",E30="",M30<>"Sim"),"",IF(COUNTIFS('Previsão'!$B$6:$B$1205,A30,'Previsão'!$P$6:$P$1205,"<0")>0,"Sim","Não")) | L30: =IF(OR(A30="",D30<>"Sim",E30="",M30<>"Sim"),"",SUMIFS('Previsão'!$Q$6:$Q$1205,'Previsão'!$B$6:$B$1205,A30,'Previsão'!$A$6:$A$1205,EDATE(EOMONTH('Parâmetros'!$B$2,0)+1,'Parâmetros'!$B$3-1))) | M30: =IF(A30="","",IF(OR(COUNTIFS('Histórico'!$B$6:$B$305,A30,'Histórico'!$A$6:$A$305,">="&EDATE(EOMONTH($B$2,0)+1,-$B$4),'Histórico'!$A$6:$A$305,"<="&$B$2,'Histórico'!$L$6:$L$305,"OK")>=$B$11,G30<>""),"Sim","Não")) | S30: =IF(ROW()<=102,A45,"")
I31: =IF(A31="","",IF(COUNTIFS('Histórico'!$B$6:$B$305,A31,'Histórico'!$L$6:$L$305,"OK")=0,"Sem histórico",IF(COUNTIFS('Histórico'!$B$6:$B$305,A31,'Histórico'!$L$6:$L$305,"OK")<'Parâmetros'!$B$11,"Histórico insuficiente","Com histórico"))) | J31: =IF(OR(A31="",D31<>"Sim",M31<>"Sim"),"",SUMIFS('Previsão'!$L$6:$L$1205,'Previsão'!$B$6:$B$1205,A31)) | K31: =IF(OR(A31="",D31<>"Sim",E31="",M31<>"Sim"),"",IF(COUNTIFS('Previsão'!$B$6:$B$1205,A31,'Previsão'!$P$6:$P$1205,"<0")>0,"Sim","Não")) | L31: =IF(OR(A31="",D31<>"Sim",E31="",M31<>"Sim"),"",SUMIFS('Previsão'!$Q$6:$Q$1205,'Previsão'!$B$6:$B$1205,A31,'Previsão'!$A$6:$A$1205,EDATE(EOMONTH('Parâmetros'!$B$2,0)+1,'Parâmetros'!$B$3-1))) | M31: =IF(A31="","",IF(OR(COUNTIFS('Histórico'!$B$6:$B$305,A31,'Histórico'!$A$6:$A$305,">="&EDATE(EOMONTH($B$2,0)+1,-$B$4),'Histórico'!$A$6:$A$305,"<="&$B$2,'Histórico'!$L$6:$L$305,"OK")>=$B$11,G31<>""),"Sim","Não")) | S31: =IF(ROW()<=102,A46,"")
I32: =IF(A32="","",IF(COUNTIFS('Histórico'!$B$6:$B$305,A32,'Histórico'!$L$6:$L$305,"OK")=0,"Sem histórico",IF(COUNTIFS('Histórico'!$B$6:$B$305,A32,'Histórico'!$L$6:$L$305,"OK")<'Parâmetros'!$B$11,"Histórico insuficiente","Com histórico"))) | J32: =IF(OR(A32="",D32<>"Sim",M32<>"Sim"),"",SUMIFS('Previsão'!$L$6:$L$1205,'Previsão'!$B$6:$B$1205,A32)) | K32: =IF(OR(A32="",D32<>"Sim",E32="",M32<>"Sim"),"",IF(COUNTIFS('Previsão'!$B$6:$B$1205,A32,'Previsão'!$P$6:$P$1205,"<0")>0,"Sim","Não")) | L32: =IF(OR(A32="",D32<>"Sim",E32="",M32<>"Sim"),"",SUMIFS('Previsão'!$Q$6:$Q$1205,'Previsão'!$B$6:$B$1205,A32,'Previsão'!$A$6:$A$1205,EDATE(EOMONTH('Parâmetros'!$B$2,0)+1,'Parâmetros'!$B$3-1))) | M32: =IF(A32="","",IF(OR(COUNTIFS('Histórico'!$B$6:$B$305,A32,'Histórico'!$A$6:$A$305,">="&EDATE(EOMONTH($B$2,0)+1,-$B$4),'Histórico'!$A$6:$A$305,"<="&$B$2,'Histórico'!$L$6:$L$305,"OK")>=$B$11,G32<>""),"Sim","Não")) | S32: =IF(ROW()<=102,A47,"")
... I117: =IF(A117="","",IF(COUNTIFS('Histórico'!$B$6:$B$305,A117,'Histórico'!$L$6:$L$305,"OK")=0,"Sem histórico",IF(COUNTIFS('Histórico'!$B$6:$B$305,A117,'Histórico'!$L$6:$L$305,"OK")<'Parâmetros'!$B$11,"Histórico insuficiente","Com histórico"))) | J117: =IF(OR(A117="",D117<>"Sim",M117<>"Sim"),"",SUMIFS('Previsão'!$L$6:$L$1205,'Previsão'!$B$6:$B$1205,A117)) | K117: =IF(OR(A117="",D117<>"Sim",E117="",M117<>"Sim"),"",IF(COUNTIFS('Previsão'!$B$6:$B$1205,A117,'Previsão'!$P$6:$P$1205,"<0")>0,"Sim","Não")) | L117: =IF(OR(A117="",D117<>"Sim",E117="",M117<>"Sim"),"",SUMIFS('Previsão'!$Q$6:$Q$1205,'Previsão'!$B$6:$B$1205,A117,'Previsão'!$A$6:$A$1205,EDATE(EOMONTH('Parâmetros'!$B$2,0)+1,'Parâmetros'!$B$3-1))) | M117: =IF(A117="","",IF(OR(COUNTIFS('Histórico'!$B$6:$B$305,A117,'Histórico'!$A$6:$A$305,">="&EDATE(EOMONTH($B$2,0)+1,-$B$4),'Histórico'!$A$6:$A$305,"<="&$B$2,'Histórico'!$L$6:$L$305,"OK")>=$B$11,G117<>""),"Sim","Não")) | S117: =IF(ROW()<=102,A132,"")

Sheet Histórico
A1: Histórico mensal por SKU
A2: Informe um registro por SKU e mês. Use o primeiro dia do mês no campo Período.
A5: Período | B5: SKU | C5: Vendas observadas | D5: Dias em ruptura | E5: Dias no período | F5: Fator de evento | G5: Demanda ajustada por ruptura | H5: Demanda normalizada | I5: Previsão de teste | J5: Erro absoluto | K5: Erro percentual | L5: Status da linha | M5: Mês
A6: 46082 | B6: SKU-FIC-001 | C6: 28 | D6: 0 | E6: =IF(A6="","",DAY(EOMONTH(A6,0))) | F6: =IF(OR(A6="",B6=""),"",MAX(0.1,1+SUMPRODUCT(--('Eventos'!$B$6:$B$105<=EOMONTH(A6,0)),--('Eventos'!$C$6:$C$105>=A6),--((('Eventos'!$D$6:$D$105=B6)+('Eventos'!$D$6:$D$105="TODOS"))>0),--('Eventos'!$G$6:$G$105="Ativo"),--('Eventos'!$I$6:$I$105="OK"),'Eventos'!$F$6:$F$105))) | G6: =IF(OR(A6="",B6="",C6=""),"",IF(OR(N(D6)<0,N(D6)>=E6),"",C6*E6/(E6-N(D6)))) | H6: =IF(OR(G6="",F6="",F6<=0),"",G6/F6) | I6: =IF(OR(A6="",B6="",H6=""),"",IF(COUNTIFS($B$6:$B$305,B6,$A$6:$A$305,">="&EDATE(A6,-'Parâmetros'!$B$4),$A$6:$A$305,"<"&A6,$L$6:$L$305,"OK")>='Parâmetros'!$B$11,AVERAGEIFS($H$6:$H$305,$B$6:$B$305,B6,$A$6:$A$305,">="&EDATE(A6,-'Parâmetros'!$B$4),$A$6:$A$305,"<"&A6,$L$6:$L$305,"OK"),"")) | J6: =IF(OR(H6="",I6=""),"",ABS(H6-I6)) | K6: =IFERROR(J6/H6,"") | L6: =IF(COUNTA(A6:D6)=0,"",IF(OR(A6="",B6="",C6=""),"INCOMPLETO",IF(A6>'Parâmetros'!$B$2,"APÓS DATA DE CORTE",IF(COUNTIFS($A$6:$A$305,A6,$B$6:$B$305,B6)>1,"DUPLICADO",IF(OR(N(D6)<0,N(D6)>=E6),"RUPTURA TOTAL/INVÁLIDA",IF(F6<=0,"EVENTO INVÁLIDO","OK")))))) | M6: =IF(A6="","",MONTH(A6))
A7: 46113 | B7: SKU-FIC-001 | C7: 30 | D7: 0 | E7: =IF(A7="","",DAY(EOMONTH(A7,0))) | F7: =IF(OR(A7="",B7=""),"",MAX(0.1,1+SUMPRODUCT(--('Eventos'!$B$6:$B$105<=EOMONTH(A7,0)),--('Eventos'!$C$6:$C$105>=A7),--((('Eventos'!$D$6:$D$105=B7)+('Eventos'!$D$6:$D$105="TODOS"))>0),--('Eventos'!$G$6:$G$105="Ativo"),--('Eventos'!$I$6:$I$105="OK"),'Eventos'!$F$6:$F$105))) | G7: =IF(OR(A7="",B7="",C7=""),"",IF(OR(N(D7)<0,N(D7)>=E7),"",C7*E7/(E7-N(D7)))) | H7: =IF(OR(G7="",F7="",F7<=0),"",G7/F7) | I7: =IF(OR(A7="",B7="",H7=""),"",IF(COUNTIFS($B$6:$B$305,B7,$A$6:$A$305,">="&EDATE(A7,-'Parâmetros'!$B$4),$A$6:$A$305,"<"&A7,$L$6:$L$305,"OK")>='Parâmetros'!$B$11,AVERAGEIFS($H$6:$H$305,$B$6:$B$305,B7,$A$6:$A$305,">="&EDATE(A7,-'Parâmetros'!$B$4),$A$6:$A$305,"<"&A7,$L$6:$L$305,"OK"),"")) | J7: =IF(OR(H7="",I7=""),"",ABS(H7-I7)) | K7: =IFERROR(J7/H7,"") | L7: =IF(COUNTA(A7:D7)=0,"",IF(OR(A7="",B7="",C7=""),"INCOMPLETO",IF(A7>'Parâmetros'!$B$2,"APÓS DATA DE CORTE",IF(COUNTIFS($A$6:$A$305,A7,$B$6:$B$305,B7)>1,"DUPLICADO",IF(OR(N(D7)<0,N(D7)>=E7),"RUPTURA TOTAL/INVÁLIDA",IF(F7<=0,"EVENTO INVÁLIDO","OK")))))) | M7: =IF(A7="","",MONTH(A7))
A8: 46143 | B8: SKU-FIC-001 | C8: 36 | D8: 2 | E8: =IF(A8="","",DAY(EOMONTH(A8,0))) | F8: =IF(OR(A8="",B8=""),"",MAX(0.1,1+SUMPRODUCT(--('Eventos'!$B$6:$B$105<=EOMONTH(A8,0)),--('Eventos'!$C$6:$C$105>=A8),--((('Eventos'!$D$6:$D$105=B8)+('Eventos'!$D$6:$D$105="TODOS"))>0),--('Eventos'!$G$6:$G$105="Ativo"),--('Eventos'!$I$6:$I$105="OK"),'Eventos'!$F$6:$F$105))) | G8: =IF(OR(A8="",B8="",C8=""),"",IF(OR(N(D8)<0,N(D8)>=E8),"",C8*E8/(E8-N(D8)))) | H8: =IF(OR(G8="",F8="",F8<=0),"",G8/F8) | I8: =IF(OR(A8="",B8="",H8=""),"",IF(COUNTIFS($B$6:$B$305,B8,$A$6:$A$305,">="&EDATE(A8,-'Parâmetros'!$B$4),$A$6:$A$305,"<"&A8,$L$6:$L$305,"OK")>='Parâmetros'!$B$11,AVERAGEIFS($H$6:$H$305,$B$6:$B$305,B8,$A$6:$A$305,">="&EDATE(A8,-'Parâmetros'!$B$4),$A$6:$A$305,"<"&A8,$L$6:$L$305,"OK"),"")) | J8: =IF(OR(H8="",I8=""),"",ABS(H8-I8)) | K8: =IFERROR(J8/H8,"") | L8: =IF(COUNTA(A8:D8)=0,"",IF(OR(A8="",B8="",C8=""),"INCOMPLETO",IF(A8>'Parâmetros'!$B$2,"APÓS DATA DE CORTE",IF(COUNTIFS($A$6:$A$305,A8,$B$6:$B$305,B8)>1,"DUPLICADO",IF(OR(N(D8)<0,N(D8)>=E8),"RUPTURA TOTAL/INVÁLIDA",IF(F8<=0,"EVENTO INVÁLIDO","OK")))))) | M8: =IF(A8="","",MONTH(A8))
A9: 46174 | B9: SKU-FIC-001 | C9: 32 | D9: 0 | E9: =IF(A9="","",DAY(EOMONTH(A9,0))) | F9: =IF(OR(A9="",B9=""),"",MAX(0.1,1+SUMPRODUCT(--('Eventos'!$B$6:$B$105<=EOMONTH(A9,0)),--('Eventos'!$C$6:$C$105>=A9),--((('Eventos'!$D$6:$D$105=B9)+('Eventos'!$D$6:$D$105="TODOS"))>0),--('Eventos'!$G$6:$G$105="Ativo"),--('Eventos'!$I$6:$I$105="OK"),'Eventos'!$F$6:$F$105))) | G9: =IF(OR(A9="",B9="",C9=""),"",IF(OR(N(D9)<0,N(D9)>=E9),"",C9*E9/(E9-N(D9)))) | H9: =IF(OR(G9="",F9="",F9<=0),"",G9/F9) | I9: =IF(OR(A9="",B9="",H9=""),"",IF(COUNTIFS($B$6:$B$305,B9,$A$6:$A$305,">="&EDATE(A9,-'Parâmetros'!$B$4),$A$6:$A$305,"<"&A9,$L$6:$L$305,"OK")>='Parâmetros'!$B$11,AVERAGEIFS($H$6:$H$305,$B$6:$B$305,B9,$A$6:$A$305,">="&EDATE(A9,-'Parâmetros'!$B$4),$A$6:$A$305,"<"&A9,$L$6:$L$305,"OK"),"")) | J9: =IF(OR(H9="",I9=""),"",ABS(H9-I9)) | K9: =IFERROR(J9/H9,"") | L9: =IF(COUNTA(A9:D9)=0,"",IF(OR(A9="",B9="",C9=""),"INCOMPLETO",IF(A9>'Parâmetros'!$B$2,"APÓS DATA DE CORTE",IF(COUNTIFS($A$6:$A$305,A9,$B$6:$B$305,B9)>1,"DUPLICADO",IF(OR(N(D9)<0,N(D9)>=E9),"RUPTURA TOTAL/INVÁLIDA",IF(F9<=0,"EVENTO INVÁLIDO","OK")))))) | M9: =IF(A9="","",MONTH(A9))
A10: 46204 | B10: SKU-FIC-001 | C10: 40 | D10: 4 | E10: =IF(A10="","",DAY(EOMONTH(A10,0))) | F10: =IF(OR(A10="",B10=""),"",MAX(0.1,1+SUMPRODUCT(--('Eventos'!$B$6:$B$105<=EOMONTH(A10,0)),--('Eventos'!$C$6:$C$105>=A10),--((('Eventos'!$D$6:$D$105=B10)+('Eventos'!$D$6:$D$105="TODOS"))>0),--('Eventos'!$G$6:$G$105="Ativo"),--('Eventos'!$I$6:$I$105="OK"),'Eventos'!$F$6:$F$105))) | G10: =IF(OR(A10="",B10="",C10=""),"",IF(OR(N(D10)<0,N(D10)>=E10),"",C10*E10/(E10-N(D10)))) | H10: =IF(OR(G10="",F10="",F10<=0),"",G10/F10) | I10: =IF(OR(A10="",B10="",H10=""),"",IF(COUNTIFS($B$6:$B$305,B10,$A$6:$A$305,">="&EDATE(A10,-'Parâmetros'!$B$4),$A$6:$A$305,"<"&A10,$L$6:$L$305,"OK")>='Parâmetros'!$B$11,AVERAGEIFS($H$6:$H$305,$B$6:$B$305,B10,$A$6:$A$305,">="&EDATE(A10,-'Parâmetros'!$B$4),$A$6:$A$305,"<"&A10,$L$6:$L$305,"OK"),"")) | J10: =IF(OR(H10="",I10=""),"",ABS(H10-I10)) | K10: =IFERROR(J10/H10,"") | L10: =IF(COUNTA(A10:D10)=0,"",IF(OR(A10="",B10="",C10=""),"INCOMPLETO",IF(A10>'Parâmetros'!$B$2,"APÓS DATA DE CORTE",IF(COUNTIFS($A$6:$A$305,A10,$B$6:$B$305,B10)>1,"DUPLICADO",IF(OR(N(D10)<0,N(D10)>=E10),"RUPTURA TOTAL/INVÁLIDA",IF(F10<=0,"EVENTO INVÁLIDO","OK")))))) | M10: =IF(A10="","",MONTH(A10))
A11: 46235 | B11: SKU-FIC-001 | C11: 35 | D11: 0 | E11: =IF(A11="","",DAY(EOMONTH(A11,0))) | F11: =IF(OR(A11="",B11=""),"",MAX(0.1,1+SUMPRODUCT(--('Eventos'!$B$6:$B$105<=EOMONTH(A11,0)),--('Eventos'!$C$6:$C$105>=A11),--((('Eventos'!$D$6:$D$105=B11)+('Eventos'!$D$6:$D$105="TODOS"))>0),--('Eventos'!$G$6:$G$105="Ativo"),--('Eventos'!$I$6:$I$105="OK"),'Eventos'!$F$6:$F$105))) | G11: =IF(OR(A11="",B11="",C11=""),"",IF(OR(N(D11)<0,N(D11)>=E11),"",C11*E11/(E11-N(D11)))) | H11: =IF(OR(G11="",F11="",F11<=0),"",G11/F11) | I11: =IF(OR(A11="",B11="",H11=""),"",IF(COUNTIFS($B$6:$B$305,B11,$A$6:$A$305,">="&EDATE(A11,-'Parâmetros'!$B$4),$A$6:$A$305,"<"&A11,$L$6:$L$305,"OK")>='Parâmetros'!$B$11,AVERAGEIFS($H$6:$H$305,$B$6:$B$305,B11,$A$6:$A$305,">="&EDATE(A11,-'Parâmetros'!$B$4),$A$6:$A$305,"<"&A11,$L$6:$L$305,"OK"),"")) | J11: =IF(OR(H11="",I11=""),"",ABS(H11-I11)) | K11: =IFERROR(J11/H11,"") | L11: =IF(COUNTA(A11:D11)=0,"",IF(OR(A11="",B11="",C11=""),"INCOMPLETO",IF(A11>'Parâmetros'!$B$2,"APÓS DATA DE CORTE",IF(COUNTIFS($A$6:$A$305,A11,$B$6:$B$305,B11)>1,"DUPLICADO",IF(OR(N(D11)<0,N(D11)>=E11),"RUPTURA TOTAL/INVÁLIDA",IF(F11<=0,"EVENTO INVÁLIDO","OK")))))) | M11: =IF(A11="","",MONTH(A11))
A12: 46235 | B12: SKU-FIC-002 | C12: 16 | D12: 1 | E12: =IF(A12="","",DAY(EOMONTH(A12,0))) | F12: =IF(OR(A12="",B12=""),"",MAX(0.1,1+SUMPRODUCT(--('Eventos'!$B$6:$B$105<=EOMONTH(A12,0)),--('Eventos'!$C$6:$C$105>=A12),--((('Eventos'!$D$6:$D$105=B12)+('Eventos'!$D$6:$D$105="TODOS"))>0),--('Eventos'!$G$6:$G$105="Ativo"),--('Eventos'!$I$6:$I$105="OK"),'Eventos'!$F$6:$F$105))) | G12: =IF(OR(A12="",B12="",C12=""),"",IF(OR(N(D12)<0,N(D12)>=E12),"",C12*E12/(E12-N(D12)))) | H12: =IF(OR(G12="",F12="",F12<=0),"",G12/F12) | I12: =IF(OR(A12="",B12="",H12=""),"",IF(COUNTIFS($B$6:$B$305,B12,$A$6:$A$305,">="&EDATE(A12,-'Parâmetros'!$B$4),$A$6:$A$305,"<"&A12,$L$6:$L$305,"OK")>='Parâmetros'!$B$11,AVERAGEIFS($H$6:$H$305,$B$6:$B$305,B12,$A$6:$A$305,">="&EDATE(A12,-'Parâmetros'!$B$4),$A$6:$A$305,"<"&A12,$L$6:$L$305,"OK"),"")) | J12: =IF(OR(H12="",I12=""),"",ABS(H12-I12)) | K12: =IFERROR(J12/H12,"") | L12: =IF(COUNTA(A12:D12)=0,"",IF(OR(A12="",B12="",C12=""),"INCOMPLETO",IF(A12>'Parâmetros'!$B$2,"APÓS DATA DE CORTE",IF(COUNTIFS($A$6:$A$305,A12,$B$6:$B$305,B12)>1,"DUPLICADO",IF(OR(N(D12)<0,N(D12)>=E12),"RUPTURA TOTAL/INVÁLIDA",IF(F12<=0,"EVENTO INVÁLIDO","OK")))))) | M12: =IF(A12="","",MONTH(A12))
E13: =IF(A13="","",DAY(EOMONTH(A13,0))) | F13: =IF(OR(A13="",B13=""),"",MAX(0.1,1+SUMPRODUCT(--('Eventos'!$B$6:$B$105<=EOMONTH(A13,0)),--('Eventos'!$C$6:$C$105>=A13),--((('Eventos'!$D$6:$D$105=B13)+('Eventos'!$D$6:$D$105="TODOS"))>0),--('Eventos'!$G$6:$G$105="Ativo"),--('Eventos'!$I$6:$I$105="OK"),'Eventos'!$F$6:$F$105))) | G13: =IF(OR(A13="",B13="",C13=""),"",IF(OR(N(D13)<0,N(D13)>=E13),"",C13*E13/(E13-N(D13)))) | H13: =IF(OR(G13="",F13="",F13<=0),"",G13/F13) | I13: =IF(OR(A13="",B13="",H13=""),"",IF(COUNTIFS($B$6:$B$305,B13,$A$6:$A$305,">="&EDATE(A13,-'Parâmetros'!$B$4),$A$6:$A$305,"<"&A13,$L$6:$L$305,"OK")>='Parâmetros'!$B$11,AVERAGEIFS($H$6:$H$305,$B$6:$B$305,B13,$A$6:$A$305,">="&EDATE(A13,-'Parâmetros'!$B$4),$A$6:$A$305,"<"&A13,$L$6:$L$305,"OK"),"")) | J13: =IF(OR(H13="",I13=""),"",ABS(H13-I13)) | K13: =IFERROR(J13/H13,"") | L13: =IF(COUNTA(A13:D13)=0,"",IF(OR(A13="",B13="",C13=""),"INCOMPLETO",IF(A13>'Parâmetros'!$B$2,"APÓS DATA DE CORTE",IF(COUNTIFS($A$6:$A$305,A13,$B$6:$B$305,B13)>1,"DUPLICADO",IF(OR(N(D13)<0,N(D13)>=E13),"RUPTURA TOTAL/INVÁLIDA",IF(F13<=0,"EVENTO INVÁLIDO","OK")))))) | M13: =IF(A13="","",MONTH(A13))
E14: =IF(A14="","",DAY(EOMONTH(A14,0))) | F14: =IF(OR(A14="",B14=""),"",MAX(0.1,1+SUMPRODUCT(--('Eventos'!$B$6:$B$105<=EOMONTH(A14,0)),--('Eventos'!$C$6:$C$105>=A14),--((('Eventos'!$D$6:$D$105=B14)+('Eventos'!$D$6:$D$105="TODOS"))>0),--('Eventos'!$G$6:$G$105="Ativo"),--('Eventos'!$I$6:$I$105="OK"),'Eventos'!$F$6:$F$105))) | G14: =IF(OR(A14="",B14="",C14=""),"",IF(OR(N(D14)<0,N(D14)>=E14),"",C14*E14/(E14-N(D14)))) | H14: =IF(OR(G14="",F14="",F14<=0),"",G14/F14) | I14: =IF(OR(A14="",B14="",H14=""),"",IF(COUNTIFS($B$6:$B$305,B14,$A$6:$A$305,">="&EDATE(A14,-'Parâmetros'!$B$4),$A$6:$A$305,"<"&A14,$L$6:$L$305,"OK")>='Parâmetros'!$B$11,AVERAGEIFS($H$6:$H$305,$B$6:$B$305,B14,$A$6:$A$305,">="&EDATE(A14,-'Parâmetros'!$B$4),$A$6:$A$305,"<"&A14,$L$6:$L$305,"OK"),"")) | J14: =IF(OR(H14="",I14=""),"",ABS(H14-I14)) | K14: =IFERROR(J14/H14,"") | L14: =IF(COUNTA(A14:D14)=0,"",IF(OR(A14="",B14="",C14=""),"INCOMPLETO",IF(A14>'Parâmetros'!$B$2,"APÓS DATA DE CORTE",IF(COUNTIFS($A$6:$A$305,A14,$B$6:$B$305,B14)>1,"DUPLICADO",IF(OR(N(D14)<0,N(D14)>=E14),"RUPTURA TOTAL/INVÁLIDA",IF(F14<=0,"EVENTO INVÁLIDO","OK")))))) | M14: =IF(A14="","",MONTH(A14))
E15: =IF(A15="","",DAY(EOMONTH(A15,0))) | F15: =IF(OR(A15="",B15=""),"",MAX(0.1,1+SUMPRODUCT(--('Eventos'!$B$6:$B$105<=EOMONTH(A15,0)),--('Eventos'!$C$6:$C$105>=A15),--((('Eventos'!$D$6:$D$105=B15)+('Eventos'!$D$6:$D$105="TODOS"))>0),--('Eventos'!$G$6:$G$105="Ativo"),--('Eventos'!$I$6:$I$105="OK"),'Eventos'!$F$6:$F$105))) | G15: =IF(OR(A15="",B15="",C15=""),"",IF(OR(N(D15)<0,N(D15)>=E15),"",C15*E15/(E15-N(D15)))) | H15: =IF(OR(G15="",F15="",F15<=0),"",G15/F15) | I15: =IF(OR(A15="",B15="",H15=""),"",IF(COUNTIFS($B$6:$B$305,B15,$A$6:$A$305,">="&EDATE(A15,-'Parâmetros'!$B$4),$A$6:$A$305,"<"&A15,$L$6:$L$305,"OK")>='Parâmetros'!$B$11,AVERAGEIFS($H$6:$H$305,$B$6:$B$305,B15,$A$6:$A$305,">="&EDATE(A15,-'Parâmetros'!$B$4),$A$6:$A$305,"<"&A15,$L$6:$L$305,"OK"),"")) | J15: =IF(OR(H15="",I15=""),"",ABS(H15-I15)) | K15: =IFERROR(J15/H15,"") | L15: =IF(COUNTA(A15:D15)=0,"",IF(OR(A15="",B15="",C15=""),"INCOMPLETO",IF(A15>'Parâmetros'!$B$2,"APÓS DATA DE CORTE",IF(COUNTIFS($A$6:$A$305,A15,$B$6:$B$305,B15)>1,"DUPLICADO",IF(OR(N(D15)<0,N(D15)>=E15),"RUPTURA TOTAL/INVÁLIDA",IF(F15<=0,"EVENTO INVÁLIDO","OK")))))) | M15: =IF(A15="","",MONTH(A15))
E16: =IF(A16="","",DAY(EOMONTH(A16,0))) | F16: =IF(OR(A16="",B16=""),"",MAX(0.1,1+SUMPRODUCT(--('Eventos'!$B$6:$B$105<=EOMONTH(A16,0)),--('Eventos'!$C$6:$C$105>=A16),--((('Eventos'!$D$6:$D$105=B16)+('Eventos'!$D$6:$D$105="TODOS"))>0),--('Eventos'!$G$6:$G$105="Ativo"),--('Eventos'!$I$6:$I$105="OK"),'Eventos'!$F$6:$F$105))) | G16: =IF(OR(A16="",B16="",C16=""),"",IF(OR(N(D16)<0,N(D16)>=E16),"",C16*E16/(E16-N(D16)))) | H16: =IF(OR(G16="",F16="",F16<=0),"",G16/F16) | I16: =IF(OR(A16="",B16="",H16=""),"",IF(COUNTIFS($B$6:$B$305,B16,$A$6:$A$305,">="&EDATE(A16,-'Parâmetros'!$B$4),$A$6:$A$305,"<"&A16,$L$6:$L$305,"OK")>='Parâmetros'!$B$11,AVERAGEIFS($H$6:$H$305,$B$6:$B$305,B16,$A$6:$A$305,">="&EDATE(A16,-'Parâmetros'!$B$4),$A$6:$A$305,"<"&A16,$L$6:$L$305,"OK"),"")) | J16: =IF(OR(H16="",I16=""),"",ABS(H16-I16)) | K16: =IFERROR(J16/H16,"") | L16: =IF(COUNTA(A16:D16)=0,"",IF(OR(A16="",B16="",C16=""),"INCOMPLETO",IF(A16>'Parâmetros'!$B$2,"APÓS DATA DE CORTE",IF(COUNTIFS($A$6:$A$305,A16,$B$6:$B$305,B16)>1,"DUPLICADO",IF(OR(N(D16)<0,N(D16)>=E16),"RUPTURA TOTAL/INVÁLIDA",IF(F16<=0,"EVENTO INVÁLIDO","OK")))))) | M16: =IF(A16="","",MONTH(A16))
E17: =IF(A17="","",DAY(EOMONTH(A17,0))) | F17: =IF(OR(A17="",B17=""),"",MAX(0.1,1+SUMPRODUCT(--('Eventos'!$B$6:$B$105<=EOMONTH(A17,0)),--('Eventos'!$C$6:$C$105>=A17),--((('Eventos'!$D$6:$D$105=B17)+('Eventos'!$D$6:$D$105="TODOS"))>0),--('Eventos'!$G$6:$G$105="Ativo"),--('Eventos'!$I$6:$I$105="OK"),'Eventos'!$F$6:$F$105))) | G17: =IF(OR(A17="",B17="",C17=""),"",IF(OR(N(D17)<0,N(D17)>=E17),"",C17*E17/(E17-N(D17)))) | H17: =IF(OR(G17="",F17="",F17<=0),"",G17/F17) | I17: =IF(OR(A17="",B17="",H17=""),"",IF(COUNTIFS($B$6:$B$305,B17,$A$6:$A$305,">="&EDATE(A17,-'Parâmetros'!$B$4),$A$6:$A$305,"<"&A17,$L$6:$L$305,"OK")>='Parâmetros'!$B$11,AVERAGEIFS($H$6:$H$305,$B$6:$B$305,B17,$A$6:$A$305,">="&EDATE(A17,-'Parâmetros'!$B$4),$A$6:$A$305,"<"&A17,$L$6:$L$305,"OK"),"")) | J17: =IF(OR(H17="",I17=""),"",ABS(H17-I17)) | K17: =IFERROR(J17/H17,"") | L17: =IF(COUNTA(A17:D17)=0,"",IF(OR(A17="",B17="",C17=""),"INCOMPLETO",IF(A17>'Parâmetros'!$B$2,"APÓS DATA DE CORTE",IF(COUNTIFS($A$6:$A$305,A17,$B$6:$B$305,B17)>1,"DUPLICADO",IF(OR(N(D17)<0,N(D17)>=E17),"RUPTURA TOTAL/INVÁLIDA",IF(F17<=0,"EVENTO INVÁLIDO","OK")))))) | M17: =IF(A17="","",MONTH(A17))
E18: =IF(A18="","",DAY(EOMONTH(A18,0))) | F18: =IF(OR(A18="",B18=""),"",MAX(0.1,1+SUMPRODUCT(--('Eventos'!$B$6:$B$105<=EOMONTH(A18,0)),--('Eventos'!$C$6:$C$105>=A18),--((('Eventos'!$D$6:$D$105=B18)+('Eventos'!$D$6:$D$105="TODOS"))>0),--('Eventos'!$G$6:$G$105="Ativo"),--('Eventos'!$I$6:$I$105="OK"),'Eventos'!$F$6:$F$105))) | G18: =IF(OR(A18="",B18="",C18=""),"",IF(OR(N(D18)<0,N(D18)>=E18),"",C18*E18/(E18-N(D18)))) | H18: =IF(OR(G18="",F18="",F18<=0),"",G18/F18) | I18: =IF(OR(A18="",B18="",H18=""),"",IF(COUNTIFS($B$6:$B$305,B18,$A$6:$A$305,">="&EDATE(A18,-'Parâmetros'!$B$4),$A$6:$A$305,"<"&A18,$L$6:$L$305,"OK")>='Parâmetros'!$B$11,AVERAGEIFS($H$6:$H$305,$B$6:$B$305,B18,$A$6:$A$305,">="&EDATE(A18,-'Parâmetros'!$B$4),$A$6:$A$305,"<"&A18,$L$6:$L$305,"OK"),"")) | J18: =IF(OR(H18="",I18=""),"",ABS(H18-I18)) | K18: =IFERROR(J18/H18,"") | L18: =IF(COUNTA(A18:D18)=0,"",IF(OR(A18="",B18="",C18=""),"INCOMPLETO",IF(A18>'Parâmetros'!$B$2,"APÓS DATA DE CORTE",IF(COUNTIFS($A$6:$A$305,A18,$B$6:$B$305,B18)>1,"DUPLICADO",IF(OR(N(D18)<0,N(D18)>=E18),"RUPTURA TOTAL/INVÁLIDA",IF(F18<=0,"EVENTO INVÁLIDO","OK")))))) | M18: =IF(A18="","",MONTH(A18))
E19: =IF(A19="","",DAY(EOMONTH(A19,0))) | F19: =IF(OR(A19="",B19=""),"",MAX(0.1,1+SUMPRODUCT(--('Eventos'!$B$6:$B$105<=EOMONTH(A19,0)),--('Eventos'!$C$6:$C$105>=A19),--((('Eventos'!$D$6:$D$105=B19)+('Eventos'!$D$6:$D$105="TODOS"))>0),--('Eventos'!$G$6:$G$105="Ativo"),--('Eventos'!$I$6:$I$105="OK"),'Eventos'!$F$6:$F$105))) | G19: =IF(OR(A19="",B19="",C19=""),"",IF(OR(N(D19)<0,N(D19)>=E19),"",C19*E19/(E19-N(D19)))) | H19: =IF(OR(G19="",F19="",F19<=0),"",G19/F19) | I19: =IF(OR(A19="",B19="",H19=""),"",IF(COUNTIFS($B$6:$B$305,B19,$A$6:$A$305,">="&EDATE(A19,-'Parâmetros'!$B$4),$A$6:$A$305,"<"&A19,$L$6:$L$305,"OK")>='Parâmetros'!$B$11,AVERAGEIFS($H$6:$H$305,$B$6:$B$305,B19,$A$6:$A$305,">="&EDATE(A19,-'Parâmetros'!$B$4),$A$6:$A$305,"<"&A19,$L$6:$L$305,"OK"),"")) | J19: =IF(OR(H19="",I19=""),"",ABS(H19-I19)) | K19: =IFERROR(J19/H19,"") | L19: =IF(COUNTA(A19:D19)=0,"",IF(OR(A19="",B19="",C19=""),"INCOMPLETO",IF(A19>'Parâmetros'!$B$2,"APÓS DATA DE CORTE",IF(COUNTIFS($A$6:$A$305,A19,$B$6:$B$305,B19)>1,"DUPLICADO",IF(OR(N(D19)<0,N(D19)>=E19),"RUPTURA TOTAL/INVÁLIDA",IF(F19<=0,"EVENTO INVÁLIDO","OK")))))) | M19: =IF(A19="","",MONTH(A19))
E20: =IF(A20="","",DAY(EOMONTH(A20,0))) | F20: =IF(OR(A20="",B20=""),"",MAX(0.1,1+SUMPRODUCT(--('Eventos'!$B$6:$B$105<=EOMONTH(A20,0)),--('Eventos'!$C$6:$C$105>=A20),--((('Eventos'!$D$6:$D$105=B20)+('Eventos'!$D$6:$D$105="TODOS"))>0),--('Eventos'!$G$6:$G$105="Ativo"),--('Eventos'!$I$6:$I$105="OK"),'Eventos'!$F$6:$F$105))) | G20: =IF(OR(A20="",B20="",C20=""),"",IF(OR(N(D20)<0,N(D20)>=E20),"",C20*E20/(E20-N(D20)))) | H20: =IF(OR(G20="",F20="",F20<=0),"",G20/F20) | I20: =IF(OR(A20="",B20="",H20=""),"",IF(COUNTIFS($B$6:$B$305,B20,$A$6:$A$305,">="&EDATE(A20,-'Parâmetros'!$B$4),$A$6:$A$305,"<"&A20,$L$6:$L$305,"OK")>='Parâmetros'!$B$11,AVERAGEIFS($H$6:$H$305,$B$6:$B$305,B20,$A$6:$A$305,">="&EDATE(A20,-'Parâmetros'!$B$4),$A$6:$A$305,"<"&A20,$L$6:$L$305,"OK"),"")) | J20: =IF(OR(H20="",I20=""),"",ABS(H20-I20)) | K20: =IFERROR(J20/H20,"") | L20: =IF(COUNTA(A20:D20)=0,"",IF(OR(A20="",B20="",C20=""),"INCOMPLETO",IF(A20>'Parâmetros'!$B$2,"APÓS DATA DE CORTE",IF(COUNTIFS($A$6:$A$305,A20,$B$6:$B$305,B20)>1,"DUPLICADO",IF(OR(N(D20)<0,N(D20)>=E20),"RUPTURA TOTAL/INVÁLIDA",IF(F20<=0,"EVENTO INVÁLIDO","OK")))))) | M20: =IF(A20="","",MONTH(A20))
E21: =IF(A21="","",DAY(EOMONTH(A21,0))) | F21: =IF(OR(A21="",B21=""),"",MAX(0.1,1+SUMPRODUCT(--('Eventos'!$B$6:$B$105<=EOMONTH(A21,0)),--('Eventos'!$C$6:$C$105>=A21),--((('Eventos'!$D$6:$D$105=B21)+('Eventos'!$D$6:$D$105="TODOS"))>0),--('Eventos'!$G$6:$G$105="Ativo"),--('Eventos'!$I$6:$I$105="OK"),'Eventos'!$F$6:$F$105))) | G21: =IF(OR(A21="",B21="",C21=""),"",IF(OR(N(D21)<0,N(D21)>=E21),"",C21*E21/(E21-N(D21)))) | H21: =IF(OR(G21="",F21="",F21<=0),"",G21/F21) | I21: =IF(OR(A21="",B21="",H21=""),"",IF(COUNTIFS($B$6:$B$305,B21,$A$6:$A$305,">="&EDATE(A21,-'Parâmetros'!$B$4),$A$6:$A$305,"<"&A21,$L$6:$L$305,"OK")>='Parâmetros'!$B$11,AVERAGEIFS($H$6:$H$305,$B$6:$B$305,B21,$A$6:$A$305,">="&EDATE(A21,-'Parâmetros'!$B$4),$A$6:$A$305,"<"&A21,$L$6:$L$305,"OK"),"")) | J21: =IF(OR(H21="",I21=""),"",ABS(H21-I21)) | K21: =IFERROR(J21/H21,"") | L21: =IF(COUNTA(A21:D21)=0,"",IF(OR(A21="",B21="",C21=""),"INCOMPLETO",IF(A21>'Parâmetros'!$B$2,"APÓS DATA DE CORTE",IF(COUNTIFS($A$6:$A$305,A21,$B$6:$B$305,B21)>1,"DUPLICADO",IF(OR(N(D21)<0,N(D21)>=E21),"RUPTURA TOTAL/INVÁLIDA",IF(F21<=0,"EVENTO INVÁLIDO","OK")))))) | M21: =IF(A21="","",MONTH(A21))
E22: =IF(A22="","",DAY(EOMONTH(A22,0))) | F22: =IF(OR(A22="",B22=""),"",MAX(0.1,1+SUMPRODUCT(--('Eventos'!$B$6:$B$105<=EOMONTH(A22,0)),--('Eventos'!$C$6:$C$105>=A22),--((('Eventos'!$D$6:$D$105=B22)+('Eventos'!$D$6:$D$105="TODOS"))>0),--('Eventos'!$G$6:$G$105="Ativo"),--('Eventos'!$I$6:$I$105="OK"),'Eventos'!$F$6:$F$105))) | G22: =IF(OR(A22="",B22="",C22=""),"",IF(OR(N(D22)<0,N(D22)>=E22),"",C22*E22/(E22-N(D22)))) | H22: =IF(OR(G22="",F22="",F22<=0),"",G22/F22) | I22: =IF(OR(A22="",B22="",H22=""),"",IF(COUNTIFS($B$6:$B$305,B22,$A$6:$A$305,">="&EDATE(A22,-'Parâmetros'!$B$4),$A$6:$A$305,"<"&A22,$L$6:$L$305,"OK")>='Parâmetros'!$B$11,AVERAGEIFS($H$6:$H$305,$B$6:$B$305,B22,$A$6:$A$305,">="&EDATE(A22,-'Parâmetros'!$B$4),$A$6:$A$305,"<"&A22,$L$6:$L$305,"OK"),"")) | J22: =IF(OR(H22="",I22=""),"",ABS(H22-I22)) | K22: =IFERROR(J22/H22,"") | L22: =IF(COUNTA(A22:D22)=0,"",IF(OR(A22="",B22="",C22=""),"INCOMPLETO",IF(A22>'Parâmetros'!$B$2,"APÓS DATA DE CORTE",IF(COUNTIFS($A$6:$A$305,A22,$B$6:$B$305,B22)>1,"DUPLICADO",IF(OR(N(D22)<0,N(D22)>=E22),"RUPTURA TOTAL/INVÁLIDA",IF(F22<=0,"EVENTO INVÁLIDO","OK")))))) | M22: =IF(A22="","",MONTH(A22))
E23: =IF(A23="","",DAY(EOMONTH(A23,0))) | F23: =IF(OR(A23="",B23=""),"",MAX(0.1,1+SUMPRODUCT(--('Eventos'!$B$6:$B$105<=EOMONTH(A23,0)),--('Eventos'!$C$6:$C$105>=A23),--((('Eventos'!$D$6:$D$105=B23)+('Eventos'!$D$6:$D$105="TODOS"))>0),--('Eventos'!$G$6:$G$105="Ativo"),--('Eventos'!$I$6:$I$105="OK"),'Eventos'!$F$6:$F$105))) | G23: =IF(OR(A23="",B23="",C23=""),"",IF(OR(N(D23)<0,N(D23)>=E23),"",C23*E23/(E23-N(D23)))) | H23: =IF(OR(G23="",F23="",F23<=0),"",G23/F23) | I23: =IF(OR(A23="",B23="",H23=""),"",IF(COUNTIFS($B$6:$B$305,B23,$A$6:$A$305,">="&EDATE(A23,-'Parâmetros'!$B$4),$A$6:$A$305,"<"&A23,$L$6:$L$305,"OK")>='Parâmetros'!$B$11,AVERAGEIFS($H$6:$H$305,$B$6:$B$305,B23,$A$6:$A$305,">="&EDATE(A23,-'Parâmetros'!$B$4),$A$6:$A$305,"<"&A23,$L$6:$L$305,"OK"),"")) | J23: =IF(OR(H23="",I23=""),"",ABS(H23-I23)) | K23: =IFERROR(J23/H23,"") | L23: =IF(COUNTA(A23:D23)=0,"",IF(OR(A23="",B23="",C23=""),"INCOMPLETO",IF(A23>'Parâmetros'!$B$2,"APÓS DATA DE CORTE",IF(COUNTIFS($A$6:$A$305,A23,$B$6:$B$305,B23)>1,"DUPLICADO",IF(OR(N(D23)<0,N(D23)>=E23),"RUPTURA TOTAL/INVÁLIDA",IF(F23<=0,"EVENTO INVÁLIDO","OK")))))) | M23: =IF(A23="","",MONTH(A23))
E24: =IF(A24="","",DAY(EOMONTH(A24,0))) | F24: =IF(OR(A24="",B24=""),"",MAX(0.1,1+SUMPRODUCT(--('Eventos'!$B$6:$B$105<=EOMONTH(A24,0)),--('Eventos'!$C$6:$C$105>=A24),--((('Eventos'!$D$6:$D$105=B24)+('Eventos'!$D$6:$D$105="TODOS"))>0),--('Eventos'!$G$6:$G$105="Ativo"),--('Eventos'!$I$6:$I$105="OK"),'Eventos'!$F$6:$F$105))) | G24: =IF(OR(A24="",B24="",C24=""),"",IF(OR(N(D24)<0,N(D24)>=E24),"",C24*E24/(E24-N(D24)))) | H24: =IF(OR(G24="",F24="",F24<=0),"",G24/F24) | I24: =IF(OR(A24="",B24="",H24=""),"",IF(COUNTIFS($B$6:$B$305,B24,$A$6:$A$305,">="&EDATE(A24,-'Parâmetros'!$B$4),$A$6:$A$305,"<"&A24,$L$6:$L$305,"OK")>='Parâmetros'!$B$11,AVERAGEIFS($H$6:$H$305,$B$6:$B$305,B24,$A$6:$A$305,">="&EDATE(A24,-'Parâmetros'!$B$4),$A$6:$A$305,"<"&A24,$L$6:$L$305,"OK"),"")) | J24: =IF(OR(H24="",I24=""),"",ABS(H24-I24)) | K24: =IFERROR(J24/H24,"") | L24: =IF(COUNTA(A24:D24)=0,"",IF(OR(A24="",B24="",C24=""),"INCOMPLETO",IF(A24>'Parâmetros'!$B$2,"APÓS DATA DE CORTE",IF(COUNTIFS($A$6:$A$305,A24,$B$6:$B$305,B24)>1,"DUPLICADO",IF(OR(N(D24)<0,N(D24)>=E24),"RUPTURA TOTAL/INVÁLIDA",IF(F24<=0,"EVENTO INVÁLIDO","OK")))))) | M24: =IF(A24="","",MONTH(A24))
... E305: =IF(A305="","",DAY(EOMONTH(A305,0))) | F305: =IF(OR(A305="",B305=""),"",MAX(0.1,1+SUMPRODUCT(--('Eventos'!$B$6:$B$105<=EOMONTH(A305,0)),--('Eventos'!$C$6:$C$105>=A305),--((('Eventos'!$D$6:$D$105=B305)+('Eventos'!$D$6:$D$105="TODOS"))>0),--('Eventos'!$G$6:$G$105="Ativo"),--('Eventos'!$I$6:$I$105="OK"),'Eventos'!$F$6:$F$105))) | G305: =IF(OR(A305="",B305="",C305=""),"",IF(OR(N(D305)<0,N(D305)>=E305),"",C305*E305/(E305-N(D305)))) | H305: =IF(OR(G305="",F305="",F305<=0),"",G305/F305) | I305: =IF(OR(A305="",B305="",H305=""),"",IF(COUNTIFS($B$6:$B$305,B305,$A$6:$A$305,">="&EDATE(A305,-'Parâmetros'!$B$4),$A$6:$A$305,"<"&A305,$L$6:$L$305,"OK")>='Parâmetros'!$B$11,AVERAGEIFS($H$6:$H$305,$B$6:$B$305,B305,$A$6:$A$305,">="&EDATE(A305,-'Parâmetros'!$B$4),$A$6:$A$305,"<"&A305,$L$6:$L$305,"OK"),"")) | J305: =IF(OR(H305="",I305=""),"",ABS(H305-I305)) | K305: =IFERROR(J305/H305,"") | L305: =IF(COUNTA(A305:D305)=0,"",IF(OR(A305="",B305="",C305=""),"INCOMPLETO",IF(A305>'Parâmetros'!$B$2,"APÓS DATA DE CORTE",IF(COUNTIFS($A$6:$A$305,A305,$B$6:$B$305,B305)>1,"DUPLICADO",IF(OR(N(D305)<0,N(D305)>=E305),"RUPTURA TOTAL/INVÁLIDA",IF(F305<=0,"EVENTO INVÁLIDO","OK")))))) | M305: =IF(A305="","",MONTH(A305))

Sheet Eventos
A1: Eventos conhecidos
A2: O impacto será aplicado ao mês inteiro quando o evento sobrepuser qualquer dia do mês.
A5: ID do evento | B5: Data inicial | C5: Data final | D5: Abrangência | E5: Tipo | F5: Impacto esperado | G5: Status | H5: Descrição | I5: Validação
A6: EVT-FIC-001 | B6: 46336 | C6: 46356 | D6: SKU-FIC-001 | E6: Promoção | F6: 0.3 | G6: Ativo | H6: Campanha fictícia de novembro | I6: =IF(COUNTA(A6:H6)=0,"",IF(OR(A6="",B6="",C6="",D6="",E6="",F6="",G6=""),"INCOMPLETO",IF(C6<B6,"DATAS INVÁLIDAS",IF(AND(D6<>"TODOS",COUNTIF('Parâmetros'!$A$18:$A$117,D6)=0),"SKU INVÁLIDO",IF(OR(F6<-0.9,F6>3),"IMPACTO INVÁLIDO","OK")))))
I7: =IF(COUNTA(A7:H7)=0,"",IF(OR(A7="",B7="",C7="",D7="",E7="",F7="",G7=""),"INCOMPLETO",IF(C7<B7,"DATAS INVÁLIDAS",IF(AND(D7<>"TODOS",COUNTIF('Parâmetros'!$A$18:$A$117,D7)=0),"SKU INVÁLIDO",IF(OR(F7<-0.9,F7>3),"IMPACTO INVÁLIDO","OK")))))
I8: =IF(COUNTA(A8:H8)=0,"",IF(OR(A8="",B8="",C8="",D8="",E8="",F8="",G8=""),"INCOMPLETO",IF(C8<B8,"DATAS INVÁLIDAS",IF(AND(D8<>"TODOS",COUNTIF('Parâmetros'!$A$18:$A$117,D8)=0),"SKU INVÁLIDO",IF(OR(F8<-0.9,F8>3),"IMPACTO INVÁLIDO","OK")))))
I9: =IF(COUNTA(A9:H9)=0,"",IF(OR(A9="",B9="",C9="",D9="",E9="",F9="",G9=""),"INCOMPLETO",IF(C9<B9,"DATAS INVÁLIDAS",IF(AND(D9<>"TODOS",COUNTIF('Parâmetros'!$A$18:$A$117,D9)=0),"SKU INVÁLIDO",IF(OR(F9<-0.9,F9>3),"IMPACTO INVÁLIDO","OK")))))
I10: =IF(COUNTA(A10:H10)=0,"",IF(OR(A10="",B10="",C10="",D10="",E10="",F10="",G10=""),"INCOMPLETO",IF(C10<B10,"DATAS INVÁLIDAS",IF(AND(D10<>"TODOS",COUNTIF('Parâmetros'!$A$18:$A$117,D10)=0),"SKU INVÁLIDO",IF(OR(F10<-0.9,F10>3),"IMPACTO INVÁLIDO","OK")))))
I11: =IF(COUNTA(A11:H11)=0,"",IF(OR(A11="",B11="",C11="",D11="",E11="",F11="",G11=""),"INCOMPLETO",IF(C11<B11,"DATAS INVÁLIDAS",IF(AND(D11<>"TODOS",COUNTIF('Parâmetros'!$A$18:$A$117,D11)=0),"SKU INVÁLIDO",IF(OR(F11<-0.9,F11>3),"IMPACTO INVÁLIDO","OK")))))
I12: =IF(COUNTA(A12:H12)=0,"",IF(OR(A12="",B12="",C12="",D12="",E12="",F12="",G12=""),"INCOMPLETO",IF(C12<B12,"DATAS INVÁLIDAS",IF(AND(D12<>"TODOS",COUNTIF('Parâmetros'!$A$18:$A$117,D12)=0),"SKU INVÁLIDO",IF(OR(F12<-0.9,F12>3),"IMPACTO INVÁLIDO","OK")))))
I13: =IF(COUNTA(A13:H13)=0,"",IF(OR(A13="",B13="",C13="",D13="",E13="",F13="",G13=""),"INCOMPLETO",IF(C13<B13,"DATAS INVÁLIDAS",IF(AND(D13<>"TODOS",COUNTIF('Parâmetros'!$A$18:$A$117,D13)=0),"SKU INVÁLIDO",IF(OR(F13<-0.9,F13>3),"IMPACTO INVÁLIDO","OK")))))
I14: =IF(COUNTA(A14:H14)=0,"",IF(OR(A14="",B14="",C14="",D14="",E14="",F14="",G14=""),"INCOMPLETO",IF(C14<B14,"DATAS INVÁLIDAS",IF(AND(D14<>"TODOS",COUNTIF('Parâmetros'!$A$18:$A$117,D14)=0),"SKU INVÁLIDO",IF(OR(F14<-0.9,F14>3),"IMPACTO INVÁLIDO","OK")))))
I15: =IF(COUNTA(A15:H15)=0,"",IF(OR(A15="",B15="",C15="",D15="",E15="",F15="",G15=""),"INCOMPLETO",IF(C15<B15,"DATAS INVÁLIDAS",IF(AND(D15<>"TODOS",COUNTIF('Parâmetros'!$A$18:$A$117,D15)=0),"SKU INVÁLIDO",IF(OR(F15<-0.9,F15>3),"IMPACTO INVÁLIDO","OK")))))
I16: =IF(COUNTA(A16:H16)=0,"",IF(OR(A16="",B16="",C16="",D16="",E16="",F16="",G16=""),"INCOMPLETO",IF(C16<B16,"DATAS INVÁLIDAS",IF(AND(D16<>"TODOS",COUNTIF('Parâmetros'!$A$18:$A$117,D16)=0),"SKU INVÁLIDO",IF(OR(F16<-0.9,F16>3),"IMPACTO INVÁLIDO","OK")))))
I17: =IF(COUNTA(A17:H17)=0,"",IF(OR(A17="",B17="",C17="",D17="",E17="",F17="",G17=""),"INCOMPLETO",IF(C17<B17,"DATAS INVÁLIDAS",IF(AND(D17<>"TODOS",COUNTIF('Parâmetros'!$A$18:$A$117,D17)=0),"SKU INVÁLIDO",IF(OR(F17<-0.9,F17>3),"IMPACTO INVÁLIDO","OK")))))
I18: =IF(COUNTA(A18:H18)=0,"",IF(OR(A18="",B18="",C18="",D18="",E18="",F18="",G18=""),"INCOMPLETO",IF(C18<B18,"DATAS INVÁLIDAS",IF(AND(D18<>"TODOS",COUNTIF('Parâmetros'!$A$18:$A$117,D18)=0),"SKU INVÁLIDO",IF(OR(F18<-0.9,F18>3),"IMPACTO INVÁLIDO","OK")))))
... I105: =IF(COUNTA(A105:H105)=0,"",IF(OR(A105="",B105="",C105="",D105="",E105="",F105="",G105=""),"INCOMPLETO",IF(C105<B105,"DATAS INVÁLIDAS",IF(AND(D105<>"TODOS",COUNTIF('Parâmetros'!$A$18:$A$117,D105)=0),"SKU INVÁLIDO",IF(OR(F105<-0.9,F105>3),"IMPACTO INVÁLIDO","OK")))))

Sheet Previsão
A1: Previsão mensal de demanda e estoque
A2: A projeção considera estoque disponível e estoque em trânsito antes do primeiro mês previsto.
A5: Período | B5: SKU | C5: Produto | D5: Status histórico | E5: Nível recente | F5: Fator sazonal | G5: Fator de eventos | H5: Previsão técnica | I5: Cenário conservador | J5: Cenário base | K5: Cenário otimista | L5: Cenário selecionado | M5: Erro aplicado | N5: Limite inferior indicativo | O5: Limite superior indicativo | P5: Estoque projetado | Q5: Necessidade acumulada | R5: Alerta
A6: =IF(B6="","",EDATE(EOMONTH('Parâmetros'!$B$2,0)+1,MOD(ROW()-6,12))) | B6: =IF(OR(INDEX('Parâmetros'!$A$18:$A$117,INT((ROW()-6)/12)+1)="",INDEX('Parâmetros'!$D$18:$D$117,INT((ROW()-6)/12)+1)<>"Sim",MOD(ROW()-6,12)>='Parâmetros'!$B$3),"",INDEX('Parâmetros'!$A$18:$A$117,INT((ROW()-6)/12)+1)) | C6: =IF(B6="","",INDEX('Parâmetros'!$B$18:$B$117,MATCH(B6,'Parâmetros'!$A$18:$A$117,0))) | D6: =IF(B6="","",INDEX('Parâmetros'!$I$18:$I$117,MATCH(B6,'Parâmetros'!$A$18:$A$117,0))) | E6: =IF(B6="","",IF(COUNTIFS('Histórico'!$B$6:$B$305,B6,'Histórico'!$A$6:$A$305,">="&EDATE(EOMONTH('Parâmetros'!$B$2,0)+1,-'Parâmetros'!$B$4),'Histórico'!$A$6:$A$305,"<="&'Parâmetros'!$B$2,'Histórico'!$L$6:$L$305,"OK")>='Parâmetros'!$B$11,AVERAGEIFS('Histórico'!$H$6:$H$305,'Histórico'!$B$6:$B$305,B6,'Histórico'!$A$6:$A$305,">="&EDATE(EOMONTH('Parâmetros'!$B$2,0)+1,-'Parâmetros'!$B$4),'Histórico'!$A$6:$A$305,"<="&'Parâmetros'!$B$2,'Histórico'!$L$6:$L$305,"OK"),IF(INDEX('Parâmetros'!$G$18:$G$117,MATCH(B6,'Parâmetros'!$A$18:$A$117,0))="","",INDEX('Parâmetros'!$G$18:$G$117,MATCH(B6,'Parâmetros'!$A$18:$A$117,0))))) | F6: =IF(B6="","",IF(COUNTIFS('Histórico'!$B$6:$B$305,B6,'Histórico'!$L$6:$L$305,"OK",'Histórico'!$M$6:$M$305,MONTH(A6),'Histórico'!$A$6:$A$305,"<="&'Parâmetros'!$B$2)>='Parâmetros'!$B$12,MAX('Parâmetros'!$B$13,MIN('Parâmetros'!$B$14,IFERROR(AVERAGEIFS('Histórico'!$H$6:$H$305,'Histórico'!$B$6:$B$305,B6,'Histórico'!$L$6:$L$305,"OK",'Histórico'!$M$6:$M$305,MONTH(A6),'Histórico'!$A$6:$A$305,"<="&'Parâmetros'!$B$2)/AVERAGEIFS('Histórico'!$H$6:$H$305,'Histórico'!$B$6:$B$305,B6,'Histórico'!$L$6:$L$305,"OK",'Histórico'!$A$6:$A$305,"<="&'Parâmetros'!$B$2),1))),1)) | G6: =IF(OR(A6="",B6=""),"",MAX(0.1,1+SUMPRODUCT(--('Eventos'!$B$6:$B$105<=EOMONTH(A6,0)),--('Eventos'!$C$6:$C$105>=A6),--((('Eventos'!$D$6:$D$105=B6)+('Eventos'!$D$6:$D$105="TODOS"))>0),--('Eventos'!$G$6:$G$105="Ativo"),--('Eventos'!$I$6:$I$105="OK"),'Eventos'!$F$6:$F$105))) | H6: =IF(OR(B6="",E6=""),"",MAX(0,E6*F6*G6)) | I6: =IF(H6="","",H6*'Parâmetros'!$B$6) | J6: =IF(H6="","",H6*'Parâmetros'!$B$7) | K6: =IF(H6="","",H6*'Parâmetros'!$B$8) | L6: =IF(H6="","",IF('Parâmetros'!$B$5="Conservador",I6,IF('Parâmetros'!$B$5="Otimista",K6,J6))) | M6: =IF(B6="","",IF(COUNTIFS('Histórico'!$B$6:$B$305,B6,'Histórico'!$J$6:$J$305,"<>")>='Parâmetros'!$B$10,AVERAGEIFS('Histórico'!$K$6:$K$305,'Histórico'!$B$6:$B$305,B6,'Histórico'!$J$6:$J$305,"<>"),'Parâmetros'!$B$9)) | N6: =IF(L6="","",MAX(0,L6*(1-M6))) | O6: =IF(L6="","",L6*(1+M6)) | P6: =IF(L6="","",IF(INDEX('Parâmetros'!$E$18:$E$117,MATCH(B6,'Parâmetros'!$A$18:$A$117,0))="","",INDEX('Parâmetros'!$E$18:$E$117,MATCH(B6,'Parâmetros'!$A$18:$A$117,0))+N(INDEX('Parâmetros'!$F$18:$F$117,MATCH(B6,'Parâmetros'!$A$18:$A$117,0)))-SUMIFS($L$6:L6,$B$6:B6,B6,$A$6:A6,"<="&A6))) | Q6: =IF(P6="","",MAX(0,-P6)) | R6: =IF(B6="","",IF(L6="","SEM BASE",IF(P6="","ESTOQUE NÃO INFORMADO",IF(P6<0,"RUPTURA PREVISTA",IF(D6="Sem histórico","USAR DEMANDA INICIAL",IF(D6="Histórico insuficiente","HISTÓRICO INSUFICIENTE","OK"))))))
