Workbook

Sheet Resumo
A1: Planejamento de Produtos Sazonais
A2: Data de análise | B2: ='Configurações'!$B$2
A4: Produtos cadastrados | E4: Janelas de venda ativas | I4: Ativações nos próximos dias
A5: =COUNTIF(Planejamento!$A$2:$A$151,"<>") | E5: =COUNTIFS(Planejamento!$A$2:$A$151,"<>",Planejamento!$G$2:$G$151,"<="&'Configurações'!$B$2,Planejamento!$H$2:$H$151,">="&'Configurações'!$B$2,Planejamento!$P$2:$P$151,"<>Cancelado") | I5: =COUNTIFS(Planejamento!$A$2:$A$151,"<>",Planejamento!$M$2:$M$151,">="&'Configurações'!$B$2,Planejamento!$M$2:$M$151,"<="&'Configurações'!$B$2+'Configurações'!$B$5,Planejamento!$P$2:$P$151,"Planejado")
I7: ="Janela considerada: "&'Configurações'!$B$5&" dias"
A8: Conteúdo atrasado | E8: Retiradas vencidas | I8: Risco pós-temporada alto
A9: =COUNTIF(Planejamento!$W$2:$W$151,"Conteúdo atrasado") | E9: =COUNTIF(Planejamento!$W$2:$W$151,"Retirada vencida") | I9: =COUNTIFS(Planejamento!$V$2:$V$151,"Alto",Planejamento!$P$2:$P$151,"<>Cancelado")
A13: Evento/safra | B13: Produtos | D13: Etapa atual | E13: Produtos | G13: Risco | H13: Produtos
A14: ='Configurações'!F2 | B14: =COUNTIFS(Planejamento!$E$2:$E$151,A14,Planejamento!$P$2:$P$151,"<>Cancelado") | D14: ='Configurações'!K2 | E14: =COUNTIF(Planejamento!$U$2:$U$151,D14) | G14: ='Configurações'!L2 | H14: =COUNTIFS(Planejamento!$V$2:$V$151,G14,Planejamento!$P$2:$P$151,"<>Cancelado")
A15: ='Configurações'!F3 | B15: =COUNTIFS(Planejamento!$E$2:$E$151,A15,Planejamento!$P$2:$P$151,"<>Cancelado") | D15: ='Configurações'!K3 | E15: =COUNTIF(Planejamento!$U$2:$U$151,D15) | G15: ='Configurações'!L3 | H15: =COUNTIFS(Planejamento!$V$2:$V$151,G15,Planejamento!$P$2:$P$151,"<>Cancelado")
A16: ='Configurações'!F4 | B16: =COUNTIFS(Planejamento!$E$2:$E$151,A16,Planejamento!$P$2:$P$151,"<>Cancelado") | D16: ='Configurações'!K4 | E16: =COUNTIF(Planejamento!$U$2:$U$151,D16) | G16: ='Configurações'!L4 | H16: =COUNTIFS(Planejamento!$V$2:$V$151,G16,Planejamento!$P$2:$P$151,"<>Cancelado")
A17: ='Configurações'!F5 | B17: =COUNTIFS(Planejamento!$E$2:$E$151,A17,Planejamento!$P$2:$P$151,"<>Cancelado") | D17: ='Configurações'!K5 | E17: =COUNTIF(Planejamento!$U$2:$U$151,D17) | G17: ='Configurações'!L5 | H17: =COUNTIFS(Planejamento!$V$2:$V$151,G17,Planejamento!$P$2:$P$151,"<>Cancelado")
A18: ='Configurações'!F6 | B18: =COUNTIFS(Planejamento!$E$2:$E$151,A18,Planejamento!$P$2:$P$151,"<>Cancelado") | D18: ='Configurações'!K6 | E18: =COUNTIF(Planejamento!$U$2:$U$151,D18)
A19: ='Configurações'!F7 | B19: =COUNTIFS(Planejamento!$E$2:$E$151,A19,Planejamento!$P$2:$P$151,"<>Cancelado") | D19: ='Configurações'!K7 | E19: =COUNTIF(Planejamento!$U$2:$U$151,D19)
A20: ='Configurações'!F8 | B20: =COUNTIFS(Planejamento!$E$2:$E$151,A20,Planejamento!$P$2:$P$151,"<>Cancelado") | D20: ='Configurações'!K8 | E20: =COUNTIF(Planejamento!$U$2:$U$151,D20)
A21: ='Configurações'!F9 | B21: =COUNTIFS(Planejamento!$E$2:$E$151,A21,Planejamento!$P$2:$P$151,"<>Cancelado") | D21: ='Configurações'!K9 | E21: =COUNTIF(Planejamento!$U$2:$U$151,D21)
A22: ='Configurações'!F10 | B22: =COUNTIFS(Planejamento!$E$2:$E$151,A22,Planejamento!$P$2:$P$151,"<>Cancelado") | D22: ='Configurações'!K10 | E22: =COUNTIF(Planejamento!$U$2:$U$151,D22)
A23: ='Configurações'!F11 | B23: =COUNTIFS(Planejamento!$E$2:$E$151,A23,Planejamento!$P$2:$P$151,"<>Cancelado")
A24: ='Configurações'!F12 | B24: =COUNTIFS(Planejamento!$E$2:$E$151,A24,Planejamento!$P$2:$P$151,"<>Cancelado")
A25: ='Configurações'!F13 | B25: =COUNTIFS(Planejamento!$E$2:$E$151,A25,Planejamento!$P$2:$P$151,"<>Cancelado")
A28: Verificação | B28: Quantidade | C28: Situação
A29: Linhas com SKU duplicado | B29: =SUMPRODUCT(--(Planejamento!$A$2:$A$151<>""),--(COUNTIF(Planejamento!$A$2:$A$151,Planejamento!$A$2:$A$151)>1)) | C29: =IF(B29=0,"OK","Revisar")
A30: Cadastros incompletos | B30: =COUNTIF(Planejamento!$W$2:$W$151,"Cadastro incompleto") | C30: =IF(B30=0,"OK","Revisar")
A31: Fim da venda antes do início | B31: =SUMPRODUCT(--(Planejamento!$A$2:$A$151<>""),--(Planejamento!$H$2:$H$151<Planejamento!$G$2:$G$151)) | C31: =IF(B31=0,"OK","Revisar")
A32: Prazos negativos | B32: =SUMPRODUCT(--(Planejamento!$A$2:$A$151<>""),--(((Planejamento!$I$2:$I$151<0)+(Planejamento!$J$2:$J$151<0)+(Planejamento!$K$2:$K$151<0))>0)) | C32: =IF(B32=0,"OK","Revisar")
A33: Conteúdo previsto após ativação | B33: =SUMPRODUCT(--(Planejamento!$A$2:$A$151<>""),--(Planejamento!$L$2:$L$151>Planejamento!$M$2:$M$151)) | C33: =IF(B33=0,"OK","Revisar")
A34: Histórico inconsistente | B34: =SUMPRODUCT(--(Planejamento!$A$2:$A$151<>""),--(((Planejamento!$S$2:$S$151<>"Sem histórico")*(((Planejamento!$Q$2:$Q$151="")+(Planejamento!$R$2:$R$151=""))>0)+(Planejamento!$S$2:$S$151="Sem histórico")*(((Planejamento!$Q$2:$Q$151<>"")+(Planejamento!$R$2:$R$151<>""))>0))>0)) | C34: =IF(B34=0,"OK","Revisar")
A35: Fórmulas de data ausentes | B35: =SUMPRODUCT(--(Planejamento!$A$2:$A$151<>""),--(((Planejamento!$L$2:$L$151="")+(Planejamento!$M$2:$M$151="")+(Planejamento!$N$2:$N$151=""))>0)) | C35: =IF(B35=0,"OK","Revisar")
A36: Ano/temporada fora da janela | B36: =SUMPRODUCT(--(Planejamento!$A$2:$A$151<>""),--(Planejamento!$F$2:$F$151<>YEAR(Planejamento!$G$2:$G$151)),--(Planejamento!$F$2:$F$151<>YEAR(Planejamento!$H$2:$H$151))) | C36: =IF(B36=0,"OK","Revisar")

Sheet Planejamento
A1: SKU | B1: Produto | C1: Categoria | D1: Canal | E1: Evento/safra | F1: Ano/temporada | G1: Início da janela de venda | H1: Fim da janela de venda | I1: Lead de conteúdo (dias) | J1: Antecedência de ativação (dias) | K1: Prazo para retirada (dias) | L1: Data limite de conteúdo | M1: Data de ativação | N1: Data de retirada | O1: Status do conteúdo | P1: Status comercial | Q1: Temporada histórica | R1: Demanda histórica (un.) | S1: Tendência histórica | T1: Reaproveitável após o evento? | U1: Etapa atual | V1: Risco pós-temporada | W1: Alerta | X1: Observações
A2: SAZ-001 | B2: Caderno Broto 10 Matérias | C2: Papelaria | D2: Loja virtual | E2: Volta às Aulas | F2: 2027 | G2: 46392 | H2: 46433 | I2: 45 | J2: 10 | K2: 3 | L2: =IF(OR($A2="",$G2="",$I2=""),"",$G2-$I2) | M2: =IF(OR($A2="",$G2="",$J2=""),"",$G2-$J2) | N2: =IF(OR($A2="",$H2="",$K2=""),"",$H2+$K2) | O2: Em produção | P2: Planejado | Q2: 2026 | R2: 820 | S2: Alta | T2: Sim | U2: =IF($A2="","",IF($P2="Cancelado","Cancelado",IF($P2="Retirado","Retirado",IF(OR($L2="",$M2="",$G2="",$H2="",$N2=""),"Revisar datas",IF('Configurações'!$B$2<$L2,"Preparar conteúdo",IF('Configurações'!$B$2<$M2,"Conteúdo devido",IF('Configurações'!$B$2<$G2,"Ativação programada",IF('Configurações'!$B$2<=$H2,"Janela comercial",IF('Configurações'!$B$2<=$N2,"Retirada pendente","Pós-temporada"))))))))) | V2: =IF($A2="","",IF(OR($H2="",$K2="",$N2="",$S2="",$T2=""),"Revisar",IF(AND('Configurações'!$B$2>$N2,$P2<>"Retirado",$P2<>"Cancelado"),"Alto",IF(AND($T2="Não",OR($S2="Baixa",$S2="Sem histórico",$K2>'Configurações'!$B$6)),"Alto",IF(OR($T2="Não",$S2="Baixa",$S2="Sem histórico",$K2>'Configurações'!$B$6),"Médio","Baixo"))))) | W2: =IF($A2="","",IF(OR($B2="",$C2="",$D2="",$E2="",$F2="",$G2="",$H2="",$I2="",$J2="",$K2="",$O2="",$P2="",$S2="",$T2=""),"Cadastro incompleto",IF($H2<$G2,"Erro: fim antes do início",IF(OR($I2<0,$J2<0,$K2<0),"Erro: prazo negativo",IF(AND($F2<>YEAR($G2),$F2<>YEAR($H2)),"Revisar ano/temporada",IF(AND($S2<>"Sem histórico",OR($Q2="",$R2="")),"Histórico incompleto",IF(AND($S2="Sem histórico",OR($Q2<>"",$R2<>"")),"Revisar histórico",IF($L2>$M2,"Revisar: conteúdo após ativação",IF(AND('Configurações'!$B$2>$N2,$P2<>"Retirado",$P2<>"Cancelado"),"Retirada vencida",IF(AND('Configurações'!$B$2>$L2,$O2<>"Pronto",$O2<>"Publicado",$P2<>"Cancelado",$P2<>"Retirado"),"Conteúdo atrasado",IF(AND('Configurações'!$B$2>=$M2,$P2="Planejado"),"Ativação pendente",IF(AND($G2-'Configurações'!$B$2>=0,$G2-'Configurações'!$B$2<='Configurações'!$B$5),"Janela próxima","Sem alerta")))))))))))) | X2: Atualizar imagens antes da ativação
A3: SAZ-002 | B3: Kit Confete Estelar | C3: Festas | D3: Marketplace A | E3: Carnaval | F3: 2027 | G3: 46402 | H3: 46435 | I3: 35 | J3: 7 | K3: 2 | L3: =IF(OR($A3="",$G3="",$I3=""),"",$G3-$I3) | M3: =IF(OR($A3="",$G3="",$J3=""),"",$G3-$J3) | N3: =IF(OR($A3="",$H3="",$K3=""),"",$H3+$K3) | O3: Não iniciado | P3: Planejado | Q3: 2026 | R3: 540 | S3: Estável | T3: Não | U3: =IF($A3="","",IF($P3="Cancelado","Cancelado",IF($P3="Retirado","Retirado",IF(OR($L3="",$M3="",$G3="",$H3="",$N3=""),"Revisar datas",IF('Configurações'!$B$2<$L3,"Preparar conteúdo",IF('Configurações'!$B$2<$M3,"Conteúdo devido",IF('Configurações'!$B$2<$G3,"Ativação programada",IF('Configurações'!$B$2<=$H3,"Janela comercial",IF('Configurações'!$B$2<=$N3,"Retirada pendente","Pós-temporada"))))))))) | V3: =IF($A3="","",IF(OR($H3="",$K3="",$N3="",$S3="",$T3=""),"Revisar",IF(AND('Configurações'!$B$2>$N3,$P3<>"Retirado",$P3<>"Cancelado"),"Alto",IF(AND($T3="Não",OR($S3="Baixa",$S3="Sem histórico",$K3>'Configurações'!$B$6)),"Alto",IF(OR($T3="Não",$S3="Baixa",$S3="Sem histórico",$K3>'Configurações'!$B$6),"Médio","Baixo"))))) | W3: =IF($A3="","",IF(OR($B3="",$C3="",$D3="",$E3="",$F3="",$G3="",$H3="",$I3="",$J3="",$K3="",$O3="",$P3="",$S3="",$T3=""),"Cadastro incompleto",IF($H3<$G3,"Erro: fim antes do início",IF(OR($I3<0,$J3<0,$K3<0),"Erro: prazo negativo",IF(AND($F3<>YEAR($G3),$F3<>YEAR($H3)),"Revisar ano/temporada",IF(AND($S3<>"Sem histórico",OR($Q3="",$R3="")),"Histórico incompleto",IF(AND($S3="Sem histórico",OR($Q3<>"",$R3<>"")),"Revisar histórico",IF($L3>$M3,"Revisar: conteúdo após ativação",IF(AND('Configurações'!$B$2>$N3,$P3<>"Retirado",$P3<>"Cancelado"),"Retirada vencida",IF(AND('Configurações'!$B$2>$L3,$O3<>"Pronto",$O3<>"Publicado",$P3<>"Cancelado",$P3<>"Retirado"),"Conteúdo atrasado",IF(AND('Configurações'!$B$2>=$M3,$P3="Planejado"),"Ativação pendente",IF(AND($G3-'Configurações'!$B$2>=0,$G3-'Configurações'!$B$2<='Configurações'!$B$5),"Janela próxima","Sem alerta")))))))))))) | X3: Conteúdo deve destacar uso em festas
A4: SAZ-003 | B4: Caixa Doce Coelho Lunar | C4: Alimentos presenteáveis | D4: Todos os canais | E4: Páscoa | F4: 2027 | G4: 46447 | H4: 46474 | I4: 50 | J4: 14 | K4: 1 | L4: =IF(OR($A4="",$G4="",$I4=""),"",$G4-$I4) | M4: =IF(OR($A4="",$G4="",$J4=""),"",$G4-$J4) | N4: =IF(OR($A4="",$H4="",$K4=""),"",$H4+$K4) | O4: Não iniciado | P4: Planejado | Q4: 2026 | R4: 1260 | S4: Alta | T4: Não | U4: =IF($A4="","",IF($P4="Cancelado","Cancelado",IF($P4="Retirado","Retirado",IF(OR($L4="",$M4="",$G4="",$H4="",$N4=""),"Revisar datas",IF('Configurações'!$B$2<$L4,"Preparar conteúdo",IF('Configurações'!$B$2<$M4,"Conteúdo devido",IF('Configurações'!$B$2<$G4,"Ativação programada",IF('Configurações'!$B$2<=$H4,"Janela comercial",IF('Configurações'!$B$2<=$N4,"Retirada pendente","Pós-temporada"))))))))) | V4: =IF($A4="","",IF(OR($H4="",$K4="",$N4="",$S4="",$T4=""),"Revisar",IF(AND('Configurações'!$B$2>$N4,$P4<>"Retirado",$P4<>"Cancelado"),"Alto",IF(AND($T4="Não",OR($S4="Baixa",$S4="Sem histórico",$K4>'Configurações'!$B$6)),"Alto",IF(OR($T4="Não",$S4="Baixa",$S4="Sem histórico",$K4>'Configurações'!$B$6),"Médio","Baixo"))))) | W4: =IF($A4="","",IF(OR($B4="",$C4="",$D4="",$E4="",$F4="",$G4="",$H4="",$I4="",$J4="",$K4="",$O4="",$P4="",$S4="",$T4=""),"Cadastro incompleto",IF($H4<$G4,"Erro: fim antes do início",IF(OR($I4<0,$J4<0,$K4<0),"Erro: prazo negativo",IF(AND($F4<>YEAR($G4),$F4<>YEAR($H4)),"Revisar ano/temporada",IF(AND($S4<>"Sem histórico",OR($Q4="",$R4="")),"Histórico incompleto",IF(AND($S4="Sem histórico",OR($Q4<>"",$R4<>"")),"Revisar histórico",IF($L4>$M4,"Revisar: conteúdo após ativação",IF(AND('Configurações'!$B$2>$N4,$P4<>"Retirado",$P4<>"Cancelado"),"Retirada vencida",IF(AND('Configurações'!$B$2>$L4,$O4<>"Pronto",$O4<>"Publicado",$P4<>"Cancelado",$P4<>"Retirado"),"Conteúdo atrasado",IF(AND('Configurações'!$B$2>=$M4,$P4="Planejado"),"Ativação pendente",IF(AND($G4-'Configurações'!$B$2>=0,$G4-'Configurações'!$B$2<='Configurações'!$B$5),"Janela próxima","Sem alerta")))))))))))) | X4: Embalagem temática de edição fictícia
A5: SAZ-004 | B5: Caneca Flores de Maio | C5: Presentes | D5: Loja virtual | E5: Dia das Mães | F5: 2026 | G5: 46127 | H5: 46152 | I5: 30 | J5: 7 | K5: 5 | L5: =IF(OR($A5="",$G5="",$I5=""),"",$G5-$I5) | M5: =IF(OR($A5="",$G5="",$J5=""),"",$G5-$J5) | N5: =IF(OR($A5="",$H5="",$K5=""),"",$H5+$K5) | O5: Publicado | P5: Retirado | Q5: 2025 | R5: 390 | S5: Estável | T5: Sim | U5: =IF($A5="","",IF($P5="Cancelado","Cancelado",IF($P5="Retirado","Retirado",IF(OR($L5="",$M5="",$G5="",$H5="",$N5=""),"Revisar datas",IF('Configurações'!$B$2<$L5,"Preparar conteúdo",IF('Configurações'!$B$2<$M5,"Conteúdo devido",IF('Configurações'!$B$2<$G5,"Ativação programada",IF('Configurações'!$B$2<=$H5,"Janela comercial",IF('Configurações'!$B$2<=$N5,"Retirada pendente","Pós-temporada"))))))))) | V5: =IF($A5="","",IF(OR($H5="",$K5="",$N5="",$S5="",$T5=""),"Revisar",IF(AND('Configurações'!$B$2>$N5,$P5<>"Retirado",$P5<>"Cancelado"),"Alto",IF(AND($T5="Não",OR($S5="Baixa",$S5="Sem histórico",$K5>'Configurações'!$B$6)),"Alto",IF(OR($T5="Não",$S5="Baixa",$S5="Sem histórico",$K5>'Configurações'!$B$6),"Médio","Baixo"))))) | W5: =IF($A5="","",IF(OR($B5="",$C5="",$D5="",$E5="",$F5="",$G5="",$H5="",$I5="",$J5="",$K5="",$O5="",$P5="",$S5="",$T5=""),"Cadastro incompleto",IF($H5<$G5,"Erro: fim antes do início",IF(OR($I5<0,$J5<0,$K5<0),"Erro: prazo negativo",IF(AND($F5<>YEAR($G5),$F5<>YEAR($H5)),"Revisar ano/temporada",IF(AND($S5<>"Sem histórico",OR($Q5="",$R5="")),"Histórico incompleto",IF(AND($S5="Sem histórico",OR($Q5<>"",$R5<>"")),"Revisar histórico",IF($L5>$M5,"Revisar: conteúdo após ativação",IF(AND('Configurações'!$B$2>$N5,$P5<>"Retirado",$P5<>"Cancelado"),"Retirada vencida",IF(AND('Configurações'!$B$2>$L5,$O5<>"Pronto",$O5<>"Publicado",$P5<>"Cancelado",$P5<>"Retirado"),"Conteúdo atrasado",IF(AND('Configurações'!$B$2>=$M5,$P5="Planejado"),"Ativação pendente",IF(AND($G5-'Configurações'!$B$2>=0,$G5-'Configurações'!$B$2<='Configurações'!$B$5),"Janela próxima","Sem alerta")))))))))))) | X5: Produto mantido fora da campanha temática
A6: SAZ-005 | B6: Bandeirola Arraiá de Papel | C6: Decoração | D6: Marketplace B | E6: Festa Junina | F6: 2026 | G6: 46162 | H6: 46203 | I6: 25 | J6: 7 | K6: 7 | L6: =IF(OR($A6="",$G6="",$I6=""),"",$G6-$I6) | M6: =IF(OR($A6="",$G6="",$J6=""),"",$G6-$J6) | N6: =IF(OR($A6="",$H6="",$K6=""),"",$H6+$K6) | O6: Publicado | P6: Retirado | Q6: 2025 | R6: 710 | S6: Baixa | T6: Não | U6: =IF($A6="","",IF($P6="Cancelado","Cancelado",IF($P6="Retirado","Retirado",IF(OR($L6="",$M6="",$G6="",$H6="",$N6=""),"Revisar datas",IF('Configurações'!$B$2<$L6,"Preparar conteúdo",IF('Configurações'!$B$2<$M6,"Conteúdo devido",IF('Configurações'!$B$2<$G6,"Ativação programada",IF('Configurações'!$B$2<=$H6,"Janela comercial",IF('Configurações'!$B$2<=$N6,"Retirada pendente","Pós-temporada"))))))))) | V6: =IF($A6="","",IF(OR($H6="",$K6="",$N6="",$S6="",$T6=""),"Revisar",IF(AND('Configurações'!$B$2>$N6,$P6<>"Retirado",$P6<>"Cancelado"),"Alto",IF(AND($T6="Não",OR($S6="Baixa",$S6="Sem histórico",$K6>'Configurações'!$B$6)),"Alto",IF(OR($T6="Não",$S6="Baixa",$S6="Sem histórico",$K6>'Configurações'!$B$6),"Médio","Baixo"))))) | W6: =IF($A6="","",IF(OR($B6="",$C6="",$D6="",$E6="",$F6="",$G6="",$H6="",$I6="",$J6="",$K6="",$O6="",$P6="",$S6="",$T6=""),"Cadastro incompleto",IF($H6<$G6,"Erro: fim antes do início",IF(OR($I6<0,$J6<0,$K6<0),"Erro: prazo negativo",IF(AND($F6<>YEAR($G6),$F6<>YEAR($H6)),"Revisar ano/temporada",IF(AND($S6<>"Sem histórico",OR($Q6="",$R6="")),"Histórico incompleto",IF(AND($S6="Sem histórico",OR($Q6<>"",$R6<>"")),"Revisar histórico",IF($L6>$M6,"Revisar: conteúdo após ativação",IF(AND('Configurações'!$B$2>$N6,$P6<>"Retirado",$P6<>"Cancelado"),"Retirada vencida",IF(AND('Configurações'!$B$2>$L6,$O6<>"Pronto",$O6<>"Publicado",$P6<>"Cancelado",$P6<>"Retirado"),"Conteúdo atrasado",IF(AND('Configurações'!$B$2>=$M6,$P6="Planejado"),"Ativação pendente",IF(AND($G6-'Configurações'!$B$2>=0,$G6-'Configurações'!$B$2<='Configurações'!$B$5),"Janela próxima","Sem alerta")))))))))))) | X6: Material com comunicação específica do evento
A7: SAZ-006 | B7: Manta Brisa Serrana | C7: Casa e conforto | D7: Todos os canais | E7: Inverno | F7: 2026 | G7: 46174 | H7: 46287 | I7: 40 | J7: 14 | K7: 10 | L7: =IF(OR($A7="",$G7="",$I7=""),"",$G7-$I7) | M7: =IF(OR($A7="",$G7="",$J7=""),"",$G7-$J7) | N7: =IF(OR($A7="",$H7="",$K7=""),"",$H7+$K7) | O7: Publicado | P7: Ativo | Q7: 2025 | R7: 930 | S7: Alta | T7: Sim | U7: =IF($A7="","",IF($P7="Cancelado","Cancelado",IF($P7="Retirado","Retirado",IF(OR($L7="",$M7="",$G7="",$H7="",$N7=""),"Revisar datas",IF('Configurações'!$B$2<$L7,"Preparar conteúdo",IF('Configurações'!$B$2<$M7,"Conteúdo devido",IF('Configurações'!$B$2<$G7,"Ativação programada",IF('Configurações'!$B$2<=$H7,"Janela comercial",IF('Configurações'!$B$2<=$N7,"Retirada pendente","Pós-temporada"))))))))) | V7: =IF($A7="","",IF(OR($H7="",$K7="",$N7="",$S7="",$T7=""),"Revisar",IF(AND('Configurações'!$B$2>$N7,$P7<>"Retirado",$P7<>"Cancelado"),"Alto",IF(AND($T7="Não",OR($S7="Baixa",$S7="Sem histórico",$K7>'Configurações'!$B$6)),"Alto",IF(OR($T7="Não",$S7="Baixa",$S7="Sem histórico",$K7>'Configurações'!$B$6),"Médio","Baixo"))))) | W7: =IF($A7="","",IF(OR($B7="",$C7="",$D7="",$E7="",$F7="",$G7="",$H7="",$I7="",$J7="",$K7="",$O7="",$P7="",$S7="",$T7=""),"Cadastro incompleto",IF($H7<$G7,"Erro: fim antes do início",IF(OR($I7<0,$J7<0,$K7<0),"Erro: prazo negativo",IF(AND($F7<>YEAR($G7),$F7<>YEAR($H7)),"Revisar ano/temporada",IF(AND($S7<>"Sem histórico",OR($Q7="",$R7="")),"Histórico incompleto",IF(AND($S7="Sem histórico",OR($Q7<>"",$R7<>"")),"Revisar histórico",IF($L7>$M7,"Revisar: conteúdo após ativação",IF(AND('Configurações'!$B$2>$N7,$P7<>"Retirado",$P7<>"Cancelado"),"Retirada vencida",IF(AND('Configurações'!$B$2>$L7,$O7<>"Pronto",$O7<>"Publicado",$P7<>"Cancelado",$P7<>"Retirado"),"Conteúdo atrasado",IF(AND('Configurações'!$B$2>=$M7,$P7="Planejado"),"Ativação pendente",IF(AND($G7-'Configurações'!$B$2>=0,$G7-'Configurações'!$B$2<='Configurações'!$B$5),"Janela próxima","Sem alerta")))))))))))) | X7: Manter destaque até o fim da janela
A8: SAZ-007 | B8: Estojo Superpai Geométrico | C8: Presentes | D8: Marketplace A | E8: Dia dos Pais | F8: 2026 | G8: 46223 | H8: 46243 | I8: 30 | J8: 7 | K8: 2 | L8: =IF(OR($A8="",$G8="",$I8=""),"",$G8-$I8) | M8: =IF(OR($A8="",$G8="",$J8=""),"",$G8-$J8) | N8: =IF(OR($A8="",$H8="",$K8=""),"",$H8+$K8) | O8: Publicado | P8: Ativo | Q8: 2025 | R8: 280 | S8: Estável | T8: Não | U8: =IF($A8="","",IF($P8="Cancelado","Cancelado",IF($P8="Retirado","Retirado",IF(OR($L8="",$M8="",$G8="",$H8="",$N8=""),"Revisar datas",IF('Configurações'!$B$2<$L8,"Preparar conteúdo",IF('Configurações'!$B$2<$M8,"Conteúdo devido",IF('Configurações'!$B$2<$G8,"Ativação programada",IF('Configurações'!$B$2<=$H8,"Janela comercial",IF('Configurações'!$B$2<=$N8,"Retirada pendente","Pós-temporada"))))))))) | V8: =IF($A8="","",IF(OR($H8="",$K8="",$N8="",$S8="",$T8=""),"Revisar",IF(AND('Configurações'!$B$2>$N8,$P8<>"Retirado",$P8<>"Cancelado"),"Alto",IF(AND($T8="Não",OR($S8="Baixa",$S8="Sem histórico",$K8>'Configurações'!$B$6)),"Alto",IF(OR($T8="Não",$S8="Baixa",$S8="Sem histórico",$K8>'Configurações'!$B$6),"Médio","Baixo"))))) | W8: =IF($A8="","",IF(OR($B8="",$C8="",$D8="",$E8="",$F8="",$G8="",$H8="",$I8="",$J8="",$K8="",$O8="",$P8="",$S8="",$T8=""),"Cadastro incompleto",IF($H8<$G8,"Erro: fim antes do início",IF(OR($I8<0,$J8<0,$K8<0),"Erro: prazo negativo",IF(AND($F8<>YEAR($G8),$F8<>YEAR($H8)),"Revisar ano/temporada",IF(AND($S8<>"Sem histórico",OR($Q8="",$R8="")),"Histórico incompleto",IF(AND($S8="Sem histórico",OR($Q8<>"",$R8<>"")),"Revisar histórico",IF($L8>$M8,"Revisar: conteúdo após ativação",IF(AND('Configurações'!$B$2>$N8,$P8<>"Retirado",$P8<>"Cancelado"),"Retirada vencida",IF(AND('Configurações'!$B$2>$L8,$O8<>"Pronto",$O8<>"Publicado",$P8<>"Cancelado",$P8<>"Retirado"),"Conteúdo atrasado",IF(AND('Configurações'!$B$2>=$M8,$P8="Planejado"),"Ativação pendente",IF(AND($G8-'Configurações'!$B$2>=0,$G8-'Configurações'!$B$2<='Configurações'!$B$5),"Janela próxima","Sem alerta")))))))))))) | X8: Retirada comercial ainda não concluída
A9: SAZ-008 | B9: Vaso Jardim Aurora | C9: Casa e jardim | D9: Loja virtual | E9: Primavera | F9: 2026 | G9: 46277 | H9: 46295 | I9: 20 | J9: 5 | K9: 5 | L9: =IF(OR($A9="",$G9="",$I9=""),"",$G9-$I9) | M9: =IF(OR($A9="",$G9="",$J9=""),"",$G9-$J9) | N9: =IF(OR($A9="",$H9="",$K9=""),"",$H9+$K9) | O9: Em produção | P9: Planejado | Q9: 2025 | R9: 460 | S9: Estável | T9: Sim | U9: =IF($A9="","",IF($P9="Cancelado","Cancelado",IF($P9="Retirado","Retirado",IF(OR($L9="",$M9="",$G9="",$H9="",$N9=""),"Revisar datas",IF('Configurações'!$B$2<$L9,"Preparar conteúdo",IF('Configurações'!$B$2<$M9,"Conteúdo devido",IF('Configurações'!$B$2<$G9,"Ativação programada",IF('Configurações'!$B$2<=$H9,"Janela comercial",IF('Configurações'!$B$2<=$N9,"Retirada pendente","Pós-temporada"))))))))) | V9: =IF($A9="","",IF(OR($H9="",$K9="",$N9="",$S9="",$T9=""),"Revisar",IF(AND('Configurações'!$B$2>$N9,$P9<>"Retirado",$P9<>"Cancelado"),"Alto",IF(AND($T9="Não",OR($S9="Baixa",$S9="Sem histórico",$K9>'Configurações'!$B$6)),"Alto",IF(OR($T9="Não",$S9="Baixa",$S9="Sem histórico",$K9>'Configurações'!$B$6),"Médio","Baixo"))))) | W9: =IF($A9="","",IF(OR($B9="",$C9="",$D9="",$E9="",$F9="",$G9="",$H9="",$I9="",$J9="",$K9="",$O9="",$P9="",$S9="",$T9=""),"Cadastro incompleto",IF($H9<$G9,"Erro: fim antes do início",IF(OR($I9<0,$J9<0,$K9<0),"Erro: prazo negativo",IF(AND($F9<>YEAR($G9),$F9<>YEAR($H9)),"Revisar ano/temporada",IF(AND($S9<>"Sem histórico",OR($Q9="",$R9="")),"Histórico incompleto",IF(AND($S9="Sem histórico",OR($Q9<>"",$R9<>"")),"Revisar histórico",IF($L9>$M9,"Revisar: conteúdo após ativação",IF(AND('Configurações'!$B$2>$N9,$P9<>"Retirado",$P9<>"Cancelado"),"Retirada vencida",IF(AND('Configurações'!$B$2>$L9,$O9<>"Pronto",$O9<>"Publicado",$P9<>"Cancelado",$P9<>"Retirado"),"Conteúdo atrasado",IF(AND('Configurações'!$B$2>=$M9,$P9="Planejado"),"Ativação pendente",IF(AND($G9-'Configurações'!$B$2>=0,$G9-'Configurações'!$B$2<='Configurações'!$B$5),"Janela próxima","Sem alerta")))))))))))) | X9: Revisar descrição e fotos
A10: SAZ-009 | B10: Fantasia Foguete Mirim | C10: Fantasias | D10: Marketplace B | E10: Dia das Crianças | F10: 2026 | G10: 46280 | H10: 46307 | I10: 35 | J10: 10 | K10: 3 | L10: =IF(OR($A10="",$G10="",$I10=""),"",$G10-$I10) | M10: =IF(OR($A10="",$G10="",$J10=""),"",$G10-$J10) | N10: =IF(OR($A10="",$H10="",$K10=""),"",$H10+$K10) | O10: Pronto | P10: Ativo | S10: Sem histórico | T10: Não | U10: =IF($A10="","",IF($P10="Cancelado","Cancelado",IF($P10="Retirado","Retirado",IF(OR($L10="",$M10="",$G10="",$H10="",$N10=""),"Revisar datas",IF('Configurações'!$B$2<$L10,"Preparar conteúdo",IF('Configurações'!$B$2<$M10,"Conteúdo devido",IF('Configurações'!$B$2<$G10,"Ativação programada",IF('Configurações'!$B$2<=$H10,"Janela comercial",IF('Configurações'!$B$2<=$N10,"Retirada pendente","Pós-temporada"))))))))) | V10: =IF($A10="","",IF(OR($H10="",$K10="",$N10="",$S10="",$T10=""),"Revisar",IF(AND('Configurações'!$B$2>$N10,$P10<>"Retirado",$P10<>"Cancelado"),"Alto",IF(AND($T10="Não",OR($S10="Baixa",$S10="Sem histórico",$K10>'Configurações'!$B$6)),"Alto",IF(OR($T10="Não",$S10="Baixa",$S10="Sem histórico",$K10>'Configurações'!$B$6),"Médio","Baixo"))))) | W10: =IF($A10="","",IF(OR($B10="",$C10="",$D10="",$E10="",$F10="",$G10="",$H10="",$I10="",$J10="",$K10="",$O10="",$P10="",$S10="",$T10=""),"Cadastro incompleto",IF($H10<$G10,"Erro: fim antes do início",IF(OR($I10<0,$J10<0,$K10<0),"Erro: prazo negativo",IF(AND($F10<>YEAR($G10),$F10<>YEAR($H10)),"Revisar ano/temporada",IF(AND($S10<>"Sem histórico",OR($Q10="",$R10="")),"Histórico incompleto",IF(AND($S10="Sem histórico",OR($Q10<>"",$R10<>"")),"Revisar histórico",IF($L10>$M10,"Revisar: conteúdo após ativação",IF(AND('Configurações'!$B$2>$N10,$P10<>"Retirado",$P10<>"Cancelado"),"Retirada vencida",IF(AND('Configurações'!$B$2>$L10,$O10<>"Pronto",$O10<>"Publicado",$P10<>"Cancelado",$P10<>"Retirado"),"Conteúdo atrasado",IF(AND('Configurações'!$B$2>=$M10,$P10="Planejado"),"Ativação pendente",IF(AND($G10-'Configurações'!$B$2>=0,$G10-'Configurações'!$B$2<='Configurações'!$B$5),"Janela próxima","Sem alerta")))))))))))) | X10: Primeiro ciclo comercial do item
A11: SAZ-010 | B11: Enfeite Pinheiro de Feltro | C11: Decoração | D11: Todos os canais | E11: Natal | F11: 2026 | G11: 46327 | H11: 46381 | I11: 60 | J11: 15 | K11: 5 | L11: =IF(OR($A11="",$G11="",$I11=""),"",$G11-$I11) | M11: =IF(OR($A11="",$G11="",$J11=""),"",$G11-$J11) | N11: =IF(OR($A11="",$H11="",$K11=""),"",$H11+$K11) | O11: Não iniciado | P11: Planejado | Q11: 2025 | R11: 1600 | S11: Alta | T11: Não | U11: =IF($A11="","",IF($P11="Cancelado","Cancelado",IF($P11="Retirado","Retirado",IF(OR($L11="",$M11="",$G11="",$H11="",$N11=""),"Revisar datas",IF('Configurações'!$B$2<$L11,"Preparar conteúdo",IF('Configurações'!$B$2<$M11,"Conteúdo devido",IF('Configurações'!$B$2<$G11,"Ativação programada",IF('Configurações'!$B$2<=$H11,"Janela comercial",IF('Configurações'!$B$2<=$N11,"Retirada pendente","Pós-temporada"))))))))) | V11: =IF($A11="","",IF(OR($H11="",$K11="",$N11="",$S11="",$T11=""),"Revisar",IF(AND('Configurações'!$B$2>$N11,$P11<>"Retirado",$P11<>"Cancelado"),"Alto",IF(AND($T11="Não",OR($S11="Baixa",$S11="Sem histórico",$K11>'Configurações'!$B$6)),"Alto",IF(OR($T11="Não",$S11="Baixa",$S11="Sem histórico",$K11>'Configurações'!$B$6),"Médio","Baixo"))))) | W11: =IF($A11="","",IF(OR($B11="",$C11="",$D11="",$E11="",$F11="",$G11="",$H11="",$I11="",$J11="",$K11="",$O11="",$P11="",$S11="",$T11=""),"Cadastro incompleto",IF($H11<$G11,"Erro: fim antes do início",IF(OR($I11<0,$J11<0,$K11<0),"Erro: prazo negativo",IF(AND($F11<>YEAR($G11),$F11<>YEAR($H11)),"Revisar ano/temporada",IF(AND($S11<>"Sem histórico",OR($Q11="",$R11="")),"Histórico incompleto",IF(AND($S11="Sem histórico",OR($Q11<>"",$R11<>"")),"Revisar histórico",IF($L11>$M11,"Revisar: conteúdo após ativação",IF(AND('Configurações'!$B$2>$N11,$P11<>"Retirado",$P11<>"Cancelado"),"Retirada vencida",IF(AND('Configurações'!$B$2>$L11,$O11<>"Pronto",$O11<>"Publicado",$P11<>"Cancelado",$P11<>"Retirado"),"Conteúdo atrasado",IF(AND('Configurações'!$B$2>=$M11,$P11="Planejado"),"Ativação pendente",IF(AND($G11-'Configurações'!$B$2>=0,$G11-'Configurações'!$B$2<='Configurações'!$B$5),"Janela próxima","Sem alerta")))))))))))) | X11: Conteúdo natalino ainda não finalizado
L12: =IF(OR($A12="",$G12="",$I12=""),"",$G12-$I12) | M12: =IF(OR($A12="",$G12="",$J12=""),"",$G12-$J12) | N12: =IF(OR($A12="",$H12="",$K12=""),"",$H12+$K12) | U12: =IF($A12="","",IF($P12="Cancelado","Cancelado",IF($P12="Retirado","Retirado",IF(OR($L12="",$M12="",$G12="",$H12="",$N12=""),"Revisar datas",IF('Configurações'!$B$2<$L12,"Preparar conteúdo",IF('Configurações'!$B$2<$M12,"Conteúdo devido",IF('Configurações'!$B$2<$G12,"Ativação programada",IF('Configurações'!$B$2<=$H12,"Janela comercial",IF('Configurações'!$B$2<=$N12,"Retirada pendente","Pós-temporada"))))))))) | V12: =IF($A12="","",IF(OR($H12="",$K12="",$N12="",$S12="",$T12=""),"Revisar",IF(AND('Configurações'!$B$2>$N12,$P12<>"Retirado",$P12<>"Cancelado"),"Alto",IF(AND($T12="Não",OR($S12="Baixa",$S12="Sem histórico",$K12>'Configurações'!$B$6)),"Alto",IF(OR($T12="Não",$S12="Baixa",$S12="Sem histórico",$K12>'Configurações'!$B$6),"Médio","Baixo"))))) | W12: =IF($A12="","",IF(OR($B12="",$C12="",$D12="",$E12="",$F12="",$G12="",$H12="",$I12="",$J12="",$K12="",$O12="",$P12="",$S12="",$T12=""),"Cadastro incompleto",IF($H12<$G12,"Erro: fim antes do início",IF(OR($I12<0,$J12<0,$K12<0),"Erro: prazo negativo",IF(AND($F12<>YEAR($G12),$F12<>YEAR($H12)),"Revisar ano/temporada",IF(AND($S12<>"Sem histórico",OR($Q12="",$R12="")),"Histórico incompleto",IF(AND($S12="Sem histórico",OR($Q12<>"",$R12<>"")),"Revisar histórico",IF($L12>$M12,"Revisar: conteúdo após ativação",IF(AND('Configurações'!$B$2>$N12,$P12<>"Retirado",$P12<>"Cancelado"),"Retirada vencida",IF(AND('Configurações'!$B$2>$L12,$O12<>"Pronto",$O12<>"Publicado",$P12<>"Cancelado",$P12<>"Retirado"),"Conteúdo atrasado",IF(AND('Configurações'!$B$2>=$M12,$P12="Planejado"),"Ativação pendente",IF(AND($G12-'Configurações'!$B$2>=0,$G12-'Configurações'!$B$2<='Configurações'!$B$5),"Janela próxima","Sem alerta"))))))))))))
L13: =IF(OR($A13="",$G13="",$I13=""),"",$G13-$I13) | M13: =IF(OR($A13="",$G13="",$J13=""),"",$G13-$J13) | N13: =IF(OR($A13="",$H13="",$K13=""),"",$H13+$K13) | U13: =IF($A13="","",IF($P13="Cancelado","Cancelado",IF($P13="Retirado","Retirado",IF(OR($L13="",$M13="",$G13="",$H13="",$N13=""),"Revisar datas",IF('Configurações'!$B$2<$L13,"Preparar conteúdo",IF('Configurações'!$B$2<$M13,"Conteúdo devido",IF('Configurações'!$B$2<$G13,"Ativação programada",IF('Configurações'!$B$2<=$H13,"Janela comercial",IF('Configurações'!$B$2<=$N13,"Retirada pendente","Pós-temporada"))))))))) | V13: =IF($A13="","",IF(OR($H13="",$K13="",$N13="",$S13="",$T13=""),"Revisar",IF(AND('Configurações'!$B$2>$N13,$P13<>"Retirado",$P13<>"Cancelado"),"Alto",IF(AND($T13="Não",OR($S13="Baixa",$S13="Sem histórico",$K13>'Configurações'!$B$6)),"Alto",IF(OR($T13="Não",$S13="Baixa",$S13="Sem histórico",$K13>'Configurações'!$B$6),"Médio","Baixo"))))) | W13: =IF($A13="","",IF(OR($B13="",$C13="",$D13="",$E13="",$F13="",$G13="",$H13="",$I13="",$J13="",$K13="",$O13="",$P13="",$S13="",$T13=""),"Cadastro incompleto",IF($H13<$G13,"Erro: fim antes do início",IF(OR($I13<0,$J13<0,$K13<0),"Erro: prazo negativo",IF(AND($F13<>YEAR($G13),$F13<>YEAR($H13)),"Revisar ano/temporada",IF(AND($S13<>"Sem histórico",OR($Q13="",$R13="")),"Histórico incompleto",IF(AND($S13="Sem histórico",OR($Q13<>"",$R13<>"")),"Revisar histórico",IF($L13>$M13,"Revisar: conteúdo após ativação",IF(AND('Configurações'!$B$2>$N13,$P13<>"Retirado",$P13<>"Cancelado"),"Retirada vencida",IF(AND('Configurações'!$B$2>$L13,$O13<>"Pronto",$O13<>"Publicado",$P13<>"Cancelado",$P13<>"Retirado"),"Conteúdo atrasado",IF(AND('Configurações'!$B$2>=$M13,$P13="Planejado"),"Ativação pendente",IF(AND($G13-'Configurações'!$B$2>=0,$G13-'Configurações'!$B$2<='Configurações'!$B$5),"Janela próxima","Sem alerta"))))))))))))
L14: =IF(OR($A14="",$G14="",$I14=""),"",$G14-$I14) | M14: =IF(OR($A14="",$G14="",$J14=""),"",$G14-$J14) | N14: =IF(OR($A14="",$H14="",$K14=""),"",$H14+$K14) | U14: =IF($A14="","",IF($P14="Cancelado","Cancelado",IF($P14="Retirado","Retirado",IF(OR($L14="",$M14="",$G14="",$H14="",$N14=""),"Revisar datas",IF('Configurações'!$B$2<$L14,"Preparar conteúdo",IF('Configurações'!$B$2<$M14,"Conteúdo devido",IF('Configurações'!$B$2<$G14,"Ativação programada",IF('Configurações'!$B$2<=$H14,"Janela comercial",IF('Configurações'!$B$2<=$N14,"Retirada pendente","Pós-temporada"))))))))) | V14: =IF($A14="","",IF(OR($H14="",$K14="",$N14="",$S14="",$T14=""),"Revisar",IF(AND('Configurações'!$B$2>$N14,$P14<>"Retirado",$P14<>"Cancelado"),"Alto",IF(AND($T14="Não",OR($S14="Baixa",$S14="Sem histórico",$K14>'Configurações'!$B$6)),"Alto",IF(OR($T14="Não",$S14="Baixa",$S14="Sem histórico",$K14>'Configurações'!$B$6),"Médio","Baixo"))))) | W14: =IF($A14="","",IF(OR($B14="",$C14="",$D14="",$E14="",$F14="",$G14="",$H14="",$I14="",$J14="",$K14="",$O14="",$P14="",$S14="",$T14=""),"Cadastro incompleto",IF($H14<$G14,"Erro: fim antes do início",IF(OR($I14<0,$J14<0,$K14<0),"Erro: prazo negativo",IF(AND($F14<>YEAR($G14),$F14<>YEAR($H14)),"Revisar ano/temporada",IF(AND($S14<>"Sem histórico",OR($Q14="",$R14="")),"Histórico incompleto",IF(AND($S14="Sem histórico",OR($Q14<>"",$R14<>"")),"Revisar histórico",IF($L14>$M14,"Revisar: conteúdo após ativação",IF(AND('Configurações'!$B$2>$N14,$P14<>"Retirado",$P14<>"Cancelado"),"Retirada vencida",IF(AND('Configurações'!$B$2>$L14,$O14<>"Pronto",$O14<>"Publicado",$P14<>"Cancelado",$P14<>"Retirado"),"Conteúdo atrasado",IF(AND('Configurações'!$B$2>=$M14,$P14="Planejado"),"Ativação pendente",IF(AND($G14-'Configurações'!$B$2>=0,$G14-'Configurações'!$B$2<='Configurações'!$B$5),"Janela próxima","Sem alerta"))))))))))))
L15: =IF(OR($A15="",$G15="",$I15=""),"",$G15-$I15) | M15: =IF(OR($A15="",$G15="",$J15=""),"",$G15-$J15) | N15: =IF(OR($A15="",$H15="",$K15=""),"",$H15+$K15) | U15: =IF($A15="","",IF($P15="Cancelado","Cancelado",IF($P15="Retirado","Retirado",IF(OR($L15="",$M15="",$G15="",$H15="",$N15=""),"Revisar datas",IF('Configurações'!$B$2<$L15,"Preparar conteúdo",IF('Configurações'!$B$2<$M15,"Conteúdo devido",IF('Configurações'!$B$2<$G15,"Ativação programada",IF('Configurações'!$B$2<=$H15,"Janela comercial",IF('Configurações'!$B$2<=$N15,"Retirada pendente","Pós-temporada"))))))))) | V15: =IF($A15="","",IF(OR($H15="",$K15="",$N15="",$S15="",$T15=""),"Revisar",IF(AND('Configurações'!$B$2>$N15,$P15<>"Retirado",$P15<>"Cancelado"),"Alto",IF(AND($T15="Não",OR($S15="Baixa",$S15="Sem histórico",$K15>'Configurações'!$B$6)),"Alto",IF(OR($T15="Não",$S15="Baixa",$S15="Sem histórico",$K15>'Configurações'!$B$6),"Médio","Baixo"))))) | W15: =IF($A15="","",IF(OR($B15="",$C15="",$D15="",$E15="",$F15="",$G15="",$H15="",$I15="",$J15="",$K15="",$O15="",$P15="",$S15="",$T15=""),"Cadastro incompleto",IF($H15<$G15,"Erro: fim antes do início",IF(OR($I15<0,$J15<0,$K15<0),"Erro: prazo negativo",IF(AND($F15<>YEAR($G15),$F15<>YEAR($H15)),"Revisar ano/temporada",IF(AND($S15<>"Sem histórico",OR($Q15="",$R15="")),"Histórico incompleto",IF(AND($S15="Sem histórico",OR($Q15<>"",$R15<>"")),"Revisar histórico",IF($L15>$M15,"Revisar: conteúdo após ativação",IF(AND('Configurações'!$B$2>$N15,$P15<>"Retirado",$P15<>"Cancelado"),"Retirada vencida",IF(AND('Configurações'!$B$2>$L15,$O15<>"Pronto",$O15<>"Publicado",$P15<>"Cancelado",$P15<>"Retirado"),"Conteúdo atrasado",IF(AND('Configurações'!$B$2>=$M15,$P15="Planejado"),"Ativação pendente",IF(AND($G15-'Configurações'!$B$2>=0,$G15-'Configurações'!$B$2<='Configurações'!$B$5),"Janela próxima","Sem alerta"))))))))))))
L16: =IF(OR($A16="",$G16="",$I16=""),"",$G16-$I16) | M16: =IF(OR($A16="",$G16="",$J16=""),"",$G16-$J16) | N16: =IF(OR($A16="",$H16="",$K16=""),"",$H16+$K16) | U16: =IF($A16="","",IF($P16="Cancelado","Cancelado",IF($P16="Retirado","Retirado",IF(OR($L16="",$M16="",$G16="",$H16="",$N16=""),"Revisar datas",IF('Configurações'!$B$2<$L16,"Preparar conteúdo",IF('Configurações'!$B$2<$M16,"Conteúdo devido",IF('Configurações'!$B$2<$G16,"Ativação programada",IF('Configurações'!$B$2<=$H16,"Janela comercial",IF('Configurações'!$B$2<=$N16,"Retirada pendente","Pós-temporada"))))))))) | V16: =IF($A16="","",IF(OR($H16="",$K16="",$N16="",$S16="",$T16=""),"Revisar",IF(AND('Configurações'!$B$2>$N16,$P16<>"Retirado",$P16<>"Cancelado"),"Alto",IF(AND($T16="Não",OR($S16="Baixa",$S16="Sem histórico",$K16>'Configurações'!$B$6)),"Alto",IF(OR($T16="Não",$S16="Baixa",$S16="Sem histórico",$K16>'Configurações'!$B$6),"Médio","Baixo"))))) | W16: =IF($A16="","",IF(OR($B16="",$C16="",$D16="",$E16="",$F16="",$G16="",$H16="",$I16="",$J16="",$K16="",$O16="",$P16="",$S16="",$T16=""),"Cadastro incompleto",IF($H16<$G16,"Erro: fim antes do início",IF(OR($I16<0,$J16<0,$K16<0),"Erro: prazo negativo",IF(AND($F16<>YEAR($G16),$F16<>YEAR($H16)),"Revisar ano/temporada",IF(AND($S16<>"Sem histórico",OR($Q16="",$R16="")),"Histórico incompleto",IF(AND($S16="Sem histórico",OR($Q16<>"",$R16<>"")),"Revisar histórico",IF($L16>$M16,"Revisar: conteúdo após ativação",IF(AND('Configurações'!$B$2>$N16,$P16<>"Retirado",$P16<>"Cancelado"),"Retirada vencida",IF(AND('Configurações'!$B$2>$L16,$O16<>"Pronto",$O16<>"Publicado",$P16<>"Cancelado",$P16<>"Retirado"),"Conteúdo atrasado",IF(AND('Configurações'!$B$2>=$M16,$P16="Planejado"),"Ativação pendente",IF(AND($G16-'Configurações'!$B$2>=0,$G16-'Configurações'!$B$2<='Configurações'!$B$5),"Janela próxima","Sem alerta"))))))))))))
L17: =IF(OR($A17="",$G17="",$I17=""),"",$G17-$I17) | M17: =IF(OR($A17="",$G17="",$J17=""),"",$G17-$J17) | N17: =IF(OR($A17="",$H17="",$K17=""),"",$H17+$K17) | U17: =IF($A17="","",IF($P17="Cancelado","Cancelado",IF($P17="Retirado","Retirado",IF(OR($L17="",$M17="",$G17="",$H17="",$N17=""),"Revisar datas",IF('Configurações'!$B$2<$L17,"Preparar conteúdo",IF('Configurações'!$B$2<$M17,"Conteúdo devido",IF('Configurações'!$B$2<$G17,"Ativação programada",IF('Configurações'!$B$2<=$H17,"Janela comercial",IF('Configurações'!$B$2<=$N17,"Retirada pendente","Pós-temporada"))))))))) | V17: =IF($A17="","",IF(OR($H17="",$K17="",$N17="",$S17="",$T17=""),"Revisar",IF(AND('Configurações'!$B$2>$N17,$P17<>"Retirado",$P17<>"Cancelado"),"Alto",IF(AND($T17="Não",OR($S17="Baixa",$S17="Sem histórico",$K17>'Configurações'!$B$6)),"Alto",IF(OR($T17="Não",$S17="Baixa",$S17="Sem histórico",$K17>'Configurações'!$B$6),"Médio","Baixo"))))) | W17: =IF($A17="","",IF(OR($B17="",$C17="",$D17="",$E17="",$F17="",$G17="",$H17="",$I17="",$J17="",$K17="",$O17="",$P17="",$S17="",$T17=""),"Cadastro incompleto",IF($H17<$G17,"Erro: fim antes do início",IF(OR($I17<0,$J17<0,$K17<0),"Erro: prazo negativo",IF(AND($F17<>YEAR($G17),$F17<>YEAR($H17)),"Revisar ano/temporada",IF(AND($S17<>"Sem histórico",OR($Q17="",$R17="")),"Histórico incompleto",IF(AND($S17="Sem histórico",OR($Q17<>"",$R17<>"")),"Revisar histórico",IF($L17>$M17,"Revisar: conteúdo após ativação",IF(AND('Configurações'!$B$2>$N17,$P17<>"Retirado",$P17<>"Cancelado"),"Retirada vencida",IF(AND('Configurações'!$B$2>$L17,$O17<>"Pronto",$O17<>"Publicado",$P17<>"Cancelado",$P17<>"Retirado"),"Conteúdo atrasado",IF(AND('Configurações'!$B$2>=$M17,$P17="Planejado"),"Ativação pendente",IF(AND($G17-'Configurações'!$B$2>=0,$G17-'Configurações'!$B$2<='Configurações'!$B$5),"Janela próxima","Sem alerta"))))))))))))
L18: =IF(OR($A18="",$G18="",$I18=""),"",$G18-$I18) | M18: =IF(OR($A18="",$G18="",$J18=""),"",$G18-$J18) | N18: =IF(OR($A18="",$H18="",$K18=""),"",$H18+$K18) | U18: =IF($A18="","",IF($P18="Cancelado","Cancelado",IF($P18="Retirado","Retirado",IF(OR($L18="",$M18="",$G18="",$H18="",$N18=""),"Revisar datas",IF('Configurações'!$B$2<$L18,"Preparar conteúdo",IF('Configurações'!$B$2<$M18,"Conteúdo devido",IF('Configurações'!$B$2<$G18,"Ativação programada",IF('Configurações'!$B$2<=$H18,"Janela comercial",IF('Configurações'!$B$2<=$N18,"Retirada pendente","Pós-temporada"))))))))) | V18: =IF($A18="","",IF(OR($H18="",$K18="",$N18="",$S18="",$T18=""),"Revisar",IF(AND('Configurações'!$B$2>$N18,$P18<>"Retirado",$P18<>"Cancelado"),"Alto",IF(AND($T18="Não",OR($S18="Baixa",$S18="Sem histórico",$K18>'Configurações'!$B$6)),"Alto",IF(OR($T18="Não",$S18="Baixa",$S18="Sem histórico",$K18>'Configurações'!$B$6),"Médio","Baixo"))))) | W18: =IF($A18="","",IF(OR($B18="",$C18="",$D18="",$E18="",$F18="",$G18="",$H18="",$I18="",$J18="",$K18="",$O18="",$P18="",$S18="",$T18=""),"Cadastro incompleto",IF($H18<$G18,"Erro: fim antes do início",IF(OR($I18<0,$J18<0,$K18<0),"Erro: prazo negativo",IF(AND($F18<>YEAR($G18),$F18<>YEAR($H18)),"Revisar ano/temporada",IF(AND($S18<>"Sem histórico",OR($Q18="",$R18="")),"Histórico incompleto",IF(AND($S18="Sem histórico",OR($Q18<>"",$R18<>"")),"Revisar histórico",IF($L18>$M18,"Revisar: conteúdo após ativação",IF(AND('Configurações'!$B$2>$N18,$P18<>"Retirado",$P18<>"Cancelado"),"Retirada vencida",IF(AND('Configurações'!$B$2>$L18,$O18<>"Pronto",$O18<>"Publicado",$P18<>"Cancelado",$P18<>"Retirado"),"Conteúdo atrasado",IF(AND('Configurações'!$B$2>=$M18,$P18="Planejado"),"Ativação pendente",IF(AND($G18-'Configurações'!$B$2>=0,$G18-'Configurações'!$B$2<='Configurações'!$B$5),"Janela próxima","Sem alerta"))))))))))))
L19: =IF(OR($A19="",$G19="",$I19=""),"",$G19-$I19) | M19: =IF(OR($A19="",$G19="",$J19=""),"",$G19-$J19) | N19: =IF(OR($A19="",$H19="",$K19=""),"",$H19+$K19) | U19: =IF($A19="","",IF($P19="Cancelado","Cancelado",IF($P19="Retirado","Retirado",IF(OR($L19="",$M19="",$G19="",$H19="",$N19=""),"Revisar datas",IF('Configurações'!$B$2<$L19,"Preparar conteúdo",IF('Configurações'!$B$2<$M19,"Conteúdo devido",IF('Configurações'!$B$2<$G19,"Ativação programada",IF('Configurações'!$B$2<=$H19,"Janela comercial",IF('Configurações'!$B$2<=$N19,"Retirada pendente","Pós-temporada"))))))))) | V19: =IF($A19="","",IF(OR($H19="",$K19="",$N19="",$S19="",$T19=""),"Revisar",IF(AND('Configurações'!$B$2>$N19,$P19<>"Retirado",$P19<>"Cancelado"),"Alto",IF(AND($T19="Não",OR($S19="Baixa",$S19="Sem histórico",$K19>'Configurações'!$B$6)),"Alto",IF(OR($T19="Não",$S19="Baixa",$S19="Sem histórico",$K19>'Configurações'!$B$6),"Médio","Baixo"))))) | W19: =IF($A19="","",IF(OR($B19="",$C19="",$D19="",$E19="",$F19="",$G19="",$H19="",$I19="",$J19="",$K19="",$O19="",$P19="",$S19="",$T19=""),"Cadastro incompleto",IF($H19<$G19,"Erro: fim antes do início",IF(OR($I19<0,$J19<0,$K19<0),"Erro: prazo negativo",IF(AND($F19<>YEAR($G19),$F19<>YEAR($H19)),"Revisar ano/temporada",IF(AND($S19<>"Sem histórico",OR($Q19="",$R19="")),"Histórico incompleto",IF(AND($S19="Sem histórico",OR($Q19<>"",$R19<>"")),"Revisar histórico",IF($L19>$M19,"Revisar: conteúdo após ativação",IF(AND('Configurações'!$B$2>$N19,$P19<>"Retirado",$P19<>"Cancelado"),"Retirada vencida",IF(AND('Configurações'!$B$2>$L19,$O19<>"Pronto",$O19<>"Publicado",$P19<>"Cancelado",$P19<>"Retirado"),"Conteúdo atrasado",IF(AND('Configurações'!$B$2>=$M19,$P19="Planejado"),"Ativação pendente",IF(AND($G19-'Configurações'!$B$2>=0,$G19-'Configurações'!$B$2<='Configurações'!$B$5),"Janela próxima","Sem alerta"))))))))))))
L20: =IF(OR($A20="",$G20="",$I20=""),"",$G20-$I20) | M20: =IF(OR($A20="",$G20="",$J20=""),"",$G20-$J20) | N20: =IF(OR($A20="",$H20="",$K20=""),"",$H20+$K20) | U20: =IF($A20="","",IF($P20="Cancelado","Cancelado",IF($P20="Retirado","Retirado",IF(OR($L20="",$M20="",$G20="",$H20="",$N20=""),"Revisar datas",IF('Configurações'!$B$2<$L20,"Preparar conteúdo",IF('Configurações'!$B$2<$M20,"Conteúdo devido",IF('Configurações'!$B$2<$G20,"Ativação programada",IF('Configurações'!$B$2<=$H20,"Janela comercial",IF('Configurações'!$B$2<=$N20,"Retirada pendente","Pós-temporada"))))))))) | V20: =IF($A20="","",IF(OR($H20="",$K20="",$N20="",$S20="",$T20=""),"Revisar",IF(AND('Configurações'!$B$2>$N20,$P20<>"Retirado",$P20<>"Cancelado"),"Alto",IF(AND($T20="Não",OR($S20="Baixa",$S20="Sem histórico",$K20>'Configurações'!$B$6)),"Alto",IF(OR($T20="Não",$S20="Baixa",$S20="Sem histórico",$K20>'Configurações'!$B$6),"Médio","Baixo"))))) | W20: =IF($A20="","",IF(OR($B20="",$C20="",$D20="",$E20="",$F20="",$G20="",$H20="",$I20="",$J20="",$K20="",$O20="",$P20="",$S20="",$T20=""),"Cadastro incompleto",IF($H20<$G20,"Erro: fim antes do início",IF(OR($I20<0,$J20<0,$K20<0),"Erro: prazo negativo",IF(AND($F20<>YEAR($G20),$F20<>YEAR($H20)),"Revisar ano/temporada",IF(AND($S20<>"Sem histórico",OR($Q20="",$R20="")),"Histórico incompleto",IF(AND($S20="Sem histórico",OR($Q20<>"",$R20<>"")),"Revisar histórico",IF($L20>$M20,"Revisar: conteúdo após ativação",IF(AND('Configurações'!$B$2>$N20,$P20<>"Retirado",$P20<>"Cancelado"),"Retirada vencida",IF(AND('Configurações'!$B$2>$L20,$O20<>"Pronto",$O20<>"Publicado",$P20<>"Cancelado",$P20<>"Retirado"),"Conteúdo atrasado",IF(AND('Configurações'!$B$2>=$M20,$P20="Planejado"),"Ativação pendente",IF(AND($G20-'Configurações'!$B$2>=0,$G20-'Configurações'!$B$2<='Configurações'!$B$5),"Janela próxima","Sem alerta"))))))))))))
L21: =IF(OR($A21="",$G21="",$I21=""),"",$G21-$I21) | M21: =IF(OR($A21="",$G21="",$J21=""),"",$G21-$J21) | N21: =IF(OR($A21="",$H21="",$K21=""),"",$H21+$K21) | U21: =IF($A21="","",IF($P21="Cancelado","Cancelado",IF($P21="Retirado","Retirado",IF(OR($L21="",$M21="",$G21="",$H21="",$N21=""),"Revisar datas",IF('Configurações'!$B$2<$L21,"Preparar conteúdo",IF('Configurações'!$B$2<$M21,"Conteúdo devido",IF('Configurações'!$B$2<$G21,"Ativação programada",IF('Configurações'!$B$2<=$H21,"Janela comercial",IF('Configurações'!$B$2<=$N21,"Retirada pendente","Pós-temporada"))))))))) | V21: =IF($A21="","",IF(OR($H21="",$K21="",$N21="",$S21="",$T21=""),"Revisar",IF(AND('Configurações'!$B$2>$N21,$P21<>"Retirado",$P21<>"Cancelado"),"Alto",IF(AND($T21="Não",OR($S21="Baixa",$S21="Sem histórico",$K21>'Configurações'!$B$6)),"Alto",IF(OR($T21="Não",$S21="Baixa",$S21="Sem histórico",$K21>'Configurações'!$B$6),"Médio","Baixo"))))) | W21: =IF($A21="","",IF(OR($B21="",$C21="",$D21="",$E21="",$F21="",$G21="",$H21="",$I21="",$J21="",$K21="",$O21="",$P21="",$S21="",$T21=""),"Cadastro incompleto",IF($H21<$G21,"Erro: fim antes do início",IF(OR($I21<0,$J21<0,$K21<0),"Erro: prazo negativo",IF(AND($F21<>YEAR($G21),$F21<>YEAR($H21)),"Revisar ano/temporada",IF(AND($S21<>"Sem histórico",OR($Q21="",$R21="")),"Histórico incompleto",IF(AND($S21="Sem histórico",OR($Q21<>"",$R21<>"")),"Revisar histórico",IF($L21>$M21,"Revisar: conteúdo após ativação",IF(AND('Configurações'!$B$2>$N21,$P21<>"Retirado",$P21<>"Cancelado"),"Retirada vencida",IF(AND('Configurações'!$B$2>$L21,$O21<>"Pronto",$O21<>"Publicado",$P21<>"Cancelado",$P21<>"Retirado"),"Conteúdo atrasado",IF(AND('Configurações'!$B$2>=$M21,$P21="Planejado"),"Ativação pendente",IF(AND($G21-'Configurações'!$B$2>=0,$G21-'Configurações'!$B$2<='Configurações'!$B$5),"Janela próxima","Sem alerta"))))))))))))
L22: =IF(OR($A22="",$G22="",$I22=""),"",$G22-$I22) | M22: =IF(OR($A22="",$G22="",$J22=""),"",$G22-$J22) | N22: =IF(OR($A22="",$H22="",$K22=""),"",$H22+$K22) | U22: =IF($A22="","",IF($P22="Cancelado","Cancelado",IF($P22="Retirado","Retirado",IF(OR($L22="",$M22="",$G22="",$H22="",$N22=""),"Revisar datas",IF('Configurações'!$B$2<$L22,"Preparar conteúdo",IF('Configurações'!$B$2<$M22,"Conteúdo devido",IF('Configurações'!$B$2<$G22,"Ativação programada",IF('Configurações'!$B$2<=$H22,"Janela comercial",IF('Configurações'!$B$2<=$N22,"Retirada pendente","Pós-temporada"))))))))) | V22: =IF($A22="","",IF(OR($H22="",$K22="",$N22="",$S22="",$T22=""),"Revisar",IF(AND('Configurações'!$B$2>$N22,$P22<>"Retirado",$P22<>"Cancelado"),"Alto",IF(AND($T22="Não",OR($S22="Baixa",$S22="Sem histórico",$K22>'Configurações'!$B$6)),"Alto",IF(OR($T22="Não",$S22="Baixa",$S22="Sem histórico",$K22>'Configurações'!$B$6),"Médio","Baixo"))))) | W22: =IF($A22="","",IF(OR($B22="",$C22="",$D22="",$E22="",$F22="",$G22="",$H22="",$I22="",$J22="",$K22="",$O22="",$P22="",$S22="",$T22=""),"Cadastro incompleto",IF($H22<$G22,"Erro: fim antes do início",IF(OR($I22<0,$J22<0,$K22<0),"Erro: prazo negativo",IF(AND($F22<>YEAR($G22),$F22<>YEAR($H22)),"Revisar ano/temporada",IF(AND($S22<>"Sem histórico",OR($Q22="",$R22="")),"Histórico incompleto",IF(AND($S22="Sem histórico",OR($Q22<>"",$R22<>"")),"Revisar histórico",IF($L22>$M22,"Revisar: conteúdo após ativação",IF(AND('Configurações'!$B$2>$N22,$P22<>"Retirado",$P22<>"Cancelado"),"Retirada vencida",IF(AND('Configurações'!$B$2>$L22,$O22<>"Pronto",$O22<>"Publicado",$P22<>"Cancelado",$P22<>"Retirado"),"Conteúdo atrasado",IF(AND('Configurações'!$B$2>=$M22,$P22="Planejado"),"Ativação pendente",IF(AND($G22-'Configurações'!$B$2>=0,$G22-'Configurações'!$B$2<='Configurações'!$B$5),"Janela próxima","Sem alerta"))))))))))))
L23: =IF(OR($A23="",$G23="",$I23=""),"",$G23-$I23) | M23: =IF(OR($A23="",$G23="",$J23=""),"",$G23-$J23) | N23: =IF(OR($A23="",$H23="",$K23=""),"",$H23+$K23) | U23: =IF($A23="","",IF($P23="Cancelado","Cancelado",IF($P23="Retirado","Retirado",IF(OR($L23="",$M23="",$G23="",$H23="",$N23=""),"Revisar datas",IF('Configurações'!$B$2<$L23,"Preparar conteúdo",IF('Configurações'!$B$2<$M23,"Conteúdo devido",IF('Configurações'!$B$2<$G23,"Ativação programada",IF('Configurações'!$B$2<=$H23,"Janela comercial",IF('Configurações'!$B$2<=$N23,"Retirada pendente","Pós-temporada"))))))))) | V23: =IF($A23="","",IF(OR($H23="",$K23="",$N23="",$S23="",$T23=""),"Revisar",IF(AND('Configurações'!$B$2>$N23,$P23<>"Retirado",$P23<>"Cancelado"),"Alto",IF(AND($T23="Não",OR($S23="Baixa",$S23="Sem histórico",$K23>'Configurações'!$B$6)),"Alto",IF(OR($T23="Não",$S23="Baixa",$S23="Sem histórico",$K23>'Configurações'!$B$6),"Médio","Baixo"))))) | W23: =IF($A23="","",IF(OR($B23="",$C23="",$D23="",$E23="",$F23="",$G23="",$H23="",$I23="",$J23="",$K23="",$O23="",$P23="",$S23="",$T23=""),"Cadastro incompleto",IF($H23<$G23,"Erro: fim antes do início",IF(OR($I23<0,$J23<0,$K23<0),"Erro: prazo negativo",IF(AND($F23<>YEAR($G23),$F23<>YEAR($H23)),"Revisar ano/temporada",IF(AND($S23<>"Sem histórico",OR($Q23="",$R23="")),"Histórico incompleto",IF(AND($S23="Sem histórico",OR($Q23<>"",$R23<>"")),"Revisar histórico",IF($L23>$M23,"Revisar: conteúdo após ativação",IF(AND('Configurações'!$B$2>$N23,$P23<>"Retirado",$P23<>"Cancelado"),"Retirada vencida",IF(AND('Configurações'!$B$2>$L23,$O23<>"Pronto",$O23<>"Publicado",$P23<>"Cancelado",$P23<>"Retirado"),"Conteúdo atrasado",IF(AND('Configurações'!$B$2>=$M23,$P23="Planejado"),"Ativação pendente",IF(AND($G23-'Configurações'!$B$2>=0,$G23-'Configurações'!$B$2<='Configurações'!$B$5),"Janela próxima","Sem alerta"))))))))))))
... L151: =IF(OR($A151="",$G151="",$I151=""),"",$G151-$I151) | M151: =IF(OR($A151="",$G151="",$J151=""),"",$G151-$J151) | N151: =IF(OR($A151="",$H151="",$K151=""),"",$H151+$K151) | U151: =IF($A151="","",IF($P151="Cancelado","Cancelado",IF($P151="Retirado","Retirado",IF(OR($L151="",$M151="",$G151="",$H151="",$N151=""),"Revisar datas",IF('Configurações'!$B$2<$L151,"Preparar conteúdo",IF('Configurações'!$B$2<$M151,"Conteúdo devido",IF('Configurações'!$B$2<$G151,"Ativação programada",IF('Configurações'!$B$2<=$H151,"Janela comercial",IF('Configurações'!$B$2<=$N151,"Retirada pendente","Pós-temporada"))))))))) | V151: =IF($A151="","",IF(OR($H151="",$K151="",$N151="",$S151="",$T151=""),"Revisar",IF(AND('Configurações'!$B$2>$N151,$P151<>"Retirado",$P151<>"Cancelado"),"Alto",IF(AND($T151="Não",OR($S151="Baixa",$S151="Sem histórico",$K151>'Configurações'!$B$6)),"Alto",IF(OR($T151="Não",$S151="Baixa",$S151="Sem histórico",$K151>'Configurações'!$B$6),"Médio","Baixo"))))) | W151: =IF($A151="","",IF(OR($B151="",$C151="",$D151="",$E151="",$F151="",$G151="",$H151="",$I151="",$J151="",$K151="",$O151="",$P151="",$S151="",$T151=""),"Cadastro incompleto",IF($H151<$G151,"Erro: fim antes do início",IF(OR($I151<0,$J151<0,$K151<0),"Erro: prazo negativo",IF(AND($F151<>YEAR($G151),$F151<>YEAR($H151)),"Revisar ano/temporada",IF(AND($S151<>"Sem histórico",OR($Q151="",$R151="")),"Histórico incompleto",IF(AND($S151="Sem histórico",OR($Q151<>"",$R151<>"")),"Revisar histórico",IF($L151>$M151,"Revisar: conteúdo após ativação",IF(AND('Configurações'!$B$2>$N151,$P151<>"Retirado",$P151<>"Cancelado"),"Retirada vencida",IF(AND('Configurações'!$B$2>$L151,$O151<>"Pronto",$O151<>"Publicado",$P151<>"Cancelado",$P151<>"Retirado"),"Conteúdo atrasado",IF(AND('Configurações'!$B$2>=$M151,$P151="Planejado"),"Ativação pendente",IF(AND($G151-'Configurações'!$B$2>=0,$G151-'Configurações'!$B$2<='Configurações'!$B$5),"Janela próxima","Sem alerta"))))))))))))

Sheet Calendário
A1: Calendário Semanal por Produto
A2: C = limite de conteúdo | A = ativação | V = janela de venda | R = retirada | I2: =IFERROR("Período exibido: "&TEXT(I4,"dd/mm/yyyy")&" a "&TEXT(INDEX($I$4:$BP$4,1,'Configurações'!$B$4)+6,"dd/mm/yyyy"),"Revise as configurações do calendário")
A3: Data de análise | B3: ='Configurações'!$B$2
A4: SKU | B4: Produto | C4: Evento/safra | D4: Limite de conteúdo | E4: Ativação | F4: Início da venda | G4: Fim da venda | H4: Retirada | I4: =IF('Configurações'!$B$4>=1,'Configurações'!$B$3-WEEKDAY('Configurações'!$B$3,2)+1,"") | J4: =IF(COLUMN()-COLUMN($I$4)+1<='Configurações'!$B$4,I4+7,"") | K4: =IF(COLUMN()-COLUMN($I$4)+1<='Configurações'!$B$4,J4+7,"") | L4: =IF(COLUMN()-COLUMN($I$4)+1<='Configurações'!$B$4,K4+7,"") | M4: =IF(COLUMN()-COLUMN($I$4)+1<='Configurações'!$B$4,L4+7,"") | N4: =IF(COLUMN()-COLUMN($I$4)+1<='Configurações'!$B$4,M4+7,"") | O4: =IF(COLUMN()-COLUMN($I$4)+1<='Configurações'!$B$4,N4+7,"") | P4: =IF(COLUMN()-COLUMN($I$4)+1<='Configurações'!$B$4,O4+7,"") | Q4: =IF(COLUMN()-COLUMN($I$4)+1<='Configurações'!$B$4,P4+7,"") | ... BP4: =IF(COLUMN()-COLUMN($I$4)+1<='Configurações'!$B$4,BO4+7,"")
A5: =IF(Planejamento!A2="","",Planejamento!A2) | B5: =IF(Planejamento!A2="","",Planejamento!B2) | C5: =IF(Planejamento!A2="","",Planejamento!E2) | D5: =IF(Planejamento!A2="","",Planejamento!L2) | E5: =IF(Planejamento!A2="","",Planejamento!M2) | F5: =IF(Planejamento!A2="","",Planejamento!G2) | G5: =IF(Planejamento!A2="","",Planejamento!H2) | H5: =IF(Planejamento!A2="","",Planejamento!N2) | I5: =IF(OR($A5="",I$4=""),"",IF(AND(I$4<=$D5,I$4+6>=$D5),"C","")&IF(AND(I$4<=$E5,I$4+6>=$E5),"A","")&IF(AND(I$4<=$G5,I$4+6>=$F5),"V","")&IF(AND(I$4<=$H5,I$4+6>=$H5),"R","")) | J5: =IF(OR($A5="",J$4=""),"",IF(AND(J$4<=$D5,J$4+6>=$D5),"C","")&IF(AND(J$4<=$E5,J$4+6>=$E5),"A","")&IF(AND(J$4<=$G5,J$4+6>=$F5),"V","")&IF(AND(J$4<=$H5,J$4+6>=$H5),"R","")) | K5: =IF(OR($A5="",K$4=""),"",IF(AND(K$4<=$D5,K$4+6>=$D5),"C","")&IF(AND(K$4<=$E5,K$4+6>=$E5),"A","")&IF(AND(K$4<=$G5,K$4+6>=$F5),"V","")&IF(AND(K$4<=$H5,K$4+6>=$H5),"R","")) | L5: =IF(OR($A5="",L$4=""),"",IF(AND(L$4<=$D5,L$4+6>=$D5),"C","")&IF(AND(L$4<=$E5,L$4+6>=$E5),"A","")&IF(AND(L$4<=$G5,L$4+6>=$F5),"V","")&IF(AND(L$4<=$H5,L$4+6>=$H5),"R","")) | M5: =IF(OR($A5="",M$4=""),"",IF(AND(M$4<=$D5,M$4+6>=$D5),"C","")&IF(AND(M$4<=$E5,M$4+6>=$E5),"A","")&IF(AND(M$4<=$G5,M$4+6>=$F5),"V","")&IF(AND(M$4<=$H5,M$4+6>=$H5),"R","")) | N5: =IF(OR($A5="",N$4=""),"",IF(AND(N$4<=$D5,N$4+6>=$D5),"C","")&IF(AND(N$4<=$E5,N$4+6>=$E5),"A","")&IF(AND(N$4<=$G5,N$4+6>=$F5),"V","")&IF(AND(N$4<=$H5,N$4+6>=$H5),"R","")) | O5: =IF(OR($A5="",O$4=""),"",IF(AND(O$4<=$D5,O$4+6>=$D5),"C","")&IF(AND(O$4<=$E5,O$4+6>=$E5),"A","")&IF(AND(O$4<=$G5,O$4+6>=$F5),"V","")&IF(AND(O$4<=$H5,O$4+6>=$H5),"R","")) | P5: =IF(OR($A5="",P$4=""),"",IF(AND(P$4<=$D5,P$4+6>=$D5),"C","")&IF(AND(P$4<=$E5,P$4+6>=$E5),"A","")&IF(AND(P$4<=$G5,P$4+6>=$F5),"V","")&IF(AND(P$4<=$H5,P$4+6>=$H5),"R","")) | ... BP5: =IF(OR($A5="",BP$4=""),"",IF(AND(BP$4<=$D5,BP$4+6>=$D5),"C","")&IF(AND(BP$4<=$E5,BP$4+6>=$E5),"A","")&IF(AND(BP$4<=$G5,BP$4+6>=$F5),"V","")&IF(AND(BP$4<=$H5,BP$4+6>=$H5),"R",""))
A6: =IF(Planejamento!A3="","",Planejamento!A3) | B6: =IF(Planejamento!A3="","",Planejamento!B3) | C6: =IF(Planejamento!A3="","",Planejamento!E3) | D6: =IF(Planejamento!A3="","",Planejamento!L3) | E6: =IF(Planejamento!A3="","",Planejamento!M3) | F6: =IF(Planejamento!A3="","",Planejamento!G3) | G6: =IF(Planejamento!A3="","",Planejamento!H3) | H6: =IF(Planejamento!A3="","",Planejamento!N3) | I6: =IF(OR($A6="",I$4=""),"",IF(AND(I$4<=$D6,I$4+6>=$D6),"C","")&IF(AND(I$4<=$E6,I$4+6>=$E6),"A","")&IF(AND(I$4<=$G6,I$4+6>=$F6),"V","")&IF(AND(I$4<=$H6,I$4+6>=$H6),"R","")) | J6: =IF(OR($A6="",J$4=""),"",IF(AND(J$4<=$D6,J$4+6>=$D6),"C","")&IF(AND(J$4<=$E6,J$4+6>=$E6),"A","")&IF(AND(J$4<=$G6,J$4+6>=$F6),"V","")&IF(AND(J$4<=$H6,J$4+6>=$H6),"R","")) | K6: =IF(OR($A6="",K$4=""),"",IF(AND(K$4<=$D6,K$4+6>=$D6),"C","")&IF(AND(K$4<=$E6,K$4+6>=$E6),"A","")&IF(AND(K$4<=$G6,K$4+6>=$F6),"V","")&IF(AND(K$4<=$H6,K$4+6>=$H6),"R","")) | L6: =IF(OR($A6="",L$4=""),"",IF(AND(L$4<=$D6,L$4+6>=$D6),"C","")&IF(AND(L$4<=$E6,L$4+6>=$E6),"A","")&IF(AND(L$4<=$G6,L$4+6>=$F6),"V","")&IF(AND(L$4<=$H6,L$4+6>=$H6),"R","")) | M6: =IF(OR($A6="",M$4=""),"",IF(AND(M$4<=$D6,M$4+6>=$D6),"C","")&IF(AND(M$4<=$E6,M$4+6>=$E6),"A","")&IF(AND(M$4<=$G6,M$4+6>=$F6),"V","")&IF(AND(M$4<=$H6,M$4+6>=$H6),"R","")) | N6: =IF(OR($A6="",N$4=""),"",IF(AND(N$4<=$D6,N$4+6>=$D6),"C","")&IF(AND(N$4<=$E6,N$4+6>=$E6),"A","")&IF(AND(N$4<=$G6,N$4+6>=$F6),"V","")&IF(AND(N$4<=$H6,N$4+6>=$H6),"R","")) | O6: =IF(OR($A6="",O$4=""),"",IF(AND(O$4<=$D6,O$4+6>=$D6),"C","")&IF(AND(O$4<=$E6,O$4+6>=$E6),"A","")&IF(AND(O$4<=$G6,O$4+6>=$F6),"V","")&IF(AND(O$4<=$H6,O$4+6>=$H6),"R","")) | P6: =IF(OR($A6="",P$4=""),"",IF(AND(P$4<=$D6,P$4+6>=$D6),"C","")&IF(AND(P$4<=$E6,P$4+6>=$E6),"A","")&IF(AND(P$4<=$G6,P$4+6>=$F6),"V","")&IF(AND(P$4<=$H6,P$4+6>=$H6),"R","")) | ... BP6: =IF(OR($A6="",BP$4=""),"",IF(AND(BP$4<=$D6,BP$4+6>=$D6),"C","")&IF(AND(BP$4<=$E6,BP$4+6>=$E6),"A","")&IF(AND(BP$4<=$G6,BP$4+6>=$F6),"V","")&IF(AND(BP$4<=$H6,BP$4+6>=$H6),"R",""))
A7: =IF(Planejamento!A4="","",Planejamento!A4) | B7: =IF(Planejamento!A4="","",Planejamento!B4) | C7: =IF(Planejamento!A4="","",Planejamento!E4) | D7: =IF(Planejamento!A4="","",Planejamento!L4) | E7: =IF(Planejamento!A4="","",Planejamento!M4) | F7: =IF(Planejamento!A4="","",Planejamento!G4) | G7: =IF(Planejamento!A4="","",Planejamento!H4) | H7: =IF(Planejamento!A4="","",Planejamento!N4) | I7: =IF(OR($A7="",I$4=""),"",IF(AND(I$4<=$D7,I$4+6>=$D7),"C","")&IF(AND(I$4<=$E7,I$4+6>=$E7),"A","")&IF(AND(I$4<=$G7,I$4+6>=$F7),"V","")&IF(AND(I$4<=$H7,I$4+6>=$H7),"R","")) | J7: =IF(OR($A7="",J$4=""),"",IF(AND(J$4<=$D7,J$4+6>=$D7),"C","")&IF(AND(J$4<=$E7,J$4+6>=$E7),"A","")&IF(AND(J$4<=$G7,J$4+6>=$F7),"V","")&IF(AND(J$4<=$H7,J$4+6>=$H7),"R","")) | K7: =IF(OR($A7="",K$4=""),"",IF(AND(K$4<=$D7,K$4+6>=$D7),"C","")&IF(AND(K$4<=$E7,K$4+6>=$E7),"A","")&IF(AND(K$4<=$G7,K$4+6>=$F7),"V","")&IF(AND(K$4<=$H7,K$4+6>=$H7),"R","")) | L7: =IF(OR($A7="",L$4=""),"",IF(AND(L$4<=$D7,L$4+6>=$D7),"C","")&IF(AND(L$4<=$E7,L$4+6>=$E7),"A","")&IF(AND(L$4<=$G7,L$4+6>=$F7),"V","")&IF(AND(L$4<=$H7,L$4+6>=$H7),"R","")) | M7: =IF(OR($A7="",M$4=""),"",IF(AND(M$4<=$D7,M$4+6>=$D7),"C","")&IF(AND(M$4<=$E7,M$4+6>=$E7),"A","")&IF(AND(M$4<=$G7,M$4+6>=$F7),"V","")&IF(AND(M$4<=$H7,M$4+6>=$H7),"R","")) | N7: =IF(OR($A7="",N$4=""),"",IF(AND(N$4<=$D7,N$4+6>=$D7),"C","")&IF(AND(N$4<=$E7,N$4+6>=$E7),"A","")&IF(AND(N$4<=$G7,N$4+6>=$F7),"V","")&IF(AND(N$4<=$H7,N$4+6>=$H7),"R","")) | O7: =IF(OR($A7="",O$4=""),"",IF(AND(O$4<=$D7,O$4+6>=$D7),"C","")&IF(AND(O$4<=$E7,O$4+6>=$E7),"A","")&IF(AND(O$4<=$G7,O$4+6>=$F7),"V","")&IF(AND(O$4<=$H7,O$4+6>=$H7),"R","")) | P7: =IF(OR($A7="",P$4=""),"",IF(AND(P$4<=$D7,P$4+6>=$D7),"C","")&IF(AND(P$4<=$E7,P$4+6>=$E7),"A","")&IF(AND(P$4<=$G7,P$4+6>=$F7),"V","")&IF(AND(P$4<=$H7,P$4+6>=$H7),"R","")) | ... BP7: =IF(OR($A7="",BP$4=""),"",IF(AND(BP$4<=$D7,BP$4+6>=$D7),"C","")&IF(AND(BP$4<=$E7,BP$4+6>=$E7),"A","")&IF(AND(BP$4<=$G7,BP$4+6>=$F7),"V","")&IF(AND(BP$4<=$H7,BP$4+6>=$H7),"R",""))
A8: =IF(Planejamento!A5="","",Planejamento!A5) | B8: =IF(Planejamento!A5="","",Planejamento!B5) | C8: =IF(Planejamento!A5="","",Planejamento!E5) | D8: =IF(Planejamento!A5="","",Planejamento!L5) | E8: =IF(Planejamento!A5="","",Planejamento!M5) | F8: =IF(Planejamento!A5="","",Planejamento!G5) | G8: =IF(Planejamento!A5="","",Planejamento!H5) | H8: =IF(Planejamento!A5="","",Planejamento!N5) | I8: =IF(OR($A8="",I$4=""),"",IF(AND(I$4<=$D8,I$4+6>=$D8),"C","")&IF(AND(I$4<=$E8,I$4+6>=$E8),"A","")&IF(AND(I$4<=$G8,I$4+6>=$F8),"V","")&IF(AND(I$4<=$H8,I$4+6>=$H8),"R","")) | J8: =IF(OR($A8="",J$4=""),"",IF(AND(J$4<=$D8,J$4+6>=$D8),"C","")&IF(AND(J$4<=$E8,J$4+6>=$E8),"A","")&IF(AND(J$4<=$G8,J$4+6>=$F8),"V","")&IF(AND(J$4<=$H8,J$4+6>=$H8),"R","")) | K8: =IF(OR($A8="",K$4=""),"",IF(AND(K$4<=$D8,K$4+6>=$D8),"C","")&IF(AND(K$4<=$E8,K$4+6>=$E8),"A","")&IF(AND(K$4<=$G8,K$4+6>=$F8),"V","")&IF(AND(K$4<=$H8,K$4+6>=$H8),"R","")) | L8: =IF(OR($A8="",L$4=""),"",IF(AND(L$4<=$D8,L$4+6>=$D8),"C","")&IF(AND(L$4<=$E8,L$4+6>=$E8),"A","")&IF(AND(L$4<=$G8,L$4+6>=$F8),"V","")&IF(AND(L$4<=$H8,L$4+6>=$H8),"R","")) | M8: =IF(OR($A8="",M$4=""),"",IF(AND(M$4<=$D8,M$4+6>=$D8),"C","")&IF(AND(M$4<=$E8,M$4+6>=$E8),"A","")&IF(AND(M$4<=$G8,M$4+6>=$F8),"V","")&IF(AND(M$4<=$H8,M$4+6>=$H8),"R","")) | N8: =IF(OR($A8="",N$4=""),"",IF(AND(N$4<=$D8,N$4+6>=$D8),"C","")&IF(AND(N$4<=$E8,N$4+6>=$E8),"A","")&IF(AND(N$4<=$G8,N$4+6>=$F8),"V","")&IF(AND(N$4<=$H8,N$4+6>=$H8),"R","")) | O8: =IF(OR($A8="",O$4=""),"",IF(AND(O$4<=$D8,O$4+6>=$D8),"C","")&IF(AND(O$4<=$E8,O$4+6>=$E8),"A","")&IF(AND(O$4<=$G8,O$4+6>=$F8),"V","")&IF(AND(O$4<=$H8,O$4+6>=$H8),"R","")) | P8: =IF(OR($A8="",P$4=""),"",IF(AND(P$4<=$D8,P$4+6>=$D8),"C","")&IF(AND(P$4<=$E8,P$4+6>=$E8),"A","")&IF(AND(P$4<=$G8,P$4+6>=$F8),"V","")&IF(AND(P$4<=$H8,P$4+6>=$H8),"R","")) | ... BP8: =IF(OR($A8="",BP$4=""),"",IF(AND(BP$4<=$D8,BP$4+6>=$D8),"C","")&IF(AND(BP$4<=$E8,BP$4+6>=$E8),"A","")&IF(AND(BP$4<=$G8,BP$4+6>=$F8),"V","")&IF(AND(BP$4<=$H8,BP$4+6>=$H8),"R",""))
