Workbook

Sheet Resumo
A1: Dashboard — Quarentena de Estoque
A3: Data de referência | B3: 46272 | K3: Motivo | L3: Saldo bloqueado (un.) | N3: Status | O3: Registros válidos
K4: ='Listas e parâmetros'!D4 | L4: =SUMIFS(tblQuarentena[Saldo bloqueado (un.)],tblQuarentena[Motivo],K4) | N4: ='Listas e parâmetros'!F4 | O4: =COUNTIFS(tblQuarentena[Checagem do registro],"OK",tblQuarentena[Status],N4)
A5: Saldo bloqueado | B5: =SUM(tblQuarentena[Saldo bloqueado (un.)]) | C5: Registros ativos | D5: =COUNTIF(tblQuarentena[Saldo bloqueado (un.)],">0") | E5: Fila de inspeção | F5: =COUNTIFS(tblQuarentena[Saldo bloqueado (un.)],">0",tblQuarentena[Data da inspeção],"") | G5: Prazos vencidos | H5: =COUNTIF(tblQuarentena[Situação do prazo],"Vencido") | K5: ='Listas e parâmetros'!D5 | L5: =SUMIFS(tblQuarentena[Saldo bloqueado (un.)],tblQuarentena[Motivo],K5) | N5: ='Listas e parâmetros'!F5 | O5: =COUNTIFS(tblQuarentena[Checagem do registro],"OK",tblQuarentena[Status],N5)
K6: ='Listas e parâmetros'!D6 | L6: =SUMIFS(tblQuarentena[Saldo bloqueado (un.)],tblQuarentena[Motivo],K6) | N6: ='Listas e parâmetros'!F6 | O6: =COUNTIFS(tblQuarentena[Checagem do registro],"OK",tblQuarentena[Status],N6)
K7: ='Listas e parâmetros'!D7 | L7: =SUMIFS(tblQuarentena[Saldo bloqueado (un.)],tblQuarentena[Motivo],K7) | N7: ='Listas e parâmetros'!F7 | O7: =COUNTIFS(tblQuarentena[Checagem do registro],"OK",tblQuarentena[Status],N7)
A8: Aguardando decisão | B8: =COUNTIFS(tblQuarentena[Saldo bloqueado (un.)],">0",tblQuarentena[Status],"Aguardando decisão") | C8: Aguardando execução | D8: =COUNTIFS(tblQuarentena[Saldo bloqueado (un.)],">0",tblQuarentena[Status],"Aguardando execução") | E8: Registros com erro | F8: =COUNTIFS(tblQuarentena[Checagem do registro],"<>",tblQuarentena[Checagem do registro],"<>OK") | G8: Aging médio dos ativos | H8: =IFERROR(AVERAGEIFS(tblQuarentena[Aging (dias)],tblQuarentena[Saldo bloqueado (un.)],">0"),0) | K8: ='Listas e parâmetros'!D8 | L8: =SUMIFS(tblQuarentena[Saldo bloqueado (un.)],tblQuarentena[Motivo],K8) | N8: ='Listas e parâmetros'!F8 | O8: =COUNTIFS(tblQuarentena[Checagem do registro],"OK",tblQuarentena[Status],N8)
K9: ='Listas e parâmetros'!D9 | L9: =SUMIFS(tblQuarentena[Saldo bloqueado (un.)],tblQuarentena[Motivo],K9)
A10: Maior aging ativo | B10: =IFERROR(_xlfn.MAXIFS(tblQuarentena[Aging (dias)],tblQuarentena[Saldo bloqueado (un.)],">0"),0) | K10: ='Listas e parâmetros'!D10 | L10: =SUMIFS(tblQuarentena[Saldo bloqueado (un.)],tblQuarentena[Motivo],K10)
K11: Não classificado/revisar | L11: =$B$5-SUM($L$4:$L$10)
A12: =IF(F8>0,"AÇÃO: existem "&TEXT(F8,"0")&" registro(s) com erro. Corrija antes de decidir.",IF(H5>0,"AÇÃO: existem "&TEXT(H5,"0")&" prazo(s) vencido(s). Priorize a fila abaixo.","Sem alertas críticos na data de referência."))
A14: Fila operacional por prazo — registros ainda bloqueados
A15: Posição | B15: ID Quarentena | C15: SKU | D15: Lote | E15: Motivo | F15: Prazo da decisão | G15: Prioridade | H15: Situação do prazo | I15: Chave auxiliar
A16: =IF($I16="","",ROWS($A$16:A16)) | B16: =IF($I16="","",IFERROR(INDEX(tblQuarentena[ID Quarentena],MATCH($I16,tblQuarentena[Chave da fila],0)),"")) | C16: =IF($I16="","",IFERROR(INDEX(tblQuarentena[SKU],MATCH($I16,tblQuarentena[Chave da fila],0)),"")) | D16: =IF($I16="","",IFERROR(INDEX(tblQuarentena[Lote],MATCH($I16,tblQuarentena[Chave da fila],0)),"")) | E16: =IF($I16="","",IFERROR(INDEX(tblQuarentena[Motivo],MATCH($I16,tblQuarentena[Chave da fila],0)),"")) | F16: =IF($I16="","",IFERROR(INDEX(tblQuarentena[Prazo da decisão],MATCH($I16,tblQuarentena[Chave da fila],0)),"")) | G16: =IF($I16="","",IFERROR(INDEX(tblQuarentena[Prioridade],MATCH($I16,tblQuarentena[Chave da fila],0)),"")) | H16: =IF($I16="","",IFERROR(INDEX(tblQuarentena[Situação do prazo],MATCH($I16,tblQuarentena[Chave da fila],0)),"")) | I16: =IFERROR(AGGREGATE(15,6,tblQuarentena[Chave da fila]/(tblQuarentena[Chave da fila]<>""),ROWS($I$16:I16)),"")
A17: =IF($I17="","",ROWS($A$16:A17)) | B17: =IF($I17="","",IFERROR(INDEX(tblQuarentena[ID Quarentena],MATCH($I17,tblQuarentena[Chave da fila],0)),"")) | C17: =IF($I17="","",IFERROR(INDEX(tblQuarentena[SKU],MATCH($I17,tblQuarentena[Chave da fila],0)),"")) | D17: =IF($I17="","",IFERROR(INDEX(tblQuarentena[Lote],MATCH($I17,tblQuarentena[Chave da fila],0)),"")) | E17: =IF($I17="","",IFERROR(INDEX(tblQuarentena[Motivo],MATCH($I17,tblQuarentena[Chave da fila],0)),"")) | F17: =IF($I17="","",IFERROR(INDEX(tblQuarentena[Prazo da decisão],MATCH($I17,tblQuarentena[Chave da fila],0)),"")) | G17: =IF($I17="","",IFERROR(INDEX(tblQuarentena[Prioridade],MATCH($I17,tblQuarentena[Chave da fila],0)),"")) | H17: =IF($I17="","",IFERROR(INDEX(tblQuarentena[Situação do prazo],MATCH($I17,tblQuarentena[Chave da fila],0)),"")) | I17: =IFERROR(AGGREGATE(15,6,tblQuarentena[Chave da fila]/(tblQuarentena[Chave da fila]<>""),ROWS($I$16:I17)),"")
A18: =IF($I18="","",ROWS($A$16:A18)) | B18: =IF($I18="","",IFERROR(INDEX(tblQuarentena[ID Quarentena],MATCH($I18,tblQuarentena[Chave da fila],0)),"")) | C18: =IF($I18="","",IFERROR(INDEX(tblQuarentena[SKU],MATCH($I18,tblQuarentena[Chave da fila],0)),"")) | D18: =IF($I18="","",IFERROR(INDEX(tblQuarentena[Lote],MATCH($I18,tblQuarentena[Chave da fila],0)),"")) | E18: =IF($I18="","",IFERROR(INDEX(tblQuarentena[Motivo],MATCH($I18,tblQuarentena[Chave da fila],0)),"")) | F18: =IF($I18="","",IFERROR(INDEX(tblQuarentena[Prazo da decisão],MATCH($I18,tblQuarentena[Chave da fila],0)),"")) | G18: =IF($I18="","",IFERROR(INDEX(tblQuarentena[Prioridade],MATCH($I18,tblQuarentena[Chave da fila],0)),"")) | H18: =IF($I18="","",IFERROR(INDEX(tblQuarentena[Situação do prazo],MATCH($I18,tblQuarentena[Chave da fila],0)),"")) | I18: =IFERROR(AGGREGATE(15,6,tblQuarentena[Chave da fila]/(tblQuarentena[Chave da fila]<>""),ROWS($I$16:I18)),"")
A19: =IF($I19="","",ROWS($A$16:A19)) | B19: =IF($I19="","",IFERROR(INDEX(tblQuarentena[ID Quarentena],MATCH($I19,tblQuarentena[Chave da fila],0)),"")) | C19: =IF($I19="","",IFERROR(INDEX(tblQuarentena[SKU],MATCH($I19,tblQuarentena[Chave da fila],0)),"")) | D19: =IF($I19="","",IFERROR(INDEX(tblQuarentena[Lote],MATCH($I19,tblQuarentena[Chave da fila],0)),"")) | E19: =IF($I19="","",IFERROR(INDEX(tblQuarentena[Motivo],MATCH($I19,tblQuarentena[Chave da fila],0)),"")) | F19: =IF($I19="","",IFERROR(INDEX(tblQuarentena[Prazo da decisão],MATCH($I19,tblQuarentena[Chave da fila],0)),"")) | G19: =IF($I19="","",IFERROR(INDEX(tblQuarentena[Prioridade],MATCH($I19,tblQuarentena[Chave da fila],0)),"")) | H19: =IF($I19="","",IFERROR(INDEX(tblQuarentena[Situação do prazo],MATCH($I19,tblQuarentena[Chave da fila],0)),"")) | I19: =IFERROR(AGGREGATE(15,6,tblQuarentena[Chave da fila]/(tblQuarentena[Chave da fila]<>""),ROWS($I$16:I19)),"")
A20: =IF($I20="","",ROWS($A$16:A20)) | B20: =IF($I20="","",IFERROR(INDEX(tblQuarentena[ID Quarentena],MATCH($I20,tblQuarentena[Chave da fila],0)),"")) | C20: =IF($I20="","",IFERROR(INDEX(tblQuarentena[SKU],MATCH($I20,tblQuarentena[Chave da fila],0)),"")) | D20: =IF($I20="","",IFERROR(INDEX(tblQuarentena[Lote],MATCH($I20,tblQuarentena[Chave da fila],0)),"")) | E20: =IF($I20="","",IFERROR(INDEX(tblQuarentena[Motivo],MATCH($I20,tblQuarentena[Chave da fila],0)),"")) | F20: =IF($I20="","",IFERROR(INDEX(tblQuarentena[Prazo da decisão],MATCH($I20,tblQuarentena[Chave da fila],0)),"")) | G20: =IF($I20="","",IFERROR(INDEX(tblQuarentena[Prioridade],MATCH($I20,tblQuarentena[Chave da fila],0)),"")) | H20: =IF($I20="","",IFERROR(INDEX(tblQuarentena[Situação do prazo],MATCH($I20,tblQuarentena[Chave da fila],0)),"")) | I20: =IFERROR(AGGREGATE(15,6,tblQuarentena[Chave da fila]/(tblQuarentena[Chave da fila]<>""),ROWS($I$16:I20)),"")
A21: =IF($I21="","",ROWS($A$16:A21)) | B21: =IF($I21="","",IFERROR(INDEX(tblQuarentena[ID Quarentena],MATCH($I21,tblQuarentena[Chave da fila],0)),"")) | C21: =IF($I21="","",IFERROR(INDEX(tblQuarentena[SKU],MATCH($I21,tblQuarentena[Chave da fila],0)),"")) | D21: =IF($I21="","",IFERROR(INDEX(tblQuarentena[Lote],MATCH($I21,tblQuarentena[Chave da fila],0)),"")) | E21: =IF($I21="","",IFERROR(INDEX(tblQuarentena[Motivo],MATCH($I21,tblQuarentena[Chave da fila],0)),"")) | F21: =IF($I21="","",IFERROR(INDEX(tblQuarentena[Prazo da decisão],MATCH($I21,tblQuarentena[Chave da fila],0)),"")) | G21: =IF($I21="","",IFERROR(INDEX(tblQuarentena[Prioridade],MATCH($I21,tblQuarentena[Chave da fila],0)),"")) | H21: =IF($I21="","",IFERROR(INDEX(tblQuarentena[Situação do prazo],MATCH($I21,tblQuarentena[Chave da fila],0)),"")) | I21: =IFERROR(AGGREGATE(15,6,tblQuarentena[Chave da fila]/(tblQuarentena[Chave da fila]<>""),ROWS($I$16:I21)),"")
A22: =IF($I22="","",ROWS($A$16:A22)) | B22: =IF($I22="","",IFERROR(INDEX(tblQuarentena[ID Quarentena],MATCH($I22,tblQuarentena[Chave da fila],0)),"")) | C22: =IF($I22="","",IFERROR(INDEX(tblQuarentena[SKU],MATCH($I22,tblQuarentena[Chave da fila],0)),"")) | D22: =IF($I22="","",IFERROR(INDEX(tblQuarentena[Lote],MATCH($I22,tblQuarentena[Chave da fila],0)),"")) | E22: =IF($I22="","",IFERROR(INDEX(tblQuarentena[Motivo],MATCH($I22,tblQuarentena[Chave da fila],0)),"")) | F22: =IF($I22="","",IFERROR(INDEX(tblQuarentena[Prazo da decisão],MATCH($I22,tblQuarentena[Chave da fila],0)),"")) | G22: =IF($I22="","",IFERROR(INDEX(tblQuarentena[Prioridade],MATCH($I22,tblQuarentena[Chave da fila],0)),"")) | H22: =IF($I22="","",IFERROR(INDEX(tblQuarentena[Situação do prazo],MATCH($I22,tblQuarentena[Chave da fila],0)),"")) | I22: =IFERROR(AGGREGATE(15,6,tblQuarentena[Chave da fila]/(tblQuarentena[Chave da fila]<>""),ROWS($I$16:I22)),"")
A23: =IF($I23="","",ROWS($A$16:A23)) | B23: =IF($I23="","",IFERROR(INDEX(tblQuarentena[ID Quarentena],MATCH($I23,tblQuarentena[Chave da fila],0)),"")) | C23: =IF($I23="","",IFERROR(INDEX(tblQuarentena[SKU],MATCH($I23,tblQuarentena[Chave da fila],0)),"")) | D23: =IF($I23="","",IFERROR(INDEX(tblQuarentena[Lote],MATCH($I23,tblQuarentena[Chave da fila],0)),"")) | E23: =IF($I23="","",IFERROR(INDEX(tblQuarentena[Motivo],MATCH($I23,tblQuarentena[Chave da fila],0)),"")) | F23: =IF($I23="","",IFERROR(INDEX(tblQuarentena[Prazo da decisão],MATCH($I23,tblQuarentena[Chave da fila],0)),"")) | G23: =IF($I23="","",IFERROR(INDEX(tblQuarentena[Prioridade],MATCH($I23,tblQuarentena[Chave da fila],0)),"")) | H23: =IF($I23="","",IFERROR(INDEX(tblQuarentena[Situação do prazo],MATCH($I23,tblQuarentena[Chave da fila],0)),"")) | I23: =IFERROR(AGGREGATE(15,6,tblQuarentena[Chave da fila]/(tblQuarentena[Chave da fila]<>""),ROWS($I$16:I23)),"")
A24: =IF($I24="","",ROWS($A$16:A24)) | B24: =IF($I24="","",IFERROR(INDEX(tblQuarentena[ID Quarentena],MATCH($I24,tblQuarentena[Chave da fila],0)),"")) | C24: =IF($I24="","",IFERROR(INDEX(tblQuarentena[SKU],MATCH($I24,tblQuarentena[Chave da fila],0)),"")) | D24: =IF($I24="","",IFERROR(INDEX(tblQuarentena[Lote],MATCH($I24,tblQuarentena[Chave da fila],0)),"")) | E24: =IF($I24="","",IFERROR(INDEX(tblQuarentena[Motivo],MATCH($I24,tblQuarentena[Chave da fila],0)),"")) | F24: =IF($I24="","",IFERROR(INDEX(tblQuarentena[Prazo da decisão],MATCH($I24,tblQuarentena[Chave da fila],0)),"")) | G24: =IF($I24="","",IFERROR(INDEX(tblQuarentena[Prioridade],MATCH($I24,tblQuarentena[Chave da fila],0)),"")) | H24: =IF($I24="","",IFERROR(INDEX(tblQuarentena[Situação do prazo],MATCH($I24,tblQuarentena[Chave da fila],0)),"")) | I24: =IFERROR(AGGREGATE(15,6,tblQuarentena[Chave da fila]/(tblQuarentena[Chave da fila]<>""),ROWS($I$16:I24)),"")
A25: =IF($I25="","",ROWS($A$16:A25)) | B25: =IF($I25="","",IFERROR(INDEX(tblQuarentena[ID Quarentena],MATCH($I25,tblQuarentena[Chave da fila],0)),"")) | C25: =IF($I25="","",IFERROR(INDEX(tblQuarentena[SKU],MATCH($I25,tblQuarentena[Chave da fila],0)),"")) | D25: =IF($I25="","",IFERROR(INDEX(tblQuarentena[Lote],MATCH($I25,tblQuarentena[Chave da fila],0)),"")) | E25: =IF($I25="","",IFERROR(INDEX(tblQuarentena[Motivo],MATCH($I25,tblQuarentena[Chave da fila],0)),"")) | F25: =IF($I25="","",IFERROR(INDEX(tblQuarentena[Prazo da decisão],MATCH($I25,tblQuarentena[Chave da fila],0)),"")) | G25: =IF($I25="","",IFERROR(INDEX(tblQuarentena[Prioridade],MATCH($I25,tblQuarentena[Chave da fila],0)),"")) | H25: =IF($I25="","",IFERROR(INDEX(tblQuarentena[Situação do prazo],MATCH($I25,tblQuarentena[Chave da fila],0)),"")) | I25: =IFERROR(AGGREGATE(15,6,tblQuarentena[Chave da fila]/(tblQuarentena[Chave da fila]<>""),ROWS($I$16:I25)),"")

Sheet Quarentena
A1: Controle de Quarentena e Liberação de Estoque
A2: Uma linha por SKU e lote segregado. O saldo permanece bloqueado até a conclusão da decisão.
A4: Preenchimento | B4: Células amarelas são editáveis; células cinza contêm fórmulas.
A5: Regra central | B5: A decisão não libera o saldo. A baixa ocorre somente com Status igual a Concluído e data da conclusão informada.
A6: Data de referência | B6: ='Resumo'!B3
A8: ID Quarentena | B8: Data de entrada | C8: SKU | D8: Produto | E8: Lote | F8: Quantidade em quarentena (un.) | G8: Motivo | H8: Evidência / referência | I8: Local segregado | J8: Responsável | K8: Prazo da decisão | L8: Prioridade | M8: Status | N8: Data da inspeção | O8: Decisão | P8: Data da decisão | Q8: Data da conclusão | R8: Observações | S8: Saldo bloqueado (un.) | T8: Aging (dias) | U8: Situação do prazo | V8: Checagem do registro | W8: Chave da fila
A9: QRT-2026-001 | B9: 46259 | C9: FIC-CAN-500 | D9: Caneca Nebulosa 500 ml | E9: CAN2608A | F9: 120 | G9: Inspeção de recebimento | H9: REC-FIC-8841 | I9: Q-01 | J9: Equipe Qualidade | K9: 46262 | L9: Alta | M9: Em inspeção | N9: 46260 | O9: Pendente | R9: Amostragem em andamento. | S9: =IF($A9="","",IF(OR(NOT(ISNUMBER($F9)),$F9<=0,$M9=""),"",$F9*--($M9<>"Concluído"))) | T9: =IF(OR($A9="",NOT(ISNUMBER($B9)),NOT(ISNUMBER('Resumo'!$B$3))),"",MAX(0,IF(AND($M9="Concluído",ISNUMBER($Q9)),$Q9,'Resumo'!$B$3)-$B9)) | U9: =IF($A9="","",IF($K9="","Sem prazo",IF($M9="Concluído",IF($Q9="","Revisar",IF($Q9>$K9,"Concluído com atraso","Concluído no prazo")),IF(NOT(ISNUMBER('Resumo'!$B$3)),"Revisar",IF($K9<'Resumo'!$B$3,"Vencido",IF($K9-'Resumo'!$B$3<=2,"Vence em até 2 dias","No prazo")))))) | V9: =IF(COUNTA($A9:$R9)=0,"",IF($A9="","ERRO: informe o ID",IF(COUNTIF($A$9:$A$208,$A9)>1,"ERRO: ID duplicado",IF(OR($B9="",$C9="",$D9="",$E9="",$F9="",$G9="",$H9="",$I9="",$J9="",$K9="",$L9="",$M9="",$O9=""),"ERRO: preencha os campos obrigatórios",IF(OR(COUNTIF('Listas e parâmetros'!$D$4:$D$10,$G9)=0,COUNTIF('Listas e parâmetros'!$I$4:$I$8,$I9)=0,COUNTIF('Listas e parâmetros'!$H$4:$H$6,$J9)=0,COUNTIF('Listas e parâmetros'!$E$4:$E$7,$L9)=0,COUNTIF('Listas e parâmetros'!$F$4:$F$8,$M9)=0,COUNTIF('Listas e parâmetros'!$G$4:$G$7,$O9)=0),"ERRO: valor fora das listas",IF(OR(NOT(ISNUMBER($F9)),$F9<=0),"ERRO: quantidade inválida",IF(OR(NOT(ISNUMBER($B9)),NOT(ISNUMBER($K9))),"ERRO: datas de entrada/prazo inválidas",IF($B9>'Resumo'!$B$3,"ERRO: entrada posterior à data de referência",IF($K9<$B9,"ERRO: prazo anterior à entrada",IF(OR(AND($N9<>"",$N9>'Resumo'!$B$3),AND($P9<>"",$P9>'Resumo'!$B$3),AND($Q9<>"",$Q9>'Resumo'!$B$3)),"ERRO: data posterior à referência",IF(AND($N9<>"",$N9<$B9),"ERRO: inspeção anterior à entrada",IF(AND($M9<>"Em quarentena",$N9=""),"ERRO: informe a data da inspeção",IF(AND($O9="Pendente",$P9<>""),"ERRO: decisão pendente não deve ter data",IF(AND($O9<>"Pendente",$P9=""),"ERRO: informe a data da decisão",IF(AND($P9<>"",$P9<$B9),"ERRO: decisão anterior à entrada",IF(AND($P9<>"",$N9<>"",$P9<$N9),"ERRO: decisão anterior à inspeção",IF(AND($O9="Pendente",OR($M9="Aguardando execução",$M9="Concluído")),"ERRO: status exige decisão final",IF(AND($O9<>"Pendente",NOT(OR($M9="Aguardando execução",$M9="Concluído"))),"ERRO: atualize o status após a decisão",IF(AND($M9="Concluído",$Q9=""),"ERRO: informe a data da conclusão",IF(AND($M9<>"Concluído",$Q9<>""),"ERRO: conclusão só para status concluído",IF(AND($Q9<>"",$P9=""),"ERRO: conclusão sem data de decisão",IF(AND($Q9<>"",$Q9<$P9),"ERRO: conclusão anterior à decisão","OK")))))))))))))))))))))) | W9: =IF(OR($A9="",$S9="",$S9=0,$K9=""),"",$K9+ROW()/1000000)
A10: QRT-2026-002 | B10: 46266 | C10: FIC-FON-S2 | D10: Fone Aurora S2 | E10: FON2607C | F10: 24 | G10: Devolução de cliente | H10: DEV-FIC-0221 | I10: Q-02 | J10: Equipe Devoluções | K10: 46270 | L10: Alta | M10: Aguardando decisão | N10: 46267 | O10: Pendente | R10: Conferir integridade e acessórios. | S10: =IF($A10="","",IF(OR(NOT(ISNUMBER($F10)),$F10<=0,$M10=""),"",$F10*--($M10<>"Concluído"))) | T10: =IF(OR($A10="",NOT(ISNUMBER($B10)),NOT(ISNUMBER('Resumo'!$B$3))),"",MAX(0,IF(AND($M10="Concluído",ISNUMBER($Q10)),$Q10,'Resumo'!$B$3)-$B10)) | U10: =IF($A10="","",IF($K10="","Sem prazo",IF($M10="Concluído",IF($Q10="","Revisar",IF($Q10>$K10,"Concluído com atraso","Concluído no prazo")),IF(NOT(ISNUMBER('Resumo'!$B$3)),"Revisar",IF($K10<'Resumo'!$B$3,"Vencido",IF($K10-'Resumo'!$B$3<=2,"Vence em até 2 dias","No prazo")))))) | V10: =IF(COUNTA($A10:$R10)=0,"",IF($A10="","ERRO: informe o ID",IF(COUNTIF($A$9:$A$208,$A10)>1,"ERRO: ID duplicado",IF(OR($B10="",$C10="",$D10="",$E10="",$F10="",$G10="",$H10="",$I10="",$J10="",$K10="",$L10="",$M10="",$O10=""),"ERRO: preencha os campos obrigatórios",IF(OR(COUNTIF('Listas e parâmetros'!$D$4:$D$10,$G10)=0,COUNTIF('Listas e parâmetros'!$I$4:$I$8,$I10)=0,COUNTIF('Listas e parâmetros'!$H$4:$H$6,$J10)=0,COUNTIF('Listas e parâmetros'!$E$4:$E$7,$L10)=0,COUNTIF('Listas e parâmetros'!$F$4:$F$8,$M10)=0,COUNTIF('Listas e parâmetros'!$G$4:$G$7,$O10)=0),"ERRO: valor fora das listas",IF(OR(NOT(ISNUMBER($F10)),$F10<=0),"ERRO: quantidade inválida",IF(OR(NOT(ISNUMBER($B10)),NOT(ISNUMBER($K10))),"ERRO: datas de entrada/prazo inválidas",IF($B10>'Resumo'!$B$3,"ERRO: entrada posterior à data de referência",IF($K10<$B10,"ERRO: prazo anterior à entrada",IF(OR(AND($N10<>"",$N10>'Resumo'!$B$3),AND($P10<>"",$P10>'Resumo'!$B$3),AND($Q10<>"",$Q10>'Resumo'!$B$3)),"ERRO: data posterior à referência",IF(AND($N10<>"",$N10<$B10),"ERRO: inspeção anterior à entrada",IF(AND($M10<>"Em quarentena",$N10=""),"ERRO: informe a data da inspeção",IF(AND($O10="Pendente",$P10<>""),"ERRO: decisão pendente não deve ter data",IF(AND($O10<>"Pendente",$P10=""),"ERRO: informe a data da decisão",IF(AND($P10<>"",$P10<$B10),"ERRO: decisão anterior à entrada",IF(AND($P10<>"",$N10<>"",$P10<$N10),"ERRO: decisão anterior à inspeção",IF(AND($O10="Pendente",OR($M10="Aguardando execução",$M10="Concluído")),"ERRO: status exige decisão final",IF(AND($O10<>"Pendente",NOT(OR($M10="Aguardando execução",$M10="Concluído"))),"ERRO: atualize o status após a decisão",IF(AND($M10="Concluído",$Q10=""),"ERRO: informe a data da conclusão",IF(AND($M10<>"Concluído",$Q10<>""),"ERRO: conclusão só para status concluído",IF(AND($Q10<>"",$P10=""),"ERRO: conclusão sem data de decisão",IF(AND($Q10<>"",$Q10<$P10),"ERRO: conclusão anterior à decisão","OK")))))))))))))))))))))) | W10: =IF(OR($A10="",$S10="",$S10=0,$K10=""),"",$K10+ROW()/1000000)
A11: QRT-2026-003 | B11: 46268 | C11: FIC-LUM-MN | D11: Luminária Prisma Mini | E11: LUM2609A | F11: 60 | G11: Suspeita de qualidade | H11: INS-FIC-3102 | I11: Q-03 | J11: Equipe Qualidade | K11: 46275 | L11: Crítica | M11: Em quarentena | O11: Pendente | R11: Aguardar inspeção visual. | S11: =IF($A11="","",IF(OR(NOT(ISNUMBER($F11)),$F11<=0,$M11=""),"",$F11*--($M11<>"Concluído"))) | T11: =IF(OR($A11="",NOT(ISNUMBER($B11)),NOT(ISNUMBER('Resumo'!$B$3))),"",MAX(0,IF(AND($M11="Concluído",ISNUMBER($Q11)),$Q11,'Resumo'!$B$3)-$B11)) | U11: =IF($A11="","",IF($K11="","Sem prazo",IF($M11="Concluído",IF($Q11="","Revisar",IF($Q11>$K11,"Concluído com atraso","Concluído no prazo")),IF(NOT(ISNUMBER('Resumo'!$B$3)),"Revisar",IF($K11<'Resumo'!$B$3,"Vencido",IF($K11-'Resumo'!$B$3<=2,"Vence em até 2 dias","No prazo")))))) | V11: =IF(COUNTA($A11:$R11)=0,"",IF($A11="","ERRO: informe o ID",IF(COUNTIF($A$9:$A$208,$A11)>1,"ERRO: ID duplicado",IF(OR($B11="",$C11="",$D11="",$E11="",$F11="",$G11="",$H11="",$I11="",$J11="",$K11="",$L11="",$M11="",$O11=""),"ERRO: preencha os campos obrigatórios",IF(OR(COUNTIF('Listas e parâmetros'!$D$4:$D$10,$G11)=0,COUNTIF('Listas e parâmetros'!$I$4:$I$8,$I11)=0,COUNTIF('Listas e parâmetros'!$H$4:$H$6,$J11)=0,COUNTIF('Listas e parâmetros'!$E$4:$E$7,$L11)=0,COUNTIF('Listas e parâmetros'!$F$4:$F$8,$M11)=0,COUNTIF('Listas e parâmetros'!$G$4:$G$7,$O11)=0),"ERRO: valor fora das listas",IF(OR(NOT(ISNUMBER($F11)),$F11<=0),"ERRO: quantidade inválida",IF(OR(NOT(ISNUMBER($B11)),NOT(ISNUMBER($K11))),"ERRO: datas de entrada/prazo inválidas",IF($B11>'Resumo'!$B$3,"ERRO: entrada posterior à data de referência",IF($K11<$B11,"ERRO: prazo anterior à entrada",IF(OR(AND($N11<>"",$N11>'Resumo'!$B$3),AND($P11<>"",$P11>'Resumo'!$B$3),AND($Q11<>"",$Q11>'Resumo'!$B$3)),"ERRO: data posterior à referência",IF(AND($N11<>"",$N11<$B11),"ERRO: inspeção anterior à entrada",IF(AND($M11<>"Em quarentena",$N11=""),"ERRO: informe a data da inspeção",IF(AND($O11="Pendente",$P11<>""),"ERRO: decisão pendente não deve ter data",IF(AND($O11<>"Pendente",$P11=""),"ERRO: informe a data da decisão",IF(AND($P11<>"",$P11<$B11),"ERRO: decisão anterior à entrada",IF(AND($P11<>"",$N11<>"",$P11<$N11),"ERRO: decisão anterior à inspeção",IF(AND($O11="Pendente",OR($M11="Aguardando execução",$M11="Concluído")),"ERRO: status exige decisão final",IF(AND($O11<>"Pendente",NOT(OR($M11="Aguardando execução",$M11="Concluído"))),"ERRO: atualize o status após a decisão",IF(AND($M11="Concluído",$Q11=""),"ERRO: informe a data da conclusão",IF(AND($M11<>"Concluído",$Q11<>""),"ERRO: conclusão só para status concluído",IF(AND($Q11<>"",$P11=""),"ERRO: conclusão sem data de decisão",IF(AND($Q11<>"",$Q11<$P11),"ERRO: conclusão anterior à decisão","OK")))))))))))))))))))))) | W11: =IF(OR($A11="",$S11="",$S11=0,$K11=""),"",$K11+ROW()/1000000)
A12: QRT-2026-004 | B12: 46254 | C12: FIC-ORG-12 | D12: Organizador Vértice 12 L | E12: ORG2606B | F12: 15 | G12: Embalagem comprometida | H12: IMG-FIC-1042 | I12: Q-04 | J12: Equipe Recebimento | K12: 46258 | L12: Alta | M12: Aguardando execução | N12: 46255 | O12: Retrabalhar | P12: 46257 | R12: Separado para troca de embalagem. | S12: =IF($A12="","",IF(OR(NOT(ISNUMBER($F12)),$F12<=0,$M12=""),"",$F12*--($M12<>"Concluído"))) | T12: =IF(OR($A12="",NOT(ISNUMBER($B12)),NOT(ISNUMBER('Resumo'!$B$3))),"",MAX(0,IF(AND($M12="Concluído",ISNUMBER($Q12)),$Q12,'Resumo'!$B$3)-$B12)) | U12: =IF($A12="","",IF($K12="","Sem prazo",IF($M12="Concluído",IF($Q12="","Revisar",IF($Q12>$K12,"Concluído com atraso","Concluído no prazo")),IF(NOT(ISNUMBER('Resumo'!$B$3)),"Revisar",IF($K12<'Resumo'!$B$3,"Vencido",IF($K12-'Resumo'!$B$3<=2,"Vence em até 2 dias","No prazo")))))) | V12: =IF(COUNTA($A12:$R12)=0,"",IF($A12="","ERRO: informe o ID",IF(COUNTIF($A$9:$A$208,$A12)>1,"ERRO: ID duplicado",IF(OR($B12="",$C12="",$D12="",$E12="",$F12="",$G12="",$H12="",$I12="",$J12="",$K12="",$L12="",$M12="",$O12=""),"ERRO: preencha os campos obrigatórios",IF(OR(COUNTIF('Listas e parâmetros'!$D$4:$D$10,$G12)=0,COUNTIF('Listas e parâmetros'!$I$4:$I$8,$I12)=0,COUNTIF('Listas e parâmetros'!$H$4:$H$6,$J12)=0,COUNTIF('Listas e parâmetros'!$E$4:$E$7,$L12)=0,COUNTIF('Listas e parâmetros'!$F$4:$F$8,$M12)=0,COUNTIF('Listas e parâmetros'!$G$4:$G$7,$O12)=0),"ERRO: valor fora das listas",IF(OR(NOT(ISNUMBER($F12)),$F12<=0),"ERRO: quantidade inválida",IF(OR(NOT(ISNUMBER($B12)),NOT(ISNUMBER($K12))),"ERRO: datas de entrada/prazo inválidas",IF($B12>'Resumo'!$B$3,"ERRO: entrada posterior à data de referência",IF($K12<$B12,"ERRO: prazo anterior à entrada",IF(OR(AND($N12<>"",$N12>'Resumo'!$B$3),AND($P12<>"",$P12>'Resumo'!$B$3),AND($Q12<>"",$Q12>'Resumo'!$B$3)),"ERRO: data posterior à referência",IF(AND($N12<>"",$N12<$B12),"ERRO: inspeção anterior à entrada",IF(AND($M12<>"Em quarentena",$N12=""),"ERRO: informe a data da inspeção",IF(AND($O12="Pendente",$P12<>""),"ERRO: decisão pendente não deve ter data",IF(AND($O12<>"Pendente",$P12=""),"ERRO: informe a data da decisão",IF(AND($P12<>"",$P12<$B12),"ERRO: decisão anterior à entrada",IF(AND($P12<>"",$N12<>"",$P12<$N12),"ERRO: decisão anterior à inspeção",IF(AND($O12="Pendente",OR($M12="Aguardando execução",$M12="Concluído")),"ERRO: status exige decisão final",IF(AND($O12<>"Pendente",NOT(OR($M12="Aguardando execução",$M12="Concluído"))),"ERRO: atualize o status após a decisão",IF(AND($M12="Concluído",$Q12=""),"ERRO: informe a data da conclusão",IF(AND($M12<>"Concluído",$Q12<>""),"ERRO: conclusão só para status concluído",IF(AND($Q12<>"",$P12=""),"ERRO: conclusão sem data de decisão",IF(AND($Q12<>"",$Q12<$P12),"ERRO: conclusão anterior à decisão","OK")))))))))))))))))))))) | W12: =IF(OR($A12="",$S12="",$S12=0,$K12=""),"",$K12+ROW()/1000000)
A13: QRT-2026-005 | B13: 46252 | C13: FIC-GAR-750 | D13: Garrafa Brisa 750 ml | E13: GAR2608D | F13: 80 | G13: Divergência de lote | H13: ETQ-FIC-0177 | I13: Q-01 | J13: Equipe Qualidade | K13: 46256 | L13: Média | M13: Concluído | N13: 46253 | O13: Liberar | P13: 46255 | Q13: 46255 | R13: Identificação validada. | S13: =IF($A13="","",IF(OR(NOT(ISNUMBER($F13)),$F13<=0,$M13=""),"",$F13*--($M13<>"Concluído"))) | T13: =IF(OR($A13="",NOT(ISNUMBER($B13)),NOT(ISNUMBER('Resumo'!$B$3))),"",MAX(0,IF(AND($M13="Concluído",ISNUMBER($Q13)),$Q13,'Resumo'!$B$3)-$B13)) | U13: =IF($A13="","",IF($K13="","Sem prazo",IF($M13="Concluído",IF($Q13="","Revisar",IF($Q13>$K13,"Concluído com atraso","Concluído no prazo")),IF(NOT(ISNUMBER('Resumo'!$B$3)),"Revisar",IF($K13<'Resumo'!$B$3,"Vencido",IF($K13-'Resumo'!$B$3<=2,"Vence em até 2 dias","No prazo")))))) | V13: =IF(COUNTA($A13:$R13)=0,"",IF($A13="","ERRO: informe o ID",IF(COUNTIF($A$9:$A$208,$A13)>1,"ERRO: ID duplicado",IF(OR($B13="",$C13="",$D13="",$E13="",$F13="",$G13="",$H13="",$I13="",$J13="",$K13="",$L13="",$M13="",$O13=""),"ERRO: preencha os campos obrigatórios",IF(OR(COUNTIF('Listas e parâmetros'!$D$4:$D$10,$G13)=0,COUNTIF('Listas e parâmetros'!$I$4:$I$8,$I13)=0,COUNTIF('Listas e parâmetros'!$H$4:$H$6,$J13)=0,COUNTIF('Listas e parâmetros'!$E$4:$E$7,$L13)=0,COUNTIF('Listas e parâmetros'!$F$4:$F$8,$M13)=0,COUNTIF('Listas e parâmetros'!$G$4:$G$7,$O13)=0),"ERRO: valor fora das listas",IF(OR(NOT(ISNUMBER($F13)),$F13<=0),"ERRO: quantidade inválida",IF(OR(NOT(ISNUMBER($B13)),NOT(ISNUMBER($K13))),"ERRO: datas de entrada/prazo inválidas",IF($B13>'Resumo'!$B$3,"ERRO: entrada posterior à data de referência",IF($K13<$B13,"ERRO: prazo anterior à entrada",IF(OR(AND($N13<>"",$N13>'Resumo'!$B$3),AND($P13<>"",$P13>'Resumo'!$B$3),AND($Q13<>"",$Q13>'Resumo'!$B$3)),"ERRO: data posterior à referência",IF(AND($N13<>"",$N13<$B13),"ERRO: inspeção anterior à entrada",IF(AND($M13<>"Em quarentena",$N13=""),"ERRO: informe a data da inspeção",IF(AND($O13="Pendente",$P13<>""),"ERRO: decisão pendente não deve ter data",IF(AND($O13<>"Pendente",$P13=""),"ERRO: informe a data da decisão",IF(AND($P13<>"",$P13<$B13),"ERRO: decisão anterior à entrada",IF(AND($P13<>"",$N13<>"",$P13<$N13),"ERRO: decisão anterior à inspeção",IF(AND($O13="Pendente",OR($M13="Aguardando execução",$M13="Concluído")),"ERRO: status exige decisão final",IF(AND($O13<>"Pendente",NOT(OR($M13="Aguardando execução",$M13="Concluído"))),"ERRO: atualize o status após a decisão",IF(AND($M13="Concluído",$Q13=""),"ERRO: informe a data da conclusão",IF(AND($M13<>"Concluído",$Q13<>""),"ERRO: conclusão só para status concluído",IF(AND($Q13<>"",$P13=""),"ERRO: conclusão sem data de decisão",IF(AND($Q13<>"",$Q13<$P13),"ERRO: conclusão anterior à decisão","OK")))))))))))))))))))))) | W13: =IF(OR($A13="",$S13="",$S13=0,$K13=""),"",$K13+ROW()/1000000)
A14: QRT-2026-006 | B14: 46264 | C14: FIC-TEC-ORB | D14: Kit Teclado Órbita | E14: TEC2605F | F14: 10 | G14: Avaria observada | H14: IMG-FIC-1058 | I14: Q-05 | J14: Equipe Qualidade | K14: 46268 | L14: Alta | M14: Concluído | N14: 46265 | O14: Descartar | P14: 46266 | Q14: 46267 | R14: Decisão executada após inspeção. | S14: =IF($A14="","",IF(OR(NOT(ISNUMBER($F14)),$F14<=0,$M14=""),"",$F14*--($M14<>"Concluído"))) | T14: =IF(OR($A14="",NOT(ISNUMBER($B14)),NOT(ISNUMBER('Resumo'!$B$3))),"",MAX(0,IF(AND($M14="Concluído",ISNUMBER($Q14)),$Q14,'Resumo'!$B$3)-$B14)) | U14: =IF($A14="","",IF($K14="","Sem prazo",IF($M14="Concluído",IF($Q14="","Revisar",IF($Q14>$K14,"Concluído com atraso","Concluído no prazo")),IF(NOT(ISNUMBER('Resumo'!$B$3)),"Revisar",IF($K14<'Resumo'!$B$3,"Vencido",IF($K14-'Resumo'!$B$3<=2,"Vence em até 2 dias","No prazo")))))) | V14: =IF(COUNTA($A14:$R14)=0,"",IF($A14="","ERRO: informe o ID",IF(COUNTIF($A$9:$A$208,$A14)>1,"ERRO: ID duplicado",IF(OR($B14="",$C14="",$D14="",$E14="",$F14="",$G14="",$H14="",$I14="",$J14="",$K14="",$L14="",$M14="",$O14=""),"ERRO: preencha os campos obrigatórios",IF(OR(COUNTIF('Listas e parâmetros'!$D$4:$D$10,$G14)=0,COUNTIF('Listas e parâmetros'!$I$4:$I$8,$I14)=0,COUNTIF('Listas e parâmetros'!$H$4:$H$6,$J14)=0,COUNTIF('Listas e parâmetros'!$E$4:$E$7,$L14)=0,COUNTIF('Listas e parâmetros'!$F$4:$F$8,$M14)=0,COUNTIF('Listas e parâmetros'!$G$4:$G$7,$O14)=0),"ERRO: valor fora das listas",IF(OR(NOT(ISNUMBER($F14)),$F14<=0),"ERRO: quantidade inválida",IF(OR(NOT(ISNUMBER($B14)),NOT(ISNUMBER($K14))),"ERRO: datas de entrada/prazo inválidas",IF($B14>'Resumo'!$B$3,"ERRO: entrada posterior à data de referência",IF($K14<$B14,"ERRO: prazo anterior à entrada",IF(OR(AND($N14<>"",$N14>'Resumo'!$B$3),AND($P14<>"",$P14>'Resumo'!$B$3),AND($Q14<>"",$Q14>'Resumo'!$B$3)),"ERRO: data posterior à referência",IF(AND($N14<>"",$N14<$B14),"ERRO: inspeção anterior à entrada",IF(AND($M14<>"Em quarentena",$N14=""),"ERRO: informe a data da inspeção",IF(AND($O14="Pendente",$P14<>""),"ERRO: decisão pendente não deve ter data",IF(AND($O14<>"Pendente",$P14=""),"ERRO: informe a data da decisão",IF(AND($P14<>"",$P14<$B14),"ERRO: decisão anterior à entrada",IF(AND($P14<>"",$N14<>"",$P14<$N14),"ERRO: decisão anterior à inspeção",IF(AND($O14="Pendente",OR($M14="Aguardando execução",$M14="Concluído")),"ERRO: status exige decisão final",IF(AND($O14<>"Pendente",NOT(OR($M14="Aguardando execução",$M14="Concluído"))),"ERRO: atualize o status após a decisão",IF(AND($M14="Concluído",$Q14=""),"ERRO: informe a data da conclusão",IF(AND($M14<>"Concluído",$Q14<>""),"ERRO: conclusão só para status concluído",IF(AND($Q14<>"",$P14=""),"ERRO: conclusão sem data de decisão",IF(AND($Q14<>"",$Q14<$P14),"ERRO: conclusão anterior à decisão","OK")))))))))))))))))))))) | W14: =IF(OR($A14="",$S14="",$S14=0,$K14=""),"",$K14+ROW()/1000000)
A15: QRT-2026-007 | B15: 46271 | C15: FIC-CAP-M | D15: Capa Nuvem M | E15: CAP2609B | F15: 200 | G15: Inspeção de recebimento | H15: REC-FIC-8893 | I15: Q-02 | J15: Equipe Recebimento | K15: 46274 | L15: Média | M15: Em quarentena | O15: Pendente | R15: Recebimento segregado. | S15: =IF($A15="","",IF(OR(NOT(ISNUMBER($F15)),$F15<=0,$M15=""),"",$F15*--($M15<>"Concluído"))) | T15: =IF(OR($A15="",NOT(ISNUMBER($B15)),NOT(ISNUMBER('Resumo'!$B$3))),"",MAX(0,IF(AND($M15="Concluído",ISNUMBER($Q15)),$Q15,'Resumo'!$B$3)-$B15)) | U15: =IF($A15="","",IF($K15="","Sem prazo",IF($M15="Concluído",IF($Q15="","Revisar",IF($Q15>$K15,"Concluído com atraso","Concluído no prazo")),IF(NOT(ISNUMBER('Resumo'!$B$3)),"Revisar",IF($K15<'Resumo'!$B$3,"Vencido",IF($K15-'Resumo'!$B$3<=2,"Vence em até 2 dias","No prazo")))))) | V15: =IF(COUNTA($A15:$R15)=0,"",IF($A15="","ERRO: informe o ID",IF(COUNTIF($A$9:$A$208,$A15)>1,"ERRO: ID duplicado",IF(OR($B15="",$C15="",$D15="",$E15="",$F15="",$G15="",$H15="",$I15="",$J15="",$K15="",$L15="",$M15="",$O15=""),"ERRO: preencha os campos obrigatórios",IF(OR(COUNTIF('Listas e parâmetros'!$D$4:$D$10,$G15)=0,COUNTIF('Listas e parâmetros'!$I$4:$I$8,$I15)=0,COUNTIF('Listas e parâmetros'!$H$4:$H$6,$J15)=0,COUNTIF('Listas e parâmetros'!$E$4:$E$7,$L15)=0,COUNTIF('Listas e parâmetros'!$F$4:$F$8,$M15)=0,COUNTIF('Listas e parâmetros'!$G$4:$G$7,$O15)=0),"ERRO: valor fora das listas",IF(OR(NOT(ISNUMBER($F15)),$F15<=0),"ERRO: quantidade inválida",IF(OR(NOT(ISNUMBER($B15)),NOT(ISNUMBER($K15))),"ERRO: datas de entrada/prazo inválidas",IF($B15>'Resumo'!$B$3,"ERRO: entrada posterior à data de referência",IF($K15<$B15,"ERRO: prazo anterior à entrada",IF(OR(AND($N15<>"",$N15>'Resumo'!$B$3),AND($P15<>"",$P15>'Resumo'!$B$3),AND($Q15<>"",$Q15>'Resumo'!$B$3)),"ERRO: data posterior à referência",IF(AND($N15<>"",$N15<$B15),"ERRO: inspeção anterior à entrada",IF(AND($M15<>"Em quarentena",$N15=""),"ERRO: informe a data da inspeção",IF(AND($O15="Pendente",$P15<>""),"ERRO: decisão pendente não deve ter data",IF(AND($O15<>"Pendente",$P15=""),"ERRO: informe a data da decisão",IF(AND($P15<>"",$P15<$B15),"ERRO: decisão anterior à entrada",IF(AND($P15<>"",$N15<>"",$P15<$N15),"ERRO: decisão anterior à inspeção",IF(AND($O15="Pendente",OR($M15="Aguardando execução",$M15="Concluído")),"ERRO: status exige decisão final",IF(AND($O15<>"Pendente",NOT(OR($M15="Aguardando execução",$M15="Concluído"))),"ERRO: atualize o status após a decisão",IF(AND($M15="Concluído",$Q15=""),"ERRO: informe a data da conclusão",IF(AND($M15<>"Concluído",$Q15<>""),"ERRO: conclusão só para status concluído",IF(AND($Q15<>"",$P15=""),"ERRO: conclusão sem data de decisão",IF(AND($Q15<>"",$Q15<$P15),"ERRO: conclusão anterior à decisão","OK")))))))))))))))))))))) | W15: =IF(OR($A15="",$S15="",$S15=0,$K15=""),"",$K15+ROW()/1000000)
A16: QRT-2026-008 | B16: 46262 | C16: FIC-CAB-USC | D16: Cabo Cometa USB-C | E16: CAB2608E | F16: 35 | G16: Produto sem identificação | H16: ETQ-FIC-0194 | I16: Q-03 | J16: Equipe Qualidade | K16: 46269 | L16: Alta | M16: Aguardando decisão | N16: 46264 | O16: Pendente | R16: Conferir etiqueta externa. | S16: =IF($A16="","",IF(OR(NOT(ISNUMBER($F16)),$F16<=0,$M16=""),"",$F16*--($M16<>"Concluído"))) | T16: =IF(OR($A16="",NOT(ISNUMBER($B16)),NOT(ISNUMBER('Resumo'!$B$3))),"",MAX(0,IF(AND($M16="Concluído",ISNUMBER($Q16)),$Q16,'Resumo'!$B$3)-$B16)) | U16: =IF($A16="","",IF($K16="","Sem prazo",IF($M16="Concluído",IF($Q16="","Revisar",IF($Q16>$K16,"Concluído com atraso","Concluído no prazo")),IF(NOT(ISNUMBER('Resumo'!$B$3)),"Revisar",IF($K16<'Resumo'!$B$3,"Vencido",IF($K16-'Resumo'!$B$3<=2,"Vence em até 2 dias","No prazo")))))) | V16: =IF(COUNTA($A16:$R16)=0,"",IF($A16="","ERRO: informe o ID",IF(COUNTIF($A$9:$A$208,$A16)>1,"ERRO: ID duplicado",IF(OR($B16="",$C16="",$D16="",$E16="",$F16="",$G16="",$H16="",$I16="",$J16="",$K16="",$L16="",$M16="",$O16=""),"ERRO: preencha os campos obrigatórios",IF(OR(COUNTIF('Listas e parâmetros'!$D$4:$D$10,$G16)=0,COUNTIF('Listas e parâmetros'!$I$4:$I$8,$I16)=0,COUNTIF('Listas e parâmetros'!$H$4:$H$6,$J16)=0,COUNTIF('Listas e parâmetros'!$E$4:$E$7,$L16)=0,COUNTIF('Listas e parâmetros'!$F$4:$F$8,$M16)=0,COUNTIF('Listas e parâmetros'!$G$4:$G$7,$O16)=0),"ERRO: valor fora das listas",IF(OR(NOT(ISNUMBER($F16)),$F16<=0),"ERRO: quantidade inválida",IF(OR(NOT(ISNUMBER($B16)),NOT(ISNUMBER($K16))),"ERRO: datas de entrada/prazo inválidas",IF($B16>'Resumo'!$B$3,"ERRO: entrada posterior à data de referência",IF($K16<$B16,"ERRO: prazo anterior à entrada",IF(OR(AND($N16<>"",$N16>'Resumo'!$B$3),AND($P16<>"",$P16>'Resumo'!$B$3),AND($Q16<>"",$Q16>'Resumo'!$B$3)),"ERRO: data posterior à referência",IF(AND($N16<>"",$N16<$B16),"ERRO: inspeção anterior à entrada",IF(AND($M16<>"Em quarentena",$N16=""),"ERRO: informe a data da inspeção",IF(AND($O16="Pendente",$P16<>""),"ERRO: decisão pendente não deve ter data",IF(AND($O16<>"Pendente",$P16=""),"ERRO: informe a data da decisão",IF(AND($P16<>"",$P16<$B16),"ERRO: decisão anterior à entrada",IF(AND($P16<>"",$N16<>"",$P16<$N16),"ERRO: decisão anterior à inspeção",IF(AND($O16="Pendente",OR($M16="Aguardando execução",$M16="Concluído")),"ERRO: status exige decisão final",IF(AND($O16<>"Pendente",NOT(OR($M16="Aguardando execução",$M16="Concluído"))),"ERRO: atualize o status após a decisão",IF(AND($M16="Concluído",$Q16=""),"ERRO: informe a data da conclusão",IF(AND($M16<>"Concluído",$Q16<>""),"ERRO: conclusão só para status concluído",IF(AND($Q16<>"",$P16=""),"ERRO: conclusão sem data de decisão",IF(AND($Q16<>"",$Q16<$P16),"ERRO: conclusão anterior à decisão","OK")))))))))))))))))))))) | W16: =IF(OR($A16="",$S16="",$S16=0,$K16=""),"",$K16+ROW()/1000000)
A17: QRT-2026-009 | B17: 46267 | C17: FIC-MOC-20 | D17: Mochila Horizonte 20 L | E17: MOC2607A | F17: 48 | G17: Devolução de cliente | H17: DEV-FIC-0240 | I17: Q-04 | J17: Equipe Devoluções | K17: 46273 | L17: Média | M17: Em inspeção | N17: 46269 | O17: Pendente | R17: Teste funcional em andamento. | S17: =IF($A17="","",IF(OR(NOT(ISNUMBER($F17)),$F17<=0,$M17=""),"",$F17*--($M17<>"Concluído"))) | T17: =IF(OR($A17="",NOT(ISNUMBER($B17)),NOT(ISNUMBER('Resumo'!$B$3))),"",MAX(0,IF(AND($M17="Concluído",ISNUMBER($Q17)),$Q17,'Resumo'!$B$3)-$B17)) | U17: =IF($A17="","",IF($K17="","Sem prazo",IF($M17="Concluído",IF($Q17="","Revisar",IF($Q17>$K17,"Concluído com atraso","Concluído no prazo")),IF(NOT(ISNUMBER('Resumo'!$B$3)),"Revisar",IF($K17<'Resumo'!$B$3,"Vencido",IF($K17-'Resumo'!$B$3<=2,"Vence em até 2 dias","No prazo")))))) | V17: =IF(COUNTA($A17:$R17)=0,"",IF($A17="","ERRO: informe o ID",IF(COUNTIF($A$9:$A$208,$A17)>1,"ERRO: ID duplicado",IF(OR($B17="",$C17="",$D17="",$E17="",$F17="",$G17="",$H17="",$I17="",$J17="",$K17="",$L17="",$M17="",$O17=""),"ERRO: preencha os campos obrigatórios",IF(OR(COUNTIF('Listas e parâmetros'!$D$4:$D$10,$G17)=0,COUNTIF('Listas e parâmetros'!$I$4:$I$8,$I17)=0,COUNTIF('Listas e parâmetros'!$H$4:$H$6,$J17)=0,COUNTIF('Listas e parâmetros'!$E$4:$E$7,$L17)=0,COUNTIF('Listas e parâmetros'!$F$4:$F$8,$M17)=0,COUNTIF('Listas e parâmetros'!$G$4:$G$7,$O17)=0),"ERRO: valor fora das listas",IF(OR(NOT(ISNUMBER($F17)),$F17<=0),"ERRO: quantidade inválida",IF(OR(NOT(ISNUMBER($B17)),NOT(ISNUMBER($K17))),"ERRO: datas de entrada/prazo inválidas",IF($B17>'Resumo'!$B$3,"ERRO: entrada posterior à data de referência",IF($K17<$B17,"ERRO: prazo anterior à entrada",IF(OR(AND($N17<>"",$N17>'Resumo'!$B$3),AND($P17<>"",$P17>'Resumo'!$B$3),AND($Q17<>"",$Q17>'Resumo'!$B$3)),"ERRO: data posterior à referência",IF(AND($N17<>"",$N17<$B17),"ERRO: inspeção anterior à entrada",IF(AND($M17<>"Em quarentena",$N17=""),"ERRO: informe a data da inspeção",IF(AND($O17="Pendente",$P17<>""),"ERRO: decisão pendente não deve ter data",IF(AND($O17<>"Pendente",$P17=""),"ERRO: informe a data da decisão",IF(AND($P17<>"",$P17<$B17),"ERRO: decisão anterior à entrada",IF(AND($P17<>"",$N17<>"",$P17<$N17),"ERRO: decisão anterior à inspeção",IF(AND($O17="Pendente",OR($M17="Aguardando execução",$M17="Concluído")),"ERRO: status exige decisão final",IF(AND($O17<>"Pendente",NOT(OR($M17="Aguardando execução",$M17="Concluído"))),"ERRO: atualize o status após a decisão",IF(AND($M17="Concluído",$Q17=""),"ERRO: informe a data da conclusão",IF(AND($M17<>"Concluído",$Q17<>""),"ERRO: conclusão só para status concluído",IF(AND($Q17<>"",$P17=""),"ERRO: conclusão sem data de decisão",IF(AND($Q17<>"",$Q17<$P17),"ERRO: conclusão anterior à decisão","OK")))))))))))))))))))))) | W17: =IF(OR($A17="",$S17="",$S17=0,$K17=""),"",$K17+ROW()/1000000)
A18: QRT-2026-010 | B18: 46249 | C18: FIC-MOU-M1 | D18: Mouse Pulsar M1 | E18: MOU2608C | F18: 12 | G18: Suspeita de qualidade | H18: INS-FIC-3079 | I18: Q-05 | J18: Equipe Qualidade | K18: 46253 | L18: Alta | M18: Concluído | N18: 46251 | O18: Retrabalhar | P18: 46254 | Q18: 46260 | R18: Retrabalho concluído. | S18: =IF($A18="","",IF(OR(NOT(ISNUMBER($F18)),$F18<=0,$M18=""),"",$F18*--($M18<>"Concluído"))) | T18: =IF(OR($A18="",NOT(ISNUMBER($B18)),NOT(ISNUMBER('Resumo'!$B$3))),"",MAX(0,IF(AND($M18="Concluído",ISNUMBER($Q18)),$Q18,'Resumo'!$B$3)-$B18)) | U18: =IF($A18="","",IF($K18="","Sem prazo",IF($M18="Concluído",IF($Q18="","Revisar",IF($Q18>$K18,"Concluído com atraso","Concluído no prazo")),IF(NOT(ISNUMBER('Resumo'!$B$3)),"Revisar",IF($K18<'Resumo'!$B$3,"Vencido",IF($K18-'Resumo'!$B$3<=2,"Vence em até 2 dias","No prazo")))))) | V18: =IF(COUNTA($A18:$R18)=0,"",IF($A18="","ERRO: informe o ID",IF(COUNTIF($A$9:$A$208,$A18)>1,"ERRO: ID duplicado",IF(OR($B18="",$C18="",$D18="",$E18="",$F18="",$G18="",$H18="",$I18="",$J18="",$K18="",$L18="",$M18="",$O18=""),"ERRO: preencha os campos obrigatórios",IF(OR(COUNTIF('Listas e parâmetros'!$D$4:$D$10,$G18)=0,COUNTIF('Listas e parâmetros'!$I$4:$I$8,$I18)=0,COUNTIF('Listas e parâmetros'!$H$4:$H$6,$J18)=0,COUNTIF('Listas e parâmetros'!$E$4:$E$7,$L18)=0,COUNTIF('Listas e parâmetros'!$F$4:$F$8,$M18)=0,COUNTIF('Listas e parâmetros'!$G$4:$G$7,$O18)=0),"ERRO: valor fora das listas",IF(OR(NOT(ISNUMBER($F18)),$F18<=0),"ERRO: quantidade inválida",IF(OR(NOT(ISNUMBER($B18)),NOT(ISNUMBER($K18))),"ERRO: datas de entrada/prazo inválidas",IF($B18>'Resumo'!$B$3,"ERRO: entrada posterior à data de referência",IF($K18<$B18,"ERRO: prazo anterior à entrada",IF(OR(AND($N18<>"",$N18>'Resumo'!$B$3),AND($P18<>"",$P18>'Resumo'!$B$3),AND($Q18<>"",$Q18>'Resumo'!$B$3)),"ERRO: data posterior à referência",IF(AND($N18<>"",$N18<$B18),"ERRO: inspeção anterior à entrada",IF(AND($M18<>"Em quarentena",$N18=""),"ERRO: informe a data da inspeção",IF(AND($O18="Pendente",$P18<>""),"ERRO: decisão pendente não deve ter data",IF(AND($O18<>"Pendente",$P18=""),"ERRO: informe a data da decisão",IF(AND($P18<>"",$P18<$B18),"ERRO: decisão anterior à entrada",IF(AND($P18<>"",$N18<>"",$P18<$N18),"ERRO: decisão anterior à inspeção",IF(AND($O18="Pendente",OR($M18="Aguardando execução",$M18="Concluído")),"ERRO: status exige decisão final",IF(AND($O18<>"Pendente",NOT(OR($M18="Aguardando execução",$M18="Concluído"))),"ERRO: atualize o status após a decisão",IF(AND($M18="Concluído",$Q18=""),"ERRO: informe a data da conclusão",IF(AND($M18<>"Concluído",$Q18<>""),"ERRO: conclusão só para status concluído",IF(AND($Q18<>"",$P18=""),"ERRO: conclusão sem data de decisão",IF(AND($Q18<>"",$Q18<$P18),"ERRO: conclusão anterior à decisão","OK")))))))))))))))))))))) | W18: =IF(OR($A18="",$S18="",$S18=0,$K18=""),"",$K18+ROW()/1000000)
S19: =IF($A19="","",IF(OR(NOT(ISNUMBER($F19)),$F19<=0,$M19=""),"",$F19*--($M19<>"Concluído"))) | T19: =IF(OR($A19="",NOT(ISNUMBER($B19)),NOT(ISNUMBER('Resumo'!$B$3))),"",MAX(0,IF(AND($M19="Concluído",ISNUMBER($Q19)),$Q19,'Resumo'!$B$3)-$B19)) | U19: =IF($A19="","",IF($K19="","Sem prazo",IF($M19="Concluído",IF($Q19="","Revisar",IF($Q19>$K19,"Concluído com atraso","Concluído no prazo")),IF(NOT(ISNUMBER('Resumo'!$B$3)),"Revisar",IF($K19<'Resumo'!$B$3,"Vencido",IF($K19-'Resumo'!$B$3<=2,"Vence em até 2 dias","No prazo")))))) | V19: =IF(COUNTA($A19:$R19)=0,"",IF($A19="","ERRO: informe o ID",IF(COUNTIF($A$9:$A$208,$A19)>1,"ERRO: ID duplicado",IF(OR($B19="",$C19="",$D19="",$E19="",$F19="",$G19="",$H19="",$I19="",$J19="",$K19="",$L19="",$M19="",$O19=""),"ERRO: preencha os campos obrigatórios",IF(OR(COUNTIF('Listas e parâmetros'!$D$4:$D$10,$G19)=0,COUNTIF('Listas e parâmetros'!$I$4:$I$8,$I19)=0,COUNTIF('Listas e parâmetros'!$H$4:$H$6,$J19)=0,COUNTIF('Listas e parâmetros'!$E$4:$E$7,$L19)=0,COUNTIF('Listas e parâmetros'!$F$4:$F$8,$M19)=0,COUNTIF('Listas e parâmetros'!$G$4:$G$7,$O19)=0),"ERRO: valor fora das listas",IF(OR(NOT(ISNUMBER($F19)),$F19<=0),"ERRO: quantidade inválida",IF(OR(NOT(ISNUMBER($B19)),NOT(ISNUMBER($K19))),"ERRO: datas de entrada/prazo inválidas",IF($B19>'Resumo'!$B$3,"ERRO: entrada posterior à data de referência",IF($K19<$B19,"ERRO: prazo anterior à entrada",IF(OR(AND($N19<>"",$N19>'Resumo'!$B$3),AND($P19<>"",$P19>'Resumo'!$B$3),AND($Q19<>"",$Q19>'Resumo'!$B$3)),"ERRO: data posterior à referência",IF(AND($N19<>"",$N19<$B19),"ERRO: inspeção anterior à entrada",IF(AND($M19<>"Em quarentena",$N19=""),"ERRO: informe a data da inspeção",IF(AND($O19="Pendente",$P19<>""),"ERRO: decisão pendente não deve ter data",IF(AND($O19<>"Pendente",$P19=""),"ERRO: informe a data da decisão",IF(AND($P19<>"",$P19<$B19),"ERRO: decisão anterior à entrada",IF(AND($P19<>"",$N19<>"",$P19<$N19),"ERRO: decisão anterior à inspeção",IF(AND($O19="Pendente",OR($M19="Aguardando execução",$M19="Concluído")),"ERRO: status exige decisão final",IF(AND($O19<>"Pendente",NOT(OR($M19="Aguardando execução",$M19="Concluído"))),"ERRO: atualize o status após a decisão",IF(AND($M19="Concluído",$Q19=""),"ERRO: informe a data da conclusão",IF(AND($M19<>"Concluído",$Q19<>""),"ERRO: conclusão só para status concluído",IF(AND($Q19<>"",$P19=""),"ERRO: conclusão sem data de decisão",IF(AND($Q19<>"",$Q19<$P19),"ERRO: conclusão anterior à decisão","OK")))))))))))))))))))))) | W19: =IF(OR($A19="",$S19="",$S19=0,$K19=""),"",$K19+ROW()/1000000)
S20: =IF($A20="","",IF(OR(NOT(ISNUMBER($F20)),$F20<=0,$M20=""),"",$F20*--($M20<>"Concluído"))) | T20: =IF(OR($A20="",NOT(ISNUMBER($B20)),NOT(ISNUMBER('Resumo'!$B$3))),"",MAX(0,IF(AND($M20="Concluído",ISNUMBER($Q20)),$Q20,'Resumo'!$B$3)-$B20)) | U20: =IF($A20="","",IF($K20="","Sem prazo",IF($M20="Concluído",IF($Q20="","Revisar",IF($Q20>$K20,"Concluído com atraso","Concluído no prazo")),IF(NOT(ISNUMBER('Resumo'!$B$3)),"Revisar",IF($K20<'Resumo'!$B$3,"Vencido",IF($K20-'Resumo'!$B$3<=2,"Vence em até 2 dias","No prazo")))))) | V20: =IF(COUNTA($A20:$R20)=0,"",IF($A20="","ERRO: informe o ID",IF(COUNTIF($A$9:$A$208,$A20)>1,"ERRO: ID duplicado",IF(OR($B20="",$C20="",$D20="",$E20="",$F20="",$G20="",$H20="",$I20="",$J20="",$K20="",$L20="",$M20="",$O20=""),"ERRO: preencha os campos obrigatórios",IF(OR(COUNTIF('Listas e parâmetros'!$D$4:$D$10,$G20)=0,COUNTIF('Listas e parâmetros'!$I$4:$I$8,$I20)=0,COUNTIF('Listas e parâmetros'!$H$4:$H$6,$J20)=0,COUNTIF('Listas e parâmetros'!$E$4:$E$7,$L20)=0,COUNTIF('Listas e parâmetros'!$F$4:$F$8,$M20)=0,COUNTIF('Listas e parâmetros'!$G$4:$G$7,$O20)=0),"ERRO: valor fora das listas",IF(OR(NOT(ISNUMBER($F20)),$F20<=0),"ERRO: quantidade inválida",IF(OR(NOT(ISNUMBER($B20)),NOT(ISNUMBER($K20))),"ERRO: datas de entrada/prazo inválidas",IF($B20>'Resumo'!$B$3,"ERRO: entrada posterior à data de referência",IF($K20<$B20,"ERRO: prazo anterior à entrada",IF(OR(AND($N20<>"",$N20>'Resumo'!$B$3),AND($P20<>"",$P20>'Resumo'!$B$3),AND($Q20<>"",$Q20>'Resumo'!$B$3)),"ERRO: data posterior à referência",IF(AND($N20<>"",$N20<$B20),"ERRO: inspeção anterior à entrada",IF(AND($M20<>"Em quarentena",$N20=""),"ERRO: informe a data da inspeção",IF(AND($O20="Pendente",$P20<>""),"ERRO: decisão pendente não deve ter data",IF(AND($O20<>"Pendente",$P20=""),"ERRO: informe a data da decisão",IF(AND($P20<>"",$P20<$B20),"ERRO: decisão anterior à entrada",IF(AND($P20<>"",$N20<>"",$P20<$N20),"ERRO: decisão anterior à inspeção",IF(AND($O20="Pendente",OR($M20="Aguardando execução",$M20="Concluído")),"ERRO: status exige decisão final",IF(AND($O20<>"Pendente",NOT(OR($M20="Aguardando execução",$M20="Concluído"))),"ERRO: atualize o status após a decisão",IF(AND($M20="Concluído",$Q20=""),"ERRO: informe a data da conclusão",IF(AND($M20<>"Concluído",$Q20<>""),"ERRO: conclusão só para status concluído",IF(AND($Q20<>"",$P20=""),"ERRO: conclusão sem data de decisão",IF(AND($Q20<>"",$Q20<$P20),"ERRO: conclusão anterior à decisão","OK")))))))))))))))))))))) | W20: =IF(OR($A20="",$S20="",$S20=0,$K20=""),"",$K20+ROW()/1000000)
S21: =IF($A21="","",IF(OR(NOT(ISNUMBER($F21)),$F21<=0,$M21=""),"",$F21*--($M21<>"Concluído"))) | T21: =IF(OR($A21="",NOT(ISNUMBER($B21)),NOT(ISNUMBER('Resumo'!$B$3))),"",MAX(0,IF(AND($M21="Concluído",ISNUMBER($Q21)),$Q21,'Resumo'!$B$3)-$B21)) | U21: =IF($A21="","",IF($K21="","Sem prazo",IF($M21="Concluído",IF($Q21="","Revisar",IF($Q21>$K21,"Concluído com atraso","Concluído no prazo")),IF(NOT(ISNUMBER('Resumo'!$B$3)),"Revisar",IF($K21<'Resumo'!$B$3,"Vencido",IF($K21-'Resumo'!$B$3<=2,"Vence em até 2 dias","No prazo")))))) | V21: =IF(COUNTA($A21:$R21)=0,"",IF($A21="","ERRO: informe o ID",IF(COUNTIF($A$9:$A$208,$A21)>1,"ERRO: ID duplicado",IF(OR($B21="",$C21="",$D21="",$E21="",$F21="",$G21="",$H21="",$I21="",$J21="",$K21="",$L21="",$M21="",$O21=""),"ERRO: preencha os campos obrigatórios",IF(OR(COUNTIF('Listas e parâmetros'!$D$4:$D$10,$G21)=0,COUNTIF('Listas e parâmetros'!$I$4:$I$8,$I21)=0,COUNTIF('Listas e parâmetros'!$H$4:$H$6,$J21)=0,COUNTIF('Listas e parâmetros'!$E$4:$E$7,$L21)=0,COUNTIF('Listas e parâmetros'!$F$4:$F$8,$M21)=0,COUNTIF('Listas e parâmetros'!$G$4:$G$7,$O21)=0),"ERRO: valor fora das listas",IF(OR(NOT(ISNUMBER($F21)),$F21<=0),"ERRO: quantidade inválida",IF(OR(NOT(ISNUMBER($B21)),NOT(ISNUMBER($K21))),"ERRO: datas de entrada/prazo inválidas",IF($B21>'Resumo'!$B$3,"ERRO: entrada posterior à data de referência",IF($K21<$B21,"ERRO: prazo anterior à entrada",IF(OR(AND($N21<>"",$N21>'Resumo'!$B$3),AND($P21<>"",$P21>'Resumo'!$B$3),AND($Q21<>"",$Q21>'Resumo'!$B$3)),"ERRO: data posterior à referência",IF(AND($N21<>"",$N21<$B21),"ERRO: inspeção anterior à entrada",IF(AND($M21<>"Em quarentena",$N21=""),"ERRO: informe a data da inspeção",IF(AND($O21="Pendente",$P21<>""),"ERRO: decisão pendente não deve ter data",IF(AND($O21<>"Pendente",$P21=""),"ERRO: informe a data da decisão",IF(AND($P21<>"",$P21<$B21),"ERRO: decisão anterior à entrada",IF(AND($P21<>"",$N21<>"",$P21<$N21),"ERRO: decisão anterior à inspeção",IF(AND($O21="Pendente",OR($M21="Aguardando execução",$M21="Concluído")),"ERRO: status exige decisão final",IF(AND($O21<>"Pendente",NOT(OR($M21="Aguardando execução",$M21="Concluído"))),"ERRO: atualize o status após a decisão",IF(AND($M21="Concluído",$Q21=""),"ERRO: informe a data da conclusão",IF(AND($M21<>"Concluído",$Q21<>""),"ERRO: conclusão só para status concluído",IF(AND($Q21<>"",$P21=""),"ERRO: conclusão sem data de decisão",IF(AND($Q21<>"",$Q21<$P21),"ERRO: conclusão anterior à decisão","OK")))))))))))))))))))))) | W21: =IF(OR($A21="",$S21="",$S21=0,$K21=""),"",$K21+ROW()/1000000)
S22: =IF($A22="","",IF(OR(NOT(ISNUMBER($F22)),$F22<=0,$M22=""),"",$F22*--($M22<>"Concluído"))) | T22: =IF(OR($A22="",NOT(ISNUMBER($B22)),NOT(ISNUMBER('Resumo'!$B$3))),"",MAX(0,IF(AND($M22="Concluído",ISNUMBER($Q22)),$Q22,'Resumo'!$B$3)-$B22)) | U22: =IF($A22="","",IF($K22="","Sem prazo",IF($M22="Concluído",IF($Q22="","Revisar",IF($Q22>$K22,"Concluído com atraso","Concluído no prazo")),IF(NOT(ISNUMBER('Resumo'!$B$3)),"Revisar",IF($K22<'Resumo'!$B$3,"Vencido",IF($K22-'Resumo'!$B$3<=2,"Vence em até 2 dias","No prazo")))))) | V22: =IF(COUNTA($A22:$R22)=0,"",IF($A22="","ERRO: informe o ID",IF(COUNTIF($A$9:$A$208,$A22)>1,"ERRO: ID duplicado",IF(OR($B22="",$C22="",$D22="",$E22="",$F22="",$G22="",$H22="",$I22="",$J22="",$K22="",$L22="",$M22="",$O22=""),"ERRO: preencha os campos obrigatórios",IF(OR(COUNTIF('Listas e parâmetros'!$D$4:$D$10,$G22)=0,COUNTIF('Listas e parâmetros'!$I$4:$I$8,$I22)=0,COUNTIF('Listas e parâmetros'!$H$4:$H$6,$J22)=0,COUNTIF('Listas e parâmetros'!$E$4:$E$7,$L22)=0,COUNTIF('Listas e parâmetros'!$F$4:$F$8,$M22)=0,COUNTIF('Listas e parâmetros'!$G$4:$G$7,$O22)=0),"ERRO: valor fora das listas",IF(OR(NOT(ISNUMBER($F22)),$F22<=0),"ERRO: quantidade inválida",IF(OR(NOT(ISNUMBER($B22)),NOT(ISNUMBER($K22))),"ERRO: datas de entrada/prazo inválidas",IF($B22>'Resumo'!$B$3,"ERRO: entrada posterior à data de referência",IF($K22<$B22,"ERRO: prazo anterior à entrada",IF(OR(AND($N22<>"",$N22>'Resumo'!$B$3),AND($P22<>"",$P22>'Resumo'!$B$3),AND($Q22<>"",$Q22>'Resumo'!$B$3)),"ERRO: data posterior à referência",IF(AND($N22<>"",$N22<$B22),"ERRO: inspeção anterior à entrada",IF(AND($M22<>"Em quarentena",$N22=""),"ERRO: informe a data da inspeção",IF(AND($O22="Pendente",$P22<>""),"ERRO: decisão pendente não deve ter data",IF(AND($O22<>"Pendente",$P22=""),"ERRO: informe a data da decisão",IF(AND($P22<>"",$P22<$B22),"ERRO: decisão anterior à entrada",IF(AND($P22<>"",$N22<>"",$P22<$N22),"ERRO: decisão anterior à inspeção",IF(AND($O22="Pendente",OR($M22="Aguardando execução",$M22="Concluído")),"ERRO: status exige decisão final",IF(AND($O22<>"Pendente",NOT(OR($M22="Aguardando execução",$M22="Concluído"))),"ERRO: atualize o status após a decisão",IF(AND($M22="Concluído",$Q22=""),"ERRO: informe a data da conclusão",IF(AND($M22<>"Concluído",$Q22<>""),"ERRO: conclusão só para status concluído",IF(AND($Q22<>"",$P22=""),"ERRO: conclusão sem data de decisão",IF(AND($Q22<>"",$Q22<$P22),"ERRO: conclusão anterior à decisão","OK")))))))))))))))))))))) | W22: =IF(OR($A22="",$S22="",$S22=0,$K22=""),"",$K22+ROW()/1000000)
S23: =IF($A23="","",IF(OR(NOT(ISNUMBER($F23)),$F23<=0,$M23=""),"",$F23*--($M23<>"Concluído"))) | T23: =IF(OR($A23="",NOT(ISNUMBER($B23)),NOT(ISNUMBER('Resumo'!$B$3))),"",MAX(0,IF(AND($M23="Concluído",ISNUMBER($Q23)),$Q23,'Resumo'!$B$3)-$B23)) | U23: =IF($A23="","",IF($K23="","Sem prazo",IF($M23="Concluído",IF($Q23="","Revisar",IF($Q23>$K23,"Concluído com atraso","Concluído no prazo")),IF(NOT(ISNUMBER('Resumo'!$B$3)),"Revisar",IF($K23<'Resumo'!$B$3,"Vencido",IF($K23-'Resumo'!$B$3<=2,"Vence em até 2 dias","No prazo")))))) | V23: =IF(COUNTA($A23:$R23)=0,"",IF($A23="","ERRO: informe o ID",IF(COUNTIF($A$9:$A$208,$A23)>1,"ERRO: ID duplicado",IF(OR($B23="",$C23="",$D23="",$E23="",$F23="",$G23="",$H23="",$I23="",$J23="",$K23="",$L23="",$M23="",$O23=""),"ERRO: preencha os campos obrigatórios",IF(OR(COUNTIF('Listas e parâmetros'!$D$4:$D$10,$G23)=0,COUNTIF('Listas e parâmetros'!$I$4:$I$8,$I23)=0,COUNTIF('Listas e parâmetros'!$H$4:$H$6,$J23)=0,COUNTIF('Listas e parâmetros'!$E$4:$E$7,$L23)=0,COUNTIF('Listas e parâmetros'!$F$4:$F$8,$M23)=0,COUNTIF('Listas e parâmetros'!$G$4:$G$7,$O23)=0),"ERRO: valor fora das listas",IF(OR(NOT(ISNUMBER($F23)),$F23<=0),"ERRO: quantidade inválida",IF(OR(NOT(ISNUMBER($B23)),NOT(ISNUMBER($K23))),"ERRO: datas de entrada/prazo inválidas",IF($B23>'Resumo'!$B$3,"ERRO: entrada posterior à data de referência",IF($K23<$B23,"ERRO: prazo anterior à entrada",IF(OR(AND($N23<>"",$N23>'Resumo'!$B$3),AND($P23<>"",$P23>'Resumo'!$B$3),AND($Q23<>"",$Q23>'Resumo'!$B$3)),"ERRO: data posterior à referência",IF(AND($N23<>"",$N23<$B23),"ERRO: inspeção anterior à entrada",IF(AND($M23<>"Em quarentena",$N23=""),"ERRO: informe a data da inspeção",IF(AND($O23="Pendente",$P23<>""),"ERRO: decisão pendente não deve ter data",IF(AND($O23<>"Pendente",$P23=""),"ERRO: informe a data da decisão",IF(AND($P23<>"",$P23<$B23),"ERRO: decisão anterior à entrada",IF(AND($P23<>"",$N23<>"",$P23<$N23),"ERRO: decisão anterior à inspeção",IF(AND($O23="Pendente",OR($M23="Aguardando execução",$M23="Concluído")),"ERRO: status exige decisão final",IF(AND($O23<>"Pendente",NOT(OR($M23="Aguardando execução",$M23="Concluído"))),"ERRO: atualize o status após a decisão",IF(AND($M23="Concluído",$Q23=""),"ERRO: informe a data da conclusão",IF(AND($M23<>"Concluído",$Q23<>""),"ERRO: conclusão só para status concluído",IF(AND($Q23<>"",$P23=""),"ERRO: conclusão sem data de decisão",IF(AND($Q23<>"",$Q23<$P23),"ERRO: conclusão anterior à decisão","OK")))))))))))))))))))))) | W23: =IF(OR($A23="",$S23="",$S23=0,$K23=""),"",$K23+ROW()/1000000)
S24: =IF($A24="","",IF(OR(NOT(ISNUMBER($F24)),$F24<=0,$M24=""),"",$F24*--($M24<>"Concluído"))) | T24: =IF(OR($A24="",NOT(ISNUMBER($B24)),NOT(ISNUMBER('Resumo'!$B$3))),"",MAX(0,IF(AND($M24="Concluído",ISNUMBER($Q24)),$Q24,'Resumo'!$B$3)-$B24)) | U24: =IF($A24="","",IF($K24="","Sem prazo",IF($M24="Concluído",IF($Q24="","Revisar",IF($Q24>$K24,"Concluído com atraso","Concluído no prazo")),IF(NOT(ISNUMBER('Resumo'!$B$3)),"Revisar",IF($K24<'Resumo'!$B$3,"Vencido",IF($K24-'Resumo'!$B$3<=2,"Vence em até 2 dias","No prazo")))))) | V24: =IF(COUNTA($A24:$R24)=0,"",IF($A24="","ERRO: informe o ID",IF(COUNTIF($A$9:$A$208,$A24)>1,"ERRO: ID duplicado",IF(OR($B24="",$C24="",$D24="",$E24="",$F24="",$G24="",$H24="",$I24="",$J24="",$K24="",$L24="",$M24="",$O24=""),"ERRO: preencha os campos obrigatórios",IF(OR(COUNTIF('Listas e parâmetros'!$D$4:$D$10,$G24)=0,COUNTIF('Listas e parâmetros'!$I$4:$I$8,$I24)=0,COUNTIF('Listas e parâmetros'!$H$4:$H$6,$J24)=0,COUNTIF('Listas e parâmetros'!$E$4:$E$7,$L24)=0,COUNTIF('Listas e parâmetros'!$F$4:$F$8,$M24)=0,COUNTIF('Listas e parâmetros'!$G$4:$G$7,$O24)=0),"ERRO: valor fora das listas",IF(OR(NOT(ISNUMBER($F24)),$F24<=0),"ERRO: quantidade inválida",IF(OR(NOT(ISNUMBER($B24)),NOT(ISNUMBER($K24))),"ERRO: datas de entrada/prazo inválidas",IF($B24>'Resumo'!$B$3,"ERRO: entrada posterior à data de referência",IF($K24<$B24,"ERRO: prazo anterior à entrada",IF(OR(AND($N24<>"",$N24>'Resumo'!$B$3),AND($P24<>"",$P24>'Resumo'!$B$3),AND($Q24<>"",$Q24>'Resumo'!$B$3)),"ERRO: data posterior à referência",IF(AND($N24<>"",$N24<$B24),"ERRO: inspeção anterior à entrada",IF(AND($M24<>"Em quarentena",$N24=""),"ERRO: informe a data da inspeção",IF(AND($O24="Pendente",$P24<>""),"ERRO: decisão pendente não deve ter data",IF(AND($O24<>"Pendente",$P24=""),"ERRO: informe a data da decisão",IF(AND($P24<>"",$P24<$B24),"ERRO: decisão anterior à entrada",IF(AND($P24<>"",$N24<>"",$P24<$N24),"ERRO: decisão anterior à inspeção",IF(AND($O24="Pendente",OR($M24="Aguardando execução",$M24="Concluído")),"ERRO: status exige decisão final",IF(AND($O24<>"Pendente",NOT(OR($M24="Aguardando execução",$M24="Concluído"))),"ERRO: atualize o status após a decisão",IF(AND($M24="Concluído",$Q24=""),"ERRO: informe a data da conclusão",IF(AND($M24<>"Concluído",$Q24<>""),"ERRO: conclusão só para status concluído",IF(AND($Q24<>"",$P24=""),"ERRO: conclusão sem data de decisão",IF(AND($Q24<>"",$Q24<$P24),"ERRO: conclusão anterior à decisão","OK")))))))))))))))))))))) | W24: =IF(OR($A24="",$S24="",$S24=0,$K24=""),"",$K24+ROW()/1000000)
S25: =IF($A25="","",IF(OR(NOT(ISNUMBER($F25)),$F25<=0,$M25=""),"",$F25*--($M25<>"Concluído"))) | T25: =IF(OR($A25="",NOT(ISNUMBER($B25)),NOT(ISNUMBER('Resumo'!$B$3))),"",MAX(0,IF(AND($M25="Concluído",ISNUMBER($Q25)),$Q25,'Resumo'!$B$3)-$B25)) | U25: =IF($A25="","",IF($K25="","Sem prazo",IF($M25="Concluído",IF($Q25="","Revisar",IF($Q25>$K25,"Concluído com atraso","Concluído no prazo")),IF(NOT(ISNUMBER('Resumo'!$B$3)),"Revisar",IF($K25<'Resumo'!$B$3,"Vencido",IF($K25-'Resumo'!$B$3<=2,"Vence em até 2 dias","No prazo")))))) | V25: =IF(COUNTA($A25:$R25)=0,"",IF($A25="","ERRO: informe o ID",IF(COUNTIF($A$9:$A$208,$A25)>1,"ERRO: ID duplicado",IF(OR($B25="",$C25="",$D25="",$E25="",$F25="",$G25="",$H25="",$I25="",$J25="",$K25="",$L25="",$M25="",$O25=""),"ERRO: preencha os campos obrigatórios",IF(OR(COUNTIF('Listas e parâmetros'!$D$4:$D$10,$G25)=0,COUNTIF('Listas e parâmetros'!$I$4:$I$8,$I25)=0,COUNTIF('Listas e parâmetros'!$H$4:$H$6,$J25)=0,COUNTIF('Listas e parâmetros'!$E$4:$E$7,$L25)=0,COUNTIF('Listas e parâmetros'!$F$4:$F$8,$M25)=0,COUNTIF('Listas e parâmetros'!$G$4:$G$7,$O25)=0),"ERRO: valor fora das listas",IF(OR(NOT(ISNUMBER($F25)),$F25<=0),"ERRO: quantidade inválida",IF(OR(NOT(ISNUMBER($B25)),NOT(ISNUMBER($K25))),"ERRO: datas de entrada/prazo inválidas",IF($B25>'Resumo'!$B$3,"ERRO: entrada posterior à data de referência",IF($K25<$B25,"ERRO: prazo anterior à entrada",IF(OR(AND($N25<>"",$N25>'Resumo'!$B$3),AND($P25<>"",$P25>'Resumo'!$B$3),AND($Q25<>"",$Q25>'Resumo'!$B$3)),"ERRO: data posterior à referência",IF(AND($N25<>"",$N25<$B25),"ERRO: inspeção anterior à entrada",IF(AND($M25<>"Em quarentena",$N25=""),"ERRO: informe a data da inspeção",IF(AND($O25="Pendente",$P25<>""),"ERRO: decisão pendente não deve ter data",IF(AND($O25<>"Pendente",$P25=""),"ERRO: informe a data da decisão",IF(AND($P25<>"",$P25<$B25),"ERRO: decisão anterior à entrada",IF(AND($P25<>"",$N25<>"",$P25<$N25),"ERRO: decisão anterior à inspeção",IF(AND($O25="Pendente",OR($M25="Aguardando execução",$M25="Concluído")),"ERRO: status exige decisão final",IF(AND($O25<>"Pendente",NOT(OR($M25="Aguardando execução",$M25="Concluído"))),"ERRO: atualize o status após a decisão",IF(AND($M25="Concluído",$Q25=""),"ERRO: informe a data da conclusão",IF(AND($M25<>"Concluído",$Q25<>""),"ERRO: conclusão só para status concluído",IF(AND($Q25<>"",$P25=""),"ERRO: conclusão sem data de decisão",IF(AND($Q25<>"",$Q25<$P25),"ERRO: conclusão anterior à decisão","OK")))))))))))))))))))))) | W25: =IF(OR($A25="",$S25="",$S25=0,$K25=""),"",$K25+ROW()/1000000)
