Workbook

Sheet Resumo
A1: Rastreabilidade de lotes e números de série
A3: Data inicial | B3: 46023 | C3: Data final | D3: 46387
A5: Identificadores cadastrados | C5: Com posição interna | E5: Em trânsito ou com cliente | G5: Com histórico de retorno
A6: =COUNTIF('Itens rastreáveis'!$E$2:$E$201,"?*") | C6: =COUNTIFS('Itens rastreáveis'!$E$2:$E$201,"?*",'Itens rastreáveis'!$L$2:$L$201,"Interna") | E6: =COUNTIFS('Itens rastreáveis'!$E$2:$E$201,"?*",'Itens rastreáveis'!$O$2:$O$201,"Em trânsito")+COUNTIFS('Itens rastreáveis'!$E$2:$E$201,"?*",'Itens rastreáveis'!$O$2:$O$201,"Com cliente") | G6: =COUNTIFS('Itens rastreáveis'!$E$2:$E$201,"?*",'Itens rastreáveis'!$N$2:$N$201,"Com retorno")
A9: Identificadores com vínculo incompleto | C9: Eventos no período | E9: Eventos pendentes no período | G9: Retornos recebidos no período
A10: =COUNTIFS('Itens rastreáveis'!$E$2:$E$201,"?*",'Itens rastreáveis'!$P$2:$P$201,"<>OK") | C10: =COUNTIFS(Movimentos!$A$2:$A$501,"?*",Movimentos!$B$2:$B$501,">="&$B$3,Movimentos!$B$2:$B$501,"<="&$D$3) | E10: =COUNTIFS(Movimentos!$A$2:$A$501,"?*",Movimentos!$B$2:$B$501,">="&$B$3,Movimentos!$B$2:$B$501,"<="&$D$3,Movimentos!$X$2:$X$501,"Pendente") | G10: =COUNTIFS(Movimentos!$B$2:$B$501,">="&$B$3,Movimentos!$B$2:$B$501,"<="&$D$3,Movimentos!$G$2:$G$501,"RETORNO RECEBIDO")
A13: Situação atual | B13: Identificadores | D13: Grupo de pendência | E13: Eventos
A14: Em estoque interno | B14: =COUNTIFS('Itens rastreáveis'!$E$2:$E$201,"?*",'Itens rastreáveis'!$O$2:$O$201,$A14) | D14: Campos e ID | E14: =COUNTIFS(Movimentos!$B$2:$B$501,">="&$B$3,Movimentos!$B$2:$B$501,"<="&$D$3,Movimentos!$W$2:$W$501,"Campos obrigatórios ausentes")+COUNTIFS(Movimentos!$B$2:$B$501,">="&$B$3,Movimentos!$B$2:$B$501,"<="&$D$3,Movimentos!$W$2:$W$501,"ID do evento duplicado")
A15: Em movimentação interna | B15: =COUNTIFS('Itens rastreáveis'!$E$2:$E$201,"?*",'Itens rastreáveis'!$O$2:$O$201,$A15) | D15: Cadastro do identificador | E15: =COUNTIFS(Movimentos!$B$2:$B$501,">="&$B$3,Movimentos!$B$2:$B$501,"<="&$D$3,Movimentos!$W$2:$W$501,"Identificação incompleta")+COUNTIFS(Movimentos!$B$2:$B$501,">="&$B$3,Movimentos!$B$2:$B$501,"<="&$D$3,Movimentos!$W$2:$W$501,"Identificador não cadastrado")+COUNTIFS(Movimentos!$B$2:$B$501,">="&$B$3,Movimentos!$B$2:$B$501,"<="&$D$3,Movimentos!$W$2:$W$501,"Identificador duplicado no cadastro")
A16: Reservado para pedido | B16: =COUNTIFS('Itens rastreáveis'!$E$2:$E$201,"?*",'Itens rastreáveis'!$O$2:$O$201,$A16) | D16: Entrada | E16: =COUNTIFS(Movimentos!$B$2:$B$501,">="&$B$3,Movimentos!$B$2:$B$501,"<="&$D$3,Movimentos!$W$2:$W$501,"Recebimento duplicado")+COUNTIFS(Movimentos!$B$2:$B$501,">="&$B$3,Movimentos!$B$2:$B$501,"<="&$D$3,Movimentos!$W$2:$W$501,"Recebimento com evento anterior")+COUNTIFS(Movimentos!$B$2:$B$501,">="&$B$3,Movimentos!$B$2:$B$501,"<="&$D$3,Movimentos!$W$2:$W$501,"Entrada anterior não localizada")
A17: Em trânsito | B17: =COUNTIFS('Itens rastreáveis'!$E$2:$E$201,"?*",'Itens rastreáveis'!$O$2:$O$201,$A17) | D17: Pedido | E17: =COUNTIFS(Movimentos!$B$2:$B$501,">="&$B$3,Movimentos!$B$2:$B$501,"<="&$D$3,Movimentos!$W$2:$W$501,"Pedido obrigatório")
A18: Com cliente | B18: =COUNTIFS('Itens rastreáveis'!$E$2:$E$201,"?*",'Itens rastreáveis'!$O$2:$O$201,$A18) | D18: Encadeamento | E18: =COUNTIFS(Movimentos!$B$2:$B$501,">="&$B$3,Movimentos!$B$2:$B$501,"<="&$D$3,Movimentos!$W$2:$W$501,"Evento anterior ausente")+COUNTIFS(Movimentos!$B$2:$B$501,">="&$B$3,Movimentos!$B$2:$B$501,"<="&$D$3,Movimentos!$W$2:$W$501,"Evento anterior inexistente")+COUNTIFS(Movimentos!$B$2:$B$501,">="&$B$3,Movimentos!$B$2:$B$501,"<="&$D$3,Movimentos!$W$2:$W$501,"Evento anterior ambíguo")+COUNTIFS(Movimentos!$B$2:$B$501,">="&$B$3,Movimentos!$B$2:$B$501,"<="&$D$3,Movimentos!$W$2:$W$501,"Autorreferência")+COUNTIFS(Movimentos!$B$2:$B$501,">="&$B$3,Movimentos!$B$2:$B$501,"<="&$D$3,Movimentos!$W$2:$W$501,"Anterior de outro identificador")+COUNTIFS(Movimentos!$B$2:$B$501,">="&$B$3,Movimentos!$B$2:$B$501,"<="&$D$3,Movimentos!$W$2:$W$501,"Salto na cadeia")
A19: Em análise de retorno | B19: =COUNTIFS('Itens rastreáveis'!$E$2:$E$201,"?*",'Itens rastreáveis'!$O$2:$O$201,$A19) | D19: Ordem do evento | E19: =COUNTIFS(Movimentos!$B$2:$B$501,">="&$B$3,Movimentos!$B$2:$B$501,"<="&$D$3,Movimentos!$W$2:$W$501,"Ordem cronológica inválida")+COUNTIFS(Movimentos!$B$2:$B$501,">="&$B$3,Movimentos!$B$2:$B$501,"<="&$D$3,Movimentos!$W$2:$W$501,"Conflito de ordem")
A20: Encerrado | B20: =COUNTIFS('Itens rastreáveis'!$E$2:$E$201,"?*",'Itens rastreáveis'!$O$2:$O$201,$A20)
A21: Sem histórico | B21: =COUNTIFS('Itens rastreáveis'!$E$2:$E$201,"?*",'Itens rastreáveis'!$O$2:$O$201,$A21)
A24: Mês | B24: Eventos
A25: =DATE(YEAR($B$3),ROW()-24,1) | B25: =IF(OR(EOMONTH($A25,0)<$B$3,$A25>$D$3),0,COUNTIFS(Movimentos!$B$2:$B$501,">="&MAX($A25,$B$3),Movimentos!$B$2:$B$501,"<="&MIN(EOMONTH($A25,0),$D$3),Movimentos!$A$2:$A$501,"?*"))
A26: =DATE(YEAR($B$3),ROW()-24,1) | B26: =IF(OR(EOMONTH($A26,0)<$B$3,$A26>$D$3),0,COUNTIFS(Movimentos!$B$2:$B$501,">="&MAX($A26,$B$3),Movimentos!$B$2:$B$501,"<="&MIN(EOMONTH($A26,0),$D$3),Movimentos!$A$2:$A$501,"?*"))
A27: =DATE(YEAR($B$3),ROW()-24,1) | B27: =IF(OR(EOMONTH($A27,0)<$B$3,$A27>$D$3),0,COUNTIFS(Movimentos!$B$2:$B$501,">="&MAX($A27,$B$3),Movimentos!$B$2:$B$501,"<="&MIN(EOMONTH($A27,0),$D$3),Movimentos!$A$2:$A$501,"?*"))
A28: =DATE(YEAR($B$3),ROW()-24,1) | B28: =IF(OR(EOMONTH($A28,0)<$B$3,$A28>$D$3),0,COUNTIFS(Movimentos!$B$2:$B$501,">="&MAX($A28,$B$3),Movimentos!$B$2:$B$501,"<="&MIN(EOMONTH($A28,0),$D$3),Movimentos!$A$2:$A$501,"?*"))
A29: =DATE(YEAR($B$3),ROW()-24,1) | B29: =IF(OR(EOMONTH($A29,0)<$B$3,$A29>$D$3),0,COUNTIFS(Movimentos!$B$2:$B$501,">="&MAX($A29,$B$3),Movimentos!$B$2:$B$501,"<="&MIN(EOMONTH($A29,0),$D$3),Movimentos!$A$2:$A$501,"?*"))
A30: =DATE(YEAR($B$3),ROW()-24,1) | B30: =IF(OR(EOMONTH($A30,0)<$B$3,$A30>$D$3),0,COUNTIFS(Movimentos!$B$2:$B$501,">="&MAX($A30,$B$3),Movimentos!$B$2:$B$501,"<="&MIN(EOMONTH($A30,0),$D$3),Movimentos!$A$2:$A$501,"?*"))
A31: =DATE(YEAR($B$3),ROW()-24,1) | B31: =IF(OR(EOMONTH($A31,0)<$B$3,$A31>$D$3),0,COUNTIFS(Movimentos!$B$2:$B$501,">="&MAX($A31,$B$3),Movimentos!$B$2:$B$501,"<="&MIN(EOMONTH($A31,0),$D$3),Movimentos!$A$2:$A$501,"?*"))
A32: =DATE(YEAR($B$3),ROW()-24,1) | B32: =IF(OR(EOMONTH($A32,0)<$B$3,$A32>$D$3),0,COUNTIFS(Movimentos!$B$2:$B$501,">="&MAX($A32,$B$3),Movimentos!$B$2:$B$501,"<="&MIN(EOMONTH($A32,0),$D$3),Movimentos!$A$2:$A$501,"?*"))
A33: =DATE(YEAR($B$3),ROW()-24,1) | B33: =IF(OR(EOMONTH($A33,0)<$B$3,$A33>$D$3),0,COUNTIFS(Movimentos!$B$2:$B$501,">="&MAX($A33,$B$3),Movimentos!$B$2:$B$501,"<="&MIN(EOMONTH($A33,0),$D$3),Movimentos!$A$2:$A$501,"?*"))
A34: =DATE(YEAR($B$3),ROW()-24,1) | B34: =IF(OR(EOMONTH($A34,0)<$B$3,$A34>$D$3),0,COUNTIFS(Movimentos!$B$2:$B$501,">="&MAX($A34,$B$3),Movimentos!$B$2:$B$501,"<="&MIN(EOMONTH($A34,0),$D$3),Movimentos!$A$2:$A$501,"?*"))
A35: =DATE(YEAR($B$3),ROW()-24,1) | B35: =IF(OR(EOMONTH($A35,0)<$B$3,$A35>$D$3),0,COUNTIFS(Movimentos!$B$2:$B$501,">="&MAX($A35,$B$3),Movimentos!$B$2:$B$501,"<="&MIN(EOMONTH($A35,0),$D$3),Movimentos!$A$2:$A$501,"?*"))
A36: =DATE(YEAR($B$3),ROW()-24,1) | B36: =IF(OR(EOMONTH($A36,0)<$B$3,$A36>$D$3),0,COUNTIFS(Movimentos!$B$2:$B$501,">="&MAX($A36,$B$3),Movimentos!$B$2:$B$501,"<="&MIN(EOMONTH($A36,0),$D$3),Movimentos!$A$2:$A$501,"?*"))

Sheet Itens rastreáveis
A1: SKU | B1: Descrição do item | C1: Tipo de identificação | D1: Lote/série | E1: Chave rastreável | F1: ID da entrada | G1: Data da entrada | H1: ID do último evento | I1: Data do último evento | J1: Último movimento | K1: Localização atual | L1: Classe da posição | M1: Pedido mais recente | N1: Trilha de retorno | O1: Situação atual | P1: Pendência | Q1: Qtd. de eventos | R1: Qtd. de retornos
A2: SKU-CAN-001 | B2: Caneca Nuvem Azul Fictícia | C2: Série | D2: SER-CAN-0001 | E2: =IF(COUNTA($A2:$D2)=0,"",IF(OR($A2="",$C2="",$D2=""),"",$A2&"|"&$C2&"|"&$D2)) | F2: =IF($E2="","",IFERROR(LOOKUP(2,1/((Movimentos!$M$2:$M$501=$E2)*(Movimentos!$G$2:$G$501="RECEBIMENTO")),Movimentos!$A$2:$A$501),"")) | G2: =IF($F2="","",IFERROR(INDEX(Movimentos!$B$2:$B$501,MATCH($F2,Movimentos!$A$2:$A$501,0)),"")) | H2: =IF($E2="","",IFERROR(LOOKUP(2,1/((Movimentos!$M$2:$M$501=$E2)*(Movimentos!$U$2:$U$501="Sim")),Movimentos!$A$2:$A$501),"")) | I2: =IF($H2="","",IFERROR(INDEX(Movimentos!$B$2:$B$501,MATCH($H2,Movimentos!$A$2:$A$501,0)),"")) | J2: =IF($H2="","",IFERROR(INDEX(Movimentos!$G$2:$G$501,MATCH($H2,Movimentos!$A$2:$A$501,0)),"")) | K2: =IF($H2="","",IFERROR(INDEX(Movimentos!$I$2:$I$501,MATCH($H2,Movimentos!$A$2:$A$501,0)),"")) | L2: =IF($K2="","",IFERROR(VLOOKUP($K2,Listas!$G$2:$I$31,3,FALSE),"Local não classificado")) | M2: =IF($E2="","",IFERROR(LOOKUP(2,1/((Movimentos!$M$2:$M$501=$E2)*(Movimentos!$J$2:$J$501<>"")),Movimentos!$J$2:$J$501),"")) | N2: =IF($E2="","",IF(COUNTIFS(Movimentos!$M$2:$M$501,$E2,Movimentos!$G$2:$G$501,"RETORNO RECEBIDO")>0,"Com retorno","Sem retorno")) | O2: =IF($E2="","",IF($H2="","Sem histórico",IFERROR(VLOOKUP($J2,Listas!$A$2:$C$9,3,FALSE),"Movimento não mapeado"))) | P2: =IF(COUNTA($A2:$D2)=0,"",IF(OR($A2="",$B2="",$C2="",$D2=""),"Cadastro incompleto",IF(COUNTIF($E$2:$E$201,$E2)>1,"Chave duplicada",IF($H2="","Sem histórico",IF($F2="","Entrada não localizada",IF(COUNTIFS(Movimentos!$M$2:$M$501,$E2,Movimentos!$X$2:$X$501,"Pendente")>0,"Revisar eventos","OK")))))) | Q2: =IF($E2="","",COUNTIF(Movimentos!$M$2:$M$501,$E2)) | R2: =IF($E2="","",COUNTIFS(Movimentos!$M$2:$M$501,$E2,Movimentos!$G$2:$G$501,"RETORNO RECEBIDO"))
A3: SKU-FON-002 | B3: Fone Aurora Mini Fictício | C3: Série | D3: SER-FON-0007 | E3: =IF(COUNTA($A3:$D3)=0,"",IF(OR($A3="",$C3="",$D3=""),"",$A3&"|"&$C3&"|"&$D3)) | F3: =IF($E3="","",IFERROR(LOOKUP(2,1/((Movimentos!$M$2:$M$501=$E3)*(Movimentos!$G$2:$G$501="RECEBIMENTO")),Movimentos!$A$2:$A$501),"")) | G3: =IF($F3="","",IFERROR(INDEX(Movimentos!$B$2:$B$501,MATCH($F3,Movimentos!$A$2:$A$501,0)),"")) | H3: =IF($E3="","",IFERROR(LOOKUP(2,1/((Movimentos!$M$2:$M$501=$E3)*(Movimentos!$U$2:$U$501="Sim")),Movimentos!$A$2:$A$501),"")) | I3: =IF($H3="","",IFERROR(INDEX(Movimentos!$B$2:$B$501,MATCH($H3,Movimentos!$A$2:$A$501,0)),"")) | J3: =IF($H3="","",IFERROR(INDEX(Movimentos!$G$2:$G$501,MATCH($H3,Movimentos!$A$2:$A$501,0)),"")) | K3: =IF($H3="","",IFERROR(INDEX(Movimentos!$I$2:$I$501,MATCH($H3,Movimentos!$A$2:$A$501,0)),"")) | L3: =IF($K3="","",IFERROR(VLOOKUP($K3,Listas!$G$2:$I$31,3,FALSE),"Local não classificado")) | M3: =IF($E3="","",IFERROR(LOOKUP(2,1/((Movimentos!$M$2:$M$501=$E3)*(Movimentos!$J$2:$J$501<>"")),Movimentos!$J$2:$J$501),"")) | N3: =IF($E3="","",IF(COUNTIFS(Movimentos!$M$2:$M$501,$E3,Movimentos!$G$2:$G$501,"RETORNO RECEBIDO")>0,"Com retorno","Sem retorno")) | O3: =IF($E3="","",IF($H3="","Sem histórico",IFERROR(VLOOKUP($J3,Listas!$A$2:$C$9,3,FALSE),"Movimento não mapeado"))) | P3: =IF(COUNTA($A3:$D3)=0,"",IF(OR($A3="",$B3="",$C3="",$D3=""),"Cadastro incompleto",IF(COUNTIF($E$2:$E$201,$E3)>1,"Chave duplicada",IF($H3="","Sem histórico",IF($F3="","Entrada não localizada",IF(COUNTIFS(Movimentos!$M$2:$M$501,$E3,Movimentos!$X$2:$X$501,"Pendente")>0,"Revisar eventos","OK")))))) | Q3: =IF($E3="","",COUNTIF(Movimentos!$M$2:$M$501,$E3)) | R3: =IF($E3="","",COUNTIFS(Movimentos!$M$2:$M$501,$E3,Movimentos!$G$2:$G$501,"RETORNO RECEBIDO"))
A4: SKU-CAM-010 | B4: Camiseta Brisa Verde Fictícia | C4: Lote | D4: LOTE-CAM-2609-A | E4: =IF(COUNTA($A4:$D4)=0,"",IF(OR($A4="",$C4="",$D4=""),"",$A4&"|"&$C4&"|"&$D4)) | F4: =IF($E4="","",IFERROR(LOOKUP(2,1/((Movimentos!$M$2:$M$501=$E4)*(Movimentos!$G$2:$G$501="RECEBIMENTO")),Movimentos!$A$2:$A$501),"")) | G4: =IF($F4="","",IFERROR(INDEX(Movimentos!$B$2:$B$501,MATCH($F4,Movimentos!$A$2:$A$501,0)),"")) | H4: =IF($E4="","",IFERROR(LOOKUP(2,1/((Movimentos!$M$2:$M$501=$E4)*(Movimentos!$U$2:$U$501="Sim")),Movimentos!$A$2:$A$501),"")) | I4: =IF($H4="","",IFERROR(INDEX(Movimentos!$B$2:$B$501,MATCH($H4,Movimentos!$A$2:$A$501,0)),"")) | J4: =IF($H4="","",IFERROR(INDEX(Movimentos!$G$2:$G$501,MATCH($H4,Movimentos!$A$2:$A$501,0)),"")) | K4: =IF($H4="","",IFERROR(INDEX(Movimentos!$I$2:$I$501,MATCH($H4,Movimentos!$A$2:$A$501,0)),"")) | L4: =IF($K4="","",IFERROR(VLOOKUP($K4,Listas!$G$2:$I$31,3,FALSE),"Local não classificado")) | M4: =IF($E4="","",IFERROR(LOOKUP(2,1/((Movimentos!$M$2:$M$501=$E4)*(Movimentos!$J$2:$J$501<>"")),Movimentos!$J$2:$J$501),"")) | N4: =IF($E4="","",IF(COUNTIFS(Movimentos!$M$2:$M$501,$E4,Movimentos!$G$2:$G$501,"RETORNO RECEBIDO")>0,"Com retorno","Sem retorno")) | O4: =IF($E4="","",IF($H4="","Sem histórico",IFERROR(VLOOKUP($J4,Listas!$A$2:$C$9,3,FALSE),"Movimento não mapeado"))) | P4: =IF(COUNTA($A4:$D4)=0,"",IF(OR($A4="",$B4="",$C4="",$D4=""),"Cadastro incompleto",IF(COUNTIF($E$2:$E$201,$E4)>1,"Chave duplicada",IF($H4="","Sem histórico",IF($F4="","Entrada não localizada",IF(COUNTIFS(Movimentos!$M$2:$M$501,$E4,Movimentos!$X$2:$X$501,"Pendente")>0,"Revisar eventos","OK")))))) | Q4: =IF($E4="","",COUNTIF(Movimentos!$M$2:$M$501,$E4)) | R4: =IF($E4="","",COUNTIFS(Movimentos!$M$2:$M$501,$E4,Movimentos!$G$2:$G$501,"RETORNO RECEBIDO"))
A5: SKU-GAR-003 | B5: Garrafa Lume 500 ml Fictícia | C5: Lote | D5: LOTE-GAR-2609-B | E5: =IF(COUNTA($A5:$D5)=0,"",IF(OR($A5="",$C5="",$D5=""),"",$A5&"|"&$C5&"|"&$D5)) | F5: =IF($E5="","",IFERROR(LOOKUP(2,1/((Movimentos!$M$2:$M$501=$E5)*(Movimentos!$G$2:$G$501="RECEBIMENTO")),Movimentos!$A$2:$A$501),"")) | G5: =IF($F5="","",IFERROR(INDEX(Movimentos!$B$2:$B$501,MATCH($F5,Movimentos!$A$2:$A$501,0)),"")) | H5: =IF($E5="","",IFERROR(LOOKUP(2,1/((Movimentos!$M$2:$M$501=$E5)*(Movimentos!$U$2:$U$501="Sim")),Movimentos!$A$2:$A$501),"")) | I5: =IF($H5="","",IFERROR(INDEX(Movimentos!$B$2:$B$501,MATCH($H5,Movimentos!$A$2:$A$501,0)),"")) | J5: =IF($H5="","",IFERROR(INDEX(Movimentos!$G$2:$G$501,MATCH($H5,Movimentos!$A$2:$A$501,0)),"")) | K5: =IF($H5="","",IFERROR(INDEX(Movimentos!$I$2:$I$501,MATCH($H5,Movimentos!$A$2:$A$501,0)),"")) | L5: =IF($K5="","",IFERROR(VLOOKUP($K5,Listas!$G$2:$I$31,3,FALSE),"Local não classificado")) | M5: =IF($E5="","",IFERROR(LOOKUP(2,1/((Movimentos!$M$2:$M$501=$E5)*(Movimentos!$J$2:$J$501<>"")),Movimentos!$J$2:$J$501),"")) | N5: =IF($E5="","",IF(COUNTIFS(Movimentos!$M$2:$M$501,$E5,Movimentos!$G$2:$G$501,"RETORNO RECEBIDO")>0,"Com retorno","Sem retorno")) | O5: =IF($E5="","",IF($H5="","Sem histórico",IFERROR(VLOOKUP($J5,Listas!$A$2:$C$9,3,FALSE),"Movimento não mapeado"))) | P5: =IF(COUNTA($A5:$D5)=0,"",IF(OR($A5="",$B5="",$C5="",$D5=""),"Cadastro incompleto",IF(COUNTIF($E$2:$E$201,$E5)>1,"Chave duplicada",IF($H5="","Sem histórico",IF($F5="","Entrada não localizada",IF(COUNTIFS(Movimentos!$M$2:$M$501,$E5,Movimentos!$X$2:$X$501,"Pendente")>0,"Revisar eventos","OK")))))) | Q5: =IF($E5="","",COUNTIF(Movimentos!$M$2:$M$501,$E5)) | R5: =IF($E5="","",COUNTIFS(Movimentos!$M$2:$M$501,$E5,Movimentos!$G$2:$G$501,"RETORNO RECEBIDO"))
E6: =IF(COUNTA($A6:$D6)=0,"",IF(OR($A6="",$C6="",$D6=""),"",$A6&"|"&$C6&"|"&$D6)) | F6: =IF($E6="","",IFERROR(LOOKUP(2,1/((Movimentos!$M$2:$M$501=$E6)*(Movimentos!$G$2:$G$501="RECEBIMENTO")),Movimentos!$A$2:$A$501),"")) | G6: =IF($F6="","",IFERROR(INDEX(Movimentos!$B$2:$B$501,MATCH($F6,Movimentos!$A$2:$A$501,0)),"")) | H6: =IF($E6="","",IFERROR(LOOKUP(2,1/((Movimentos!$M$2:$M$501=$E6)*(Movimentos!$U$2:$U$501="Sim")),Movimentos!$A$2:$A$501),"")) | I6: =IF($H6="","",IFERROR(INDEX(Movimentos!$B$2:$B$501,MATCH($H6,Movimentos!$A$2:$A$501,0)),"")) | J6: =IF($H6="","",IFERROR(INDEX(Movimentos!$G$2:$G$501,MATCH($H6,Movimentos!$A$2:$A$501,0)),"")) | K6: =IF($H6="","",IFERROR(INDEX(Movimentos!$I$2:$I$501,MATCH($H6,Movimentos!$A$2:$A$501,0)),"")) | L6: =IF($K6="","",IFERROR(VLOOKUP($K6,Listas!$G$2:$I$31,3,FALSE),"Local não classificado")) | M6: =IF($E6="","",IFERROR(LOOKUP(2,1/((Movimentos!$M$2:$M$501=$E6)*(Movimentos!$J$2:$J$501<>"")),Movimentos!$J$2:$J$501),"")) | N6: =IF($E6="","",IF(COUNTIFS(Movimentos!$M$2:$M$501,$E6,Movimentos!$G$2:$G$501,"RETORNO RECEBIDO")>0,"Com retorno","Sem retorno")) | O6: =IF($E6="","",IF($H6="","Sem histórico",IFERROR(VLOOKUP($J6,Listas!$A$2:$C$9,3,FALSE),"Movimento não mapeado"))) | P6: =IF(COUNTA($A6:$D6)=0,"",IF(OR($A6="",$B6="",$C6="",$D6=""),"Cadastro incompleto",IF(COUNTIF($E$2:$E$201,$E6)>1,"Chave duplicada",IF($H6="","Sem histórico",IF($F6="","Entrada não localizada",IF(COUNTIFS(Movimentos!$M$2:$M$501,$E6,Movimentos!$X$2:$X$501,"Pendente")>0,"Revisar eventos","OK")))))) | Q6: =IF($E6="","",COUNTIF(Movimentos!$M$2:$M$501,$E6)) | R6: =IF($E6="","",COUNTIFS(Movimentos!$M$2:$M$501,$E6,Movimentos!$G$2:$G$501,"RETORNO RECEBIDO"))
E7: =IF(COUNTA($A7:$D7)=0,"",IF(OR($A7="",$C7="",$D7=""),"",$A7&"|"&$C7&"|"&$D7)) | F7: =IF($E7="","",IFERROR(LOOKUP(2,1/((Movimentos!$M$2:$M$501=$E7)*(Movimentos!$G$2:$G$501="RECEBIMENTO")),Movimentos!$A$2:$A$501),"")) | G7: =IF($F7="","",IFERROR(INDEX(Movimentos!$B$2:$B$501,MATCH($F7,Movimentos!$A$2:$A$501,0)),"")) | H7: =IF($E7="","",IFERROR(LOOKUP(2,1/((Movimentos!$M$2:$M$501=$E7)*(Movimentos!$U$2:$U$501="Sim")),Movimentos!$A$2:$A$501),"")) | I7: =IF($H7="","",IFERROR(INDEX(Movimentos!$B$2:$B$501,MATCH($H7,Movimentos!$A$2:$A$501,0)),"")) | J7: =IF($H7="","",IFERROR(INDEX(Movimentos!$G$2:$G$501,MATCH($H7,Movimentos!$A$2:$A$501,0)),"")) | K7: =IF($H7="","",IFERROR(INDEX(Movimentos!$I$2:$I$501,MATCH($H7,Movimentos!$A$2:$A$501,0)),"")) | L7: =IF($K7="","",IFERROR(VLOOKUP($K7,Listas!$G$2:$I$31,3,FALSE),"Local não classificado")) | M7: =IF($E7="","",IFERROR(LOOKUP(2,1/((Movimentos!$M$2:$M$501=$E7)*(Movimentos!$J$2:$J$501<>"")),Movimentos!$J$2:$J$501),"")) | N7: =IF($E7="","",IF(COUNTIFS(Movimentos!$M$2:$M$501,$E7,Movimentos!$G$2:$G$501,"RETORNO RECEBIDO")>0,"Com retorno","Sem retorno")) | O7: =IF($E7="","",IF($H7="","Sem histórico",IFERROR(VLOOKUP($J7,Listas!$A$2:$C$9,3,FALSE),"Movimento não mapeado"))) | P7: =IF(COUNTA($A7:$D7)=0,"",IF(OR($A7="",$B7="",$C7="",$D7=""),"Cadastro incompleto",IF(COUNTIF($E$2:$E$201,$E7)>1,"Chave duplicada",IF($H7="","Sem histórico",IF($F7="","Entrada não localizada",IF(COUNTIFS(Movimentos!$M$2:$M$501,$E7,Movimentos!$X$2:$X$501,"Pendente")>0,"Revisar eventos","OK")))))) | Q7: =IF($E7="","",COUNTIF(Movimentos!$M$2:$M$501,$E7)) | R7: =IF($E7="","",COUNTIFS(Movimentos!$M$2:$M$501,$E7,Movimentos!$G$2:$G$501,"RETORNO RECEBIDO"))
E8: =IF(COUNTA($A8:$D8)=0,"",IF(OR($A8="",$C8="",$D8=""),"",$A8&"|"&$C8&"|"&$D8)) | F8: =IF($E8="","",IFERROR(LOOKUP(2,1/((Movimentos!$M$2:$M$501=$E8)*(Movimentos!$G$2:$G$501="RECEBIMENTO")),Movimentos!$A$2:$A$501),"")) | G8: =IF($F8="","",IFERROR(INDEX(Movimentos!$B$2:$B$501,MATCH($F8,Movimentos!$A$2:$A$501,0)),"")) | H8: =IF($E8="","",IFERROR(LOOKUP(2,1/((Movimentos!$M$2:$M$501=$E8)*(Movimentos!$U$2:$U$501="Sim")),Movimentos!$A$2:$A$501),"")) | I8: =IF($H8="","",IFERROR(INDEX(Movimentos!$B$2:$B$501,MATCH($H8,Movimentos!$A$2:$A$501,0)),"")) | J8: =IF($H8="","",IFERROR(INDEX(Movimentos!$G$2:$G$501,MATCH($H8,Movimentos!$A$2:$A$501,0)),"")) | K8: =IF($H8="","",IFERROR(INDEX(Movimentos!$I$2:$I$501,MATCH($H8,Movimentos!$A$2:$A$501,0)),"")) | L8: =IF($K8="","",IFERROR(VLOOKUP($K8,Listas!$G$2:$I$31,3,FALSE),"Local não classificado")) | M8: =IF($E8="","",IFERROR(LOOKUP(2,1/((Movimentos!$M$2:$M$501=$E8)*(Movimentos!$J$2:$J$501<>"")),Movimentos!$J$2:$J$501),"")) | N8: =IF($E8="","",IF(COUNTIFS(Movimentos!$M$2:$M$501,$E8,Movimentos!$G$2:$G$501,"RETORNO RECEBIDO")>0,"Com retorno","Sem retorno")) | O8: =IF($E8="","",IF($H8="","Sem histórico",IFERROR(VLOOKUP($J8,Listas!$A$2:$C$9,3,FALSE),"Movimento não mapeado"))) | P8: =IF(COUNTA($A8:$D8)=0,"",IF(OR($A8="",$B8="",$C8="",$D8=""),"Cadastro incompleto",IF(COUNTIF($E$2:$E$201,$E8)>1,"Chave duplicada",IF($H8="","Sem histórico",IF($F8="","Entrada não localizada",IF(COUNTIFS(Movimentos!$M$2:$M$501,$E8,Movimentos!$X$2:$X$501,"Pendente")>0,"Revisar eventos","OK")))))) | Q8: =IF($E8="","",COUNTIF(Movimentos!$M$2:$M$501,$E8)) | R8: =IF($E8="","",COUNTIFS(Movimentos!$M$2:$M$501,$E8,Movimentos!$G$2:$G$501,"RETORNO RECEBIDO"))
E9: =IF(COUNTA($A9:$D9)=0,"",IF(OR($A9="",$C9="",$D9=""),"",$A9&"|"&$C9&"|"&$D9)) | F9: =IF($E9="","",IFERROR(LOOKUP(2,1/((Movimentos!$M$2:$M$501=$E9)*(Movimentos!$G$2:$G$501="RECEBIMENTO")),Movimentos!$A$2:$A$501),"")) | G9: =IF($F9="","",IFERROR(INDEX(Movimentos!$B$2:$B$501,MATCH($F9,Movimentos!$A$2:$A$501,0)),"")) | H9: =IF($E9="","",IFERROR(LOOKUP(2,1/((Movimentos!$M$2:$M$501=$E9)*(Movimentos!$U$2:$U$501="Sim")),Movimentos!$A$2:$A$501),"")) | I9: =IF($H9="","",IFERROR(INDEX(Movimentos!$B$2:$B$501,MATCH($H9,Movimentos!$A$2:$A$501,0)),"")) | J9: =IF($H9="","",IFERROR(INDEX(Movimentos!$G$2:$G$501,MATCH($H9,Movimentos!$A$2:$A$501,0)),"")) | K9: =IF($H9="","",IFERROR(INDEX(Movimentos!$I$2:$I$501,MATCH($H9,Movimentos!$A$2:$A$501,0)),"")) | L9: =IF($K9="","",IFERROR(VLOOKUP($K9,Listas!$G$2:$I$31,3,FALSE),"Local não classificado")) | M9: =IF($E9="","",IFERROR(LOOKUP(2,1/((Movimentos!$M$2:$M$501=$E9)*(Movimentos!$J$2:$J$501<>"")),Movimentos!$J$2:$J$501),"")) | N9: =IF($E9="","",IF(COUNTIFS(Movimentos!$M$2:$M$501,$E9,Movimentos!$G$2:$G$501,"RETORNO RECEBIDO")>0,"Com retorno","Sem retorno")) | O9: =IF($E9="","",IF($H9="","Sem histórico",IFERROR(VLOOKUP($J9,Listas!$A$2:$C$9,3,FALSE),"Movimento não mapeado"))) | P9: =IF(COUNTA($A9:$D9)=0,"",IF(OR($A9="",$B9="",$C9="",$D9=""),"Cadastro incompleto",IF(COUNTIF($E$2:$E$201,$E9)>1,"Chave duplicada",IF($H9="","Sem histórico",IF($F9="","Entrada não localizada",IF(COUNTIFS(Movimentos!$M$2:$M$501,$E9,Movimentos!$X$2:$X$501,"Pendente")>0,"Revisar eventos","OK")))))) | Q9: =IF($E9="","",COUNTIF(Movimentos!$M$2:$M$501,$E9)) | R9: =IF($E9="","",COUNTIFS(Movimentos!$M$2:$M$501,$E9,Movimentos!$G$2:$G$501,"RETORNO RECEBIDO"))
E10: =IF(COUNTA($A10:$D10)=0,"",IF(OR($A10="",$C10="",$D10=""),"",$A10&"|"&$C10&"|"&$D10)) | F10: =IF($E10="","",IFERROR(LOOKUP(2,1/((Movimentos!$M$2:$M$501=$E10)*(Movimentos!$G$2:$G$501="RECEBIMENTO")),Movimentos!$A$2:$A$501),"")) | G10: =IF($F10="","",IFERROR(INDEX(Movimentos!$B$2:$B$501,MATCH($F10,Movimentos!$A$2:$A$501,0)),"")) | H10: =IF($E10="","",IFERROR(LOOKUP(2,1/((Movimentos!$M$2:$M$501=$E10)*(Movimentos!$U$2:$U$501="Sim")),Movimentos!$A$2:$A$501),"")) | I10: =IF($H10="","",IFERROR(INDEX(Movimentos!$B$2:$B$501,MATCH($H10,Movimentos!$A$2:$A$501,0)),"")) | J10: =IF($H10="","",IFERROR(INDEX(Movimentos!$G$2:$G$501,MATCH($H10,Movimentos!$A$2:$A$501,0)),"")) | K10: =IF($H10="","",IFERROR(INDEX(Movimentos!$I$2:$I$501,MATCH($H10,Movimentos!$A$2:$A$501,0)),"")) | L10: =IF($K10="","",IFERROR(VLOOKUP($K10,Listas!$G$2:$I$31,3,FALSE),"Local não classificado")) | M10: =IF($E10="","",IFERROR(LOOKUP(2,1/((Movimentos!$M$2:$M$501=$E10)*(Movimentos!$J$2:$J$501<>"")),Movimentos!$J$2:$J$501),"")) | N10: =IF($E10="","",IF(COUNTIFS(Movimentos!$M$2:$M$501,$E10,Movimentos!$G$2:$G$501,"RETORNO RECEBIDO")>0,"Com retorno","Sem retorno")) | O10: =IF($E10="","",IF($H10="","Sem histórico",IFERROR(VLOOKUP($J10,Listas!$A$2:$C$9,3,FALSE),"Movimento não mapeado"))) | P10: =IF(COUNTA($A10:$D10)=0,"",IF(OR($A10="",$B10="",$C10="",$D10=""),"Cadastro incompleto",IF(COUNTIF($E$2:$E$201,$E10)>1,"Chave duplicada",IF($H10="","Sem histórico",IF($F10="","Entrada não localizada",IF(COUNTIFS(Movimentos!$M$2:$M$501,$E10,Movimentos!$X$2:$X$501,"Pendente")>0,"Revisar eventos","OK")))))) | Q10: =IF($E10="","",COUNTIF(Movimentos!$M$2:$M$501,$E10)) | R10: =IF($E10="","",COUNTIFS(Movimentos!$M$2:$M$501,$E10,Movimentos!$G$2:$G$501,"RETORNO RECEBIDO"))
E11: =IF(COUNTA($A11:$D11)=0,"",IF(OR($A11="",$C11="",$D11=""),"",$A11&"|"&$C11&"|"&$D11)) | F11: =IF($E11="","",IFERROR(LOOKUP(2,1/((Movimentos!$M$2:$M$501=$E11)*(Movimentos!$G$2:$G$501="RECEBIMENTO")),Movimentos!$A$2:$A$501),"")) | G11: =IF($F11="","",IFERROR(INDEX(Movimentos!$B$2:$B$501,MATCH($F11,Movimentos!$A$2:$A$501,0)),"")) | H11: =IF($E11="","",IFERROR(LOOKUP(2,1/((Movimentos!$M$2:$M$501=$E11)*(Movimentos!$U$2:$U$501="Sim")),Movimentos!$A$2:$A$501),"")) | I11: =IF($H11="","",IFERROR(INDEX(Movimentos!$B$2:$B$501,MATCH($H11,Movimentos!$A$2:$A$501,0)),"")) | J11: =IF($H11="","",IFERROR(INDEX(Movimentos!$G$2:$G$501,MATCH($H11,Movimentos!$A$2:$A$501,0)),"")) | K11: =IF($H11="","",IFERROR(INDEX(Movimentos!$I$2:$I$501,MATCH($H11,Movimentos!$A$2:$A$501,0)),"")) | L11: =IF($K11="","",IFERROR(VLOOKUP($K11,Listas!$G$2:$I$31,3,FALSE),"Local não classificado")) | M11: =IF($E11="","",IFERROR(LOOKUP(2,1/((Movimentos!$M$2:$M$501=$E11)*(Movimentos!$J$2:$J$501<>"")),Movimentos!$J$2:$J$501),"")) | N11: =IF($E11="","",IF(COUNTIFS(Movimentos!$M$2:$M$501,$E11,Movimentos!$G$2:$G$501,"RETORNO RECEBIDO")>0,"Com retorno","Sem retorno")) | O11: =IF($E11="","",IF($H11="","Sem histórico",IFERROR(VLOOKUP($J11,Listas!$A$2:$C$9,3,FALSE),"Movimento não mapeado"))) | P11: =IF(COUNTA($A11:$D11)=0,"",IF(OR($A11="",$B11="",$C11="",$D11=""),"Cadastro incompleto",IF(COUNTIF($E$2:$E$201,$E11)>1,"Chave duplicada",IF($H11="","Sem histórico",IF($F11="","Entrada não localizada",IF(COUNTIFS(Movimentos!$M$2:$M$501,$E11,Movimentos!$X$2:$X$501,"Pendente")>0,"Revisar eventos","OK")))))) | Q11: =IF($E11="","",COUNTIF(Movimentos!$M$2:$M$501,$E11)) | R11: =IF($E11="","",COUNTIFS(Movimentos!$M$2:$M$501,$E11,Movimentos!$G$2:$G$501,"RETORNO RECEBIDO"))
E12: =IF(COUNTA($A12:$D12)=0,"",IF(OR($A12="",$C12="",$D12=""),"",$A12&"|"&$C12&"|"&$D12)) | F12: =IF($E12="","",IFERROR(LOOKUP(2,1/((Movimentos!$M$2:$M$501=$E12)*(Movimentos!$G$2:$G$501="RECEBIMENTO")),Movimentos!$A$2:$A$501),"")) | G12: =IF($F12="","",IFERROR(INDEX(Movimentos!$B$2:$B$501,MATCH($F12,Movimentos!$A$2:$A$501,0)),"")) | H12: =IF($E12="","",IFERROR(LOOKUP(2,1/((Movimentos!$M$2:$M$501=$E12)*(Movimentos!$U$2:$U$501="Sim")),Movimentos!$A$2:$A$501),"")) | I12: =IF($H12="","",IFERROR(INDEX(Movimentos!$B$2:$B$501,MATCH($H12,Movimentos!$A$2:$A$501,0)),"")) | J12: =IF($H12="","",IFERROR(INDEX(Movimentos!$G$2:$G$501,MATCH($H12,Movimentos!$A$2:$A$501,0)),"")) | K12: =IF($H12="","",IFERROR(INDEX(Movimentos!$I$2:$I$501,MATCH($H12,Movimentos!$A$2:$A$501,0)),"")) | L12: =IF($K12="","",IFERROR(VLOOKUP($K12,Listas!$G$2:$I$31,3,FALSE),"Local não classificado")) | M12: =IF($E12="","",IFERROR(LOOKUP(2,1/((Movimentos!$M$2:$M$501=$E12)*(Movimentos!$J$2:$J$501<>"")),Movimentos!$J$2:$J$501),"")) | N12: =IF($E12="","",IF(COUNTIFS(Movimentos!$M$2:$M$501,$E12,Movimentos!$G$2:$G$501,"RETORNO RECEBIDO")>0,"Com retorno","Sem retorno")) | O12: =IF($E12="","",IF($H12="","Sem histórico",IFERROR(VLOOKUP($J12,Listas!$A$2:$C$9,3,FALSE),"Movimento não mapeado"))) | P12: =IF(COUNTA($A12:$D12)=0,"",IF(OR($A12="",$B12="",$C12="",$D12=""),"Cadastro incompleto",IF(COUNTIF($E$2:$E$201,$E12)>1,"Chave duplicada",IF($H12="","Sem histórico",IF($F12="","Entrada não localizada",IF(COUNTIFS(Movimentos!$M$2:$M$501,$E12,Movimentos!$X$2:$X$501,"Pendente")>0,"Revisar eventos","OK")))))) | Q12: =IF($E12="","",COUNTIF(Movimentos!$M$2:$M$501,$E12)) | R12: =IF($E12="","",COUNTIFS(Movimentos!$M$2:$M$501,$E12,Movimentos!$G$2:$G$501,"RETORNO RECEBIDO"))
E13: =IF(COUNTA($A13:$D13)=0,"",IF(OR($A13="",$C13="",$D13=""),"",$A13&"|"&$C13&"|"&$D13)) | F13: =IF($E13="","",IFERROR(LOOKUP(2,1/((Movimentos!$M$2:$M$501=$E13)*(Movimentos!$G$2:$G$501="RECEBIMENTO")),Movimentos!$A$2:$A$501),"")) | G13: =IF($F13="","",IFERROR(INDEX(Movimentos!$B$2:$B$501,MATCH($F13,Movimentos!$A$2:$A$501,0)),"")) | H13: =IF($E13="","",IFERROR(LOOKUP(2,1/((Movimentos!$M$2:$M$501=$E13)*(Movimentos!$U$2:$U$501="Sim")),Movimentos!$A$2:$A$501),"")) | I13: =IF($H13="","",IFERROR(INDEX(Movimentos!$B$2:$B$501,MATCH($H13,Movimentos!$A$2:$A$501,0)),"")) | J13: =IF($H13="","",IFERROR(INDEX(Movimentos!$G$2:$G$501,MATCH($H13,Movimentos!$A$2:$A$501,0)),"")) | K13: =IF($H13="","",IFERROR(INDEX(Movimentos!$I$2:$I$501,MATCH($H13,Movimentos!$A$2:$A$501,0)),"")) | L13: =IF($K13="","",IFERROR(VLOOKUP($K13,Listas!$G$2:$I$31,3,FALSE),"Local não classificado")) | M13: =IF($E13="","",IFERROR(LOOKUP(2,1/((Movimentos!$M$2:$M$501=$E13)*(Movimentos!$J$2:$J$501<>"")),Movimentos!$J$2:$J$501),"")) | N13: =IF($E13="","",IF(COUNTIFS(Movimentos!$M$2:$M$501,$E13,Movimentos!$G$2:$G$501,"RETORNO RECEBIDO")>0,"Com retorno","Sem retorno")) | O13: =IF($E13="","",IF($H13="","Sem histórico",IFERROR(VLOOKUP($J13,Listas!$A$2:$C$9,3,FALSE),"Movimento não mapeado"))) | P13: =IF(COUNTA($A13:$D13)=0,"",IF(OR($A13="",$B13="",$C13="",$D13=""),"Cadastro incompleto",IF(COUNTIF($E$2:$E$201,$E13)>1,"Chave duplicada",IF($H13="","Sem histórico",IF($F13="","Entrada não localizada",IF(COUNTIFS(Movimentos!$M$2:$M$501,$E13,Movimentos!$X$2:$X$501,"Pendente")>0,"Revisar eventos","OK")))))) | Q13: =IF($E13="","",COUNTIF(Movimentos!$M$2:$M$501,$E13)) | R13: =IF($E13="","",COUNTIFS(Movimentos!$M$2:$M$501,$E13,Movimentos!$G$2:$G$501,"RETORNO RECEBIDO"))
E14: =IF(COUNTA($A14:$D14)=0,"",IF(OR($A14="",$C14="",$D14=""),"",$A14&"|"&$C14&"|"&$D14)) | F14: =IF($E14="","",IFERROR(LOOKUP(2,1/((Movimentos!$M$2:$M$501=$E14)*(Movimentos!$G$2:$G$501="RECEBIMENTO")),Movimentos!$A$2:$A$501),"")) | G14: =IF($F14="","",IFERROR(INDEX(Movimentos!$B$2:$B$501,MATCH($F14,Movimentos!$A$2:$A$501,0)),"")) | H14: =IF($E14="","",IFERROR(LOOKUP(2,1/((Movimentos!$M$2:$M$501=$E14)*(Movimentos!$U$2:$U$501="Sim")),Movimentos!$A$2:$A$501),"")) | I14: =IF($H14="","",IFERROR(INDEX(Movimentos!$B$2:$B$501,MATCH($H14,Movimentos!$A$2:$A$501,0)),"")) | J14: =IF($H14="","",IFERROR(INDEX(Movimentos!$G$2:$G$501,MATCH($H14,Movimentos!$A$2:$A$501,0)),"")) | K14: =IF($H14="","",IFERROR(INDEX(Movimentos!$I$2:$I$501,MATCH($H14,Movimentos!$A$2:$A$501,0)),"")) | L14: =IF($K14="","",IFERROR(VLOOKUP($K14,Listas!$G$2:$I$31,3,FALSE),"Local não classificado")) | M14: =IF($E14="","",IFERROR(LOOKUP(2,1/((Movimentos!$M$2:$M$501=$E14)*(Movimentos!$J$2:$J$501<>"")),Movimentos!$J$2:$J$501),"")) | N14: =IF($E14="","",IF(COUNTIFS(Movimentos!$M$2:$M$501,$E14,Movimentos!$G$2:$G$501,"RETORNO RECEBIDO")>0,"Com retorno","Sem retorno")) | O14: =IF($E14="","",IF($H14="","Sem histórico",IFERROR(VLOOKUP($J14,Listas!$A$2:$C$9,3,FALSE),"Movimento não mapeado"))) | P14: =IF(COUNTA($A14:$D14)=0,"",IF(OR($A14="",$B14="",$C14="",$D14=""),"Cadastro incompleto",IF(COUNTIF($E$2:$E$201,$E14)>1,"Chave duplicada",IF($H14="","Sem histórico",IF($F14="","Entrada não localizada",IF(COUNTIFS(Movimentos!$M$2:$M$501,$E14,Movimentos!$X$2:$X$501,"Pendente")>0,"Revisar eventos","OK")))))) | Q14: =IF($E14="","",COUNTIF(Movimentos!$M$2:$M$501,$E14)) | R14: =IF($E14="","",COUNTIFS(Movimentos!$M$2:$M$501,$E14,Movimentos!$G$2:$G$501,"RETORNO RECEBIDO"))
E15: =IF(COUNTA($A15:$D15)=0,"",IF(OR($A15="",$C15="",$D15=""),"",$A15&"|"&$C15&"|"&$D15)) | F15: =IF($E15="","",IFERROR(LOOKUP(2,1/((Movimentos!$M$2:$M$501=$E15)*(Movimentos!$G$2:$G$501="RECEBIMENTO")),Movimentos!$A$2:$A$501),"")) | G15: =IF($F15="","",IFERROR(INDEX(Movimentos!$B$2:$B$501,MATCH($F15,Movimentos!$A$2:$A$501,0)),"")) | H15: =IF($E15="","",IFERROR(LOOKUP(2,1/((Movimentos!$M$2:$M$501=$E15)*(Movimentos!$U$2:$U$501="Sim")),Movimentos!$A$2:$A$501),"")) | I15: =IF($H15="","",IFERROR(INDEX(Movimentos!$B$2:$B$501,MATCH($H15,Movimentos!$A$2:$A$501,0)),"")) | J15: =IF($H15="","",IFERROR(INDEX(Movimentos!$G$2:$G$501,MATCH($H15,Movimentos!$A$2:$A$501,0)),"")) | K15: =IF($H15="","",IFERROR(INDEX(Movimentos!$I$2:$I$501,MATCH($H15,Movimentos!$A$2:$A$501,0)),"")) | L15: =IF($K15="","",IFERROR(VLOOKUP($K15,Listas!$G$2:$I$31,3,FALSE),"Local não classificado")) | M15: =IF($E15="","",IFERROR(LOOKUP(2,1/((Movimentos!$M$2:$M$501=$E15)*(Movimentos!$J$2:$J$501<>"")),Movimentos!$J$2:$J$501),"")) | N15: =IF($E15="","",IF(COUNTIFS(Movimentos!$M$2:$M$501,$E15,Movimentos!$G$2:$G$501,"RETORNO RECEBIDO")>0,"Com retorno","Sem retorno")) | O15: =IF($E15="","",IF($H15="","Sem histórico",IFERROR(VLOOKUP($J15,Listas!$A$2:$C$9,3,FALSE),"Movimento não mapeado"))) | P15: =IF(COUNTA($A15:$D15)=0,"",IF(OR($A15="",$B15="",$C15="",$D15=""),"Cadastro incompleto",IF(COUNTIF($E$2:$E$201,$E15)>1,"Chave duplicada",IF($H15="","Sem histórico",IF($F15="","Entrada não localizada",IF(COUNTIFS(Movimentos!$M$2:$M$501,$E15,Movimentos!$X$2:$X$501,"Pendente")>0,"Revisar eventos","OK")))))) | Q15: =IF($E15="","",COUNTIF(Movimentos!$M$2:$M$501,$E15)) | R15: =IF($E15="","",COUNTIFS(Movimentos!$M$2:$M$501,$E15,Movimentos!$G$2:$G$501,"RETORNO RECEBIDO"))
E16: =IF(COUNTA($A16:$D16)=0,"",IF(OR($A16="",$C16="",$D16=""),"",$A16&"|"&$C16&"|"&$D16)) | F16: =IF($E16="","",IFERROR(LOOKUP(2,1/((Movimentos!$M$2:$M$501=$E16)*(Movimentos!$G$2:$G$501="RECEBIMENTO")),Movimentos!$A$2:$A$501),"")) | G16: =IF($F16="","",IFERROR(INDEX(Movimentos!$B$2:$B$501,MATCH($F16,Movimentos!$A$2:$A$501,0)),"")) | H16: =IF($E16="","",IFERROR(LOOKUP(2,1/((Movimentos!$M$2:$M$501=$E16)*(Movimentos!$U$2:$U$501="Sim")),Movimentos!$A$2:$A$501),"")) | I16: =IF($H16="","",IFERROR(INDEX(Movimentos!$B$2:$B$501,MATCH($H16,Movimentos!$A$2:$A$501,0)),"")) | J16: =IF($H16="","",IFERROR(INDEX(Movimentos!$G$2:$G$501,MATCH($H16,Movimentos!$A$2:$A$501,0)),"")) | K16: =IF($H16="","",IFERROR(INDEX(Movimentos!$I$2:$I$501,MATCH($H16,Movimentos!$A$2:$A$501,0)),"")) | L16: =IF($K16="","",IFERROR(VLOOKUP($K16,Listas!$G$2:$I$31,3,FALSE),"Local não classificado")) | M16: =IF($E16="","",IFERROR(LOOKUP(2,1/((Movimentos!$M$2:$M$501=$E16)*(Movimentos!$J$2:$J$501<>"")),Movimentos!$J$2:$J$501),"")) | N16: =IF($E16="","",IF(COUNTIFS(Movimentos!$M$2:$M$501,$E16,Movimentos!$G$2:$G$501,"RETORNO RECEBIDO")>0,"Com retorno","Sem retorno")) | O16: =IF($E16="","",IF($H16="","Sem histórico",IFERROR(VLOOKUP($J16,Listas!$A$2:$C$9,3,FALSE),"Movimento não mapeado"))) | P16: =IF(COUNTA($A16:$D16)=0,"",IF(OR($A16="",$B16="",$C16="",$D16=""),"Cadastro incompleto",IF(COUNTIF($E$2:$E$201,$E16)>1,"Chave duplicada",IF($H16="","Sem histórico",IF($F16="","Entrada não localizada",IF(COUNTIFS(Movimentos!$M$2:$M$501,$E16,Movimentos!$X$2:$X$501,"Pendente")>0,"Revisar eventos","OK")))))) | Q16: =IF($E16="","",COUNTIF(Movimentos!$M$2:$M$501,$E16)) | R16: =IF($E16="","",COUNTIFS(Movimentos!$M$2:$M$501,$E16,Movimentos!$G$2:$G$501,"RETORNO RECEBIDO"))
E17: =IF(COUNTA($A17:$D17)=0,"",IF(OR($A17="",$C17="",$D17=""),"",$A17&"|"&$C17&"|"&$D17)) | F17: =IF($E17="","",IFERROR(LOOKUP(2,1/((Movimentos!$M$2:$M$501=$E17)*(Movimentos!$G$2:$G$501="RECEBIMENTO")),Movimentos!$A$2:$A$501),"")) | G17: =IF($F17="","",IFERROR(INDEX(Movimentos!$B$2:$B$501,MATCH($F17,Movimentos!$A$2:$A$501,0)),"")) | H17: =IF($E17="","",IFERROR(LOOKUP(2,1/((Movimentos!$M$2:$M$501=$E17)*(Movimentos!$U$2:$U$501="Sim")),Movimentos!$A$2:$A$501),"")) | I17: =IF($H17="","",IFERROR(INDEX(Movimentos!$B$2:$B$501,MATCH($H17,Movimentos!$A$2:$A$501,0)),"")) | J17: =IF($H17="","",IFERROR(INDEX(Movimentos!$G$2:$G$501,MATCH($H17,Movimentos!$A$2:$A$501,0)),"")) | K17: =IF($H17="","",IFERROR(INDEX(Movimentos!$I$2:$I$501,MATCH($H17,Movimentos!$A$2:$A$501,0)),"")) | L17: =IF($K17="","",IFERROR(VLOOKUP($K17,Listas!$G$2:$I$31,3,FALSE),"Local não classificado")) | M17: =IF($E17="","",IFERROR(LOOKUP(2,1/((Movimentos!$M$2:$M$501=$E17)*(Movimentos!$J$2:$J$501<>"")),Movimentos!$J$2:$J$501),"")) | N17: =IF($E17="","",IF(COUNTIFS(Movimentos!$M$2:$M$501,$E17,Movimentos!$G$2:$G$501,"RETORNO RECEBIDO")>0,"Com retorno","Sem retorno")) | O17: =IF($E17="","",IF($H17="","Sem histórico",IFERROR(VLOOKUP($J17,Listas!$A$2:$C$9,3,FALSE),"Movimento não mapeado"))) | P17: =IF(COUNTA($A17:$D17)=0,"",IF(OR($A17="",$B17="",$C17="",$D17=""),"Cadastro incompleto",IF(COUNTIF($E$2:$E$201,$E17)>1,"Chave duplicada",IF($H17="","Sem histórico",IF($F17="","Entrada não localizada",IF(COUNTIFS(Movimentos!$M$2:$M$501,$E17,Movimentos!$X$2:$X$501,"Pendente")>0,"Revisar eventos","OK")))))) | Q17: =IF($E17="","",COUNTIF(Movimentos!$M$2:$M$501,$E17)) | R17: =IF($E17="","",COUNTIFS(Movimentos!$M$2:$M$501,$E17,Movimentos!$G$2:$G$501,"RETORNO RECEBIDO"))
... E201: =IF(COUNTA($A201:$D201)=0,"",IF(OR($A201="",$C201="",$D201=""),"",$A201&"|"&$C201&"|"&$D201)) | F201: =IF($E201="","",IFERROR(LOOKUP(2,1/((Movimentos!$M$2:$M$501=$E201)*(Movimentos!$G$2:$G$501="RECEBIMENTO")),Movimentos!$A$2:$A$501),"")) | G201: =IF($F201="","",IFERROR(INDEX(Movimentos!$B$2:$B$501,MATCH($F201,Movimentos!$A$2:$A$501,0)),"")) | H201: =IF($E201="","",IFERROR(LOOKUP(2,1/((Movimentos!$M$2:$M$501=$E201)*(Movimentos!$U$2:$U$501="Sim")),Movimentos!$A$2:$A$501),"")) | I201: =IF($H201="","",IFERROR(INDEX(Movimentos!$B$2:$B$501,MATCH($H201,Movimentos!$A$2:$A$501,0)),"")) | J201: =IF($H201="","",IFERROR(INDEX(Movimentos!$G$2:$G$501,MATCH($H201,Movimentos!$A$2:$A$501,0)),"")) | K201: =IF($H201="","",IFERROR(INDEX(Movimentos!$I$2:$I$501,MATCH($H201,Movimentos!$A$2:$A$501,0)),"")) | L201: =IF($K201="","",IFERROR(VLOOKUP($K201,Listas!$G$2:$I$31,3,FALSE),"Local não classificado")) | M201: =IF($E201="","",IFERROR(LOOKUP(2,1/((Movimentos!$M$2:$M$501=$E201)*(Movimentos!$J$2:$J$501<>"")),Movimentos!$J$2:$J$501),"")) | N201: =IF($E201="","",IF(COUNTIFS(Movimentos!$M$2:$M$501,$E201,Movimentos!$G$2:$G$501,"RETORNO RECEBIDO")>0,"Com retorno","Sem retorno")) | O201: =IF($E201="","",IF($H201="","Sem histórico",IFERROR(VLOOKUP($J201,Listas!$A$2:$C$9,3,FALSE),"Movimento não mapeado"))) | P201: =IF(COUNTA($A201:$D201)=0,"",IF(OR($A201="",$B201="",$C201="",$D201=""),"Cadastro incompleto",IF(COUNTIF($E$2:$E$201,$E201)>1,"Chave duplicada",IF($H201="","Sem histórico",IF($F201="","Entrada não localizada",IF(COUNTIFS(Movimentos!$M$2:$M$501,$E201,Movimentos!$X$2:$X$501,"Pendente")>0,"Revisar eventos","OK")))))) | Q201: =IF($E201="","",COUNTIF(Movimentos!$M$2:$M$501,$E201)) | R201: =IF($E201="","",COUNTIFS(Movimentos!$M$2:$M$501,$E201,Movimentos!$G$2:$G$501,"RETORNO RECEBIDO"))

Sheet Movimentos
A1: ID do evento | B1: Data do evento | C1: Sequência no dia | D1: SKU | E1: Tipo de identificação | F1: Lote/série | G1: Movimento | H1: Localização de origem | I1: Localização de destino | J1: Pedido | K1: ID do evento anterior | L1: Motivo/observação | M1: Chave rastreável | N1: Ordem cronológica | O1: Validação dos campos | P1: Validação do cadastro | Q1: Validação do ID | R1: Validação da entrada | S1: Validação do pedido | T1: Validação do anterior | U1: Último evento | V1: Trilha | W1: Pendência principal | X1: Situação do registro
A2: EVT-FIC-0001 | B2: 46266 | C2: 1 | D2: SKU-CAN-001 | E2: Série | F2: SER-CAN-0001 | G2: RECEBIMENTO | H2: FORN-EXT | I2: CD-SP-A01 | L2: Entrada fictícia para demonstração | M2: =IF(COUNTA($D2:$F2)=0,"",IF(OR($D2="",$E2="",$F2=""),"",$D2&"|"&$E2&"|"&$F2)) | N2: =IF(OR($B2="",$C2=""),"",$B2+$C2/100000) | O2: =IF(COUNTA($A2:$L2)=0,"",IF(OR($A2="",$B2="",$C2="",$D2="",$E2="",$F2="",$G2="",$H2="",$I2=""),"Campos obrigatórios ausentes","OK")) | P2: =IF($A2="","",IF($M2="","Identificação incompleta",IF(COUNTIF('Itens rastreáveis'!$E$2:$E$201,$M2)=0,"Identificador não cadastrado",IF(COUNTIF('Itens rastreáveis'!$E$2:$E$201,$M2)>1,"Identificador duplicado no cadastro","OK")))) | Q2: =IF($A2="","",IF(COUNTIF($A$2:$A$501,$A2)=1,"OK","ID do evento duplicado")) | R2: =IF($A2="","",IF(OR($M2="",$N2=""),"Não verificável",IF($G2="RECEBIMENTO",IF(COUNTIFS($M$2:$M$501,$M2,$G$2:$G$501,"RECEBIMENTO")>1,"Recebimento duplicado",IF($K2="","OK","Recebimento com evento anterior")),IF(COUNTIFS($M$2:$M$501,$M2,$G$2:$G$501,"RECEBIMENTO",$N$2:$N$501,"<"&$N2)>0,"OK","Entrada anterior não localizada")))) | S2: =IF($A2="","",IF(IFERROR(VLOOKUP($G2,Listas!$A$2:$C$9,2,FALSE),"Sim")="Sim",IF($J2="","Pedido obrigatório","OK"),"OK")) | T2: =IF($A2="","",IF($G2="RECEBIMENTO",IF($K2="","OK","Revisar evento anterior"),IF($K2="","Evento anterior ausente",IF(COUNTIF($A$2:$A$501,$K2)=0,"Evento anterior inexistente",IF(COUNTIF($A$2:$A$501,$K2)>1,"Evento anterior ambíguo",IF($K2=$A2,"Autorreferência",IF(COUNTIFS($A$2:$A$501,$K2,$M$2:$M$501,$M2)=0,"Anterior de outro identificador",IF(INDEX($N$2:$N$501,MATCH($K2,$A$2:$A$501,0))>=$N2,"Ordem cronológica inválida",IF(INDEX($A$2:$A$501,MATCH($K2,$A$2:$A$501,0))=LOOKUP(2,1/(($M$2:$M$501=$M2)*($N$2:$N$501<$N2)),$A$2:$A$501),"OK","Salto na cadeia"))))))))) | U2: =IF($A2="","",IF(OR($M2="",$N2=""),"Não",IF(COUNTIFS($M$2:$M$501,$M2,$N$2:$N$501,">"&$N2)=0,IF(COUNTIFS($M$2:$M$501,$M2,$N$2:$N$501,$N2)=1,"Sim","Conflito"),"Não"))) | V2: =IF($A2="","",IF(OR($M2="",$N2=""),"",IF(COUNTIFS($M$2:$M$501,$M2,$G$2:$G$501,"RETORNO RECEBIDO",$N$2:$N$501,"<="&$N2)>0,"Retorno","Fluxo normal"))) | W2: =IF($A2="","",IF($O2<>"OK",$O2,IF($Q2<>"OK",$Q2,IF($P2<>"OK",$P2,IF($R2<>"OK",$R2,IF($S2<>"OK",$S2,IF($T2<>"OK",$T2,IF($U2="Conflito","Conflito de ordem","OK")))))))) | X2: =IF($A2="","",IF($W2="OK","OK","Pendente"))
A3: EVT-FIC-0002 | B3: 46267 | C3: 1 | D3: SKU-CAN-001 | E3: Série | F3: SER-CAN-0001 | G3: TRANSFERÊNCIA | H3: CD-SP-A01 | I3: SEP-SP-01 | J3: PV-FIC-1001 | K3: EVT-FIC-0001 | L3: Separação do pedido fictício | M3: =IF(COUNTA($D3:$F3)=0,"",IF(OR($D3="",$E3="",$F3=""),"",$D3&"|"&$E3&"|"&$F3)) | N3: =IF(OR($B3="",$C3=""),"",$B3+$C3/100000) | O3: =IF(COUNTA($A3:$L3)=0,"",IF(OR($A3="",$B3="",$C3="",$D3="",$E3="",$F3="",$G3="",$H3="",$I3=""),"Campos obrigatórios ausentes","OK")) | P3: =IF($A3="","",IF($M3="","Identificação incompleta",IF(COUNTIF('Itens rastreáveis'!$E$2:$E$201,$M3)=0,"Identificador não cadastrado",IF(COUNTIF('Itens rastreáveis'!$E$2:$E$201,$M3)>1,"Identificador duplicado no cadastro","OK")))) | Q3: =IF($A3="","",IF(COUNTIF($A$2:$A$501,$A3)=1,"OK","ID do evento duplicado")) | R3: =IF($A3="","",IF(OR($M3="",$N3=""),"Não verificável",IF($G3="RECEBIMENTO",IF(COUNTIFS($M$2:$M$501,$M3,$G$2:$G$501,"RECEBIMENTO")>1,"Recebimento duplicado",IF($K3="","OK","Recebimento com evento anterior")),IF(COUNTIFS($M$2:$M$501,$M3,$G$2:$G$501,"RECEBIMENTO",$N$2:$N$501,"<"&$N3)>0,"OK","Entrada anterior não localizada")))) | S3: =IF($A3="","",IF(IFERROR(VLOOKUP($G3,Listas!$A$2:$C$9,2,FALSE),"Sim")="Sim",IF($J3="","Pedido obrigatório","OK"),"OK")) | T3: =IF($A3="","",IF($G3="RECEBIMENTO",IF($K3="","OK","Revisar evento anterior"),IF($K3="","Evento anterior ausente",IF(COUNTIF($A$2:$A$501,$K3)=0,"Evento anterior inexistente",IF(COUNTIF($A$2:$A$501,$K3)>1,"Evento anterior ambíguo",IF($K3=$A3,"Autorreferência",IF(COUNTIFS($A$2:$A$501,$K3,$M$2:$M$501,$M3)=0,"Anterior de outro identificador",IF(INDEX($N$2:$N$501,MATCH($K3,$A$2:$A$501,0))>=$N3,"Ordem cronológica inválida",IF(INDEX($A$2:$A$501,MATCH($K3,$A$2:$A$501,0))=LOOKUP(2,1/(($M$2:$M$501=$M3)*($N$2:$N$501<$N3)),$A$2:$A$501),"OK","Salto na cadeia"))))))))) | U3: =IF($A3="","",IF(OR($M3="",$N3=""),"Não",IF(COUNTIFS($M$2:$M$501,$M3,$N$2:$N$501,">"&$N3)=0,IF(COUNTIFS($M$2:$M$501,$M3,$N$2:$N$501,$N3)=1,"Sim","Conflito"),"Não"))) | V3: =IF($A3="","",IF(OR($M3="",$N3=""),"",IF(COUNTIFS($M$2:$M$501,$M3,$G$2:$G$501,"RETORNO RECEBIDO",$N$2:$N$501,"<="&$N3)>0,"Retorno","Fluxo normal"))) | W3: =IF($A3="","",IF($O3<>"OK",$O3,IF($Q3<>"OK",$Q3,IF($P3<>"OK",$P3,IF($R3<>"OK",$R3,IF($S3<>"OK",$S3,IF($T3<>"OK",$T3,IF($U3="Conflito","Conflito de ordem","OK")))))))) | X3: =IF($A3="","",IF($W3="OK","OK","Pendente"))
A4: EVT-FIC-0003 | B4: 46268 | C4: 1 | D4: SKU-CAN-001 | E4: Série | F4: SER-CAN-0001 | G4: EXPEDIÇÃO | H4: SEP-SP-01 | I4: TRANSP-FICT | J4: PV-FIC-1001 | K4: EVT-FIC-0002 | L4: Coleta fictícia confirmada | M4: =IF(COUNTA($D4:$F4)=0,"",IF(OR($D4="",$E4="",$F4=""),"",$D4&"|"&$E4&"|"&$F4)) | N4: =IF(OR($B4="",$C4=""),"",$B4+$C4/100000) | O4: =IF(COUNTA($A4:$L4)=0,"",IF(OR($A4="",$B4="",$C4="",$D4="",$E4="",$F4="",$G4="",$H4="",$I4=""),"Campos obrigatórios ausentes","OK")) | P4: =IF($A4="","",IF($M4="","Identificação incompleta",IF(COUNTIF('Itens rastreáveis'!$E$2:$E$201,$M4)=0,"Identificador não cadastrado",IF(COUNTIF('Itens rastreáveis'!$E$2:$E$201,$M4)>1,"Identificador duplicado no cadastro","OK")))) | Q4: =IF($A4="","",IF(COUNTIF($A$2:$A$501,$A4)=1,"OK","ID do evento duplicado")) | R4: =IF($A4="","",IF(OR($M4="",$N4=""),"Não verificável",IF($G4="RECEBIMENTO",IF(COUNTIFS($M$2:$M$501,$M4,$G$2:$G$501,"RECEBIMENTO")>1,"Recebimento duplicado",IF($K4="","OK","Recebimento com evento anterior")),IF(COUNTIFS($M$2:$M$501,$M4,$G$2:$G$501,"RECEBIMENTO",$N$2:$N$501,"<"&$N4)>0,"OK","Entrada anterior não localizada")))) | S4: =IF($A4="","",IF(IFERROR(VLOOKUP($G4,Listas!$A$2:$C$9,2,FALSE),"Sim")="Sim",IF($J4="","Pedido obrigatório","OK"),"OK")) | T4: =IF($A4="","",IF($G4="RECEBIMENTO",IF($K4="","OK","Revisar evento anterior"),IF($K4="","Evento anterior ausente",IF(COUNTIF($A$2:$A$501,$K4)=0,"Evento anterior inexistente",IF(COUNTIF($A$2:$A$501,$K4)>1,"Evento anterior ambíguo",IF($K4=$A4,"Autorreferência",IF(COUNTIFS($A$2:$A$501,$K4,$M$2:$M$501,$M4)=0,"Anterior de outro identificador",IF(INDEX($N$2:$N$501,MATCH($K4,$A$2:$A$501,0))>=$N4,"Ordem cronológica inválida",IF(INDEX($A$2:$A$501,MATCH($K4,$A$2:$A$501,0))=LOOKUP(2,1/(($M$2:$M$501=$M4)*($N$2:$N$501<$N4)),$A$2:$A$501),"OK","Salto na cadeia"))))))))) | U4: =IF($A4="","",IF(OR($M4="",$N4=""),"Não",IF(COUNTIFS($M$2:$M$501,$M4,$N$2:$N$501,">"&$N4)=0,IF(COUNTIFS($M$2:$M$501,$M4,$N$2:$N$501,$N4)=1,"Sim","Conflito"),"Não"))) | V4: =IF($A4="","",IF(OR($M4="",$N4=""),"",IF(COUNTIFS($M$2:$M$501,$M4,$G$2:$G$501,"RETORNO RECEBIDO",$N$2:$N$501,"<="&$N4)>0,"Retorno","Fluxo normal"))) | W4: =IF($A4="","",IF($O4<>"OK",$O4,IF($Q4<>"OK",$Q4,IF($P4<>"OK",$P4,IF($R4<>"OK",$R4,IF($S4<>"OK",$S4,IF($T4<>"OK",$T4,IF($U4="Conflito","Conflito de ordem","OK")))))))) | X4: =IF($A4="","",IF($W4="OK","OK","Pendente"))
A5: EVT-FIC-0004 | B5: 46269 | C5: 1 | D5: SKU-CAN-001 | E5: Série | F5: SER-CAN-0001 | G5: ENTREGA CONFIRMADA | H5: TRANSP-FICT | I5: CLIENTE | J5: PV-FIC-1001 | K5: EVT-FIC-0003 | L5: Entrega fictícia confirmada | M5: =IF(COUNTA($D5:$F5)=0,"",IF(OR($D5="",$E5="",$F5=""),"",$D5&"|"&$E5&"|"&$F5)) | N5: =IF(OR($B5="",$C5=""),"",$B5+$C5/100000) | O5: =IF(COUNTA($A5:$L5)=0,"",IF(OR($A5="",$B5="",$C5="",$D5="",$E5="",$F5="",$G5="",$H5="",$I5=""),"Campos obrigatórios ausentes","OK")) | P5: =IF($A5="","",IF($M5="","Identificação incompleta",IF(COUNTIF('Itens rastreáveis'!$E$2:$E$201,$M5)=0,"Identificador não cadastrado",IF(COUNTIF('Itens rastreáveis'!$E$2:$E$201,$M5)>1,"Identificador duplicado no cadastro","OK")))) | Q5: =IF($A5="","",IF(COUNTIF($A$2:$A$501,$A5)=1,"OK","ID do evento duplicado")) | R5: =IF($A5="","",IF(OR($M5="",$N5=""),"Não verificável",IF($G5="RECEBIMENTO",IF(COUNTIFS($M$2:$M$501,$M5,$G$2:$G$501,"RECEBIMENTO")>1,"Recebimento duplicado",IF($K5="","OK","Recebimento com evento anterior")),IF(COUNTIFS($M$2:$M$501,$M5,$G$2:$G$501,"RECEBIMENTO",$N$2:$N$501,"<"&$N5)>0,"OK","Entrada anterior não localizada")))) | S5: =IF($A5="","",IF(IFERROR(VLOOKUP($G5,Listas!$A$2:$C$9,2,FALSE),"Sim")="Sim",IF($J5="","Pedido obrigatório","OK"),"OK")) | T5: =IF($A5="","",IF($G5="RECEBIMENTO",IF($K5="","OK","Revisar evento anterior"),IF($K5="","Evento anterior ausente",IF(COUNTIF($A$2:$A$501,$K5)=0,"Evento anterior inexistente",IF(COUNTIF($A$2:$A$501,$K5)>1,"Evento anterior ambíguo",IF($K5=$A5,"Autorreferência",IF(COUNTIFS($A$2:$A$501,$K5,$M$2:$M$501,$M5)=0,"Anterior de outro identificador",IF(INDEX($N$2:$N$501,MATCH($K5,$A$2:$A$501,0))>=$N5,"Ordem cronológica inválida",IF(INDEX($A$2:$A$501,MATCH($K5,$A$2:$A$501,0))=LOOKUP(2,1/(($M$2:$M$501=$M5)*($N$2:$N$501<$N5)),$A$2:$A$501),"OK","Salto na cadeia"))))))))) | U5: =IF($A5="","",IF(OR($M5="",$N5=""),"Não",IF(COUNTIFS($M$2:$M$501,$M5,$N$2:$N$501,">"&$N5)=0,IF(COUNTIFS($M$2:$M$501,$M5,$N$2:$N$501,$N5)=1,"Sim","Conflito"),"Não"))) | V5: =IF($A5="","",IF(OR($M5="",$N5=""),"",IF(COUNTIFS($M$2:$M$501,$M5,$G$2:$G$501,"RETORNO RECEBIDO",$N$2:$N$501,"<="&$N5)>0,"Retorno","Fluxo normal"))) | W5: =IF($A5="","",IF($O5<>"OK",$O5,IF($Q5<>"OK",$Q5,IF($P5<>"OK",$P5,IF($R5<>"OK",$R5,IF($S5<>"OK",$S5,IF($T5<>"OK",$T5,IF($U5="Conflito","Conflito de ordem","OK")))))))) | X5: =IF($A5="","",IF($W5="OK","OK","Pendente"))
A6: EVT-FIC-0005 | B6: 46270 | C6: 1 | D6: SKU-CAN-001 | E6: Série | F6: SER-CAN-0001 | G6: RETORNO RECEBIDO | H6: CLIENTE | I6: DEV-SP-01 | J6: PV-FIC-1001 | K6: EVT-FIC-0004 | L6: Embalagem amassada | M6: =IF(COUNTA($D6:$F6)=0,"",IF(OR($D6="",$E6="",$F6=""),"",$D6&"|"&$E6&"|"&$F6)) | N6: =IF(OR($B6="",$C6=""),"",$B6+$C6/100000) | O6: =IF(COUNTA($A6:$L6)=0,"",IF(OR($A6="",$B6="",$C6="",$D6="",$E6="",$F6="",$G6="",$H6="",$I6=""),"Campos obrigatórios ausentes","OK")) | P6: =IF($A6="","",IF($M6="","Identificação incompleta",IF(COUNTIF('Itens rastreáveis'!$E$2:$E$201,$M6)=0,"Identificador não cadastrado",IF(COUNTIF('Itens rastreáveis'!$E$2:$E$201,$M6)>1,"Identificador duplicado no cadastro","OK")))) | Q6: =IF($A6="","",IF(COUNTIF($A$2:$A$501,$A6)=1,"OK","ID do evento duplicado")) | R6: =IF($A6="","",IF(OR($M6="",$N6=""),"Não verificável",IF($G6="RECEBIMENTO",IF(COUNTIFS($M$2:$M$501,$M6,$G$2:$G$501,"RECEBIMENTO")>1,"Recebimento duplicado",IF($K6="","OK","Recebimento com evento anterior")),IF(COUNTIFS($M$2:$M$501,$M6,$G$2:$G$501,"RECEBIMENTO",$N$2:$N$501,"<"&$N6)>0,"OK","Entrada anterior não localizada")))) | S6: =IF($A6="","",IF(IFERROR(VLOOKUP($G6,Listas!$A$2:$C$9,2,FALSE),"Sim")="Sim",IF($J6="","Pedido obrigatório","OK"),"OK")) | T6: =IF($A6="","",IF($G6="RECEBIMENTO",IF($K6="","OK","Revisar evento anterior"),IF($K6="","Evento anterior ausente",IF(COUNTIF($A$2:$A$501,$K6)=0,"Evento anterior inexistente",IF(COUNTIF($A$2:$A$501,$K6)>1,"Evento anterior ambíguo",IF($K6=$A6,"Autorreferência",IF(COUNTIFS($A$2:$A$501,$K6,$M$2:$M$501,$M6)=0,"Anterior de outro identificador",IF(INDEX($N$2:$N$501,MATCH($K6,$A$2:$A$501,0))>=$N6,"Ordem cronológica inválida",IF(INDEX($A$2:$A$501,MATCH($K6,$A$2:$A$501,0))=LOOKUP(2,1/(($M$2:$M$501=$M6)*($N$2:$N$501<$N6)),$A$2:$A$501),"OK","Salto na cadeia"))))))))) | U6: =IF($A6="","",IF(OR($M6="",$N6=""),"Não",IF(COUNTIFS($M$2:$M$501,$M6,$N$2:$N$501,">"&$N6)=0,IF(COUNTIFS($M$2:$M$501,$M6,$N$2:$N$501,$N6)=1,"Sim","Conflito"),"Não"))) | V6: =IF($A6="","",IF(OR($M6="",$N6=""),"",IF(COUNTIFS($M$2:$M$501,$M6,$G$2:$G$501,"RETORNO RECEBIDO",$N$2:$N$501,"<="&$N6)>0,"Retorno","Fluxo normal"))) | W6: =IF($A6="","",IF($O6<>"OK",$O6,IF($Q6<>"OK",$Q6,IF($P6<>"OK",$P6,IF($R6<>"OK",$R6,IF($S6<>"OK",$S6,IF($T6<>"OK",$T6,IF($U6="Conflito","Conflito de ordem","OK")))))))) | X6: =IF($A6="","",IF($W6="OK","OK","Pendente"))
A7: EVT-FIC-0006 | B7: 46271 | C7: 1 | D7: SKU-CAN-001 | E7: Série | F7: SER-CAN-0001 | G7: REINTEGRAÇÃO | H7: DEV-SP-01 | I7: CD-SP-A01 | J7: PV-FIC-1001 | K7: EVT-FIC-0005 | L7: Item fictício aprovado na triagem | M7: =IF(COUNTA($D7:$F7)=0,"",IF(OR($D7="",$E7="",$F7=""),"",$D7&"|"&$E7&"|"&$F7)) | N7: =IF(OR($B7="",$C7=""),"",$B7+$C7/100000) | O7: =IF(COUNTA($A7:$L7)=0,"",IF(OR($A7="",$B7="",$C7="",$D7="",$E7="",$F7="",$G7="",$H7="",$I7=""),"Campos obrigatórios ausentes","OK")) | P7: =IF($A7="","",IF($M7="","Identificação incompleta",IF(COUNTIF('Itens rastreáveis'!$E$2:$E$201,$M7)=0,"Identificador não cadastrado",IF(COUNTIF('Itens rastreáveis'!$E$2:$E$201,$M7)>1,"Identificador duplicado no cadastro","OK")))) | Q7: =IF($A7="","",IF(COUNTIF($A$2:$A$501,$A7)=1,"OK","ID do evento duplicado")) | R7: =IF($A7="","",IF(OR($M7="",$N7=""),"Não verificável",IF($G7="RECEBIMENTO",IF(COUNTIFS($M$2:$M$501,$M7,$G$2:$G$501,"RECEBIMENTO")>1,"Recebimento duplicado",IF($K7="","OK","Recebimento com evento anterior")),IF(COUNTIFS($M$2:$M$501,$M7,$G$2:$G$501,"RECEBIMENTO",$N$2:$N$501,"<"&$N7)>0,"OK","Entrada anterior não localizada")))) | S7: =IF($A7="","",IF(IFERROR(VLOOKUP($G7,Listas!$A$2:$C$9,2,FALSE),"Sim")="Sim",IF($J7="","Pedido obrigatório","OK"),"OK")) | T7: =IF($A7="","",IF($G7="RECEBIMENTO",IF($K7="","OK","Revisar evento anterior"),IF($K7="","Evento anterior ausente",IF(COUNTIF($A$2:$A$501,$K7)=0,"Evento anterior inexistente",IF(COUNTIF($A$2:$A$501,$K7)>1,"Evento anterior ambíguo",IF($K7=$A7,"Autorreferência",IF(COUNTIFS($A$2:$A$501,$K7,$M$2:$M$501,$M7)=0,"Anterior de outro identificador",IF(INDEX($N$2:$N$501,MATCH($K7,$A$2:$A$501,0))>=$N7,"Ordem cronológica inválida",IF(INDEX($A$2:$A$501,MATCH($K7,$A$2:$A$501,0))=LOOKUP(2,1/(($M$2:$M$501=$M7)*($N$2:$N$501<$N7)),$A$2:$A$501),"OK","Salto na cadeia"))))))))) | U7: =IF($A7="","",IF(OR($M7="",$N7=""),"Não",IF(COUNTIFS($M$2:$M$501,$M7,$N$2:$N$501,">"&$N7)=0,IF(COUNTIFS($M$2:$M$501,$M7,$N$2:$N$501,$N7)=1,"Sim","Conflito"),"Não"))) | V7: =IF($A7="","",IF(OR($M7="",$N7=""),"",IF(COUNTIFS($M$2:$M$501,$M7,$G$2:$G$501,"RETORNO RECEBIDO",$N$2:$N$501,"<="&$N7)>0,"Retorno","Fluxo normal"))) | W7: =IF($A7="","",IF($O7<>"OK",$O7,IF($Q7<>"OK",$Q7,IF($P7<>"OK",$P7,IF($R7<>"OK",$R7,IF($S7<>"OK",$S7,IF($T7<>"OK",$T7,IF($U7="Conflito","Conflito de ordem","OK")))))))) | X7: =IF($A7="","",IF($W7="OK","OK","Pendente"))
A8: EVT-FIC-0007 | B8: 46266 | C8: 1 | D8: SKU-CAM-010 | E8: Lote | F8: LOTE-CAM-2609-A | G8: RECEBIMENTO | H8: FORN-EXT | I8: CD-SP-A01 | L8: Recebimento do lote fictício | M8: =IF(COUNTA($D8:$F8)=0,"",IF(OR($D8="",$E8="",$F8=""),"",$D8&"|"&$E8&"|"&$F8)) | N8: =IF(OR($B8="",$C8=""),"",$B8+$C8/100000) | O8: =IF(COUNTA($A8:$L8)=0,"",IF(OR($A8="",$B8="",$C8="",$D8="",$E8="",$F8="",$G8="",$H8="",$I8=""),"Campos obrigatórios ausentes","OK")) | P8: =IF($A8="","",IF($M8="","Identificação incompleta",IF(COUNTIF('Itens rastreáveis'!$E$2:$E$201,$M8)=0,"Identificador não cadastrado",IF(COUNTIF('Itens rastreáveis'!$E$2:$E$201,$M8)>1,"Identificador duplicado no cadastro","OK")))) | Q8: =IF($A8="","",IF(COUNTIF($A$2:$A$501,$A8)=1,"OK","ID do evento duplicado")) | R8: =IF($A8="","",IF(OR($M8="",$N8=""),"Não verificável",IF($G8="RECEBIMENTO",IF(COUNTIFS($M$2:$M$501,$M8,$G$2:$G$501,"RECEBIMENTO")>1,"Recebimento duplicado",IF($K8="","OK","Recebimento com evento anterior")),IF(COUNTIFS($M$2:$M$501,$M8,$G$2:$G$501,"RECEBIMENTO",$N$2:$N$501,"<"&$N8)>0,"OK","Entrada anterior não localizada")))) | S8: =IF($A8="","",IF(IFERROR(VLOOKUP($G8,Listas!$A$2:$C$9,2,FALSE),"Sim")="Sim",IF($J8="","Pedido obrigatório","OK"),"OK")) | T8: =IF($A8="","",IF($G8="RECEBIMENTO",IF($K8="","OK","Revisar evento anterior"),IF($K8="","Evento anterior ausente",IF(COUNTIF($A$2:$A$501,$K8)=0,"Evento anterior inexistente",IF(COUNTIF($A$2:$A$501,$K8)>1,"Evento anterior ambíguo",IF($K8=$A8,"Autorreferência",IF(COUNTIFS($A$2:$A$501,$K8,$M$2:$M$501,$M8)=0,"Anterior de outro identificador",IF(INDEX($N$2:$N$501,MATCH($K8,$A$2:$A$501,0))>=$N8,"Ordem cronológica inválida",IF(INDEX($A$2:$A$501,MATCH($K8,$A$2:$A$501,0))=LOOKUP(2,1/(($M$2:$M$501=$M8)*($N$2:$N$501<$N8)),$A$2:$A$501),"OK","Salto na cadeia"))))))))) | U8: =IF($A8="","",IF(OR($M8="",$N8=""),"Não",IF(COUNTIFS($M$2:$M$501,$M8,$N$2:$N$501,">"&$N8)=0,IF(COUNTIFS($M$2:$M$501,$M8,$N$2:$N$501,$N8)=1,"Sim","Conflito"),"Não"))) | V8: =IF($A8="","",IF(OR($M8="",$N8=""),"",IF(COUNTIFS($M$2:$M$501,$M8,$G$2:$G$501,"RETORNO RECEBIDO",$N$2:$N$501,"<="&$N8)>0,"Retorno","Fluxo normal"))) | W8: =IF($A8="","",IF($O8<>"OK",$O8,IF($Q8<>"OK",$Q8,IF($P8<>"OK",$P8,IF($R8<>"OK",$R8,IF($S8<>"OK",$S8,IF($T8<>"OK",$T8,IF($U8="Conflito","Conflito de ordem","OK")))))))) | X8: =IF($A8="","",IF($W8="OK","OK","Pendente"))
A9: EVT-FIC-0008 | B9: 46269 | C9: 1 | D9: SKU-CAM-010 | E9: Lote | F9: LOTE-CAM-2609-A | G9: EXPEDIÇÃO | H9: CD-SP-A01 | I9: TRANSP-FICT | J9: PV-FIC-1002 | K9: EVT-FIC-0007 | L9: Lote expedido integralmente | M9: =IF(COUNTA($D9:$F9)=0,"",IF(OR($D9="",$E9="",$F9=""),"",$D9&"|"&$E9&"|"&$F9)) | N9: =IF(OR($B9="",$C9=""),"",$B9+$C9/100000) | O9: =IF(COUNTA($A9:$L9)=0,"",IF(OR($A9="",$B9="",$C9="",$D9="",$E9="",$F9="",$G9="",$H9="",$I9=""),"Campos obrigatórios ausentes","OK")) | P9: =IF($A9="","",IF($M9="","Identificação incompleta",IF(COUNTIF('Itens rastreáveis'!$E$2:$E$201,$M9)=0,"Identificador não cadastrado",IF(COUNTIF('Itens rastreáveis'!$E$2:$E$201,$M9)>1,"Identificador duplicado no cadastro","OK")))) | Q9: =IF($A9="","",IF(COUNTIF($A$2:$A$501,$A9)=1,"OK","ID do evento duplicado")) | R9: =IF($A9="","",IF(OR($M9="",$N9=""),"Não verificável",IF($G9="RECEBIMENTO",IF(COUNTIFS($M$2:$M$501,$M9,$G$2:$G$501,"RECEBIMENTO")>1,"Recebimento duplicado",IF($K9="","OK","Recebimento com evento anterior")),IF(COUNTIFS($M$2:$M$501,$M9,$G$2:$G$501,"RECEBIMENTO",$N$2:$N$501,"<"&$N9)>0,"OK","Entrada anterior não localizada")))) | S9: =IF($A9="","",IF(IFERROR(VLOOKUP($G9,Listas!$A$2:$C$9,2,FALSE),"Sim")="Sim",IF($J9="","Pedido obrigatório","OK"),"OK")) | T9: =IF($A9="","",IF($G9="RECEBIMENTO",IF($K9="","OK","Revisar evento anterior"),IF($K9="","Evento anterior ausente",IF(COUNTIF($A$2:$A$501,$K9)=0,"Evento anterior inexistente",IF(COUNTIF($A$2:$A$501,$K9)>1,"Evento anterior ambíguo",IF($K9=$A9,"Autorreferência",IF(COUNTIFS($A$2:$A$501,$K9,$M$2:$M$501,$M9)=0,"Anterior de outro identificador",IF(INDEX($N$2:$N$501,MATCH($K9,$A$2:$A$501,0))>=$N9,"Ordem cronológica inválida",IF(INDEX($A$2:$A$501,MATCH($K9,$A$2:$A$501,0))=LOOKUP(2,1/(($M$2:$M$501=$M9)*($N$2:$N$501<$N9)),$A$2:$A$501),"OK","Salto na cadeia"))))))))) | U9: =IF($A9="","",IF(OR($M9="",$N9=""),"Não",IF(COUNTIFS($M$2:$M$501,$M9,$N$2:$N$501,">"&$N9)=0,IF(COUNTIFS($M$2:$M$501,$M9,$N$2:$N$501,$N9)=1,"Sim","Conflito"),"Não"))) | V9: =IF($A9="","",IF(OR($M9="",$N9=""),"",IF(COUNTIFS($M$2:$M$501,$M9,$G$2:$G$501,"RETORNO RECEBIDO",$N$2:$N$501,"<="&$N9)>0,"Retorno","Fluxo normal"))) | W9: =IF($A9="","",IF($O9<>"OK",$O9,IF($Q9<>"OK",$Q9,IF($P9<>"OK",$P9,IF($R9<>"OK",$R9,IF($S9<>"OK",$S9,IF($T9<>"OK",$T9,IF($U9="Conflito","Conflito de ordem","OK")))))))) | X9: =IF($A9="","",IF($W9="OK","OK","Pendente"))
A10: EVT-FIC-0009 | B10: 46267 | C10: 1 | D10: SKU-FON-002 | E10: Série | F10: SER-FON-0007 | G10: RECEBIMENTO | H10: FORN-EXT | I10: CD-SP-A01 | L10: Entrada fictícia | M10: =IF(COUNTA($D10:$F10)=0,"",IF(OR($D10="",$E10="",$F10=""),"",$D10&"|"&$E10&"|"&$F10)) | N10: =IF(OR($B10="",$C10=""),"",$B10+$C10/100000) | O10: =IF(COUNTA($A10:$L10)=0,"",IF(OR($A10="",$B10="",$C10="",$D10="",$E10="",$F10="",$G10="",$H10="",$I10=""),"Campos obrigatórios ausentes","OK")) | P10: =IF($A10="","",IF($M10="","Identificação incompleta",IF(COUNTIF('Itens rastreáveis'!$E$2:$E$201,$M10)=0,"Identificador não cadastrado",IF(COUNTIF('Itens rastreáveis'!$E$2:$E$201,$M10)>1,"Identificador duplicado no cadastro","OK")))) | Q10: =IF($A10="","",IF(COUNTIF($A$2:$A$501,$A10)=1,"OK","ID do evento duplicado")) | R10: =IF($A10="","",IF(OR($M10="",$N10=""),"Não verificável",IF($G10="RECEBIMENTO",IF(COUNTIFS($M$2:$M$501,$M10,$G$2:$G$501,"RECEBIMENTO")>1,"Recebimento duplicado",IF($K10="","OK","Recebimento com evento anterior")),IF(COUNTIFS($M$2:$M$501,$M10,$G$2:$G$501,"RECEBIMENTO",$N$2:$N$501,"<"&$N10)>0,"OK","Entrada anterior não localizada")))) | S10: =IF($A10="","",IF(IFERROR(VLOOKUP($G10,Listas!$A$2:$C$9,2,FALSE),"Sim")="Sim",IF($J10="","Pedido obrigatório","OK"),"OK")) | T10: =IF($A10="","",IF($G10="RECEBIMENTO",IF($K10="","OK","Revisar evento anterior"),IF($K10="","Evento anterior ausente",IF(COUNTIF($A$2:$A$501,$K10)=0,"Evento anterior inexistente",IF(COUNTIF($A$2:$A$501,$K10)>1,"Evento anterior ambíguo",IF($K10=$A10,"Autorreferência",IF(COUNTIFS($A$2:$A$501,$K10,$M$2:$M$501,$M10)=0,"Anterior de outro identificador",IF(INDEX($N$2:$N$501,MATCH($K10,$A$2:$A$501,0))>=$N10,"Ordem cronológica inválida",IF(INDEX($A$2:$A$501,MATCH($K10,$A$2:$A$501,0))=LOOKUP(2,1/(($M$2:$M$501=$M10)*($N$2:$N$501<$N10)),$A$2:$A$501),"OK","Salto na cadeia"))))))))) | U10: =IF($A10="","",IF(OR($M10="",$N10=""),"Não",IF(COUNTIFS($M$2:$M$501,$M10,$N$2:$N$501,">"&$N10)=0,IF(COUNTIFS($M$2:$M$501,$M10,$N$2:$N$501,$N10)=1,"Sim","Conflito"),"Não"))) | V10: =IF($A10="","",IF(OR($M10="",$N10=""),"",IF(COUNTIFS($M$2:$M$501,$M10,$G$2:$G$501,"RETORNO RECEBIDO",$N$2:$N$501,"<="&$N10)>0,"Retorno","Fluxo normal"))) | W10: =IF($A10="","",IF($O10<>"OK",$O10,IF($Q10<>"OK",$Q10,IF($P10<>"OK",$P10,IF($R10<>"OK",$R10,IF($S10<>"OK",$S10,IF($T10<>"OK",$T10,IF($U10="Conflito","Conflito de ordem","OK")))))))) | X10: =IF($A10="","",IF($W10="OK","OK","Pendente"))
